{"text_format":"2","workbook":"xlsx","n_sheets":7,"sheets":["【本大会への参加条件-1】","【本大会への参加条件-2】","チーム情報","1~20","【１】【２】メドレーリレー","【１】【２】フリーリレー","【４】フリーリレー"],"not_rendered":{"charts":0,"images":0,"macros":0,"external_links":0,"defined_names":1,"comments":0,"pivot_tables":0},"unopened":[],"bounds":{"document_bytes":16777216,"sheet_cells":100000,"run_cost":"one","rows_first":2000,"rows_last":500,"rows_between":2000,"halvings":0,"cell_chars":16384,"cell_head_chars":4096},"cells_cut":0,"cells_raw":0,"read":"whole","date_system":"1900"}

{"sheet":"【本大会への参加条件-1】","index":0,"n_rows":31,"n_cols":1,"rows_kept":31,"cut":false,"hidden":false,"merged":[]}
["【本大会への参加条件-1　～感染症対策について～】"]
["下記の（1）～（3）の事項を確認・承諾のうえで申し込みをお願いいたします。"]
["（1）下記の方は入場および競技出場ができません。"]
["① 大会日直前 ７ 日間において以下の事項に該当する方。"]
["・ 37.5 度を超える発熱がある"]
["・ 咳（せき）、のどの痛みなどの風邪の症状がある"]
["・ だるさ（倦怠感）、息苦しさ（呼吸困難）がある"]
["・ 臭覚や味覚の異常がある"]
["・ 体が重たく感じる、疲れやすい等の症状がある"]
["・ 新型コロナウイルス感染症陽性とされた方との濃厚接触がある"]
["・ 同居家族や身近な知人の感染が疑われる"]
["・ 過去 ７ 日間以内に政府から入国制限、入国後の観察期間を必要とされている国、"]
["　 地域等への渡航または当該在住者との濃厚接触がある"]
["②「健康チェック表」を当日入場時に提出されない方。"]
["③ 当日に①の症状がある方。"]
["④ 入場時の検温（非接触体温計およびサーモグラフィー）により 37.5 度以上ある方。"]
["⑤ 選手・チーム責任者・競技役員・登録済み付き添い者以外の方。"]
["⑥ マスクを着用していない方。（ウォーミングアップ・競技・クールダウン中は除く）"]
["⑦ 感染拡大防止（3 密対策）に協力しない方。"]
[]
["（2）その他の下記の注意事項についてお守りください。"]
["① 感染拡大防止対策に従ってご参加ください。"]
["② 入場の際は必ず手指消毒を行ってください。"]
["③ ロッカーの貸し出しは行いません。荷物は各自で管理をお願いします。"]
["④ 応援や声援および対面しての会話はご遠慮ください。"]
["⑤ 絶えず人との距離を取るようにしてください。"]
[]
["（3）大会の中止について"]
["① 国･都道府県において、相当規模のイベントの自粛要請が出ない限りは実施いたします。"]
["② 競技中の会場で感染が認められた場合には、その時点で競技を中止いたします。"]
["③ 新型コロナウイルス感染症により事前に中止になる場合は、申込料を一部返金いたします。"]

{"sheet":"【本大会への参加条件-2】","index":1,"n_rows":33,"n_cols":1,"rows_kept":33,"cut":false,"hidden":false,"merged":[]}
["【本大会への参加条件-2　～施設利用について～】"]
["～大会会場との取り決めになります。円滑な大会運営のために、守っていただく内容です。～"]
[]
["以下の内容を含め「２次要項」にて、会場利用に関するルールを追加・変更する場合があります。"]
[]
["大会当日、館内での食事は原則禁止となっています。"]
[]
["ゴミは各自でお持ち帰りください。"]
[]
["鍵付きロッカーの使用はできません。なお、大会事務局で荷物をお預かりすることもありません。"]
[]
["多額な金銭、貴重品、大会参加に不要なものは持参しないでください。手荷物は最小限にてご来"]
["場ください。紛失、盗難における責任は、一切負いかねます。"]
[]
["入館から退館まで荷物は常に持参するようにお願いします。レースやアップ、クーリングダウン"]
["ために、プールサイド「第１招集所」に荷物置き場を設けます。"]
[]
["入館から退館までの導線をご確認ください。一方通行として、行き来を制限している箇所があり"]
["ます。二次要項、館内図をご覧ください。"]
[]
["９レーンを有するプールですが、一部をアップ・ダウン専用レーンにすることがあります。"]
["２次要項にてお知らせいたします。"]
[]
["観覧席での場所取りはお断りします。"]
["一方通行となる導線の一部となることから、荷物を置くことはできません。通路を妨げることはご遠慮ください。"]
[]
["アリーナ（体育館）一部も控え場所として利用することができます。"]
[]
["密を避けるために、館内では、「レース」・「アップ、クーリングダウン」・「一時待機」となるように、"]
["周囲の方々との距離を保ちつつ、お過ごし下さい。"]
[]
["このイベントの様子および、個人の記録は、文面・画像・映像等により国内外に発信されること"]
["もあります。大会参加者は、この件に同意したものとみなします。"]

{"sheet":"チーム情報","index":2,"n_rows":22,"n_cols":3,"rows_kept":22,"cut":false,"hidden":false,"merged":[[0,0,0,2],[10,1,11,1],[10,2,11,2]]}
["２０２２年１２月２５日　アクアティクスジャパンカップ冬季水泳大会　チーム一括申込書"]
[]
["チーム担当者\nメールアドレス",null,"←　ご記入ください"]
[]
["チーム担当者　氏名",null,"←　ご記入ください"]
[]
["チーム担当者　連絡先電話番号",null,"←　ご記入ください"]
[]
["日本マスターズ水泳協会登録済み　チームID",null,"←　ご記入ください"]
[]
["チーム名　日本マスターズ水泳協会未登録の場合は任意記入",null,"←　ご記入ください"]
["　　クラブ名、学校名、練習プール名等"]
[]
["大会参加申込をする全員が\n　　【本大会への参加条件-1】\n　　【本大会への参加条件-2】の内容を\n　　\n　　確認し、承諾の上申し込みを行っている",null,"←　選択してください"]
[]
["参加人数",{"$f":"COUNTA('1~20'!D15:D34)","v":0},"←　自動表示"]
[]
["参加種目数",{"$f":"COUNTA('1~20'!M15:M34)+COUNTA('1~20'!O15:O34)+COUNTA('1~20'!Q15:Q34)","v":0},"←　自動表示"]
[]
["大会運営スタッフ"]
["参加者１０名～１９名の場合　…　お一人目　　　氏名",null,"←　ご記入ください"]
["参加者２０名～２９名の場合　…　お二人目　　　氏名",null,"←　ご記入ください"]

{"sheet":"1~20","index":3,"n_rows":34,"n_cols":23,"rows_kept":34,"cut":false,"hidden":false,"merged":[[1,0,3,22],[9,0,11,22],[5,0,7,22]]}
[]
["入力してください　　氏名・生年月日・個人ＩＤ　が　マスターズ水泳協会に登録済みの内容と間違いがないことを再度確認してください。"]
[]
[]
[]
["自動表示されます"]
[]
[]
[]
["選択してください"]
[]
[]
[]
["2022-12-31","チームID","チーム名","参加者氏名\n\n苗字と名前の\n間に全角スペース","暦年齢\n\n自動\n入力","性別\n【選択】","ﾌﾘｶﾞﾅ（半角）\n\n苗字と名前の\n間に半角スペース","生年月日\n\n西暦/月/日","マスターズの部\nもしくは\nジュニアの部","【選択】\n　日本マスターズ水泳協会登録について\n　ジュニアの部　学年","２０２２　登録者\nマスターズ水泳協会\n個人ＩＤ","参加種目① \n【選択】","参加種目①\nエントリータイム\n100分の1秒まで記入","参加種目②\n【選択】","参加種目②\nエントリータイム\n100分の1秒まで記入","参加種目③【選択】\nジュニアの部のみ","参加種目③\nエントリータイム\n100分の1秒まで記入","【１】マスターズ　【２】ジュニア\nフリーリレー 【選択】","【１】マスターズ　【２】ジュニア\nメドレーリレー 【選択】","【４】OPENフリーリレーの部\nフリーリレー 【選択】","申告事項\n  介助が必要、\n  障がいによる泳法違反の回避\n  スタート台を使用しない\n  世界記録挑戦など）","大会当日の\n  緊急連絡先\n（本人以外\n  続柄・氏名）","大会当日の\n  緊急連絡先\n（電話番号）\n"]
[1,{"$f":"チーム情報!B9","v":0},{"$f":"チーム情報!B11","v":0},null,{"$f":"IF(D15=\"\",\"\",DATEDIF(H15,$A$14,\"ｙ\"))","v":""}]
[2,{"$f":"B$15","v":0},{"$f":"C$15","v":0},null,""]
[3,{"$f":"B$15","v":0},0,null,""]
[4,0,0,null,""]
[5,0,0,null,""]
[6,0,0,null,""]
[7,0,0,null,""]
[8,0,0,null,{"$f":"IF(D22=\"\",\"\",DATEDIF(H22,$A$14,\"ｙ\"))","v":""}]
[9,0,0,null,""]
[10,0,0,null,""]
[11,0,0,null,""]
[12,0,0,null,""]
[13,0,0,null,""]
[14,0,0,null,""]
[15,0,0,null,""]
[16,0,0,null,""]
[17,0,0,null,""]
[18,0,0,null,""]
[19,0,0,null,""]
[20,0,0,null,""]

{"sheet":"【１】【２】メドレーリレー","index":4,"n_rows":44,"n_cols":29,"rows_kept":44,"cut":false,"hidden":false,"merged":[[32,16,35,16],[11,16,14,16],[4,16,7,16],[5,17,7,17],[40,17,42,17],[16,23,17,28],[18,23,19,28],[20,23,21,28],[22,23,23,28],[24,23,25,28],[26,23,27,28],[39,16,42,16],[33,17,35,17],[26,17,28,17],[19,17,21,17],[12,17,14,17],[18,16,21,16],[25,16,28,16],[20,2,21,6],[0,11,0,14],[0,2,0,6],[2,1,3,7],[4,1,5,7],[7,1,8,7],[9,1,10,7],[12,1,13,7],[14,1,15,7]]}
[null,null,"「１」～「５」　５項目を右クリック・コピー",{"$nulls":4},"→",null,null,null,"５項目を　右クリック・テキスト　で貼り付け"]
[]
[null,"ジュニアの部　　メドレーリレーへの参加は",{"$nulls":9},"４×２５　メドレーリレー",{"$nulls":10},"４×２５　メドレーリレー"]
[{"$nulls":10},"①","氏名","暦年齢","性別","ﾏｽﾀｰｽﾞ or ｼﾞｭﾆｱ","個人ID（協会登録者)","エントリータイム","合計年齢",{"$nulls":5},"１泳（背泳ぎ）","２泳（平泳ぎ）","３泳（バタフライ）","４泳（自由形）","合計年齢","エントリータイム"]
[null,"女子　男子　混合　性別OPEN　いずれか１つのみです。",{"$nulls":8},"１泳",{"$nulls":6},{"$f":"M5+M6+M7+M8","v":0},{"$nulls":4},"①",{"$f":"L5","v":0},{"$f":"L6","v":0},{"$f":"L7","v":0},{"$f":"L8","v":0},{"$f":"R5+R6+R7+R8","v":0},{"$f":"Q5","v":"00:00:00"}]
[{"$nulls":10},"２泳",{"$nulls":11},"②",{"$f":"L12","v":0},{"$f":"L13","v":0},{"$f":"L14","v":0},{"$f":"L15","v":0},{"$f":"R12+R13+R14+R15","v":0},{"$f":"Q12","v":"00:00:00"}]
[{"$nulls":10},"３泳",{"$nulls":11},"③",{"$f":"L19","v":0},{"$f":"L20","v":0},{"$f":"L21","v":0},{"$f":"L22","v":0},{"$f":"R19+R20+R21+R22","v":0},{"$f":"Q19","v":"00:00:00"}]
[null,"マスターズの部　　メドレーリレーへの参加は",{"$nulls":8},"４泳",{"$nulls":11},"④",{"$f":"L26","v":0},{"$f":"L27","v":0},{"$f":"L28","v":0},{"$f":"L29","v":0},{"$f":"R26","v":0},{"$f":"Q26","v":"00:00:00"}]
[{"$nulls":22},"⑤",{"$f":"L33","v":0},{"$f":"L34","v":0},{"$f":"L35","v":0},{"$f":"L36","v":0},{"$f":"R33+R34+R35+R36","v":0},{"$f":"Q33","v":"00:00:00"}]
[null,"女子　男子　混合　いずれか１つのみです。",{"$nulls":9},"４×２５　メドレーリレー",{"$nulls":10},"⑥",{"$f":"L40","v":0},{"$f":"L41","v":0},{"$f":"L42","v":0},{"$f":"L43","v":0},{"$f":"R40+R41+R42+R43","v":0},{"$f":"Q40","v":"00:00:00"}]
[{"$nulls":10},"②","氏名","暦年齢","性別","ﾏｽﾀｰｽﾞ or ｼﾞｭﾆｱ","個人ID（協会登録者)","エントリータイム","合計年齢"]
[{"$nulls":10},"１泳",{"$nulls":6},{"$f":"M12+M13+M14+M15","v":0}]
[null,"ジュニア　と　マスターズ　混在の",{"$nulls":8},"２泳"]
[{"$nulls":10},"３泳"]
[null,"メドレーリレーは実施しません",{"$nulls":8},"４泳"]
[]
[{"$nulls":11},"４×２５　メドレーリレー",{"$nulls":11},"エントリータイムの記入方法について"]
[{"$nulls":10},"③","氏名","暦年齢","性別","ﾏｽﾀｰｽﾞ or ｼﾞｭﾆｱ","個人ID（協会登録者)","エントリータイム","合計年齢"]
[{"$nulls":10},"１泳",{"$nulls":6},{"$f":"M19+M20+M21+M22","v":0},{"$nulls":5},"1分15秒56"]
[{"$nulls":10},"２泳"]
[null,null,"５項目を　右クリック・テキスト　で貼り付け",{"$nulls":7},"３泳",{"$nulls":12},"の場合"]
[{"$nulls":10},"４泳"]
[{"$nulls":23},"「１」　「：」　「１５」　「.」　「５６」"]
[null,null,"「１」","「２」","「３」","「４」","「５」",{"$nulls":4},"４×２５　メドレーリレー"]
[null,1,{"$f":"'1~20'!D15","v":0},{"$f":"'1~20'!E15","v":""},{"$f":"'1~20'!F15","v":0},{"$f":"'1~20'!I15","v":0},{"$f":"'1~20'!K15","v":0},null,null,null,"④","氏名","暦年齢","性別","ﾏｽﾀｰｽﾞ or ｼﾞｭﾆｱ","個人ID（協会登録者)","エントリータイム","合計年齢",{"$nulls":5},"と入力お願いします。"]
[null,2,{"$f":"'1~20'!D16","v":0},{"$f":"'1~20'!E16","v":""},{"$f":"'1~20'!F16","v":0},{"$f":"'1~20'!I16","v":0},{"$f":"'1~20'!K16","v":0},null,null,null,"１泳",{"$nulls":6},{"$f":"M26+M27+M28+M29","v":0}]
[null,3,{"$f":"'1~20'!D17","v":0},{"$f":"'1~20'!E17","v":""},{"$f":"'1~20'!F17","v":0},{"$f":"'1~20'!I17","v":0},{"$f":"'1~20'!K17","v":0},null,null,null,"２泳",{"$nulls":12},"00:01:15.560"]
[null,4,{"$f":"'1~20'!D18","v":0},{"$f":"'1~20'!E18","v":""},{"$f":"'1~20'!F18","v":0},{"$f":"'1~20'!I18","v":0},{"$f":"'1~20'!K18","v":0},null,null,null,"３泳"]
[null,5,{"$f":"'1~20'!D19","v":0},{"$f":"'1~20'!E19","v":""},{"$f":"'1~20'!F19","v":0},{"$f":"'1~20'!I19","v":0},{"$f":"'1~20'!K19","v":0},null,null,null,"４泳"]
[null,6,{"$f":"'1~20'!D20","v":0},{"$f":"'1~20'!E20","v":""},{"$f":"'1~20'!F20","v":0},{"$f":"'1~20'!I20","v":0},{"$f":"'1~20'!K20","v":0}]
[null,7,{"$f":"'1~20'!D21","v":0},{"$f":"'1~20'!E21","v":""},{"$f":"'1~20'!F21","v":0},{"$f":"'1~20'!I21","v":0},{"$f":"'1~20'!K21","v":0},{"$nulls":4},"４×２５　メドレーリレー"]
[null,8,{"$f":"'1~20'!D22","v":0},{"$f":"'1~20'!E22","v":""},{"$f":"'1~20'!F22","v":0},{"$f":"'1~20'!I22","v":0},{"$f":"'1~20'!K22","v":0},null,null,null,"⑤","氏名","暦年齢","性別","ﾏｽﾀｰｽﾞ or ｼﾞｭﾆｱ","個人ID（協会登録者)","エントリータイム","合計年齢"]
[null,9,{"$f":"'1~20'!D23","v":0},{"$f":"'1~20'!E23","v":""},{"$f":"'1~20'!F23","v":0},{"$f":"'1~20'!I23","v":0},{"$f":"'1~20'!K23","v":0},null,null,null,"１泳",{"$nulls":6},{"$f":"M33+M34+M35+M36","v":0}]
[null,10,{"$f":"'1~20'!D24","v":0},{"$f":"'1~20'!E24","v":""},{"$f":"'1~20'!F24","v":0},{"$f":"'1~20'!I24","v":0},{"$f":"'1~20'!K24","v":0},null,null,null,"２泳"]
[null,11,{"$f":"'1~20'!D25","v":0},{"$f":"'1~20'!E25","v":""},{"$f":"'1~20'!F25","v":0},{"$f":"'1~20'!I25","v":0},{"$f":"'1~20'!K25","v":0},null,null,null,"３泳"]
[null,12,{"$f":"'1~20'!D26","v":0},{"$f":"'1~20'!E26","v":""},{"$f":"'1~20'!F26","v":0},{"$f":"'1~20'!I26","v":0},{"$f":"'1~20'!K26","v":0},null,null,null,"４泳"]
[null,13,{"$f":"'1~20'!D27","v":0},{"$f":"'1~20'!E27","v":""},{"$f":"'1~20'!F27","v":0},{"$f":"'1~20'!I27","v":0},{"$f":"'1~20'!K27","v":0}]
[null,14,{"$f":"'1~20'!D28","v":0},{"$f":"'1~20'!E28","v":""},{"$f":"'1~20'!F28","v":0},{"$f":"'1~20'!I28","v":0},{"$f":"'1~20'!K28","v":0},{"$nulls":4},"４×２５　メドレーリレー"]
[null,15,{"$f":"'1~20'!D29","v":0},{"$f":"'1~20'!E29","v":""},{"$f":"'1~20'!F29","v":0},{"$f":"'1~20'!I29","v":0},{"$f":"'1~20'!K29","v":0},null,null,null,"⑥","氏名","暦年齢","性別","ﾏｽﾀｰｽﾞ or ｼﾞｭﾆｱ","個人ID（協会登録者)","エントリータイム","合計年齢"]
[null,16,{"$f":"'1~20'!D30","v":0},{"$f":"'1~20'!E30","v":""},{"$f":"'1~20'!F30","v":0},{"$f":"'1~20'!I30","v":0},{"$f":"'1~20'!K30","v":0},null,null,null,"１泳",{"$nulls":6},{"$f":"M40+M41+M42+M43","v":0}]
[null,17,{"$f":"'1~20'!D31","v":0},{"$f":"'1~20'!E31","v":""},{"$f":"'1~20'!F31","v":0},{"$f":"'1~20'!I31","v":0},{"$f":"'1~20'!K31","v":0},null,null,null,"２泳"]
[null,18,{"$f":"'1~20'!D32","v":0},{"$f":"'1~20'!E32","v":""},{"$f":"'1~20'!F32","v":0},{"$f":"'1~20'!I32","v":0},{"$f":"'1~20'!K32","v":0},null,null,null,"３泳"]
[null,19,{"$f":"'1~20'!D33","v":0},{"$f":"'1~20'!E33","v":""},{"$f":"'1~20'!F33","v":0},{"$f":"'1~20'!I33","v":0},{"$f":"'1~20'!K33","v":0},null,null,null,"４泳"]
[null,20,{"$f":"'1~20'!D34","v":0},{"$f":"'1~20'!E34","v":""},{"$f":"'1~20'!F34","v":0},{"$f":"'1~20'!I34","v":0},{"$f":"'1~20'!K34","v":0}]

{"sheet":"【１】【２】フリーリレー","index":5,"n_rows":44,"n_cols":29,"rows_kept":44,"cut":false,"hidden":false,"merged":[[22,23,23,28],[24,23,25,28],[12,1,13,7],[14,1,15,7],[16,1,17,7],[20,2,21,6],[26,23,27,28],[39,16,42,16],[5,17,7,17],[12,17,14,17],[19,17,21,17],[26,17,28,17],[33,17,35,17],[40,17,42,17],[4,16,7,16],[11,16,14,16],[18,16,21,16],[25,16,28,16],[32,16,35,16],[16,23,17,28],[18,23,19,28],[20,23,21,28],[9,1,10,7],[0,2,0,6],[0,11,0,14],[2,1,3,7],[4,1,5,7],[7,1,8,7]]}
[null,null,"「１」～「５」　５項目を右クリック・コピー",{"$nulls":4},"→",null,null,null,"５項目を　右クリック・テキスト　で貼り付け"]
[]
[null,"ジュニアの部　　フリーリレーへの参加は",{"$nulls":9},"４×２５　フリーリレー",{"$nulls":10},"４×２５　フリーリレー"]
[{"$nulls":10},"①","氏名","暦年齢","性別","ﾏｽﾀｰｽﾞ or ｼﾞｭﾆｱ","個人ID（協会登録者)","エントリータイム","合計年齢",{"$nulls":5},"１泳","２泳","３泳","４泳","合計年齢","エントリータイム"]
[null,"女子　男子　混合　性別OPEN　いずれか１つのみです。",{"$nulls":8},"１泳",{"$nulls":6},{"$f":"M5+M6+M7+M8","v":0},{"$nulls":4},"①",{"$f":"L5","v":0},{"$f":"L6","v":0},{"$f":"L7","v":0},{"$f":"L8","v":0},{"$f":"R5+R6+R7+R8","v":0},{"$f":"Q5","v":"00:00:00"}]
[{"$nulls":10},"２泳",{"$nulls":11},"②",{"$f":"L12","v":0},{"$f":"L13","v":0},{"$f":"L14","v":0},{"$f":"L15","v":0},{"$f":"R12+R13+R14+R15","v":0},{"$f":"Q12","v":"00:00:00"}]
[{"$nulls":10},"３泳",{"$nulls":11},"③",{"$f":"L19","v":0},{"$f":"L20","v":0},{"$f":"L21","v":0},{"$f":"L22","v":0},{"$f":"R19+R20+R21+R22","v":0},{"$f":"Q19","v":"00:00:00"}]
[null,"マスターズの部　　フリーリレーへの参加は",{"$nulls":8},"４泳",{"$nulls":11},"④",{"$f":"L26","v":0},{"$f":"L27","v":0},{"$f":"L28","v":0},{"$f":"L29","v":0},{"$f":"R26","v":0},{"$f":"Q26","v":"00:00:00"}]
[{"$nulls":22},"⑤",{"$f":"L33","v":0},{"$f":"L34","v":0},{"$f":"L35","v":0},{"$f":"L36","v":0},{"$f":"R33+R34+R35+R36","v":0},{"$f":"Q33","v":"00:00:00"}]
[null,"女子　男子　混合　いずれか１つのみです。",{"$nulls":9},"４×２５　フリーリレー",{"$nulls":10},"⑥",{"$f":"L40","v":0},{"$f":"L41","v":0},{"$f":"L42","v":0},{"$f":"L43","v":0},{"$f":"R40+R41+R42+R43","v":0},{"$f":"Q40","v":"00:00:00"}]
[{"$nulls":10},"②","氏名","暦年齢","性別","ﾏｽﾀｰｽﾞ or ｼﾞｭﾆｱ","個人ID（協会登録者)","エントリータイム","合計年齢"]
[{"$nulls":10},"１泳",{"$nulls":6},{"$f":"M12+M13+M14+M15","v":0}]
[null,"ジュニア　と　マスターズ　混在",{"$nulls":8},"２泳"]
[{"$nulls":10},"３泳"]
[null,"マスターズの部　　男3女1　もしくは　男1女３",{"$nulls":8},"４泳"]
[]
[null,"フリーリレーは　【4】　へ　入力しください。",{"$nulls":9},"４×２５　フリーリレー",{"$nulls":11},"エントリータイムの記入方法について"]
[{"$nulls":10},"③","氏名","暦年齢","性別","ﾏｽﾀｰｽﾞ or ｼﾞｭﾆｱ","個人ID（協会登録者)","エントリータイム","合計年齢"]
[{"$nulls":10},"１泳",{"$nulls":6},{"$f":"M19+M20+M21+M22","v":0},{"$nulls":5},"1分15秒56"]
[{"$nulls":10},"２泳"]
[null,null,"５項目を　右クリック・テキスト　で貼り付け",{"$nulls":7},"３泳",{"$nulls":12},"の場合"]
[{"$nulls":10},"４泳"]
[{"$nulls":23},"「１」　「：」　「１５」　「.」　「５６」"]
[null,null,"「１」","「２」","「３」","「４」","「５」",{"$nulls":4},"４×２５　フリーリレー"]
[null,1,{"$f":"'1~20'!D15","v":0},{"$f":"'1~20'!E15","v":""},{"$f":"'1~20'!F15","v":0},{"$f":"'1~20'!I15","v":0},{"$f":"'1~20'!K15","v":0},null,null,null,"④","氏名","暦年齢","性別","ﾏｽﾀｰｽﾞ or ｼﾞｭﾆｱ","個人ID（協会登録者)","エントリータイム","合計年齢",{"$nulls":5},"と入力お願いします。"]
[null,2,{"$f":"'1~20'!D16","v":0},{"$f":"'1~20'!E16","v":""},{"$f":"'1~20'!F16","v":0},{"$f":"'1~20'!I16","v":0},{"$f":"'1~20'!K16","v":0},null,null,null,"１泳",{"$nulls":6},{"$f":"M26+M27+M28+M29","v":0}]
[null,3,{"$f":"'1~20'!D17","v":0},{"$f":"'1~20'!E17","v":""},{"$f":"'1~20'!F17","v":0},{"$f":"'1~20'!I17","v":0},{"$f":"'1~20'!K17","v":0},null,null,null,"２泳",{"$nulls":12},"00:01:15.560"]
[null,4,{"$f":"'1~20'!D18","v":0},{"$f":"'1~20'!E18","v":""},{"$f":"'1~20'!F18","v":0},{"$f":"'1~20'!I18","v":0},{"$f":"'1~20'!K18","v":0},null,null,null,"３泳"]
[null,5,{"$f":"'1~20'!D19","v":0},{"$f":"'1~20'!E19","v":""},{"$f":"'1~20'!F19","v":0},{"$f":"'1~20'!I19","v":0},{"$f":"'1~20'!K19","v":0},null,null,null,"４泳"]
[null,6,{"$f":"'1~20'!D20","v":0},{"$f":"'1~20'!E20","v":""},{"$f":"'1~20'!F20","v":0},{"$f":"'1~20'!I20","v":0},{"$f":"'1~20'!K20","v":0}]
[null,7,{"$f":"'1~20'!D21","v":0},{"$f":"'1~20'!E21","v":""},{"$f":"'1~20'!F21","v":0},{"$f":"'1~20'!I21","v":0},{"$f":"'1~20'!K21","v":0},{"$nulls":4},"４×２５　フリーリレー"]
[null,8,{"$f":"'1~20'!D22","v":0},{"$f":"'1~20'!E22","v":""},{"$f":"'1~20'!F22","v":0},{"$f":"'1~20'!I22","v":0},{"$f":"'1~20'!K22","v":0},null,null,null,"⑤","氏名","暦年齢","性別","ﾏｽﾀｰｽﾞ or ｼﾞｭﾆｱ","個人ID（協会登録者)","エントリータイム","合計年齢"]
[null,9,{"$f":"'1~20'!D23","v":0},{"$f":"'1~20'!E23","v":""},{"$f":"'1~20'!F23","v":0},{"$f":"'1~20'!I23","v":0},{"$f":"'1~20'!K23","v":0},null,null,null,"１泳",{"$nulls":6},{"$f":"M33+M34+M35+M36","v":0}]
[null,10,{"$f":"'1~20'!D24","v":0},{"$f":"'1~20'!E24","v":""},{"$f":"'1~20'!F24","v":0},{"$f":"'1~20'!I24","v":0},{"$f":"'1~20'!K24","v":0},null,null,null,"２泳"]
[null,11,{"$f":"'1~20'!D25","v":0},{"$f":"'1~20'!E25","v":""},{"$f":"'1~20'!F25","v":0},{"$f":"'1~20'!I25","v":0},{"$f":"'1~20'!K25","v":0},null,null,null,"３泳"]
[null,12,{"$f":"'1~20'!D26","v":0},{"$f":"'1~20'!E26","v":""},{"$f":"'1~20'!F26","v":0},{"$f":"'1~20'!I26","v":0},{"$f":"'1~20'!K26","v":0},null,null,null,"４泳"]
[null,13,{"$f":"'1~20'!D27","v":0},{"$f":"'1~20'!E27","v":""},{"$f":"'1~20'!F27","v":0},{"$f":"'1~20'!I27","v":0},{"$f":"'1~20'!K27","v":0}]
[null,14,{"$f":"'1~20'!D28","v":0},{"$f":"'1~20'!E28","v":""},{"$f":"'1~20'!F28","v":0},{"$f":"'1~20'!I28","v":0},{"$f":"'1~20'!K28","v":0},{"$nulls":4},"４×２５　フリーリレー"]
[null,15,{"$f":"'1~20'!D29","v":0},{"$f":"'1~20'!E29","v":""},{"$f":"'1~20'!F29","v":0},{"$f":"'1~20'!I29","v":0},{"$f":"'1~20'!K29","v":0},null,null,null,"⑥","氏名","暦年齢","性別","ﾏｽﾀｰｽﾞ or ｼﾞｭﾆｱ","個人ID（協会登録者)","エントリータイム","合計年齢"]
[null,16,{"$f":"'1~20'!D30","v":0},{"$f":"'1~20'!E30","v":""},{"$f":"'1~20'!F30","v":0},{"$f":"'1~20'!I30","v":0},{"$f":"'1~20'!K30","v":0},null,null,null,"１泳",{"$nulls":6},{"$f":"M40+M41+M42+M43","v":0}]
[null,17,{"$f":"'1~20'!D31","v":0},{"$f":"'1~20'!E31","v":""},{"$f":"'1~20'!F31","v":0},{"$f":"'1~20'!I31","v":0},{"$f":"'1~20'!K31","v":0},null,null,null,"２泳"]
[null,18,{"$f":"'1~20'!D32","v":0},{"$f":"'1~20'!E32","v":""},{"$f":"'1~20'!F32","v":0},{"$f":"'1~20'!I32","v":0},{"$f":"'1~20'!K32","v":0},null,null,null,"３泳"]
[null,19,{"$f":"'1~20'!D33","v":0},{"$f":"'1~20'!E33","v":""},{"$f":"'1~20'!F33","v":0},{"$f":"'1~20'!I33","v":0},{"$f":"'1~20'!K33","v":0},null,null,null,"４泳"]
[null,20,{"$f":"'1~20'!D34","v":0},{"$f":"'1~20'!E34","v":""},{"$f":"'1~20'!F34","v":0},{"$f":"'1~20'!I34","v":0},{"$f":"'1~20'!K34","v":0}]

{"sheet":"【４】フリーリレー","index":6,"n_rows":44,"n_cols":29,"rows_kept":44,"cut":false,"hidden":false,"merged":[[32,16,35,16],[33,17,35,17],[39,16,42,16],[40,17,42,17],[18,16,21,16],[25,16,28,16],[26,17,28,17],[26,23,27,28],[11,16,14,16],[11,1,12,7],[12,17,14,17],[13,1,14,7],[16,23,17,28],[18,23,19,28],[19,17,21,17],[20,23,21,28],[22,23,23,28],[24,23,25,28],[20,2,21,6],[6,1,9,7],[5,17,7,17],[0,2,0,6],[0,11,0,14],[2,1,3,7],[4,1,5,7],[4,16,7,16]]}
[null,null,"「１」～「５」　５項目を右クリック・コピー",{"$nulls":4},"→",null,null,null,"５項目を　右クリック・テキスト　で貼り付け"]
[]
[null,"①　　マスターズの部の　男３女１、男１女３",{"$nulls":9},"４×２５　OPEN　フリーリレー",{"$nulls":10},"４×２５　OPEN　フリーリレー"]
[{"$nulls":10},"①","氏名","暦年齢","性別","ﾏｽﾀｰｽﾞ or ｼﾞｭﾆｱ","個人ID（協会登録者)","エントリータイム","合計年齢",{"$nulls":5},"１泳","２泳","３泳","４泳","合計年齢","エントリータイム"]
[null,"②　　ジュニアとマスターズの混在",{"$nulls":8},"１泳",{"$nulls":6},{"$f":"M5+M6+M7+M8","v":0},{"$nulls":4},"①",{"$f":"L5","v":0},{"$f":"L6","v":0},{"$f":"L7","v":0},{"$f":"L8","v":0},{"$f":"R5+R6+R7+R8","v":0},{"$f":"Q5","v":"00:00:00"}]
[{"$nulls":10},"２泳",{"$nulls":11},"②",{"$f":"L12","v":0},{"$f":"L13","v":0},{"$f":"L14","v":0},{"$f":"L15","v":0},{"$f":"R12+R13+R14+R15","v":0},{"$f":"Q12","v":"00:00:00"}]
[null,"すべて含めて　OPENリレー　とします",{"$nulls":8},"３泳",{"$nulls":11},"③",{"$f":"L19","v":0},{"$f":"L20","v":0},{"$f":"L21","v":0},{"$f":"L22","v":0},{"$f":"R19+R20+R21+R22","v":0},{"$f":"Q19","v":"00:00:00"}]
[{"$nulls":10},"４泳",{"$nulls":11},"④",{"$f":"L26","v":0},{"$f":"L27","v":0},{"$f":"L28","v":0},{"$f":"L29","v":0},{"$f":"R26","v":0},{"$f":"Q26","v":"00:00:00"}]
[{"$nulls":22},"⑤",{"$f":"L33","v":0},{"$f":"L34","v":0},{"$f":"L35","v":0},{"$f":"L36","v":0},{"$f":"R33+R34+R35+R36","v":0},{"$f":"Q33","v":"00:00:00"}]
[{"$nulls":11},"４×２５　OPEN　フリーリレー",{"$nulls":10},"⑥",{"$f":"L40","v":0},{"$f":"L41","v":0},{"$f":"L42","v":0},{"$f":"L43","v":0},{"$f":"R40+R41+R42+R43","v":0},{"$f":"Q40","v":"00:00:00"}]
[{"$nulls":10},"②","氏名","暦年齢","性別","ﾏｽﾀｰｽﾞ or ｼﾞｭﾆｱ","個人ID（協会登録者)","エントリータイム","合計年齢"]
[{"$nulls":10},"１泳",{"$nulls":6},{"$f":"M12+M13+M14+M15","v":0}]
[{"$nulls":10},"２泳"]
[{"$nulls":10},"３泳"]
[{"$nulls":10},"４泳"]
[]
[{"$nulls":11},"４×２５　OPEN　フリーリレー",{"$nulls":11},"エントリータイムの記入方法について"]
[{"$nulls":10},"③","氏名","暦年齢","性別","ﾏｽﾀｰｽﾞ or ｼﾞｭﾆｱ","個人ID（協会登録者)","エントリータイム","合計年齢"]
[{"$nulls":10},"１泳",{"$nulls":6},{"$f":"M19+M20+M21+M22","v":0},{"$nulls":5},"1分15秒56"]
[{"$nulls":10},"２泳"]
[null,null,"５項目を　右クリック・テキスト　で貼り付け",{"$nulls":7},"３泳",{"$nulls":12},"の場合"]
[{"$nulls":10},"４泳"]
[{"$nulls":23},"「１」　「：」　「１５」　「.」　「５６」"]
[null,null,"「１」","「２」","「３」","「４」","「５」",{"$nulls":4},"４×２５　OPEN　フリーリレー"]
[null,1,{"$f":"'1~20'!D15","v":0},{"$f":"'1~20'!E15","v":""},{"$f":"'1~20'!F15","v":0},{"$f":"'1~20'!I15","v":0},{"$f":"'1~20'!K15","v":0},null,null,null,"④","氏名","暦年齢","性別","ﾏｽﾀｰｽﾞ or ｼﾞｭﾆｱ","個人ID（協会登録者)","エントリータイム","合計年齢",{"$nulls":5},"と入力お願いします。"]
[null,2,{"$f":"'1~20'!D16","v":0},{"$f":"'1~20'!E16","v":""},{"$f":"'1~20'!F16","v":0},{"$f":"'1~20'!I16","v":0},{"$f":"'1~20'!K16","v":0},null,null,null,"１泳",{"$nulls":6},{"$f":"M26+M27+M28+M29","v":0}]
[null,3,{"$f":"'1~20'!D17","v":0},{"$f":"'1~20'!E17","v":""},{"$f":"'1~20'!F17","v":0},{"$f":"'1~20'!I17","v":0},{"$f":"'1~20'!K17","v":0},null,null,null,"２泳",{"$nulls":12},"00:01:15.560"]
[null,4,{"$f":"'1~20'!D18","v":0},{"$f":"'1~20'!E18","v":""},{"$f":"'1~20'!F18","v":0},{"$f":"'1~20'!I18","v":0},{"$f":"'1~20'!K18","v":0},null,null,null,"３泳"]
[null,5,{"$f":"'1~20'!D19","v":0},{"$f":"'1~20'!E19","v":""},{"$f":"'1~20'!F19","v":0},{"$f":"'1~20'!I19","v":0},{"$f":"'1~20'!K19","v":0},null,null,null,"４泳"]
[null,6,{"$f":"'1~20'!D20","v":0},{"$f":"'1~20'!E20","v":""},{"$f":"'1~20'!F20","v":0},{"$f":"'1~20'!I20","v":0},{"$f":"'1~20'!K20","v":0}]
[null,7,{"$f":"'1~20'!D21","v":0},{"$f":"'1~20'!E21","v":""},{"$f":"'1~20'!F21","v":0},{"$f":"'1~20'!I21","v":0},{"$f":"'1~20'!K21","v":0},{"$nulls":4},"４×２５　OPEN　フリーリレー"]
[null,8,{"$f":"'1~20'!D22","v":0},{"$f":"'1~20'!E22","v":""},{"$f":"'1~20'!F22","v":0},{"$f":"'1~20'!I22","v":0},{"$f":"'1~20'!K22","v":0},null,null,null,"⑤","氏名","暦年齢","性別","ﾏｽﾀｰｽﾞ or ｼﾞｭﾆｱ","個人ID（協会登録者)","エントリータイム","合計年齢"]
[null,9,{"$f":"'1~20'!D23","v":0},{"$f":"'1~20'!E23","v":""},{"$f":"'1~20'!F23","v":0},{"$f":"'1~20'!I23","v":0},{"$f":"'1~20'!K23","v":0},null,null,null,"１泳",{"$nulls":6},{"$f":"M33+M34+M35+M36","v":0}]
[null,10,{"$f":"'1~20'!D24","v":0},{"$f":"'1~20'!E24","v":""},{"$f":"'1~20'!F24","v":0},{"$f":"'1~20'!I24","v":0},{"$f":"'1~20'!K24","v":0},null,null,null,"２泳"]
[null,11,{"$f":"'1~20'!D25","v":0},{"$f":"'1~20'!E25","v":""},{"$f":"'1~20'!F25","v":0},{"$f":"'1~20'!I25","v":0},{"$f":"'1~20'!K25","v":0},null,null,null,"３泳"]
[null,12,{"$f":"'1~20'!D26","v":0},{"$f":"'1~20'!E26","v":""},{"$f":"'1~20'!F26","v":0},{"$f":"'1~20'!I26","v":0},{"$f":"'1~20'!K26","v":0},null,null,null,"４泳"]
[null,13,{"$f":"'1~20'!D27","v":0},{"$f":"'1~20'!E27","v":""},{"$f":"'1~20'!F27","v":0},{"$f":"'1~20'!I27","v":0},{"$f":"'1~20'!K27","v":0}]
[null,14,{"$f":"'1~20'!D28","v":0},{"$f":"'1~20'!E28","v":""},{"$f":"'1~20'!F28","v":0},{"$f":"'1~20'!I28","v":0},{"$f":"'1~20'!K28","v":0},{"$nulls":4},"４×２５　OPEN　フリーリレー"]
[null,15,{"$f":"'1~20'!D29","v":0},{"$f":"'1~20'!E29","v":""},{"$f":"'1~20'!F29","v":0},{"$f":"'1~20'!I29","v":0},{"$f":"'1~20'!K29","v":0},null,null,null,"⑥","氏名","暦年齢","性別","ﾏｽﾀｰｽﾞ or ｼﾞｭﾆｱ","個人ID（協会登録者)","エントリータイム","合計年齢"]
[null,16,{"$f":"'1~20'!D30","v":0},{"$f":"'1~20'!E30","v":""},{"$f":"'1~20'!F30","v":0},{"$f":"'1~20'!I30","v":0},{"$f":"'1~20'!K30","v":0},null,null,null,"１泳",{"$nulls":6},{"$f":"M40+M41+M42+M43","v":0}]
[null,17,{"$f":"'1~20'!D31","v":0},{"$f":"'1~20'!E31","v":""},{"$f":"'1~20'!F31","v":0},{"$f":"'1~20'!I31","v":0},{"$f":"'1~20'!K31","v":0},null,null,null,"２泳"]
[null,18,{"$f":"'1~20'!D32","v":0},{"$f":"'1~20'!E32","v":""},{"$f":"'1~20'!F32","v":0},{"$f":"'1~20'!I32","v":0},{"$f":"'1~20'!K32","v":0},null,null,null,"３泳"]
[null,19,{"$f":"'1~20'!D33","v":0},{"$f":"'1~20'!E33","v":""},{"$f":"'1~20'!F33","v":0},{"$f":"'1~20'!I33","v":0},{"$f":"'1~20'!K33","v":0},null,null,null,"４泳"]
[null,20,{"$f":"'1~20'!D34","v":0},{"$f":"'1~20'!E34","v":""},{"$f":"'1~20'!F34","v":0},{"$f":"'1~20'!I34","v":0},{"$f":"'1~20'!K34","v":0}]