{"text_format":"2","workbook":"xlsx","n_sheets":9,"sheets":["おしらせ","チーム情報","マスターズ","ジュニア","50M×4メドレーリレー","25M×4メドレーリレー","100M×4フリーリレー","50M×4フリーリレー","25M×4フリーリレー"],"not_rendered":{"charts":0,"images":0,"macros":0,"external_links":0,"defined_names":1,"comments":0,"pivot_tables":0},"unopened":[],"bounds":{"document_bytes":16777216,"sheet_cells":100000,"run_cost":"one","rows_first":2000,"rows_last":500,"rows_between":2000,"halvings":0,"cell_chars":16384,"cell_head_chars":4096},"cells_cut":0,"cells_raw":0,"read":"whole","date_system":"1900"}

{"sheet":"おしらせ","index":0,"n_rows":41,"n_cols":3,"rows_kept":41,"cut":false,"hidden":false,"merged":[]}
[]
[]
[null,null,"チームメンバー全員が　「日本マスターズ水泳協会　２０２４年登録者」の場合は、"]
[null,null,"日本マスターズ水泳協会のウェブシステムより申込してください。"]
[null,null,"このフォームは使用不要です。"]
[]
[]
[]
[null,null,"マスターズ用、ジュニア用　とシートが分かれています。"]
[null,null,"同様に、リレー種目のシートも分かれています。"]
[]
[null,null,"お間違いないように入力・選択してください。"]
[]
[]
[]
[null,null,"リレーメンバーに「マスターズ」「ジュニア」が混在する場合は、"]
[null,null,"OPENフリーリレーとなります。"]
[null,null,"このフォームを使用せずに、"]
[null,null,"　　　　　　https://forms.gle/t7CpxhQWrG9QL1Ds8"]
[null,null,"から申し込みを行ってください。"]
[]
[]
[]
[null,null,"締切日は　７/１５　となっています。ただし、多くの方の申し込みがあった場合、"]
[null,null,"締切日を早めることがあります。"]
[]
[]
[]
[null,null,"参加エントリー以外に該当する項目がありましたら、グーグルフォームよりお申込ください。"]
[]
[null,null,"・招待選手申請フォーム"]
[null,null,"　　　https://forms.gle/oChTbGeyVHYbBf3w8"]
[]
[null,null,"・運営スタッフ募集 　個人申込フォーム"]
[null,null,"　　　https://forms.gle/w14DfE2TM1uskJXg6"]
[]
[null,null,"・運営スタッフ募集 　チーム申込フォーム"]
[null,null,"　　　https://forms.gle/VvBwApurCVnq5tB4A"]
[]
[null,null,"・400M自由形 　帯同計時員　フォーム"]
[null,null,"　　　https://forms.gle/t9vN7cUw2iymBjxX6"]

{"sheet":"チーム情報","index":1,"n_rows":20,"n_cols":3,"rows_kept":20,"cut":false,"hidden":false,"merged":[[0,0,0,2],[10,1,11,1],[10,2,11,2]]}
["２０２４年８月２５日　アクアティクスジャパンカップ水泳大会　チーム一括申込書"]
[]
["チーム担当者\nメールアドレス",null,"←　ご記入ください"]
[]
["チーム担当者　氏名",null,"←　ご記入ください"]
[]
["チーム担当者　連絡先電話番号",null,"←　ご記入ください"]
[]
["日本マスターズ水泳協会登録済み　チームID",null,"←　ご記入ください"]
[]
["チーム名　日本マスターズ水泳協会未登録の場合は任意記入",null,"←　ご記入ください"]
["　　クラブ名、学校名、練習プール名等"]
[]
["参加人数",{"$f":"COUNTA(マスターズ!D15:D34)","v":0},"←　自動表示"]
[]
["参加種目数",{"$f":"COUNTA(マスターズ!M15:M34)+COUNTA(マスターズ!O15:O34)+COUNTA(マスターズ!Q15:Q34)","v":0},"←　自動表示"]
[]
["ご協力お願いします　大会運営スタッフ"]
["お一人目　　　氏名",null,"←　ご記入ください"]
["お二人目　　　氏名",null,"←　ご記入ください"]

{"sheet":"マスターズ","index":2,"n_rows":34,"n_cols":20,"rows_kept":34,"cut":false,"hidden":false,"merged":[[1,0,3,19],[9,0,11,19],[5,0,7,19]]}
[]
["入力してください　　氏名・生年月日・個人ＩＤ　が　マスターズ水泳協会に登録済みの内容と間違いがないことを再度確認してください。"]
[]
[]
[]
["自動表示されます"]
[]
[]
[]
["選択してください"]
[]
[]
[]
["2024-12-31","チームID","チーム名","参加者氏名\n\n苗字と名前の\n間に全角スペース","暦年齢\n\n自動\n入力","性別\n【選択】","ﾌﾘｶﾞﾅ（半角）\n\n苗字と名前の\n間に半角スペース","生年月日\n\n西暦/月/日","マスターズの部","【選択】\n　日本マスターズ水泳協会登録について\n　ジュニアの部　学年","２０２４　登録者\nマスターズ水泳協会\n個人ＩＤ","参加種目① \n【選択】","参加種目①\nエントリータイム\n100分の1秒まで記入","参加種目②\n【選択】","参加種目②\nエントリータイム\n100分の1秒まで記入","参加種目③【選択】\nジュニアの部のみ","参加種目③\nエントリータイム\n100分の1秒まで記入","申告事項\n  介助が必要、\n  障がいによる泳法違反の回避\n  スタート台を使用しない\n  世界記録挑戦など）","大会当日の\n  緊急連絡先\n（本人以外\n  続柄・氏名）","大会当日の\n  緊急連絡先\n（電話番号）\n"]
[1,{"$f":"チーム情報!B9","v":0},{"$f":"チーム情報!B11","v":0},null,{"$f":"IF(D15=\"\",\"\",DATEDIF(H15,$A$14,\"ｙ\"))","v":""},null,null,null,"マスターズの部",{"$nulls":6},"選択不可"]
[2,{"$f":"B$15","v":0},{"$f":"C$15","v":0},null,"",null,null,null,"マスターズの部",{"$nulls":6},"選択不可"]
[3,{"$f":"B$15","v":0},0,null,"",null,null,null,"マスターズの部",{"$nulls":6},"選択不可"]
[4,0,0,null,"",null,null,null,"マスターズの部",{"$nulls":6},"選択不可"]
[5,0,0,null,"",null,null,null,"マスターズの部",{"$nulls":6},"選択不可"]
[6,0,0,null,"",null,null,null,"マスターズの部",{"$nulls":6},"選択不可"]
[7,0,0,null,"",null,null,null,"マスターズの部",{"$nulls":6},"選択不可"]
[8,0,0,null,{"$f":"IF(D22=\"\",\"\",DATEDIF(H22,$A$14,\"ｙ\"))","v":""},null,null,null,"マスターズの部",{"$nulls":6},"選択不可"]
[9,0,0,null,"",null,null,null,"マスターズの部",{"$nulls":6},"選択不可"]
[10,0,0,null,"",null,null,null,"マスターズの部",{"$nulls":6},"選択不可"]
[11,0,0,null,"",null,null,null,"マスターズの部",{"$nulls":6},"選択不可"]
[12,0,0,null,"",null,null,null,"マスターズの部",{"$nulls":6},"選択不可"]
[13,0,0,null,"",null,null,null,"マスターズの部",{"$nulls":6},"選択不可"]
[14,0,0,null,"",null,null,null,"マスターズの部",{"$nulls":6},"選択不可"]
[15,0,0,null,"",null,null,null,"マスターズの部",{"$nulls":6},"選択不可"]
[16,0,0,null,"",null,null,null,"マスターズの部",{"$nulls":6},"選択不可"]
[17,0,0,null,"",null,null,null,"マスターズの部",{"$nulls":6},"選択不可"]
[18,0,0,null,"",null,null,null,"マスターズの部",{"$nulls":6},"選択不可"]
[19,0,0,null,"",null,null,null,"マスターズの部",{"$nulls":6},"選択不可"]
[20,0,0,null,"",null,null,null,"マスターズの部",{"$nulls":6},"選択不可"]

{"sheet":"ジュニア","index":3,"n_rows":34,"n_cols":20,"rows_kept":34,"cut":false,"hidden":false,"merged":[[1,0,3,19],[5,0,7,19],[9,0,11,19]]}
[]
["入力してください　　氏名・生年月日・個人ＩＤ　が　マスターズ水泳協会に登録済みの内容と間違いがないことを再度確認してください。"]
[]
[]
[]
["自動表示されます"]
[]
[]
[]
["選択してください"]
[]
[]
[]
["2024-12-31","チームID","チーム名","参加者氏名\n\n苗字と名前の\n間に全角スペース","暦年齢\n\n自動\n入力","性別\n【選択】","ﾌﾘｶﾞﾅ（半角）\n\n苗字と名前の\n間に半角スペース","生年月日\n\n西暦/月/日","ジュニアの部","【選択】\n　ジュニアの部　学年",null,"参加種目① \n【選択】","参加種目①\nエントリータイム\n100分の1秒まで記入","参加種目②\n【選択】","参加種目②\nエントリータイム\n100分の1秒まで記入","参加種目③【選択】\nジュニアの部のみ","参加種目③\nエントリータイム\n100分の1秒まで記入","申告事項\n  介助が必要、\n  障がいによる泳法違反の回避\n  スタート台を使用しない\n  世界記録挑戦など）","大会当日の\n  緊急連絡先\n（本人以外\n  続柄・氏名）","大会当日の\n  緊急連絡先\n（電話番号）\n"]
[1,{"$f":"チーム情報!B9","v":0},{"$f":"チーム情報!B11","v":0},null,{"$f":"IF(D15=\"\",\"\",DATEDIF(H15,$A$14,\"ｙ\"))","v":""},null,null,null,"ジュニアの部",null,"IDなし"]
[2,{"$f":"B$15","v":0},{"$f":"C$15","v":0},null,"",null,null,null,"ジュニアの部",null,"IDなし"]
[3,{"$f":"B$15","v":0},0,null,"",null,null,null,"ジュニアの部",null,"IDなし"]
[4,0,0,null,"",null,null,null,"ジュニアの部",null,"IDなし"]
[5,0,0,null,"",null,null,null,"ジュニアの部",null,"IDなし"]
[6,0,0,null,"",null,null,null,"ジュニアの部",null,"IDなし"]
[7,0,0,null,"",null,null,null,"ジュニアの部",null,"IDなし"]
[8,0,0,null,"",null,null,null,"ジュニアの部",null,"IDなし"]
[9,0,0,null,"",null,null,null,"ジュニアの部",null,"IDなし"]
[10,0,0,null,"",null,null,null,"ジュニアの部",null,"IDなし"]
[11,0,0,null,"",null,null,null,"ジュニアの部",null,"IDなし"]
[12,0,0,null,"",null,null,null,"ジュニアの部",null,"IDなし"]
[13,0,0,null,"",null,null,null,"ジュニアの部",null,"IDなし"]
[14,0,0,null,"",null,null,null,"ジュニアの部",null,"IDなし"]
[15,0,0,null,"",null,null,null,"ジュニアの部",null,"IDなし"]
[16,0,0,null,"",null,null,null,"ジュニアの部",null,"IDなし"]
[17,0,0,null,"",null,null,null,"ジュニアの部",null,"IDなし"]
[18,0,0,null,"",null,null,null,"ジュニアの部",null,"IDなし"]
[19,0,0,null,"",null,null,null,"ジュニアの部",null,"IDなし"]
[20,0,0,null,"",null,null,null,"ジュニアの部",null,"IDなし"]

{"sheet":"50M×4メドレーリレー","index":4,"n_rows":64,"n_cols":29,"rows_kept":64,"cut":false,"hidden":false,"merged":[[5,17,7,17],[7,1,8,7],[0,2,0,6],[0,11,0,14],[2,1,3,7],[4,1,5,7],[4,16,7,16],[22,23,23,28],[9,1,10,7],[11,16,14,16],[12,1,13,7],[12,17,14,17],[14,1,15,7],[16,23,17,28],[18,16,21,16],[18,23,19,28],[19,17,21,17],[20,2,21,6],[20,23,21,28],[39,16,42,16],[40,17,42,17],[24,23,25,28],[25,16,28,16],[26,17,28,17],[26,23,27,28],[32,16,35,16],[33,17,35,17]]}
[null,null,"「１」～「５」　５項目を右クリック・コピー",{"$nulls":4},"→",null,null,null,"５項目を　右クリック・テキスト　で貼り付け"]
[]
[null,"５０×4　メドレーリレーへの参加は",{"$nulls":9},"４×５０　メドレーリレー",{"$nulls":10},"４×５０　メドレーリレー"]
[{"$nulls":10},"①","氏名","暦年齢","性別","ﾏｽﾀｰｽﾞ or ｼﾞｭﾆｱ","個人ID（協会登録者)","エントリータイム","合計年齢",{"$nulls":5},"１泳（背泳ぎ）","２泳（平泳ぎ）","３泳（バタフライ）","４泳（自由形）","合計年齢","エントリータイム"]
[null,"女子　男子　混合　いずれか１つのみです。",{"$nulls":8},"１泳",{"$nulls":6},{"$f":"M5+M6+M7+M8","v":0},{"$nulls":4},{"$f":"チーム情報!$B$11","v":0},{"$f":"L5","v":0},{"$f":"L6","v":0},{"$f":"L7","v":0},{"$f":"L8","v":0},{"$f":"R5+R6+R7+R8","v":0},{"$f":"Q5","v":"00:00:00"}]
[{"$nulls":10},"２泳",{"$nulls":11},{"$f":"チーム情報!$B$11","v":0},{"$f":"L12","v":0},{"$f":"L13","v":0},{"$f":"L14","v":0},{"$f":"L15","v":0},{"$f":"R12+R13+R14+R15","v":0},{"$f":"Q12","v":"00:00:00"}]
[{"$nulls":10},"３泳",{"$nulls":11},{"$f":"チーム情報!$B$11","v":0},{"$f":"L19","v":0},{"$f":"L20","v":0},{"$f":"L21","v":0},{"$f":"L22","v":0},{"$f":"R19+R20+R21+R22","v":0},{"$f":"Q19","v":"00:00:00"}]
[null,"この中に　２つの名前がある場合は",{"$nulls":8},"４泳",{"$nulls":11},{"$f":"チーム情報!$B$11","v":0},{"$f":"L26","v":0},{"$f":"L27","v":0},{"$f":"L28","v":0},{"$f":"L29","v":0},{"$f":"R26","v":0},{"$f":"Q26","v":"00:00:00"}]
[{"$nulls":22},{"$f":"チーム情報!$B$11","v":0},{"$f":"L33","v":0},{"$f":"L34","v":0},{"$f":"L35","v":0},{"$f":"L36","v":0},{"$f":"R33+R34+R35+R36","v":0},{"$f":"Q33","v":"00:00:00"}]
[null,"エントリーができません。",{"$nulls":9},"４×５０　メドレーリレー",{"$nulls":10},{"$f":"チーム情報!$B$11","v":0},{"$f":"L40","v":0},{"$f":"L41","v":0},{"$f":"L42","v":0},{"$f":"L43","v":0},{"$f":"R40+R41+R42+R43","v":0},{"$f":"Q40","v":"00:00:00"}]
[{"$nulls":10},"②","氏名","暦年齢","性別","ﾏｽﾀｰｽﾞ or ｼﾞｭﾆｱ","個人ID（協会登録者)","エントリータイム","合計年齢"]
[{"$nulls":10},"１泳",{"$nulls":6},{"$f":"M12+M13+M14+M15","v":0}]
[null,"ジュニア　と　マスターズ　混在の",{"$nulls":8},"２泳"]
[{"$nulls":10},"３泳"]
[null,"メドレーリレーは実施しません",{"$nulls":8},"４泳"]
[]
[{"$nulls":11},"４×５０　メドレーリレー",{"$nulls":11},"エントリータイムの記入方法について"]
[{"$nulls":10},"③","氏名","暦年齢","性別","ﾏｽﾀｰｽﾞ or ｼﾞｭﾆｱ","個人ID（協会登録者)","エントリータイム","合計年齢"]
[{"$nulls":10},"１泳",{"$nulls":6},{"$f":"M19+M20+M21+M22","v":0},{"$nulls":5},"1分15秒56"]
[{"$nulls":10},"２泳"]
[null,null,"５項目を　右クリック・テキスト　で貼り付け",{"$nulls":7},"３泳",{"$nulls":12},"の場合"]
[{"$nulls":10},"４泳"]
[{"$nulls":23},"「１」　「：」　「１５」　「.」　「５６」"]
[null,null,"「１」","「２」","「３」","「４」","「５」",{"$nulls":4},"４×５０　メドレーリレー"]
[null,1,{"$f":"マスターズ!D15","v":0},{"$f":"マスターズ!E15","v":""},{"$f":"マスターズ!F15","v":0},{"$f":"マスターズ!I15","v":"マスターズの部"},{"$f":"マスターズ!K15","v":0},null,null,null,"④","氏名","暦年齢","性別","ﾏｽﾀｰｽﾞ or ｼﾞｭﾆｱ","個人ID（協会登録者)","エントリータイム","合計年齢",{"$nulls":5},"と入力お願いします。"]
[null,2,{"$f":"マスターズ!D16","v":0},{"$f":"マスターズ!E16","v":""},{"$f":"マスターズ!F16","v":0},{"$f":"マスターズ!I16","v":"マスターズの部"},{"$f":"マスターズ!K16","v":0},null,null,null,"１泳",{"$nulls":6},{"$f":"M26+M27+M28+M29","v":0}]
[null,3,{"$f":"マスターズ!D17","v":0},{"$f":"マスターズ!E17","v":""},{"$f":"マスターズ!F17","v":0},{"$f":"マスターズ!I17","v":"マスターズの部"},{"$f":"マスターズ!K17","v":0},null,null,null,"２泳",{"$nulls":12},"00:01:15.560"]
[null,4,{"$f":"マスターズ!D18","v":0},{"$f":"マスターズ!E18","v":""},{"$f":"マスターズ!F18","v":0},{"$f":"マスターズ!I18","v":"マスターズの部"},{"$f":"マスターズ!K18","v":0},null,null,null,"３泳"]
[null,5,{"$f":"マスターズ!D19","v":0},{"$f":"マスターズ!E19","v":""},{"$f":"マスターズ!F19","v":0},{"$f":"マスターズ!I19","v":"マスターズの部"},{"$f":"マスターズ!K19","v":0},null,null,null,"４泳"]
[null,6,{"$f":"マスターズ!D20","v":0},{"$f":"マスターズ!E20","v":""},{"$f":"マスターズ!F20","v":0},{"$f":"マスターズ!I20","v":"マスターズの部"},{"$f":"マスターズ!K20","v":0}]
[null,7,{"$f":"マスターズ!D21","v":0},{"$f":"マスターズ!E21","v":""},{"$f":"マスターズ!F21","v":0},{"$f":"マスターズ!I21","v":"マスターズの部"},{"$f":"マスターズ!K21","v":0},{"$nulls":4},"４×５０　メドレーリレー"]
[null,8,{"$f":"マスターズ!D22","v":0},{"$f":"マスターズ!E22","v":""},{"$f":"マスターズ!F22","v":0},{"$f":"マスターズ!I22","v":"マスターズの部"},{"$f":"マスターズ!K22","v":0},null,null,null,"⑤","氏名","暦年齢","性別","ﾏｽﾀｰｽﾞ or ｼﾞｭﾆｱ","個人ID（協会登録者)","エントリータイム","合計年齢"]
[null,9,{"$f":"マスターズ!D23","v":0},{"$f":"マスターズ!E23","v":""},{"$f":"マスターズ!F23","v":0},{"$f":"マスターズ!I23","v":"マスターズの部"},{"$f":"マスターズ!K23","v":0},null,null,null,"１泳",{"$nulls":6},{"$f":"M33+M34+M35+M36","v":0}]
[null,10,{"$f":"マスターズ!D24","v":0},{"$f":"マスターズ!E24","v":""},{"$f":"マスターズ!F24","v":0},{"$f":"マスターズ!I24","v":"マスターズの部"},{"$f":"マスターズ!K24","v":0},null,null,null,"２泳"]
[null,11,{"$f":"マスターズ!D25","v":0},{"$f":"マスターズ!E25","v":""},{"$f":"マスターズ!F25","v":0},{"$f":"マスターズ!I25","v":"マスターズの部"},{"$f":"マスターズ!K25","v":0},null,null,null,"３泳"]
[null,12,{"$f":"マスターズ!D26","v":0},{"$f":"マスターズ!E26","v":""},{"$f":"マスターズ!F26","v":0},{"$f":"マスターズ!I26","v":"マスターズの部"},{"$f":"マスターズ!K26","v":0},null,null,null,"４泳"]
[null,13,{"$f":"マスターズ!D27","v":0},{"$f":"マスターズ!E27","v":""},{"$f":"マスターズ!F27","v":0},{"$f":"マスターズ!I27","v":"マスターズの部"},{"$f":"マスターズ!K27","v":0}]
[null,14,{"$f":"マスターズ!D28","v":0},{"$f":"マスターズ!E28","v":""},{"$f":"マスターズ!F28","v":0},{"$f":"マスターズ!I28","v":"マスターズの部"},{"$f":"マスターズ!K28","v":0},{"$nulls":4},"４×５０　メドレーリレー"]
[null,15,{"$f":"マスターズ!D29","v":0},{"$f":"マスターズ!E29","v":""},{"$f":"マスターズ!F29","v":0},{"$f":"マスターズ!I29","v":"マスターズの部"},{"$f":"マスターズ!K29","v":0},null,null,null,"⑥","氏名","暦年齢","性別","ﾏｽﾀｰｽﾞ or ｼﾞｭﾆｱ","個人ID（協会登録者)","エントリータイム","合計年齢"]
[null,16,{"$f":"マスターズ!D30","v":0},{"$f":"マスターズ!E30","v":""},{"$f":"マスターズ!F30","v":0},{"$f":"マスターズ!I30","v":"マスターズの部"},{"$f":"マスターズ!K30","v":0},null,null,null,"１泳",{"$nulls":6},{"$f":"M40+M41+M42+M43","v":0}]
[null,17,{"$f":"マスターズ!D31","v":0},{"$f":"マスターズ!E31","v":""},{"$f":"マスターズ!F31","v":0},{"$f":"マスターズ!I31","v":"マスターズの部"},{"$f":"マスターズ!K31","v":0},null,null,null,"２泳"]
[null,18,{"$f":"マスターズ!D32","v":0},{"$f":"マスターズ!E32","v":""},{"$f":"マスターズ!F32","v":0},{"$f":"マスターズ!I32","v":"マスターズの部"},{"$f":"マスターズ!K32","v":0},null,null,null,"３泳"]
[null,19,{"$f":"マスターズ!D33","v":0},{"$f":"マスターズ!E33","v":""},{"$f":"マスターズ!F33","v":0},{"$f":"マスターズ!I33","v":"マスターズの部"},{"$f":"マスターズ!K33","v":0},null,null,null,"４泳"]
[null,20,{"$f":"マスターズ!D34","v":0},{"$f":"マスターズ!E34","v":""},{"$f":"マスターズ!F34","v":0},{"$f":"マスターズ!I34","v":"マスターズの部"},{"$f":"マスターズ!K34","v":0}]
[null,21,{"$f":"ジュニア!D15","v":0},{"$f":"ジュニア!E15","v":""},{"$f":"ジュニア!F15","v":0},{"$f":"ジュニア!I15","v":"ジュニアの部"},{"$f":"ジュニア!K15","v":"IDなし"}]
[null,22,{"$f":"ジュニア!D16","v":0},{"$f":"ジュニア!E16","v":""},{"$f":"ジュニア!F16","v":0},{"$f":"ジュニア!I16","v":"ジュニアの部"},{"$f":"ジュニア!K16","v":"IDなし"}]
[null,23,{"$f":"ジュニア!D17","v":0},{"$f":"ジュニア!E17","v":""},{"$f":"ジュニア!F17","v":0},{"$f":"ジュニア!I17","v":"ジュニアの部"},{"$f":"ジュニア!K17","v":"IDなし"}]
[null,24,{"$f":"ジュニア!D18","v":0},{"$f":"ジュニア!E18","v":""},{"$f":"ジュニア!F18","v":0},{"$f":"ジュニア!I18","v":"ジュニアの部"},{"$f":"ジュニア!K18","v":"IDなし"}]
[null,25,{"$f":"ジュニア!D19","v":0},{"$f":"ジュニア!E19","v":""},{"$f":"ジュニア!F19","v":0},{"$f":"ジュニア!I19","v":"ジュニアの部"},{"$f":"ジュニア!K19","v":"IDなし"}]
[null,26,{"$f":"ジュニア!D20","v":0},{"$f":"ジュニア!E20","v":""},{"$f":"ジュニア!F20","v":0},{"$f":"ジュニア!I20","v":"ジュニアの部"},{"$f":"ジュニア!K20","v":"IDなし"}]
[null,27,{"$f":"ジュニア!D21","v":0},{"$f":"ジュニア!E21","v":""},{"$f":"ジュニア!F21","v":0},{"$f":"ジュニア!I21","v":"ジュニアの部"},{"$f":"ジュニア!K21","v":"IDなし"}]
[null,28,{"$f":"ジュニア!D22","v":0},{"$f":"ジュニア!E22","v":""},{"$f":"ジュニア!F22","v":0},{"$f":"ジュニア!I22","v":"ジュニアの部"},{"$f":"ジュニア!K22","v":"IDなし"}]
[null,29,{"$f":"ジュニア!D23","v":0},{"$f":"ジュニア!E23","v":""},{"$f":"ジュニア!F23","v":0},{"$f":"ジュニア!I23","v":"ジュニアの部"},{"$f":"ジュニア!K23","v":"IDなし"}]
[null,30,{"$f":"ジュニア!D24","v":0},{"$f":"ジュニア!E24","v":""},{"$f":"ジュニア!F24","v":0},{"$f":"ジュニア!I24","v":"ジュニアの部"},{"$f":"ジュニア!K24","v":"IDなし"}]
[null,31,{"$f":"ジュニア!D25","v":0},{"$f":"ジュニア!E25","v":""},{"$f":"ジュニア!F25","v":0},{"$f":"ジュニア!I25","v":"ジュニアの部"},{"$f":"ジュニア!K25","v":"IDなし"}]
[null,32,{"$f":"ジュニア!D26","v":0},{"$f":"ジュニア!E26","v":""},{"$f":"ジュニア!F26","v":0},{"$f":"ジュニア!I26","v":"ジュニアの部"},{"$f":"ジュニア!K26","v":"IDなし"}]
[null,33,{"$f":"ジュニア!D27","v":0},{"$f":"ジュニア!E27","v":""},{"$f":"ジュニア!F27","v":0},{"$f":"ジュニア!I27","v":"ジュニアの部"},{"$f":"ジュニア!K27","v":"IDなし"}]
[null,34,{"$f":"ジュニア!D28","v":0},{"$f":"ジュニア!E28","v":""},{"$f":"ジュニア!F28","v":0},{"$f":"ジュニア!I28","v":"ジュニアの部"},{"$f":"ジュニア!K28","v":"IDなし"}]
[null,35,{"$f":"ジュニア!D29","v":0},{"$f":"ジュニア!E29","v":""},{"$f":"ジュニア!F29","v":0},{"$f":"ジュニア!I29","v":"ジュニアの部"},{"$f":"ジュニア!K29","v":"IDなし"}]
[null,36,{"$f":"ジュニア!D30","v":0},{"$f":"ジュニア!E30","v":""},{"$f":"ジュニア!F30","v":0},{"$f":"ジュニア!I30","v":"ジュニアの部"},{"$f":"ジュニア!K30","v":"IDなし"}]
[null,37,{"$f":"ジュニア!D31","v":0},{"$f":"ジュニア!E31","v":""},{"$f":"ジュニア!F31","v":0},{"$f":"ジュニア!I31","v":"ジュニアの部"},{"$f":"ジュニア!K31","v":"IDなし"}]
[null,38,{"$f":"ジュニア!D32","v":0},{"$f":"ジュニア!E32","v":""},{"$f":"ジュニア!F32","v":0},{"$f":"ジュニア!I32","v":"ジュニアの部"},{"$f":"ジュニア!K32","v":"IDなし"}]
[null,39,{"$f":"ジュニア!D33","v":0},{"$f":"ジュニア!E33","v":""},{"$f":"ジュニア!F33","v":0},{"$f":"ジュニア!I33","v":"ジュニアの部"},{"$f":"ジュニア!K33","v":"IDなし"}]
[null,40,{"$f":"ジュニア!D34","v":0},{"$f":"ジュニア!E34","v":""},{"$f":"ジュニア!F34","v":0},{"$f":"ジュニア!I34","v":"ジュニアの部"},{"$f":"ジュニア!K34","v":"IDなし"}]

{"sheet":"25M×4メドレーリレー","index":5,"n_rows":64,"n_cols":29,"rows_kept":64,"cut":false,"hidden":false,"merged":[[5,17,7,17],[7,1,8,7],[0,2,0,6],[0,11,0,14],[2,1,3,7],[4,1,5,7],[4,16,7,16],[22,23,23,28],[9,1,10,7],[11,16,14,16],[12,1,13,7],[12,17,14,17],[14,1,15,7],[16,23,17,28],[18,16,21,16],[18,23,19,28],[19,17,21,17],[20,2,21,6],[20,23,21,28],[39,16,42,16],[40,17,42,17],[24,23,25,28],[25,16,28,16],[26,17,28,17],[26,23,27,28],[32,16,35,16],[33,17,35,17]]}
[null,null,"「１」～「５」　５項目を右クリック・コピー",{"$nulls":4},"→",null,null,null,"５項目を　右クリック・テキスト　で貼り付け"]
[]
[null,"２５×４　メドレーリレーへの参加は",{"$nulls":9},"４×２５　メドレーリレー",{"$nulls":10},"４×２５　メドレーリレー"]
[{"$nulls":10},"①","氏名","暦年齢","性別","ﾏｽﾀｰｽﾞ or ｼﾞｭﾆｱ","個人ID（協会登録者)","エントリータイム","合計年齢",{"$nulls":5},"１泳（背泳ぎ）","２泳（平泳ぎ）","３泳（バタフライ）","４泳（自由形）","合計年齢","エントリータイム"]
[null,"女子　男子　混合　いずれか１つのみです。",{"$nulls":8},"１泳",{"$nulls":6},{"$f":"M5+M6+M7+M8","v":0},{"$nulls":4},{"$f":"チーム情報!$B$11","v":0},{"$f":"L5","v":0},{"$f":"L6","v":0},{"$f":"L7","v":0},{"$f":"L8","v":0},{"$f":"R5+R6+R7+R8","v":0},{"$f":"Q5","v":"00:00:00"}]
[{"$nulls":10},"２泳",{"$nulls":11},{"$f":"チーム情報!$B$11","v":0},{"$f":"L12","v":0},{"$f":"L13","v":0},{"$f":"L14","v":0},{"$f":"L15","v":0},{"$f":"R12+R13+R14+R15","v":0},{"$f":"Q12","v":"00:00:00"}]
[{"$nulls":10},"３泳",{"$nulls":11},{"$f":"チーム情報!$B$11","v":0},{"$f":"L19","v":0},{"$f":"L20","v":0},{"$f":"L21","v":0},{"$f":"L22","v":0},{"$f":"R19+R20+R21+R22","v":0},{"$f":"Q19","v":"00:00:00"}]
[null,"この中に　２つの名前がある場合は",{"$nulls":8},"４泳",{"$nulls":11},{"$f":"チーム情報!$B$11","v":0},{"$f":"L26","v":0},{"$f":"L27","v":0},{"$f":"L28","v":0},{"$f":"L29","v":0},{"$f":"R26","v":0},{"$f":"Q26","v":"00:00:00"}]
[{"$nulls":22},{"$f":"チーム情報!$B$11","v":0},{"$f":"L33","v":0},{"$f":"L34","v":0},{"$f":"L35","v":0},{"$f":"L36","v":0},{"$f":"R33+R34+R35+R36","v":0},{"$f":"Q33","v":"00:00:00"}]
[null,"エントリーができません。",{"$nulls":9},"４×２５　メドレーリレー",{"$nulls":10},{"$f":"チーム情報!$B$11","v":0},{"$f":"L40","v":0},{"$f":"L41","v":0},{"$f":"L42","v":0},{"$f":"L43","v":0},{"$f":"R40+R41+R42+R43","v":0},{"$f":"Q40","v":"00:00:00"}]
[{"$nulls":10},"②","氏名","暦年齢","性別","ﾏｽﾀｰｽﾞ or ｼﾞｭﾆｱ","個人ID（協会登録者)","エントリータイム","合計年齢"]
[{"$nulls":10},"１泳",{"$nulls":6},{"$f":"M12+M13+M14+M15","v":0}]
[null,"ジュニア　と　マスターズ　混在の",{"$nulls":8},"２泳"]
[{"$nulls":10},"３泳"]
[null,"メドレーリレーは実施しません",{"$nulls":8},"４泳"]
[]
[{"$nulls":11},"４×２５　メドレーリレー",{"$nulls":11},"エントリータイムの記入方法について"]
[{"$nulls":10},"③","氏名","暦年齢","性別","ﾏｽﾀｰｽﾞ or ｼﾞｭﾆｱ","個人ID（協会登録者)","エントリータイム","合計年齢"]
[{"$nulls":10},"１泳",{"$nulls":6},{"$f":"M19+M20+M21+M22","v":0},{"$nulls":5},"1分15秒56"]
[{"$nulls":10},"２泳"]
[null,null,"５項目を　右クリック・テキスト　で貼り付け",{"$nulls":7},"３泳",{"$nulls":12},"の場合"]
[{"$nulls":10},"４泳"]
[{"$nulls":23},"「１」　「：」　「１５」　「.」　「５６」"]
[null,null,"「１」","「２」","「３」","「４」","「５」",{"$nulls":4},"４×２５　メドレーリレー"]
[null,1,{"$f":"マスターズ!D15","v":0},{"$f":"マスターズ!E15","v":""},{"$f":"マスターズ!F15","v":0},{"$f":"マスターズ!I15","v":"マスターズの部"},{"$f":"マスターズ!K15","v":0},null,null,null,"④","氏名","暦年齢","性別","ﾏｽﾀｰｽﾞ or ｼﾞｭﾆｱ","個人ID（協会登録者)","エントリータイム","合計年齢",{"$nulls":5},"と入力お願いします。"]
[null,2,{"$f":"マスターズ!D16","v":0},{"$f":"マスターズ!E16","v":""},{"$f":"マスターズ!F16","v":0},{"$f":"マスターズ!I16","v":"マスターズの部"},{"$f":"マスターズ!K16","v":0},null,null,null,"１泳",{"$nulls":6},{"$f":"M26+M27+M28+M29","v":0}]
[null,3,{"$f":"マスターズ!D17","v":0},{"$f":"マスターズ!E17","v":""},{"$f":"マスターズ!F17","v":0},{"$f":"マスターズ!I17","v":"マスターズの部"},{"$f":"マスターズ!K17","v":0},null,null,null,"２泳",{"$nulls":12},"00:01:15.560"]
[null,4,{"$f":"マスターズ!D18","v":0},{"$f":"マスターズ!E18","v":""},{"$f":"マスターズ!F18","v":0},{"$f":"マスターズ!I18","v":"マスターズの部"},{"$f":"マスターズ!K18","v":0},null,null,null,"３泳"]
[null,5,{"$f":"マスターズ!D19","v":0},{"$f":"マスターズ!E19","v":""},{"$f":"マスターズ!F19","v":0},{"$f":"マスターズ!I19","v":"マスターズの部"},{"$f":"マスターズ!K19","v":0},null,null,null,"４泳"]
[null,6,{"$f":"マスターズ!D20","v":0},{"$f":"マスターズ!E20","v":""},{"$f":"マスターズ!F20","v":0},{"$f":"マスターズ!I20","v":"マスターズの部"},{"$f":"マスターズ!K20","v":0}]
[null,7,{"$f":"マスターズ!D21","v":0},{"$f":"マスターズ!E21","v":""},{"$f":"マスターズ!F21","v":0},{"$f":"マスターズ!I21","v":"マスターズの部"},{"$f":"マスターズ!K21","v":0},{"$nulls":4},"４×２５　メドレーリレー"]
[null,8,{"$f":"マスターズ!D22","v":0},{"$f":"マスターズ!E22","v":""},{"$f":"マスターズ!F22","v":0},{"$f":"マスターズ!I22","v":"マスターズの部"},{"$f":"マスターズ!K22","v":0},null,null,null,"⑤","氏名","暦年齢","性別","ﾏｽﾀｰｽﾞ or ｼﾞｭﾆｱ","個人ID（協会登録者)","エントリータイム","合計年齢"]
[null,9,{"$f":"マスターズ!D23","v":0},{"$f":"マスターズ!E23","v":""},{"$f":"マスターズ!F23","v":0},{"$f":"マスターズ!I23","v":"マスターズの部"},{"$f":"マスターズ!K23","v":0},null,null,null,"１泳",{"$nulls":6},{"$f":"M33+M34+M35+M36","v":0}]
[null,10,{"$f":"マスターズ!D24","v":0},{"$f":"マスターズ!E24","v":""},{"$f":"マスターズ!F24","v":0},{"$f":"マスターズ!I24","v":"マスターズの部"},{"$f":"マスターズ!K24","v":0},null,null,null,"２泳"]
[null,11,{"$f":"マスターズ!D25","v":0},{"$f":"マスターズ!E25","v":""},{"$f":"マスターズ!F25","v":0},{"$f":"マスターズ!I25","v":"マスターズの部"},{"$f":"マスターズ!K25","v":0},null,null,null,"３泳"]
[null,12,{"$f":"マスターズ!D26","v":0},{"$f":"マスターズ!E26","v":""},{"$f":"マスターズ!F26","v":0},{"$f":"マスターズ!I26","v":"マスターズの部"},{"$f":"マスターズ!K26","v":0},null,null,null,"４泳"]
[null,13,{"$f":"マスターズ!D27","v":0},{"$f":"マスターズ!E27","v":""},{"$f":"マスターズ!F27","v":0},{"$f":"マスターズ!I27","v":"マスターズの部"},{"$f":"マスターズ!K27","v":0}]
[null,14,{"$f":"マスターズ!D28","v":0},{"$f":"マスターズ!E28","v":""},{"$f":"マスターズ!F28","v":0},{"$f":"マスターズ!I28","v":"マスターズの部"},{"$f":"マスターズ!K28","v":0},{"$nulls":4},"４×２５　メドレーリレー"]
[null,15,{"$f":"マスターズ!D29","v":0},{"$f":"マスターズ!E29","v":""},{"$f":"マスターズ!F29","v":0},{"$f":"マスターズ!I29","v":"マスターズの部"},{"$f":"マスターズ!K29","v":0},null,null,null,"⑥","氏名","暦年齢","性別","ﾏｽﾀｰｽﾞ or ｼﾞｭﾆｱ","個人ID（協会登録者)","エントリータイム","合計年齢"]
[null,16,{"$f":"マスターズ!D30","v":0},{"$f":"マスターズ!E30","v":""},{"$f":"マスターズ!F30","v":0},{"$f":"マスターズ!I30","v":"マスターズの部"},{"$f":"マスターズ!K30","v":0},null,null,null,"１泳",{"$nulls":6},{"$f":"M40+M41+M42+M43","v":0}]
[null,17,{"$f":"マスターズ!D31","v":0},{"$f":"マスターズ!E31","v":""},{"$f":"マスターズ!F31","v":0},{"$f":"マスターズ!I31","v":"マスターズの部"},{"$f":"マスターズ!K31","v":0},null,null,null,"２泳"]
[null,18,{"$f":"マスターズ!D32","v":0},{"$f":"マスターズ!E32","v":""},{"$f":"マスターズ!F32","v":0},{"$f":"マスターズ!I32","v":"マスターズの部"},{"$f":"マスターズ!K32","v":0},null,null,null,"３泳"]
[null,19,{"$f":"マスターズ!D33","v":0},{"$f":"マスターズ!E33","v":""},{"$f":"マスターズ!F33","v":0},{"$f":"マスターズ!I33","v":"マスターズの部"},{"$f":"マスターズ!K33","v":0},null,null,null,"４泳"]
[null,20,{"$f":"マスターズ!D34","v":0},{"$f":"マスターズ!E34","v":""},{"$f":"マスターズ!F34","v":0},{"$f":"マスターズ!I34","v":"マスターズの部"},{"$f":"マスターズ!K34","v":0}]
[null,21,{"$f":"ジュニア!D15","v":0},{"$f":"ジュニア!E15","v":""},{"$f":"ジュニア!F15","v":0},{"$f":"ジュニア!I15","v":"ジュニアの部"},{"$f":"ジュニア!K15","v":"IDなし"}]
[null,22,{"$f":"ジュニア!D16","v":0},{"$f":"ジュニア!E16","v":""},{"$f":"ジュニア!F16","v":0},{"$f":"ジュニア!I16","v":"ジュニアの部"},{"$f":"ジュニア!K16","v":"IDなし"}]
[null,23,{"$f":"ジュニア!D17","v":0},{"$f":"ジュニア!E17","v":""},{"$f":"ジュニア!F17","v":0},{"$f":"ジュニア!I17","v":"ジュニアの部"},{"$f":"ジュニア!K17","v":"IDなし"}]
[null,24,{"$f":"ジュニア!D18","v":0},{"$f":"ジュニア!E18","v":""},{"$f":"ジュニア!F18","v":0},{"$f":"ジュニア!I18","v":"ジュニアの部"},{"$f":"ジュニア!K18","v":"IDなし"}]
[null,25,{"$f":"ジュニア!D19","v":0},{"$f":"ジュニア!E19","v":""},{"$f":"ジュニア!F19","v":0},{"$f":"ジュニア!I19","v":"ジュニアの部"},{"$f":"ジュニア!K19","v":"IDなし"}]
[null,26,{"$f":"ジュニア!D20","v":0},{"$f":"ジュニア!E20","v":""},{"$f":"ジュニア!F20","v":0},{"$f":"ジュニア!I20","v":"ジュニアの部"},{"$f":"ジュニア!K20","v":"IDなし"}]
[null,27,{"$f":"ジュニア!D21","v":0},{"$f":"ジュニア!E21","v":""},{"$f":"ジュニア!F21","v":0},{"$f":"ジュニア!I21","v":"ジュニアの部"},{"$f":"ジュニア!K21","v":"IDなし"}]
[null,28,{"$f":"ジュニア!D22","v":0},{"$f":"ジュニア!E22","v":""},{"$f":"ジュニア!F22","v":0},{"$f":"ジュニア!I22","v":"ジュニアの部"},{"$f":"ジュニア!K22","v":"IDなし"}]
[null,29,{"$f":"ジュニア!D23","v":0},{"$f":"ジュニア!E23","v":""},{"$f":"ジュニア!F23","v":0},{"$f":"ジュニア!I23","v":"ジュニアの部"},{"$f":"ジュニア!K23","v":"IDなし"}]
[null,30,{"$f":"ジュニア!D24","v":0},{"$f":"ジュニア!E24","v":""},{"$f":"ジュニア!F24","v":0},{"$f":"ジュニア!I24","v":"ジュニアの部"},{"$f":"ジュニア!K24","v":"IDなし"}]
[null,31,{"$f":"ジュニア!D25","v":0},{"$f":"ジュニア!E25","v":""},{"$f":"ジュニア!F25","v":0},{"$f":"ジュニア!I25","v":"ジュニアの部"},{"$f":"ジュニア!K25","v":"IDなし"}]
[null,32,{"$f":"ジュニア!D26","v":0},{"$f":"ジュニア!E26","v":""},{"$f":"ジュニア!F26","v":0},{"$f":"ジュニア!I26","v":"ジュニアの部"},{"$f":"ジュニア!K26","v":"IDなし"}]
[null,33,{"$f":"ジュニア!D27","v":0},{"$f":"ジュニア!E27","v":""},{"$f":"ジュニア!F27","v":0},{"$f":"ジュニア!I27","v":"ジュニアの部"},{"$f":"ジュニア!K27","v":"IDなし"}]
[null,34,{"$f":"ジュニア!D28","v":0},{"$f":"ジュニア!E28","v":""},{"$f":"ジュニア!F28","v":0},{"$f":"ジュニア!I28","v":"ジュニアの部"},{"$f":"ジュニア!K28","v":"IDなし"}]
[null,35,{"$f":"ジュニア!D29","v":0},{"$f":"ジュニア!E29","v":""},{"$f":"ジュニア!F29","v":0},{"$f":"ジュニア!I29","v":"ジュニアの部"},{"$f":"ジュニア!K29","v":"IDなし"}]
[null,36,{"$f":"ジュニア!D30","v":0},{"$f":"ジュニア!E30","v":""},{"$f":"ジュニア!F30","v":0},{"$f":"ジュニア!I30","v":"ジュニアの部"},{"$f":"ジュニア!K30","v":"IDなし"}]
[null,37,{"$f":"ジュニア!D31","v":0},{"$f":"ジュニア!E31","v":""},{"$f":"ジュニア!F31","v":0},{"$f":"ジュニア!I31","v":"ジュニアの部"},{"$f":"ジュニア!K31","v":"IDなし"}]
[null,38,{"$f":"ジュニア!D32","v":0},{"$f":"ジュニア!E32","v":""},{"$f":"ジュニア!F32","v":0},{"$f":"ジュニア!I32","v":"ジュニアの部"},{"$f":"ジュニア!K32","v":"IDなし"}]
[null,39,{"$f":"ジュニア!D33","v":0},{"$f":"ジュニア!E33","v":""},{"$f":"ジュニア!F33","v":0},{"$f":"ジュニア!I33","v":"ジュニアの部"},{"$f":"ジュニア!K33","v":"IDなし"}]
[null,40,{"$f":"ジュニア!D34","v":0},{"$f":"ジュニア!E34","v":""},{"$f":"ジュニア!F34","v":0},{"$f":"ジュニア!I34","v":"ジュニアの部"},{"$f":"ジュニア!K34","v":"IDなし"}]

{"sheet":"100M×4フリーリレー","index":6,"n_rows":44,"n_cols":29,"rows_kept":44,"cut":false,"hidden":false,"merged":[[9,1,10,7],[11,16,14,16],[12,17,14,17],[0,2,0,6],[0,11,0,14],[2,1,3,7],[4,1,5,7],[4,16,7,16],[5,17,7,17],[7,1,8,7],[16,23,17,28],[18,16,21,16],[18,23,19,28],[19,17,21,17],[20,2,21,6],[20,23,21,28],[39,16,42,16],[40,17,42,17],[22,23,23,28],[24,23,25,28],[25,16,28,16],[26,17,28,17],[26,23,27,28],[32,16,35,16],[33,17,35,17]]}
[null,null,"「１」～「５」　５項目を右クリック・コピー",{"$nulls":4},"→",null,null,null,"５項目を　右クリック・テキスト　で貼り付け"]
[]
[null,"100×４　フリーリレーへの参加は",{"$nulls":9},"４×１００　フリーリレー",{"$nulls":10},"４×１００　フリーリレー"]
[{"$nulls":10},"①","氏名","暦年齢","性別","ﾏｽﾀｰｽﾞ or ｼﾞｭﾆｱ","個人ID（協会登録者)","エントリータイム","合計年齢",{"$nulls":5},"１泳","２泳","３泳","４泳","合計年齢","エントリータイム"]
[null,"女子　男子　混合　いずれか１つのみです。",{"$nulls":8},"１泳",{"$nulls":6},{"$f":"M5+M6+M7+M8","v":0},{"$nulls":4},{"$f":"チーム情報!$B$11","v":0},{"$f":"L5","v":0},{"$f":"L6","v":0},{"$f":"L7","v":0},{"$f":"L8","v":0},{"$f":"R5+R6+R7+R8","v":0},{"$f":"Q5","v":"00:00:00"}]
[{"$nulls":10},"２泳",{"$nulls":11},{"$f":"チーム情報!$B$11","v":0},{"$f":"L12","v":0},{"$f":"L13","v":0},{"$f":"L14","v":0},{"$f":"L15","v":0},{"$f":"R12+R13+R14+R15","v":0},{"$f":"Q12","v":"00:00:00"}]
[{"$nulls":10},"３泳",{"$nulls":11},{"$f":"チーム情報!$B$11","v":0},{"$f":"L19","v":0},{"$f":"L20","v":0},{"$f":"L21","v":0},{"$f":"L22","v":0},{"$f":"R19+R20+R21+R22","v":0},{"$f":"Q19","v":"00:00:00"}]
[null,"この中に　２つの名前がある場合は",{"$nulls":8},"４泳",{"$nulls":11},{"$f":"チーム情報!$B$11","v":0},{"$f":"L26","v":0},{"$f":"L27","v":0},{"$f":"L28","v":0},{"$f":"L29","v":0},{"$f":"R26","v":0},{"$f":"Q26","v":"00:00:00"}]
[{"$nulls":22},{"$f":"チーム情報!$B$11","v":0},{"$f":"L33","v":0},{"$f":"L34","v":0},{"$f":"L35","v":0},{"$f":"L36","v":0},{"$f":"R33+R34+R35+R36","v":0},{"$f":"Q33","v":"00:00:00"}]
[null,"エントリーができません。",{"$nulls":9},"４×１００　フリーリレー",{"$nulls":10},{"$f":"チーム情報!$B$11","v":0},{"$f":"L40","v":0},{"$f":"L41","v":0},{"$f":"L42","v":0},{"$f":"L43","v":0},{"$f":"R40+R41+R42+R43","v":0},{"$f":"Q40","v":"00:00:00"}]
[{"$nulls":10},"②","氏名","暦年齢","性別","ﾏｽﾀｰｽﾞ or ｼﾞｭﾆｱ","個人ID（協会登録者)","エントリータイム","合計年齢"]
[{"$nulls":10},"１泳",{"$nulls":6},{"$f":"M12+M13+M14+M15","v":0}]
[{"$nulls":10},"２泳"]
[{"$nulls":10},"３泳"]
[{"$nulls":10},"４泳"]
[]
[{"$nulls":11},"４×１００　フリーリレー",{"$nulls":11},"エントリータイムの記入方法について"]
[{"$nulls":10},"③","氏名","暦年齢","性別","ﾏｽﾀｰｽﾞ or ｼﾞｭﾆｱ","個人ID（協会登録者)","エントリータイム","合計年齢"]
[{"$nulls":10},"１泳",{"$nulls":6},{"$f":"M19+M20+M21+M22","v":0},{"$nulls":5},"1分15秒56"]
[{"$nulls":10},"２泳"]
[null,null,"５項目を　右クリック・テキスト　で貼り付け",{"$nulls":7},"３泳",{"$nulls":12},"の場合"]
[{"$nulls":10},"４泳"]
[{"$nulls":23},"「１」　「：」　「１５」　「.」　「５６」"]
[null,null,"「１」","「２」","「３」","「４」","「５」",{"$nulls":4},"４×１００　フリーリレー"]
[null,1,{"$f":"マスターズ!D15","v":0},{"$f":"マスターズ!E15","v":""},{"$f":"マスターズ!F15","v":0},{"$f":"マスターズ!I15","v":"マスターズの部"},{"$f":"マスターズ!K15","v":0},null,null,null,"④","氏名","暦年齢","性別","ﾏｽﾀｰｽﾞ or ｼﾞｭﾆｱ","個人ID（協会登録者)","エントリータイム","合計年齢",{"$nulls":5},"と入力お願いします。"]
[null,2,{"$f":"マスターズ!D16","v":0},{"$f":"マスターズ!E16","v":""},{"$f":"マスターズ!F16","v":0},{"$f":"マスターズ!I16","v":"マスターズの部"},{"$f":"マスターズ!K16","v":0},null,null,null,"１泳",{"$nulls":6},{"$f":"M26+M27+M28+M29","v":0}]
[null,3,{"$f":"マスターズ!D17","v":0},{"$f":"マスターズ!E17","v":""},{"$f":"マスターズ!F17","v":0},{"$f":"マスターズ!I17","v":"マスターズの部"},{"$f":"マスターズ!K17","v":0},null,null,null,"２泳",{"$nulls":12},"00:01:15.560"]
[null,4,{"$f":"マスターズ!D18","v":0},{"$f":"マスターズ!E18","v":""},{"$f":"マスターズ!F18","v":0},{"$f":"マスターズ!I18","v":"マスターズの部"},{"$f":"マスターズ!K18","v":0},null,null,null,"３泳"]
[null,5,{"$f":"マスターズ!D19","v":0},{"$f":"マスターズ!E19","v":""},{"$f":"マスターズ!F19","v":0},{"$f":"マスターズ!I19","v":"マスターズの部"},{"$f":"マスターズ!K19","v":0},null,null,null,"４泳"]
[null,6,{"$f":"マスターズ!D20","v":0},{"$f":"マスターズ!E20","v":""},{"$f":"マスターズ!F20","v":0},{"$f":"マスターズ!I20","v":"マスターズの部"},{"$f":"マスターズ!K20","v":0}]
[null,7,{"$f":"マスターズ!D21","v":0},{"$f":"マスターズ!E21","v":""},{"$f":"マスターズ!F21","v":0},{"$f":"マスターズ!I21","v":"マスターズの部"},{"$f":"マスターズ!K21","v":0},{"$nulls":4},"４×１００　フリーリレー"]
[null,8,{"$f":"マスターズ!D22","v":0},{"$f":"マスターズ!E22","v":""},{"$f":"マスターズ!F22","v":0},{"$f":"マスターズ!I22","v":"マスターズの部"},{"$f":"マスターズ!K22","v":0},null,null,null,"⑤","氏名","暦年齢","性別","ﾏｽﾀｰｽﾞ or ｼﾞｭﾆｱ","個人ID（協会登録者)","エントリータイム","合計年齢"]
[null,9,{"$f":"マスターズ!D23","v":0},{"$f":"マスターズ!E23","v":""},{"$f":"マスターズ!F23","v":0},{"$f":"マスターズ!I23","v":"マスターズの部"},{"$f":"マスターズ!K23","v":0},null,null,null,"１泳",{"$nulls":6},{"$f":"M33+M34+M35+M36","v":0}]
[null,10,{"$f":"マスターズ!D24","v":0},{"$f":"マスターズ!E24","v":""},{"$f":"マスターズ!F24","v":0},{"$f":"マスターズ!I24","v":"マスターズの部"},{"$f":"マスターズ!K24","v":0},null,null,null,"２泳"]
[null,11,{"$f":"マスターズ!D25","v":0},{"$f":"マスターズ!E25","v":""},{"$f":"マスターズ!F25","v":0},{"$f":"マスターズ!I25","v":"マスターズの部"},{"$f":"マスターズ!K25","v":0},null,null,null,"３泳"]
[null,12,{"$f":"マスターズ!D26","v":0},{"$f":"マスターズ!E26","v":""},{"$f":"マスターズ!F26","v":0},{"$f":"マスターズ!I26","v":"マスターズの部"},{"$f":"マスターズ!K26","v":0},null,null,null,"４泳"]
[null,13,{"$f":"マスターズ!D27","v":0},{"$f":"マスターズ!E27","v":""},{"$f":"マスターズ!F27","v":0},{"$f":"マスターズ!I27","v":"マスターズの部"},{"$f":"マスターズ!K27","v":0}]
[null,14,{"$f":"マスターズ!D28","v":0},{"$f":"マスターズ!E28","v":""},{"$f":"マスターズ!F28","v":0},{"$f":"マスターズ!I28","v":"マスターズの部"},{"$f":"マスターズ!K28","v":0},{"$nulls":4},"４×１００　フリーリレー"]
[null,15,{"$f":"マスターズ!D29","v":0},{"$f":"マスターズ!E29","v":""},{"$f":"マスターズ!F29","v":0},{"$f":"マスターズ!I29","v":"マスターズの部"},{"$f":"マスターズ!K29","v":0},null,null,null,"⑥","氏名","暦年齢","性別","ﾏｽﾀｰｽﾞ or ｼﾞｭﾆｱ","個人ID（協会登録者)","エントリータイム","合計年齢"]
[null,16,{"$f":"マスターズ!D30","v":0},{"$f":"マスターズ!E30","v":""},{"$f":"マスターズ!F30","v":0},{"$f":"マスターズ!I30","v":"マスターズの部"},{"$f":"マスターズ!K30","v":0},null,null,null,"１泳",{"$nulls":6},{"$f":"M40+M41+M42+M43","v":0}]
[null,17,{"$f":"マスターズ!D31","v":0},{"$f":"マスターズ!E31","v":""},{"$f":"マスターズ!F31","v":0},{"$f":"マスターズ!I31","v":"マスターズの部"},{"$f":"マスターズ!K31","v":0},null,null,null,"２泳"]
[null,18,{"$f":"マスターズ!D32","v":0},{"$f":"マスターズ!E32","v":""},{"$f":"マスターズ!F32","v":0},{"$f":"マスターズ!I32","v":"マスターズの部"},{"$f":"マスターズ!K32","v":0},null,null,null,"３泳"]
[null,19,{"$f":"マスターズ!D33","v":0},{"$f":"マスターズ!E33","v":""},{"$f":"マスターズ!F33","v":0},{"$f":"マスターズ!I33","v":"マスターズの部"},{"$f":"マスターズ!K33","v":0},null,null,null,"４泳"]
[null,20,{"$f":"マスターズ!D34","v":0},{"$f":"マスターズ!E34","v":""},{"$f":"マスターズ!F34","v":0},{"$f":"マスターズ!I34","v":"マスターズの部"},{"$f":"マスターズ!K34","v":0}]

{"sheet":"50M×4フリーリレー","index":7,"n_rows":64,"n_cols":29,"rows_kept":64,"cut":false,"hidden":false,"merged":[[22,23,23,28],[24,23,25,28],[12,1,13,7],[14,1,15,7],[20,2,21,6],[16,1,17,7],[26,23,27,28],[39,16,42,16],[5,17,7,17],[12,17,14,17],[19,17,21,17],[26,17,28,17],[33,17,35,17],[40,17,42,17],[4,16,7,16],[11,16,14,16],[18,16,21,16],[25,16,28,16],[32,16,35,16],[16,23,17,28],[18,23,19,28],[20,23,21,28],[9,1,10,7],[0,2,0,6],[0,11,0,14],[2,1,3,7],[4,1,5,7],[7,1,8,7]]}
[null,null,"「１」～「５」　５項目を右クリック・コピー",{"$nulls":4},"→",null,null,null,"５項目を　右クリック・テキスト　で貼り付け"]
[]
[null,"５０×４　フリーリレーへの参加は",{"$nulls":9},"４×５０　フリーリレー",{"$nulls":10},"４×５０　フリーリレー"]
[{"$nulls":10},"①","氏名","暦年齢","性別","ﾏｽﾀｰｽﾞ or ｼﾞｭﾆｱ","個人ID（協会登録者)","エントリータイム","合計年齢",{"$nulls":5},"１泳","２泳","３泳","４泳","合計年齢","エントリータイム"]
[null,"女子　男子　混合　いずれか１つのみです。",{"$nulls":8},"１泳",{"$nulls":6},{"$f":"M5+M6+M7+M8","v":0},{"$nulls":4},{"$f":"チーム情報!$B$11","v":0},{"$f":"L5","v":0},{"$f":"L6","v":0},{"$f":"L7","v":0},{"$f":"L8","v":0},{"$f":"R5+R6+R7+R8","v":0},{"$f":"Q5","v":"00:00:00"}]
[{"$nulls":10},"２泳",{"$nulls":11},{"$f":"チーム情報!$B$11","v":0},{"$f":"L12","v":0},{"$f":"L13","v":0},{"$f":"L14","v":0},{"$f":"L15","v":0},{"$f":"R12+R13+R14+R15","v":0},{"$f":"Q12","v":"00:00:00"}]
[{"$nulls":10},"３泳",{"$nulls":11},{"$f":"チーム情報!$B$11","v":0},{"$f":"L19","v":0},{"$f":"L20","v":0},{"$f":"L21","v":0},{"$f":"L22","v":0},{"$f":"R19+R20+R21+R22","v":0},{"$f":"Q19","v":"00:00:00"}]
[null,"この中に　２つの名前がある場合は",{"$nulls":8},"４泳",{"$nulls":11},{"$f":"チーム情報!$B$11","v":0},{"$f":"L26","v":0},{"$f":"L27","v":0},{"$f":"L28","v":0},{"$f":"L29","v":0},{"$f":"R26","v":0},{"$f":"Q26","v":"00:00:00"}]
[{"$nulls":22},{"$f":"チーム情報!$B$11","v":0},{"$f":"L33","v":0},{"$f":"L34","v":0},{"$f":"L35","v":0},{"$f":"L36","v":0},{"$f":"R33+R34+R35+R36","v":0},{"$f":"Q33","v":"00:00:00"}]
[null,"エントリーができません。",{"$nulls":9},"４×５０　フリーリレー",{"$nulls":10},{"$f":"チーム情報!$B$11","v":0},{"$f":"L40","v":0},{"$f":"L41","v":0},{"$f":"L42","v":0},{"$f":"L43","v":0},{"$f":"R40+R41+R42+R43","v":0},{"$f":"Q40","v":"00:00:00"}]
[{"$nulls":10},"②","氏名","暦年齢","性別","ﾏｽﾀｰｽﾞ or ｼﾞｭﾆｱ","個人ID（協会登録者)","エントリータイム","合計年齢"]
[{"$nulls":10},"１泳",{"$nulls":6},{"$f":"M12+M13+M14+M15","v":0}]
[null,"ジュニア　と　マスターズ　混在の場合は",{"$nulls":8},"２泳"]
[{"$nulls":10},"３泳"]
[null,"OPENフリーリレーは",{"$nulls":8},"４泳"]
[]
[null,"別のフォームでの申込です",{"$nulls":9},"４×５０　フリーリレー",{"$nulls":11},"エントリータイムの記入方法について"]
[{"$nulls":10},"③","氏名","暦年齢","性別","ﾏｽﾀｰｽﾞ or ｼﾞｭﾆｱ","個人ID（協会登録者)","エントリータイム","合計年齢"]
[{"$nulls":10},"１泳",{"$nulls":6},{"$f":"M19+M20+M21+M22","v":0},{"$nulls":5},"1分15秒56"]
[{"$nulls":10},"２泳"]
[null,null,"５項目を　右クリック・テキスト　で貼り付け",{"$nulls":7},"３泳",{"$nulls":12},"の場合"]
[{"$nulls":10},"４泳"]
[{"$nulls":23},"「１」　「：」　「１５」　「.」　「５６」"]
[null,null,"「１」","「２」","「３」","「４」","「５」",{"$nulls":4},"４×５０　フリーリレー"]
[null,1,{"$f":"マスターズ!D15","v":0},{"$f":"マスターズ!E15","v":""},{"$f":"マスターズ!F15","v":0},{"$f":"マスターズ!I15","v":"マスターズの部"},{"$f":"マスターズ!K15","v":0},null,null,null,"④","氏名","暦年齢","性別","ﾏｽﾀｰｽﾞ or ｼﾞｭﾆｱ","個人ID（協会登録者)","エントリータイム","合計年齢",{"$nulls":5},"と入力お願いします。"]
[null,2,{"$f":"マスターズ!D16","v":0},{"$f":"マスターズ!E16","v":""},{"$f":"マスターズ!F16","v":0},{"$f":"マスターズ!I16","v":"マスターズの部"},{"$f":"マスターズ!K16","v":0},null,null,null,"１泳",{"$nulls":6},{"$f":"M26+M27+M28+M29","v":0}]
[null,3,{"$f":"マスターズ!D17","v":0},{"$f":"マスターズ!E17","v":""},{"$f":"マスターズ!F17","v":0},{"$f":"マスターズ!I17","v":"マスターズの部"},{"$f":"マスターズ!K17","v":0},null,null,null,"２泳",{"$nulls":12},"00:01:15.560"]
[null,4,{"$f":"マスターズ!D18","v":0},{"$f":"マスターズ!E18","v":""},{"$f":"マスターズ!F18","v":0},{"$f":"マスターズ!I18","v":"マスターズの部"},{"$f":"マスターズ!K18","v":0},null,null,null,"３泳"]
[null,5,{"$f":"マスターズ!D19","v":0},{"$f":"マスターズ!E19","v":""},{"$f":"マスターズ!F19","v":0},{"$f":"マスターズ!I19","v":"マスターズの部"},{"$f":"マスターズ!K19","v":0},null,null,null,"４泳"]
[null,6,{"$f":"マスターズ!D20","v":0},{"$f":"マスターズ!E20","v":""},{"$f":"マスターズ!F20","v":0},{"$f":"マスターズ!I20","v":"マスターズの部"},{"$f":"マスターズ!K20","v":0}]
[null,7,{"$f":"マスターズ!D21","v":0},{"$f":"マスターズ!E21","v":""},{"$f":"マスターズ!F21","v":0},{"$f":"マスターズ!I21","v":"マスターズの部"},{"$f":"マスターズ!K21","v":0},{"$nulls":4},"４×５０　フリーリレー"]
[null,8,{"$f":"マスターズ!D22","v":0},{"$f":"マスターズ!E22","v":""},{"$f":"マスターズ!F22","v":0},{"$f":"マスターズ!I22","v":"マスターズの部"},{"$f":"マスターズ!K22","v":0},null,null,null,"⑤","氏名","暦年齢","性別","ﾏｽﾀｰｽﾞ or ｼﾞｭﾆｱ","個人ID（協会登録者)","エントリータイム","合計年齢"]
[null,9,{"$f":"マスターズ!D23","v":0},{"$f":"マスターズ!E23","v":""},{"$f":"マスターズ!F23","v":0},{"$f":"マスターズ!I23","v":"マスターズの部"},{"$f":"マスターズ!K23","v":0},null,null,null,"１泳",{"$nulls":6},{"$f":"M33+M34+M35+M36","v":0}]
[null,10,{"$f":"マスターズ!D24","v":0},{"$f":"マスターズ!E24","v":""},{"$f":"マスターズ!F24","v":0},{"$f":"マスターズ!I24","v":"マスターズの部"},{"$f":"マスターズ!K24","v":0},null,null,null,"２泳"]
[null,11,{"$f":"マスターズ!D25","v":0},{"$f":"マスターズ!E25","v":""},{"$f":"マスターズ!F25","v":0},{"$f":"マスターズ!I25","v":"マスターズの部"},{"$f":"マスターズ!K25","v":0},null,null,null,"３泳"]
[null,12,{"$f":"マスターズ!D26","v":0},{"$f":"マスターズ!E26","v":""},{"$f":"マスターズ!F26","v":0},{"$f":"マスターズ!I26","v":"マスターズの部"},{"$f":"マスターズ!K26","v":0},null,null,null,"４泳"]
[null,13,{"$f":"マスターズ!D27","v":0},{"$f":"マスターズ!E27","v":""},{"$f":"マスターズ!F27","v":0},{"$f":"マスターズ!I27","v":"マスターズの部"},{"$f":"マスターズ!K27","v":0}]
[null,14,{"$f":"マスターズ!D28","v":0},{"$f":"マスターズ!E28","v":""},{"$f":"マスターズ!F28","v":0},{"$f":"マスターズ!I28","v":"マスターズの部"},{"$f":"マスターズ!K28","v":0},{"$nulls":4},"４×５０　フリーリレー"]
[null,15,{"$f":"マスターズ!D29","v":0},{"$f":"マスターズ!E29","v":""},{"$f":"マスターズ!F29","v":0},{"$f":"マスターズ!I29","v":"マスターズの部"},{"$f":"マスターズ!K29","v":0},null,null,null,"⑥","氏名","暦年齢","性別","ﾏｽﾀｰｽﾞ or ｼﾞｭﾆｱ","個人ID（協会登録者)","エントリータイム","合計年齢"]
[null,16,{"$f":"マスターズ!D30","v":0},{"$f":"マスターズ!E30","v":""},{"$f":"マスターズ!F30","v":0},{"$f":"マスターズ!I30","v":"マスターズの部"},{"$f":"マスターズ!K30","v":0},null,null,null,"１泳",{"$nulls":6},{"$f":"M40+M41+M42+M43","v":0}]
[null,17,{"$f":"マスターズ!D31","v":0},{"$f":"マスターズ!E31","v":""},{"$f":"マスターズ!F31","v":0},{"$f":"マスターズ!I31","v":"マスターズの部"},{"$f":"マスターズ!K31","v":0},null,null,null,"２泳"]
[null,18,{"$f":"マスターズ!D32","v":0},{"$f":"マスターズ!E32","v":""},{"$f":"マスターズ!F32","v":0},{"$f":"マスターズ!I32","v":"マスターズの部"},{"$f":"マスターズ!K32","v":0},null,null,null,"３泳"]
[null,19,{"$f":"マスターズ!D33","v":0},{"$f":"マスターズ!E33","v":""},{"$f":"マスターズ!F33","v":0},{"$f":"マスターズ!I33","v":"マスターズの部"},{"$f":"マスターズ!K33","v":0},null,null,null,"４泳"]
[null,20,{"$f":"マスターズ!D34","v":0},{"$f":"マスターズ!E34","v":""},{"$f":"マスターズ!F34","v":0},{"$f":"マスターズ!I34","v":"マスターズの部"},{"$f":"マスターズ!K34","v":0}]
[null,21,{"$f":"ジュニア!D15","v":0},{"$f":"ジュニア!E15","v":""},{"$f":"ジュニア!F15","v":0},{"$f":"ジュニア!I15","v":"ジュニアの部"},{"$f":"ジュニア!K15","v":"IDなし"}]
[null,22,{"$f":"ジュニア!D16","v":0},{"$f":"ジュニア!E16","v":""},{"$f":"ジュニア!F16","v":0},{"$f":"ジュニア!I16","v":"ジュニアの部"},{"$f":"ジュニア!K16","v":"IDなし"}]
[null,23,{"$f":"ジュニア!D17","v":0},{"$f":"ジュニア!E17","v":""},{"$f":"ジュニア!F17","v":0},{"$f":"ジュニア!I17","v":"ジュニアの部"},{"$f":"ジュニア!K17","v":"IDなし"}]
[null,24,{"$f":"ジュニア!D18","v":0},{"$f":"ジュニア!E18","v":""},{"$f":"ジュニア!F18","v":0},{"$f":"ジュニア!I18","v":"ジュニアの部"},{"$f":"ジュニア!K18","v":"IDなし"}]
[null,25,{"$f":"ジュニア!D19","v":0},{"$f":"ジュニア!E19","v":""},{"$f":"ジュニア!F19","v":0},{"$f":"ジュニア!I19","v":"ジュニアの部"},{"$f":"ジュニア!K19","v":"IDなし"}]
[null,26,{"$f":"ジュニア!D20","v":0},{"$f":"ジュニア!E20","v":""},{"$f":"ジュニア!F20","v":0},{"$f":"ジュニア!I20","v":"ジュニアの部"},{"$f":"ジュニア!K20","v":"IDなし"}]
[null,27,{"$f":"ジュニア!D21","v":0},{"$f":"ジュニア!E21","v":""},{"$f":"ジュニア!F21","v":0},{"$f":"ジュニア!I21","v":"ジュニアの部"},{"$f":"ジュニア!K21","v":"IDなし"}]
[null,28,{"$f":"ジュニア!D22","v":0},{"$f":"ジュニア!E22","v":""},{"$f":"ジュニア!F22","v":0},{"$f":"ジュニア!I22","v":"ジュニアの部"},{"$f":"ジュニア!K22","v":"IDなし"}]
[null,29,{"$f":"ジュニア!D23","v":0},{"$f":"ジュニア!E23","v":""},{"$f":"ジュニア!F23","v":0},{"$f":"ジュニア!I23","v":"ジュニアの部"},{"$f":"ジュニア!K23","v":"IDなし"}]
[null,30,{"$f":"ジュニア!D24","v":0},{"$f":"ジュニア!E24","v":""},{"$f":"ジュニア!F24","v":0},{"$f":"ジュニア!I24","v":"ジュニアの部"},{"$f":"ジュニア!K24","v":"IDなし"}]
[null,31,{"$f":"ジュニア!D25","v":0},{"$f":"ジュニア!E25","v":""},{"$f":"ジュニア!F25","v":0},{"$f":"ジュニア!I25","v":"ジュニアの部"},{"$f":"ジュニア!K25","v":"IDなし"}]
[null,32,{"$f":"ジュニア!D26","v":0},{"$f":"ジュニア!E26","v":""},{"$f":"ジュニア!F26","v":0},{"$f":"ジュニア!I26","v":"ジュニアの部"},{"$f":"ジュニア!K26","v":"IDなし"}]
[null,33,{"$f":"ジュニア!D27","v":0},{"$f":"ジュニア!E27","v":""},{"$f":"ジュニア!F27","v":0},{"$f":"ジュニア!I27","v":"ジュニアの部"},{"$f":"ジュニア!K27","v":"IDなし"}]
[null,34,{"$f":"ジュニア!D28","v":0},{"$f":"ジュニア!E28","v":""},{"$f":"ジュニア!F28","v":0},{"$f":"ジュニア!I28","v":"ジュニアの部"},{"$f":"ジュニア!K28","v":"IDなし"}]
[null,35,{"$f":"ジュニア!D29","v":0},{"$f":"ジュニア!E29","v":""},{"$f":"ジュニア!F29","v":0},{"$f":"ジュニア!I29","v":"ジュニアの部"},{"$f":"ジュニア!K29","v":"IDなし"}]
[null,36,{"$f":"ジュニア!D30","v":0},{"$f":"ジュニア!E30","v":""},{"$f":"ジュニア!F30","v":0},{"$f":"ジュニア!I30","v":"ジュニアの部"},{"$f":"ジュニア!K30","v":"IDなし"}]
[null,37,{"$f":"ジュニア!D31","v":0},{"$f":"ジュニア!E31","v":""},{"$f":"ジュニア!F31","v":0},{"$f":"ジュニア!I31","v":"ジュニアの部"},{"$f":"ジュニア!K31","v":"IDなし"}]
[null,38,{"$f":"ジュニア!D32","v":0},{"$f":"ジュニア!E32","v":""},{"$f":"ジュニア!F32","v":0},{"$f":"ジュニア!I32","v":"ジュニアの部"},{"$f":"ジュニア!K32","v":"IDなし"}]
[null,39,{"$f":"ジュニア!D33","v":0},{"$f":"ジュニア!E33","v":""},{"$f":"ジュニア!F33","v":0},{"$f":"ジュニア!I33","v":"ジュニアの部"},{"$f":"ジュニア!K33","v":"IDなし"}]
[null,40,{"$f":"ジュニア!D34","v":0},{"$f":"ジュニア!E34","v":""},{"$f":"ジュニア!F34","v":0},{"$f":"ジュニア!I34","v":"ジュニアの部"},{"$f":"ジュニア!K34","v":"IDなし"}]

{"sheet":"25M×4フリーリレー","index":8,"n_rows":64,"n_cols":29,"rows_kept":64,"cut":false,"hidden":false,"merged":[[5,17,7,17],[7,1,8,7],[0,2,0,6],[0,11,0,14],[2,1,3,7],[4,1,5,7],[4,16,7,16],[9,1,10,7],[11,16,14,16],[12,1,13,7],[12,17,14,17],[14,1,15,7],[16,23,17,28],[18,16,21,16],[18,23,19,28],[19,17,21,17],[20,2,21,6],[20,23,21,28],[16,1,17,7],[39,16,42,16],[40,17,42,17],[22,23,23,28],[24,23,25,28],[25,16,28,16],[26,17,28,17],[26,23,27,28],[32,16,35,16],[33,17,35,17]]}
[null,null,"「１」～「５」　５項目を右クリック・コピー",{"$nulls":4},"→",null,null,null,"５項目を　右クリック・テキスト　で貼り付け"]
[]
[null,"２５×４　フリーリレーへの参加は",{"$nulls":9},"４×２５　フリーリレー",{"$nulls":10},"４×２５　フリーリレー"]
[{"$nulls":10},"①","氏名","暦年齢","性別","ﾏｽﾀｰｽﾞ or ｼﾞｭﾆｱ","個人ID（協会登録者)","エントリータイム","合計年齢",{"$nulls":5},"１泳","２泳","３泳","４泳","合計年齢","エントリータイム"]
[null,"女子　男子　混合　いずれか１つのみです。",{"$nulls":8},"１泳",{"$nulls":6},{"$f":"M5+M6+M7+M8","v":0},{"$nulls":4},{"$f":"チーム情報!$B$11","v":0},{"$f":"L5","v":0},{"$f":"L6","v":0},{"$f":"L7","v":0},{"$f":"L8","v":0},{"$f":"R5+R6+R7+R8","v":0},{"$f":"Q5","v":"00:00:00"}]
[{"$nulls":10},"２泳",{"$nulls":11},{"$f":"チーム情報!$B$11","v":0},{"$f":"L12","v":0},{"$f":"L13","v":0},{"$f":"L14","v":0},{"$f":"L15","v":0},{"$f":"R12+R13+R14+R15","v":0},{"$f":"Q12","v":"00:00:00"}]
[{"$nulls":10},"３泳",{"$nulls":11},{"$f":"チーム情報!$B$11","v":0},{"$f":"L19","v":0},{"$f":"L20","v":0},{"$f":"L21","v":0},{"$f":"L22","v":0},{"$f":"R19+R20+R21+R22","v":0},{"$f":"Q19","v":"00:00:00"}]
[null,"この中に　２つの名前がある場合は",{"$nulls":8},"４泳",{"$nulls":11},{"$f":"チーム情報!$B$11","v":0},{"$f":"L26","v":0},{"$f":"L27","v":0},{"$f":"L28","v":0},{"$f":"L29","v":0},{"$f":"R26","v":0},{"$f":"Q26","v":"00:00:00"}]
[{"$nulls":22},{"$f":"チーム情報!$B$11","v":0},{"$f":"L33","v":0},{"$f":"L34","v":0},{"$f":"L35","v":0},{"$f":"L36","v":0},{"$f":"R33+R34+R35+R36","v":0},{"$f":"Q33","v":"00:00:00"}]
[null,"エントリーができません。",{"$nulls":9},"４×２５　フリーリレー",{"$nulls":10},{"$f":"チーム情報!$B$11","v":0},{"$f":"L40","v":0},{"$f":"L41","v":0},{"$f":"L42","v":0},{"$f":"L43","v":0},{"$f":"R40+R41+R42+R43","v":0},{"$f":"Q40","v":"00:00:00"}]
[{"$nulls":10},"②","氏名","暦年齢","性別","ﾏｽﾀｰｽﾞ or ｼﾞｭﾆｱ","個人ID（協会登録者)","エントリータイム","合計年齢"]
[{"$nulls":10},"１泳",{"$nulls":6},{"$f":"M12+M13+M14+M15","v":0}]
[null,"ジュニア　と　マスターズ　混在の場合は",{"$nulls":8},"２泳"]
[{"$nulls":10},"３泳"]
[null,"OPENフリーリレーは",{"$nulls":8},"４泳"]
[]
[null,"別のフォームでの申込です",{"$nulls":9},"４×２５　フリーリレー",{"$nulls":11},"エントリータイムの記入方法について"]
[{"$nulls":10},"③","氏名","暦年齢","性別","ﾏｽﾀｰｽﾞ or ｼﾞｭﾆｱ","個人ID（協会登録者)","エントリータイム","合計年齢"]
[{"$nulls":10},"１泳",{"$nulls":6},{"$f":"M19+M20+M21+M22","v":0},{"$nulls":5},"1分15秒56"]
[{"$nulls":10},"２泳"]
[null,null,"５項目を　右クリック・テキスト　で貼り付け",{"$nulls":7},"３泳",{"$nulls":12},"の場合"]
[{"$nulls":10},"４泳"]
[{"$nulls":23},"「１」　「：」　「１５」　「.」　「５６」"]
[null,null,"「１」","「２」","「３」","「４」","「５」",{"$nulls":4},"４×２５　フリーリレー"]
[null,1,{"$f":"マスターズ!D15","v":0},{"$f":"マスターズ!E15","v":""},{"$f":"マスターズ!F15","v":0},{"$f":"マスターズ!I15","v":"マスターズの部"},{"$f":"マスターズ!K15","v":0},null,null,null,"④","氏名","暦年齢","性別","ﾏｽﾀｰｽﾞ or ｼﾞｭﾆｱ","個人ID（協会登録者)","エントリータイム","合計年齢",{"$nulls":5},"と入力お願いします。"]
[null,2,{"$f":"マスターズ!D16","v":0},{"$f":"マスターズ!E16","v":""},{"$f":"マスターズ!F16","v":0},{"$f":"マスターズ!I16","v":"マスターズの部"},{"$f":"マスターズ!K16","v":0},null,null,null,"１泳",{"$nulls":6},{"$f":"M26+M27+M28+M29","v":0}]
[null,3,{"$f":"マスターズ!D17","v":0},{"$f":"マスターズ!E17","v":""},{"$f":"マスターズ!F17","v":0},{"$f":"マスターズ!I17","v":"マスターズの部"},{"$f":"マスターズ!K17","v":0},null,null,null,"２泳",{"$nulls":12},"00:01:15.560"]
[null,4,{"$f":"マスターズ!D18","v":0},{"$f":"マスターズ!E18","v":""},{"$f":"マスターズ!F18","v":0},{"$f":"マスターズ!I18","v":"マスターズの部"},{"$f":"マスターズ!K18","v":0},null,null,null,"３泳"]
[null,5,{"$f":"マスターズ!D19","v":0},{"$f":"マスターズ!E19","v":""},{"$f":"マスターズ!F19","v":0},{"$f":"マスターズ!I19","v":"マスターズの部"},{"$f":"マスターズ!K19","v":0},null,null,null,"４泳"]
[null,6,{"$f":"マスターズ!D20","v":0},{"$f":"マスターズ!E20","v":""},{"$f":"マスターズ!F20","v":0},{"$f":"マスターズ!I20","v":"マスターズの部"},{"$f":"マスターズ!K20","v":0}]
[null,7,{"$f":"マスターズ!D21","v":0},{"$f":"マスターズ!E21","v":""},{"$f":"マスターズ!F21","v":0},{"$f":"マスターズ!I21","v":"マスターズの部"},{"$f":"マスターズ!K21","v":0},{"$nulls":4},"４×２５　フリーリレー"]
[null,8,{"$f":"マスターズ!D22","v":0},{"$f":"マスターズ!E22","v":""},{"$f":"マスターズ!F22","v":0},{"$f":"マスターズ!I22","v":"マスターズの部"},{"$f":"マスターズ!K22","v":0},null,null,null,"⑤","氏名","暦年齢","性別","ﾏｽﾀｰｽﾞ or ｼﾞｭﾆｱ","個人ID（協会登録者)","エントリータイム","合計年齢"]
[null,9,{"$f":"マスターズ!D23","v":0},{"$f":"マスターズ!E23","v":""},{"$f":"マスターズ!F23","v":0},{"$f":"マスターズ!I23","v":"マスターズの部"},{"$f":"マスターズ!K23","v":0},null,null,null,"１泳",{"$nulls":6},{"$f":"M33+M34+M35+M36","v":0}]
[null,10,{"$f":"マスターズ!D24","v":0},{"$f":"マスターズ!E24","v":""},{"$f":"マスターズ!F24","v":0},{"$f":"マスターズ!I24","v":"マスターズの部"},{"$f":"マスターズ!K24","v":0},null,null,null,"２泳"]
[null,11,{"$f":"マスターズ!D25","v":0},{"$f":"マスターズ!E25","v":""},{"$f":"マスターズ!F25","v":0},{"$f":"マスターズ!I25","v":"マスターズの部"},{"$f":"マスターズ!K25","v":0},null,null,null,"３泳"]
[null,12,{"$f":"マスターズ!D26","v":0},{"$f":"マスターズ!E26","v":""},{"$f":"マスターズ!F26","v":0},{"$f":"マスターズ!I26","v":"マスターズの部"},{"$f":"マスターズ!K26","v":0},null,null,null,"４泳"]
[null,13,{"$f":"マスターズ!D27","v":0},{"$f":"マスターズ!E27","v":""},{"$f":"マスターズ!F27","v":0},{"$f":"マスターズ!I27","v":"マスターズの部"},{"$f":"マスターズ!K27","v":0}]
[null,14,{"$f":"マスターズ!D28","v":0},{"$f":"マスターズ!E28","v":""},{"$f":"マスターズ!F28","v":0},{"$f":"マスターズ!I28","v":"マスターズの部"},{"$f":"マスターズ!K28","v":0},{"$nulls":4},"４×２５　フリーリレー"]
[null,15,{"$f":"マスターズ!D29","v":0},{"$f":"マスターズ!E29","v":""},{"$f":"マスターズ!F29","v":0},{"$f":"マスターズ!I29","v":"マスターズの部"},{"$f":"マスターズ!K29","v":0},null,null,null,"⑥","氏名","暦年齢","性別","ﾏｽﾀｰｽﾞ or ｼﾞｭﾆｱ","個人ID（協会登録者)","エントリータイム","合計年齢"]
[null,16,{"$f":"マスターズ!D30","v":0},{"$f":"マスターズ!E30","v":""},{"$f":"マスターズ!F30","v":0},{"$f":"マスターズ!I30","v":"マスターズの部"},{"$f":"マスターズ!K30","v":0},null,null,null,"１泳",{"$nulls":6},{"$f":"M40+M41+M42+M43","v":0}]
[null,17,{"$f":"マスターズ!D31","v":0},{"$f":"マスターズ!E31","v":""},{"$f":"マスターズ!F31","v":0},{"$f":"マスターズ!I31","v":"マスターズの部"},{"$f":"マスターズ!K31","v":0},null,null,null,"２泳"]
[null,18,{"$f":"マスターズ!D32","v":0},{"$f":"マスターズ!E32","v":""},{"$f":"マスターズ!F32","v":0},{"$f":"マスターズ!I32","v":"マスターズの部"},{"$f":"マスターズ!K32","v":0},null,null,null,"３泳"]
[null,19,{"$f":"マスターズ!D33","v":0},{"$f":"マスターズ!E33","v":""},{"$f":"マスターズ!F33","v":0},{"$f":"マスターズ!I33","v":"マスターズの部"},{"$f":"マスターズ!K33","v":0},null,null,null,"４泳"]
[null,20,{"$f":"マスターズ!D34","v":0},{"$f":"マスターズ!E34","v":""},{"$f":"マスターズ!F34","v":0},{"$f":"マスターズ!I34","v":"マスターズの部"},{"$f":"マスターズ!K34","v":0}]
[null,21,{"$f":"ジュニア!D15","v":0},{"$f":"ジュニア!E15","v":""},{"$f":"ジュニア!F15","v":0},{"$f":"ジュニア!I15","v":"ジュニアの部"},{"$f":"ジュニア!K15","v":"IDなし"}]
[null,22,{"$f":"ジュニア!D16","v":0},{"$f":"ジュニア!E16","v":""},{"$f":"ジュニア!F16","v":0},{"$f":"ジュニア!I16","v":"ジュニアの部"},{"$f":"ジュニア!K16","v":"IDなし"}]
[null,23,{"$f":"ジュニア!D17","v":0},{"$f":"ジュニア!E17","v":""},{"$f":"ジュニア!F17","v":0},{"$f":"ジュニア!I17","v":"ジュニアの部"},{"$f":"ジュニア!K17","v":"IDなし"}]
[null,24,{"$f":"ジュニア!D18","v":0},{"$f":"ジュニア!E18","v":""},{"$f":"ジュニア!F18","v":0},{"$f":"ジュニア!I18","v":"ジュニアの部"},{"$f":"ジュニア!K18","v":"IDなし"}]
[null,25,{"$f":"ジュニア!D19","v":0},{"$f":"ジュニア!E19","v":""},{"$f":"ジュニア!F19","v":0},{"$f":"ジュニア!I19","v":"ジュニアの部"},{"$f":"ジュニア!K19","v":"IDなし"}]
[null,26,{"$f":"ジュニア!D20","v":0},{"$f":"ジュニア!E20","v":""},{"$f":"ジュニア!F20","v":0},{"$f":"ジュニア!I20","v":"ジュニアの部"},{"$f":"ジュニア!K20","v":"IDなし"}]
[null,27,{"$f":"ジュニア!D21","v":0},{"$f":"ジュニア!E21","v":""},{"$f":"ジュニア!F21","v":0},{"$f":"ジュニア!I21","v":"ジュニアの部"},{"$f":"ジュニア!K21","v":"IDなし"}]
[null,28,{"$f":"ジュニア!D22","v":0},{"$f":"ジュニア!E22","v":""},{"$f":"ジュニア!F22","v":0},{"$f":"ジュニア!I22","v":"ジュニアの部"},{"$f":"ジュニア!K22","v":"IDなし"}]
[null,29,{"$f":"ジュニア!D23","v":0},{"$f":"ジュニア!E23","v":""},{"$f":"ジュニア!F23","v":0},{"$f":"ジュニア!I23","v":"ジュニアの部"},{"$f":"ジュニア!K23","v":"IDなし"}]
[null,30,{"$f":"ジュニア!D24","v":0},{"$f":"ジュニア!E24","v":""},{"$f":"ジュニア!F24","v":0},{"$f":"ジュニア!I24","v":"ジュニアの部"},{"$f":"ジュニア!K24","v":"IDなし"}]
[null,31,{"$f":"ジュニア!D25","v":0},{"$f":"ジュニア!E25","v":""},{"$f":"ジュニア!F25","v":0},{"$f":"ジュニア!I25","v":"ジュニアの部"},{"$f":"ジュニア!K25","v":"IDなし"}]
[null,32,{"$f":"ジュニア!D26","v":0},{"$f":"ジュニア!E26","v":""},{"$f":"ジュニア!F26","v":0},{"$f":"ジュニア!I26","v":"ジュニアの部"},{"$f":"ジュニア!K26","v":"IDなし"}]
[null,33,{"$f":"ジュニア!D27","v":0},{"$f":"ジュニア!E27","v":""},{"$f":"ジュニア!F27","v":0},{"$f":"ジュニア!I27","v":"ジュニアの部"},{"$f":"ジュニア!K27","v":"IDなし"}]
[null,34,{"$f":"ジュニア!D28","v":0},{"$f":"ジュニア!E28","v":""},{"$f":"ジュニア!F28","v":0},{"$f":"ジュニア!I28","v":"ジュニアの部"},{"$f":"ジュニア!K28","v":"IDなし"}]
[null,35,{"$f":"ジュニア!D29","v":0},{"$f":"ジュニア!E29","v":""},{"$f":"ジュニア!F29","v":0},{"$f":"ジュニア!I29","v":"ジュニアの部"},{"$f":"ジュニア!K29","v":"IDなし"}]
[null,36,{"$f":"ジュニア!D30","v":0},{"$f":"ジュニア!E30","v":""},{"$f":"ジュニア!F30","v":0},{"$f":"ジュニア!I30","v":"ジュニアの部"},{"$f":"ジュニア!K30","v":"IDなし"}]
[null,37,{"$f":"ジュニア!D31","v":0},{"$f":"ジュニア!E31","v":""},{"$f":"ジュニア!F31","v":0},{"$f":"ジュニア!I31","v":"ジュニアの部"},{"$f":"ジュニア!K31","v":"IDなし"}]
[null,38,{"$f":"ジュニア!D32","v":0},{"$f":"ジュニア!E32","v":""},{"$f":"ジュニア!F32","v":0},{"$f":"ジュニア!I32","v":"ジュニアの部"},{"$f":"ジュニア!K32","v":"IDなし"}]
[null,39,{"$f":"ジュニア!D33","v":0},{"$f":"ジュニア!E33","v":""},{"$f":"ジュニア!F33","v":0},{"$f":"ジュニア!I33","v":"ジュニアの部"},{"$f":"ジュニア!K33","v":"IDなし"}]
[null,40,{"$f":"ジュニア!D34","v":0},{"$f":"ジュニア!E34","v":""},{"$f":"ジュニア!F34","v":0},{"$f":"ジュニア!I34","v":"ジュニアの部"},{"$f":"ジュニア!K34","v":"IDなし"}]