{"text_format":"2","workbook":"xlsx","n_sheets":6,"sheets":["【本大会への参加条件-1】","【本大会への参加条件-2】","チーム情報","1~20","メドレーリレー","フリーリレー"],"not_rendered":{"charts":0,"images":0,"macros":0,"external_links":0,"defined_names":1,"comments":0,"pivot_tables":0},"unopened":[],"bounds":{"document_bytes":16777216,"sheet_cells":100000,"run_cost":"one","rows_first":2000,"rows_last":500,"rows_between":2000,"halvings":0,"cell_chars":16384,"cell_head_chars":4096},"cells_cut":0,"cells_raw":0,"read":"whole","date_system":"1900"}

{"sheet":"【本大会への参加条件-1】","index":0,"n_rows":30,"n_cols":1,"rows_kept":30,"cut":false,"hidden":false,"merged":[]}
["【本大会への参加条件-1】"]
["下記の（1）～（3）の事項を確認・承諾のうえで申し込みをお願いいたします。"]
["（1）下記の方は入場および競技出場ができません。"]
["① 大会日直前 7 日間において以下の事項に該当する方。"]
["・ 37.5 度を超える発熱がある"]
["・ 咳（せき）、のどの痛みなどの風邪の症状がある"]
["・ だるさ（倦怠感）、息苦しさ（呼吸困難）がある"]
["・ 臭覚や味覚の異常がある"]
["・ 体が重たく感じる、疲れやすい等の症状がある"]
["・ 新型コロナウイルス感染症陽性とされた方との濃厚接触がある"]
["・ 同居家族や身近な知人の感染が疑われる"]
["・ 過去 7 日間以内に政府から入国制限、入国後の観察期間を必要とされている国、"]
["　 地域等への渡航または当該在住者との濃厚接触がある"]
["②「健康チェック表」を当日入場時に提出されない方。"]
["③ 当日に①の症状がある方。"]
["④ 入場時の検温（非接触体温計およびサーモグラフィー）により 37.5 度以上ある方。"]
["⑤ 各会場の定める入場対象者以外の方。"]
["⑥ マスクを着用していない方。（ウォーミングアップ・競技・クールダウン中は除く）"]
["⑦ 感染拡大防止（3 密対策）に協力しない方。"]
[]
["（2）その他の下記の注意事項についてお守りください。"]
["① 感染拡大防止対策に従ってご参加ください。"]
["② 入場の際は必ず手指消毒を行ってください。"]
["③ 応援や声援および対面しての会話はご遠慮ください。"]
["④ 絶えず人との距離を取るようにしてください。"]
[]
["（3）大会の中止について"]
["①   国･都道府県において、相当規模のイベントの自粛要請が出た地域は中止いたします。"]
["② 競技中の会場で感染が認められた場合には、その時点で競技を中止いたします。"]
["③ 新型コロナウイルス感染症により事前に中止になる場合は、申込料を一部返金いたします。"]

{"sheet":"【本大会への参加条件-2】","index":1,"n_rows":29,"n_cols":1,"rows_kept":29,"cut":false,"hidden":false,"merged":[]}
["【本大会への参加条件-2】"]
["～大会会場との取り決めになります。円滑な大会運営のために、守っていただく内容です。～"]
[]
["大会当日、館内での食事は禁止となっています。食中毒防止の観点から「食べ物」の持ち込みを禁止します。\n水分補給は、観覧席、１階ロビーの椅子、2階ロビーの椅子での可能です。"]
["短時間で終了する大会となりますので、食事は館外で済ませてから、ご来館ください。"]
[]
["ゴミは各自でお持ち帰りください。"]
[]
["鍵付きロッカーの使用はできません。なお、大会事務局で荷物をお預かりすることもありません。"]
["多額な金銭、貴重品、大会参加に不要なものは持参しないでください。"]
["手荷物は最小限にてご来場ください。紛失、盗難における責任は、一切負いかねます。"]
["入館から退館まで荷物は常に持参するようにお願いします。"]
["レースやアップ、クーリングダウンために、プールサイド「第１招集所」に荷物置き場を設けます。"]
[]
["入館から退館までの導線をご確認ください。一方通行として、行き来を制限している箇所があります。"]
["二次要項、館内図をご覧ください。"]
[]
["大会中は、４レーンもしくは５レーンにて実施し、残りの３レーンについては、"]
["常時、アップ・ダウンに利用できます。"]
[]
["観覧席が「一応の控え場所」となりますが、控え場所として考えるのではなく、\n入館から退館までの「一時待機所」という考えでお願いします。\nストレッチエリアは設けてありません。通路を妨げることはご遠慮ください。"]
["密を避けるために、館内では、「レース」・「アップ、クーリングダウン」・「一時待機」"]
["となるように、周囲の方々との距離を保ちつつ、お過ごし下さい。"]
[]
["参加者、大会運営スタッフ以外の入場不可とさせていただきます。\nただし、事前申請による介助のための同伴入場は可能です。"]
["このイベントの様子および、個人の記録は、文面・画像・映像等により国内外に発信されることもあります。"]
["大会参加者は、この件に同意したものとみなします。"]
[]
["以上の内容を含め「二次要綱」にて、会場利用に関するルールを追加する場合があります。"]

{"sheet":"チーム情報","index":2,"n_rows":22,"n_cols":3,"rows_kept":22,"cut":false,"hidden":false,"merged":[[0,0,0,2],[10,1,11,1],[10,2,11,2]]}
["２０２２年８月２１日　アクアティクスジャパンカップ夏季水泳大会　チーム一括申込書"]
[]
["チーム担当者\nメールアドレス",null,"←　ご記入ください"]
[]
["チーム担当者　氏名",null,"←　ご記入ください"]
[]
["チーム担当者　連絡先電話番号",null,"←　ご記入ください"]
[]
["日本マスターズ水泳協会登録済み　チームID",null,"←　ご記入ください"]
[]
["チーム名　日本マスターズ水泳協会未登録の場合は任意記入",null,"←　ご記入ください"]
["　　クラブ名、学校名、練習プール名等"]
[]
["大会参加申込をする全員が\n　　【本大会への参加条件-1】\n　　【本大会への参加条件-2】の内容を\n　　\n　　確認し、承諾の上申し込みを行っている",null,"←　選択してください"]
[]
["参加人数",{"$f":"COUNTA('1~20'!C15:C34)","v":0},"←　自動表示"]
[]
["参加種目数",{"$f":"COUNTA('1~20'!N15:N34)+COUNTA('1~20'!P15:P34)","v":0},"←　自動表示"]
[]
["大会運営スタッフ"]
["参加者１０名～１９名の場合　…　お一人目　　　氏名",null,"←　ご記入ください"]
["参加者２０名～２９名の場合　…　お二人目　　　氏名",null,"←　ご記入ください"]

{"sheet":"1~20","index":3,"n_rows":34,"n_cols":23,"rows_kept":34,"cut":false,"hidden":false,"merged":[[1,0,3,22],[9,0,11,22],[5,0,7,22]]}
[]
["入力してください　　氏名・生年月日・個人ＩＤ　が　マスターズ水泳協会に登録済みの内容と間違いがないことを再度確認してください。"]
[]
[]
[]
["自動表示されます"]
[]
[]
[]
["選択してください"]
[]
[]
[]
["2022-12-31","チーム担当者\nメールアドレス","参加者氏名\n\n苗字と名前の\n間に全角スペース","暦年齢\n\n自動\n入力","性別\n【選択】","ﾌﾘｶﾞﾅ（半角）\n\n苗字と名前の\n間に半角スペース","生年月日\n\n西暦/月/日","マスターズの部\nもしくは\n学年\n【選択】","参加区分をお選びください。\n日本マスターズ水泳協会登録について\n【選択】","チームID\n","チーム名","２０２２　登録者\nマスターズ水泳協会\n個人ＩＤ","参加種目① \n【選択】","参加種目①\nエントリータイム\n100分の1秒まで記入","参加種目②\n【選択】","参加種目②\nエントリータイム\n100分の1秒まで記入","参加種目③\n【選択】\nジュニアの部のみ","参加種目③\nエントリータイム\n100分の1秒まで記入","リレー\nFR\n【選択】","リレー\nMR\n【選択】","申告事項\n  介助が必要、\n  障がいによる泳法違反の回避\n  スタート台を使用しない\n  世界記録挑戦など）","大会当日の\n  緊急連絡先\n（本人以外\n  続柄・氏名）","大会当日の\n  緊急連絡先\n（電話番号）\n"]
[1,"入力不要",null,{"$f":"IF(C15=\"\",\"\",DATEDIF(G15,$A$14,\"ｙ\"))","v":""}]
[2,"入力不要",null,{"$f":"IF(C16=\"\",\"\",DATEDIF(G16,$A$14,\"ｙ\"))","v":""}]
[3,"入力不要",null,""]
[4,"入力不要",null,""]
[5,"入力不要",null,""]
[6,"入力不要",null,{"$f":"IF(C20=\"\",\"\",DATEDIF(G20,$A$14,\"ｙ\"))","v":""}]
[7,"入力不要",null,""]
[8,"入力不要",null,""]
[9,"入力不要",null,""]
[10,"入力不要",null,""]
[11,"入力不要",null,""]
[12,"入力不要",null,""]
[13,"入力不要",null,""]
[14,"入力不要",null,""]
[15,"入力不要",null,""]
[16,"入力不要",null,""]
[17,"入力不要",null,""]
[18,"入力不要",null,""]
[19,"入力不要",null,""]
[20,"入力不要",null,""]

{"sheet":"メドレーリレー","index":4,"n_rows":43,"n_cols":29,"rows_kept":43,"cut":false,"hidden":false,"merged":[[5,17,7,17],[40,17,42,17],[16,23,17,28],[18,23,19,28],[20,23,21,28],[22,23,23,28],[24,23,25,28],[26,23,27,28],[39,16,42,16],[33,17,35,17],[26,17,28,17],[19,17,21,17],[12,17,14,17],[4,16,7,16],[11,16,14,16],[18,16,21,16],[25,16,28,16],[32,16,35,16],[7,1,8,7],[9,1,10,7],[0,11,0,14],[0,2,0,6],[2,1,3,7],[4,1,5,7]]}
[null,null,"「１」～「５」　５項目を右クリック・コピー",{"$nulls":4},"→",null,null,null,"５項目を　右クリック・テキスト　で貼り付け"]
[]
[null,"性別は　男4名、女4名、男女2名ずつ",{"$nulls":9},"４×２５　メドレーリレー",{"$nulls":10},"４×２５　メドレーリレー"]
[{"$nulls":10},"①","氏名","暦年齢","性別",null,"個人ID（協会登録者)","エントリータイム","合計年齢",{"$nulls":5},"１泳（背泳ぎ）","２泳（平泳ぎ）","３泳（バタフライ）","４泳（自由形）","合計年齢","エントリータイム"]
[null,"　いずれかになっているか、確認してください。",{"$nulls":8},"１泳",{"$nulls":6},{"$f":"M5+M6+M7+M8","v":0},{"$nulls":4},"①",{"$f":"L5","v":0},{"$f":"L6","v":0},{"$f":"L7","v":0},{"$f":"L8","v":0},{"$f":"R5+R6+R7+R8","v":0},{"$f":"Q5","v":"00:00:00"}]
[{"$nulls":10},"２泳",{"$nulls":11},"②",{"$f":"L12","v":0},{"$f":"L13","v":0},{"$f":"L14","v":0},{"$f":"L15","v":0},{"$f":"R12+R13+R14+R15","v":0},{"$f":"Q12","v":"00:00:00"}]
[{"$nulls":10},"３泳",{"$nulls":11},"③",{"$f":"L19","v":0},{"$f":"L20","v":0},{"$f":"L21","v":0},{"$f":"L22","v":0},{"$f":"R19+R20+R21+R22","v":0},{"$f":"Q19","v":"00:00:00"}]
[null,"メドレーリレへの参加は",{"$nulls":8},"４泳",{"$nulls":11},"④",{"$f":"L26","v":0},{"$f":"L27","v":0},{"$f":"L28","v":0},{"$f":"L29","v":0},{"$f":"R26","v":0},{"$f":"Q26","v":"00:00:00"}]
[{"$nulls":22},"⑤",{"$f":"L33","v":0},{"$f":"L34","v":0},{"$f":"L35","v":0},{"$f":"L36","v":0},{"$f":"R33+R34+R35+R36","v":0},{"$f":"Q33","v":"00:00:00"}]
[null,"女子　男子　混合　いずれか１つのみです。",{"$nulls":9},"４×２５　メドレーリレー",{"$nulls":10},"⑥",{"$f":"L40","v":0},{"$f":"L41","v":0},{"$f":"L42","v":0},{"$f":"L43","v":0},{"$f":"R40+R41+R42+R43","v":0},{"$f":"Q40","v":"00:00:00"}]
[{"$nulls":10},"②","氏名","暦年齢","性別",null,"個人ID（協会登録者)","エントリータイム","合計年齢"]
[{"$nulls":10},"１泳",{"$nulls":6},{"$f":"M12+M13+M14+M15","v":0}]
[{"$nulls":10},"２泳"]
[null,null,"「１」","「２」","「３」","「４」","「５」",null,null,null,"３泳"]
[null,1,{"$f":"'1~20'!C15","v":0},{"$f":"'1~20'!D15","v":""},{"$f":"'1~20'!E15","v":0},{"$f":"'1~20'!H15","v":0},{"$f":"'1~20'!L15","v":0},null,null,null,"４泳"]
[null,2,{"$f":"'1~20'!C16","v":0},{"$f":"'1~20'!D16","v":""},{"$f":"'1~20'!E16","v":0},{"$f":"'1~20'!H16","v":0},{"$f":"'1~20'!L16","v":0}]
[null,3,{"$f":"'1~20'!C17","v":0},{"$f":"'1~20'!D17","v":""},{"$f":"'1~20'!E17","v":0},{"$f":"'1~20'!H17","v":0},{"$f":"'1~20'!L17","v":0},{"$nulls":4},"４×２５　メドレーリレー",{"$nulls":11},"エントリータイムの記入方法について"]
[null,4,{"$f":"'1~20'!C18","v":0},{"$f":"'1~20'!D18","v":""},{"$f":"'1~20'!E18","v":0},{"$f":"'1~20'!H18","v":0},{"$f":"'1~20'!L18","v":0},null,null,null,"③","氏名","暦年齢","性別",null,"個人ID（協会登録者)","エントリータイム","合計年齢"]
[null,5,{"$f":"'1~20'!C19","v":0},{"$f":"'1~20'!D19","v":""},{"$f":"'1~20'!E19","v":0},{"$f":"'1~20'!H19","v":0},{"$f":"'1~20'!L19","v":0},null,null,null,"１泳",{"$nulls":6},{"$f":"M19+M20+M21+M22","v":0},{"$nulls":5},"1分15秒56"]
[null,6,{"$f":"'1~20'!C20","v":0},{"$f":"'1~20'!D20","v":""},{"$f":"'1~20'!E20","v":0},{"$f":"'1~20'!H20","v":0},{"$f":"'1~20'!L20","v":0},null,null,null,"２泳"]
[null,7,{"$f":"'1~20'!C21","v":0},{"$f":"'1~20'!D21","v":""},{"$f":"'1~20'!E21","v":0},{"$f":"'1~20'!H21","v":0},{"$f":"'1~20'!L21","v":0},null,null,null,"３泳",{"$nulls":12},"の場合"]
[null,8,{"$f":"'1~20'!C22","v":0},{"$f":"'1~20'!D22","v":""},{"$f":"'1~20'!E22","v":0},{"$f":"'1~20'!H22","v":0},{"$f":"'1~20'!L22","v":0},null,null,null,"４泳"]
[null,9,{"$f":"'1~20'!C23","v":0},{"$f":"'1~20'!D23","v":""},{"$f":"'1~20'!E23","v":0},{"$f":"'1~20'!H23","v":0},{"$f":"'1~20'!L23","v":0},{"$nulls":16},"「１」　「：」　「１５」　「.」　「５６」"]
[null,10,{"$f":"'1~20'!C24","v":0},{"$f":"'1~20'!D24","v":""},{"$f":"'1~20'!E24","v":0},{"$f":"'1~20'!H24","v":0},{"$f":"'1~20'!L24","v":0},{"$nulls":4},"４×２５　メドレーリレー"]
[null,11,{"$f":"'1~20'!C25","v":0},{"$f":"'1~20'!D25","v":""},{"$f":"'1~20'!E25","v":0},{"$f":"'1~20'!H25","v":0},{"$f":"'1~20'!L25","v":0},null,null,null,"④","氏名","暦年齢","性別",null,"個人ID（協会登録者)","エントリータイム","合計年齢",{"$nulls":5},"と入力お願いします。"]
[null,12,{"$f":"'1~20'!C26","v":0},{"$f":"'1~20'!D26","v":""},{"$f":"'1~20'!E26","v":0},{"$f":"'1~20'!H26","v":0},{"$f":"'1~20'!L26","v":0},null,null,null,"１泳",{"$nulls":6},{"$f":"M26+M27+M28+M29","v":0}]
[null,13,{"$f":"'1~20'!C27","v":0},{"$f":"'1~20'!D27","v":""},{"$f":"'1~20'!E27","v":0},{"$f":"'1~20'!H27","v":0},{"$f":"'1~20'!L27","v":0},null,null,null,"２泳",{"$nulls":12},"00:01:15.560"]
[null,14,{"$f":"'1~20'!C28","v":0},{"$f":"'1~20'!D28","v":""},{"$f":"'1~20'!E28","v":0},{"$f":"'1~20'!H28","v":0},{"$f":"'1~20'!L28","v":0},null,null,null,"３泳"]
[null,15,{"$f":"'1~20'!C29","v":0},{"$f":"'1~20'!D29","v":""},{"$f":"'1~20'!E29","v":0},{"$f":"'1~20'!H29","v":0},{"$f":"'1~20'!L29","v":0},null,null,null,"４泳"]
[null,16,{"$f":"'1~20'!C30","v":0},{"$f":"'1~20'!D30","v":""},{"$f":"'1~20'!E30","v":0},{"$f":"'1~20'!H30","v":0},{"$f":"'1~20'!L30","v":0}]
[null,17,{"$f":"'1~20'!C31","v":0},{"$f":"'1~20'!D31","v":""},{"$f":"'1~20'!E31","v":0},{"$f":"'1~20'!H31","v":0},{"$f":"'1~20'!L31","v":0},{"$nulls":4},"４×２５　メドレーリレー"]
[null,18,{"$f":"'1~20'!C32","v":0},{"$f":"'1~20'!D32","v":""},{"$f":"'1~20'!E32","v":0},{"$f":"'1~20'!H32","v":0},{"$f":"'1~20'!L32","v":0},null,null,null,"⑤","氏名","暦年齢","性別",null,"個人ID（協会登録者)","エントリータイム","合計年齢"]
[null,19,{"$f":"'1~20'!C33","v":0},{"$f":"'1~20'!D33","v":""},{"$f":"'1~20'!E33","v":0},{"$f":"'1~20'!H33","v":0},{"$f":"'1~20'!L33","v":0},null,null,null,"１泳",{"$nulls":6},{"$f":"M33+M34+M35+M36","v":0}]
[null,20,{"$f":"'1~20'!C34","v":0},{"$f":"'1~20'!D34","v":""},{"$f":"'1~20'!E34","v":0},{"$f":"'1~20'!H34","v":0},{"$f":"'1~20'!L34","v":0},null,null,null,"２泳"]
[{"$nulls":10},"３泳"]
[{"$nulls":10},"４泳"]
[]
[{"$nulls":11},"４×２５　メドレーリレー"]
[{"$nulls":10},"⑥","氏名","暦年齢","性別",null,"個人ID（協会登録者)","エントリータイム","合計年齢"]
[{"$nulls":10},"１泳",{"$nulls":6},{"$f":"M40+M41+M42+M43","v":0}]
[{"$nulls":10},"２泳"]
[{"$nulls":10},"３泳"]
[{"$nulls":10},"４泳"]

{"sheet":"フリーリレー","index":5,"n_rows":43,"n_cols":29,"rows_kept":43,"cut":false,"hidden":false,"merged":[[16,23,17,28],[18,23,19,28],[20,23,21,28],[22,23,23,28],[24,23,25,28],[26,23,27,28],[39,16,42,16],[5,17,7,17],[12,17,14,17],[19,17,21,17],[26,17,28,17],[33,17,35,17],[40,17,42,17],[4,16,7,16],[11,16,14,16],[18,16,21,16],[25,16,28,16],[32,16,35,16],[9,1,10,7],[0,2,0,6],[0,11,0,14],[2,1,3,7],[4,1,5,7],[7,1,8,7]]}
[null,null,"「１」～「５」　５項目を右クリック・コピー",{"$nulls":4},"→",null,null,null,"５項目を　右クリック・テキスト　で貼り付け"]
[]
[null,"性別は　男4名、女4名、男女2名ずつ",{"$nulls":9},"４×２５　フリーリレー",{"$nulls":10},"４×２５　フリーリレー"]
[{"$nulls":10},"①","氏名","暦年齢","性別",null,"個人ID（協会登録者)","エントリータイム","合計年齢",{"$nulls":5},"１泳","２泳","３泳","４泳","合計年齢","エントリータイム"]
[null,"　いずれかになっているか、確認してください。",{"$nulls":8},"１泳",{"$nulls":6},{"$f":"M5+M6+M7+M8","v":0},{"$nulls":4},"①",{"$f":"L5","v":0},{"$f":"L6","v":0},{"$f":"L7","v":0},{"$f":"L8","v":0},{"$f":"R5+R6+R7+R8","v":0},{"$f":"Q5","v":"00:00:00"}]
[{"$nulls":10},"２泳",{"$nulls":11},"②",{"$f":"L12","v":0},{"$f":"L13","v":0},{"$f":"L14","v":0},{"$f":"L15","v":0},{"$f":"R12+R13+R14+R15","v":0},{"$f":"Q12","v":"00:00:00"}]
[{"$nulls":10},"３泳",{"$nulls":11},"③",{"$f":"L19","v":0},{"$f":"L20","v":0},{"$f":"L21","v":0},{"$f":"L22","v":0},{"$f":"R19+R20+R21+R22","v":0},{"$f":"Q19","v":"00:00:00"}]
[null,"フリーリレへの参加は",{"$nulls":8},"４泳",{"$nulls":11},"④",{"$f":"L26","v":0},{"$f":"L27","v":0},{"$f":"L28","v":0},{"$f":"L29","v":0},{"$f":"R26","v":0},{"$f":"Q26","v":"00:00:00"}]
[{"$nulls":22},"⑤",{"$f":"L33","v":0},{"$f":"L34","v":0},{"$f":"L35","v":0},{"$f":"L36","v":0},{"$f":"R33+R34+R35+R36","v":0},{"$f":"Q33","v":"00:00:00"}]
[null,"女子　男子　混合　いずれか１つのみです。",{"$nulls":9},"４×２５　フリーリレー",{"$nulls":10},"⑥",{"$f":"L40","v":0},{"$f":"L41","v":0},{"$f":"L42","v":0},{"$f":"L43","v":0},{"$f":"R40+R41+R42+R43","v":0},{"$f":"Q40","v":"00:00:00"}]
[{"$nulls":10},"②","氏名","暦年齢","性別",null,"個人ID（協会登録者)","エントリータイム","合計年齢"]
[{"$nulls":10},"１泳",{"$nulls":6},{"$f":"M12+M13+M14+M15","v":0}]
[{"$nulls":10},"２泳"]
[null,null,"「１」","「２」","「３」","「４」","「５」",null,null,null,"３泳"]
[null,1,{"$f":"'1~20'!C15","v":0},{"$f":"'1~20'!D15","v":""},{"$f":"'1~20'!E15","v":0},{"$f":"'1~20'!H15","v":0},{"$f":"'1~20'!L15","v":0},null,null,null,"４泳"]
[null,2,{"$f":"'1~20'!C16","v":0},{"$f":"'1~20'!D16","v":""},{"$f":"'1~20'!E16","v":0},{"$f":"'1~20'!H16","v":0},{"$f":"'1~20'!L16","v":0}]
[null,3,{"$f":"'1~20'!C17","v":0},{"$f":"'1~20'!D17","v":""},{"$f":"'1~20'!E17","v":0},{"$f":"'1~20'!H17","v":0},{"$f":"'1~20'!L17","v":0},{"$nulls":4},"４×２５　フリーリレー",{"$nulls":11},"エントリータイムの記入方法について"]
[null,4,{"$f":"'1~20'!C18","v":0},{"$f":"'1~20'!D18","v":""},{"$f":"'1~20'!E18","v":0},{"$f":"'1~20'!H18","v":0},{"$f":"'1~20'!L18","v":0},null,null,null,"③","氏名","暦年齢","性別",null,"個人ID（協会登録者)","エントリータイム","合計年齢"]
[null,5,{"$f":"'1~20'!C19","v":0},{"$f":"'1~20'!D19","v":""},{"$f":"'1~20'!E19","v":0},{"$f":"'1~20'!H19","v":0},{"$f":"'1~20'!L19","v":0},null,null,null,"１泳",{"$nulls":6},{"$f":"M19+M20+M21+M22","v":0},{"$nulls":5},"1分15秒56"]
[null,6,{"$f":"'1~20'!C20","v":0},{"$f":"'1~20'!D20","v":""},{"$f":"'1~20'!E20","v":0},{"$f":"'1~20'!H20","v":0},{"$f":"'1~20'!L20","v":0},null,null,null,"２泳"]
[null,7,{"$f":"'1~20'!C21","v":0},{"$f":"'1~20'!D21","v":""},{"$f":"'1~20'!E21","v":0},{"$f":"'1~20'!H21","v":0},{"$f":"'1~20'!L21","v":0},null,null,null,"３泳",{"$nulls":12},"の場合"]
[null,8,{"$f":"'1~20'!C22","v":0},{"$f":"'1~20'!D22","v":""},{"$f":"'1~20'!E22","v":0},{"$f":"'1~20'!H22","v":0},{"$f":"'1~20'!L22","v":0},null,null,null,"４泳"]
[null,9,{"$f":"'1~20'!C23","v":0},{"$f":"'1~20'!D23","v":""},{"$f":"'1~20'!E23","v":0},{"$f":"'1~20'!H23","v":0},{"$f":"'1~20'!L23","v":0},{"$nulls":16},"「１」　「：」　「１５」　「.」　「５６」"]
[null,10,{"$f":"'1~20'!C24","v":0},{"$f":"'1~20'!D24","v":""},{"$f":"'1~20'!E24","v":0},{"$f":"'1~20'!H24","v":0},{"$f":"'1~20'!L24","v":0},{"$nulls":4},"４×２５　フリーリレー"]
[null,11,{"$f":"'1~20'!C25","v":0},{"$f":"'1~20'!D25","v":""},{"$f":"'1~20'!E25","v":0},{"$f":"'1~20'!H25","v":0},{"$f":"'1~20'!L25","v":0},null,null,null,"④","氏名","暦年齢","性別",null,"個人ID（協会登録者)","エントリータイム","合計年齢",{"$nulls":5},"と入力お願いします。"]
[null,12,{"$f":"'1~20'!C26","v":0},{"$f":"'1~20'!D26","v":""},{"$f":"'1~20'!E26","v":0},{"$f":"'1~20'!H26","v":0},{"$f":"'1~20'!L26","v":0},null,null,null,"１泳",{"$nulls":6},{"$f":"M26+M27+M28+M29","v":0}]
[null,13,{"$f":"'1~20'!C27","v":0},{"$f":"'1~20'!D27","v":""},{"$f":"'1~20'!E27","v":0},{"$f":"'1~20'!H27","v":0},{"$f":"'1~20'!L27","v":0},null,null,null,"２泳",{"$nulls":12},"00:01:15.560"]
[null,14,{"$f":"'1~20'!C28","v":0},{"$f":"'1~20'!D28","v":""},{"$f":"'1~20'!E28","v":0},{"$f":"'1~20'!H28","v":0},{"$f":"'1~20'!L28","v":0},null,null,null,"３泳"]
[null,15,{"$f":"'1~20'!C29","v":0},{"$f":"'1~20'!D29","v":""},{"$f":"'1~20'!E29","v":0},{"$f":"'1~20'!H29","v":0},{"$f":"'1~20'!L29","v":0},null,null,null,"４泳"]
[null,16,{"$f":"'1~20'!C30","v":0},{"$f":"'1~20'!D30","v":""},{"$f":"'1~20'!E30","v":0},{"$f":"'1~20'!H30","v":0},{"$f":"'1~20'!L30","v":0}]
[null,17,{"$f":"'1~20'!C31","v":0},{"$f":"'1~20'!D31","v":""},{"$f":"'1~20'!E31","v":0},{"$f":"'1~20'!H31","v":0},{"$f":"'1~20'!L31","v":0},{"$nulls":4},"４×２５　フリーリレー"]
[null,18,{"$f":"'1~20'!C32","v":0},{"$f":"'1~20'!D32","v":""},{"$f":"'1~20'!E32","v":0},{"$f":"'1~20'!H32","v":0},{"$f":"'1~20'!L32","v":0},null,null,null,"⑤","氏名","暦年齢","性別",null,"個人ID（協会登録者)","エントリータイム","合計年齢"]
[null,19,{"$f":"'1~20'!C33","v":0},{"$f":"'1~20'!D33","v":""},{"$f":"'1~20'!E33","v":0},{"$f":"'1~20'!H33","v":0},{"$f":"'1~20'!L33","v":0},null,null,null,"１泳",{"$nulls":6},{"$f":"M33+M34+M35+M36","v":0}]
[null,20,{"$f":"'1~20'!C34","v":0},{"$f":"'1~20'!D34","v":""},{"$f":"'1~20'!E34","v":0},{"$f":"'1~20'!H34","v":0},{"$f":"'1~20'!L34","v":0},null,null,null,"２泳"]
[{"$nulls":10},"３泳"]
[{"$nulls":10},"４泳"]
[]
[{"$nulls":11},"４×２５　フリーリレー"]
[{"$nulls":10},"⑥","氏名","暦年齢","性別",null,"個人ID（協会登録者)","エントリータイム","合計年齢"]
[{"$nulls":10},"１泳",{"$nulls":6},{"$f":"M40+M41+M42+M43","v":0}]
[{"$nulls":10},"２泳"]
[{"$nulls":10},"３泳"]
[{"$nulls":10},"４泳"]