{"text_format":"2","workbook":"xlsx","n_sheets":11,"sheets":["申込書","個人種目(マスターズ)","個人種目(ジュニア)","リレー","リレー種目","団体","所属1","選手","エントリー","チーム元","チーム"],"not_rendered":{"charts":0,"images":0,"macros":0,"external_links":0,"defined_names":6,"comments":0,"pivot_tables":0},"unopened":[],"bounds":{"document_bytes":16777216,"sheet_cells":100000,"run_cost":"one","rows_first":2000,"rows_last":500,"rows_between":2000,"halvings":0,"cell_chars":16384,"cell_head_chars":4096},"cells_cut":0,"cells_raw":0,"read":"whole","date_system":"1900"}

{"sheet":"申込書","index":0,"n_rows":48,"n_cols":29,"rows_kept":48,"cut":false,"hidden":false,"merged":[[19,3,19,7],[28,10,28,11],[28,16,28,17],[28,22,28,23],[29,12,29,13],[19,8,19,25],[33,12,33,13],[33,16,33,17],[33,18,33,19],[33,22,33,23],[41,15,41,16],[41,20,41,23],[37,18,37,19],[37,22,37,23],[1,20,2,25],[4,2,4,10],[7,1,7,2],[7,3,7,25],[9,1,9,2],[9,3,9,25],[11,1,11,2],[11,3,11,8],[11,13,11,14],[11,15,11,22],[13,1,13,2],[13,3,13,8],[13,10,13,14],[13,15,13,22],[15,1,15,2],[15,4,15,8],[16,3,16,25],[17,3,17,25],[18,4,18,7],[18,8,18,14],[18,15,18,17],[18,18,18,24],[21,1,21,2],[21,3,21,10],[21,17,21,18],[23,1,23,2],[23,3,23,10],[23,17,23,25],[26,1,26,2],[26,10,26,11],[26,16,26,17],[26,22,26,23],[27,10,27,11],[27,16,27,17],[27,22,27,23],[31,1,31,2],[31,10,31,11],[31,12,31,13],[31,16,31,17],[31,18,31,19],[31,24,31,25],[32,10,32,11],[32,12,32,13],[32,16,32,17],[32,18,32,19],[32,22,32,23],[32,24,32,25],[31,22,31,23],[33,24,33,25],[39,1,39,2],[39,20,39,23],[40,15,40,16],[40,20,40,23],[36,1,36,2],[36,10,36,11],[36,12,36,13],[36,16,36,17],[36,18,36,19],[36,22,36,23],[36,24,36,25],[37,10,37,11],[37,12,37,13],[37,16,37,17],[33,10,33,11],[37,24,37,25],[44,15,44,16],[44,20,44,23],[45,20,45,23],[47,1,47,2],[47,3,47,25],[42,15,42,16],[42,20,42,23],[43,15,43,16],[43,20,43,23]]}
[]
[null,"AQUATICS JAPANCUP CHAMPIONSHIP 2023",{"$nulls":18},"チーム申込書",{"$nulls":7},"Ver1.0"]
[null,null,"【 マスターズ未登録者・ジュニア用 】"]
[]
[null,null,"2023-12-24"]
[null,null,"会場：安城市スポーツセンター"]
[]
[null,"ﾌﾘｶﾞﾅ"]
[]
[null,"チーム名："]
[]
[null,"ﾌﾘｶﾞﾅ",{"$nulls":11},"ﾌﾘｶﾞﾅ"]
[]
[null,"チーム略称：",{"$nulls":8},"申込責任者："]
[]
[null,"連絡先住所：",null,"〒"]
[]
[]
[{"$nulls":4},"TEL：",{"$nulls":10},"FAX："]
[null,null,null,"電子ﾒｰﾙｱﾄﾞﾚｽ："]
[]
[null,"ﾌﾘｶﾞﾅ"]
[]
[null,"役員協力：",{"$nulls":10},"希望役職"]
[null,null,null,"２名以上ご協力いただける場合は、下の備考欄にご入力下さい。"]
[]
[null,"参加人数：",null,"マスターズ",{"$nulls":4},"女子",null,{"$f":"'個人種目(マスターズ)'!Y108","v":0},null,"名",null,"男子",null,{"$f":"'個人種目(マスターズ)'!Y56","v":0},null,"名",null,"合計",null,{"$f":"K27+Q27","v":0},null,"名"]
[null,null,null,"ジュニア",{"$nulls":4},"女子",null,{"$f":"'個人種目(ジュニア)'!Y108","v":0},null,"名",null,"男子",null,{"$f":"'個人種目(ジュニア)'!Y56","v":0},null,"名",null,"合計",null,{"$f":"K28+Q28","v":0},null,"名"]
[null,null,null,"合計",{"$nulls":4},"女子",null,{"$f":"K27+K28","v":0},null,"名",null,"男子",null,{"$f":"Q27+Q28","v":0},null,"名",null,"合計",null,{"$f":"K29+Q29","v":0},null,"名"]
[]
[]
[null,"個人種目：",null,"マスターズ",{"$nulls":4},"女子",null,{"$f":"'個人種目(マスターズ)'!Y109","v":0},null,"種目",null,"男子",null,{"$f":"'個人種目(マスターズ)'!Y57","v":0},null,"種目",null,"合計",null,{"$f":"K32+Q32","v":0},null,"種目"]
[null,null,null,"ジュニア",{"$nulls":4},"女子",null,{"$f":"'個人種目(ジュニア)'!Y109","v":0},null,"種目",null,"男子",null,{"$f":"'個人種目(ジュニア)'!Y57","v":0},null,"種目",null,"合計",null,{"$f":"K33+Q33","v":0},null,"種目"]
[null,null,null,"合計",{"$nulls":4},"女子",null,{"$f":"K32+K33","v":0},null,"種目",null,"男子",null,{"$f":"Q32+Q33","v":0},null,"種目",null,"合計",null,{"$f":"K34+Q34","v":0},null,"種目"]
[]
[]
[null,"リレー種目：",{"$nulls":6},"女子",null,{"$f":"リレー!AX22","v":0},null,"種目",null,"男子",null,{"$f":"リレー!AX23","v":0},null,"種目",null,"混合",null,{"$f":"リレー!AX24","v":0},null,"種目"]
[{"$nulls":20},"合計",null,{"$f":"リレー!AX25","v":0},null,"種目"]
[]
[null,"参加費：",null,"チーム参加費(プログラム１部含む)",{"$nulls":16},{"$f":"1500","v":1500},null,null,null,"円"]
[null,null,null,"個人参加費",{"$nulls":5},"１，０００円",{"$nulls":4},"×",{"$f":"W29","v":0},null,"名",null,"=",{"$f":"1000*P41","v":0},null,null,null,"円"]
[null,null,null,"個人種目ﾏｽﾀｰｽﾞ",{"$nulls":5},"１，５００円",{"$nulls":4},"×",{"$f":"W32","v":0},null,"種目",null,"=",{"$f":"1500*P42","v":0},null,null,null,"円"]
[null,null,null,"個人種目ｼﾞｭﾆｱ",{"$nulls":5},"１，２００円",{"$nulls":4},"×",{"$f":"W33","v":0},null,"種目",null,"=",{"$f":"1200*P43","v":0},null,null,null,"円"]
[null,null,null,"リレー種目",{"$nulls":5},"２，０００円",{"$nulls":4},"×",{"$f":"W38","v":0},null,"種目",null,"=",{"$f":"2000*P44","v":0},null,null,null,"円"]
[null,null,null,"プログラム",{"$nulls":5},"１，０００円",{"$nulls":4},"×",null,null,"冊",null,"=",{"$f":"1000*P45","v":0},null,null,null,"円"]
[{"$nulls":19},"参加費合計：",{"$f":"SUM(U40:X45)","v":1500},null,null,null,"円"]
[]
[null,"備考："]

{"sheet":"個人種目(マスターズ)","index":1,"n_rows":145,"n_cols":60,"rows_kept":145,"cut":false,"hidden":false,"merged":[[0,8,0,9],[3,50,3,54],[3,55,3,59],[3,6,3,7],[3,8,3,9],[3,10,3,11],[2,25,2,27],[3,12,3,13],[3,14,3,15],[3,45,3,49]]}
[{"$f":"申込書!B2","v":"AQUATICS JAPANCUP CHAMPIONSHIP 2023"},{"$nulls":7},"個人種目(マスターズ)",{"$nulls":25},"大会日：","2023-12-31",{"$nulls":6},{"$f":"YEAR(AJ1)&RIGHT(\"0\"&MONTH(AJ1),2)&RIGHT(\"0\"&DAY(AJ1),2)","v":"20231231"}]
[{"$nulls":8},"色のついた部分のみ入力願います。",{"$nulls":25},"学年起算日：","2023-12-31",{"$nulls":6},{"$f":"YEAR(AJ2)&RIGHT(\"0\"&MONTH(AJ2),2)&RIGHT(\"0\"&DAY(AJ2),2)","v":"20231231"}]
[null,{"$f":"IF(申込書!C6=\"\",\"チーム登録を行って下さい！\",申込書!C6)","v":"会場：安城市スポーツセンター"},{"$nulls":22},"出場","種目重複",{"$nulls":8},"学年"]
["No","姓","名","姓カナ","名カナ","生年月日","種目①",null,"種目②",null,"種目③",null,"種目④",null,"種目⑤",null,"年齢","学年",null,"①","②","③","④","⑤","種目数","①","②","③","④","⑤","生年月日","区分","学種","学年","年齢","幼児～小６","種目No","距離",{"$nulls":7},"種目No",{"$nulls":4},"距離",{"$nulls":4},"エントリータイム"]
["【　男子　】",{"$nulls":5},"種　　目","ｴﾝﾄﾘｰﾀｲﾑ","種　　目","ｴﾝﾄﾘｰﾀｲﾑ","種　　目","ｴﾝﾄﾘｰﾀｲﾑ","種　　目","ｴﾝﾄﾘｰﾀｲﾑ","種　　目","ｴﾝﾄﾘｰﾀｲﾑ",{"$nulls":29},"①","②","③","④","⑤","①","②","③","④","⑤","①","②","③","④","⑤"]
[{"$f":"IF(F6=\"\",\"\",1)","v":""},{"$nulls":15},{"$f":"IF(F6=\"\",\"\",INT(($AQ$1-AE6)/10000))","v":""},{"$f":"IF(ISERROR(VLOOKUP($AI6,$AK$59:$AL$145,2,0)),\"\",VLOOKUP($AI6,$AK$59:$AL$145,2,0))","v":""},null,{"$f":"IF(G6=\"\",0,1)","v":0},{"$f":"IF(I6=\"\",0,1)","v":0},{"$f":"IF(K6=\"\",0,1)","v":0},{"$f":"IF(M6=\"\",0,1)","v":0},{"$f":"IF(O6=\"\",0,1)","v":0},{"$f":"SUM(T6:X6)","v":0},{"$f":"IF(G6=\"\",0,IF(OR(G6=I6,G6=K6,G6=M6,G6=O6),1,0))","v":0},{"$f":"IF(I6=\"\",0,IF(OR(G6=I6,I6=K6,I6=M6,I6=O6),1,0))","v":0},{"$f":"IF(K6=\"\",0,IF(OR(K6=G6,I6=K6,K6=M6,K6=O6),1,0))","v":0},{"$f":"IF(M6=\"\",0,IF(OR(G6=M6,I6=M6,K6=M6,M6=O6),1,0))","v":0},{"$f":"IF(O6=\"\",0,IF(OR(G6=O6,I6=O6,K6=O6,M6=O6),1,0))","v":0},{"$f":"YEAR(F6)&RIGHT(\"0\"&MONTH(F6),2)&RIGHT(\"0\"&DAY(F6),2)","v":"19000100"},{"$f":"IF(ISERROR(VLOOKUP($AI6,$AK$59:$AP$145,5,0)),\"\",VLOOKUP($AI6,$AK$59:$AP$145,5,0))","v":""},{"$f":"IF(ISERROR(VLOOKUP($AI6,$AK$59:$AN$145,3,0)),\"\",VLOOKUP($AI6,$AK$59:$AN$145,3,0))","v":""},{"$f":"IF(ISERROR(VLOOKUP($AI6,$AK$59:$AN$145,4,0)),\"\",VLOOKUP($AI6,$AK$59:$AN$145,4,0))","v":""},{"$f":"IF(F6=\"\",\"\",INT(($AQ$2-AE6)/10000))","v":""},"  25m自　由　形",1,25,null,null,null,1,{"$f":"LEN(TRIM(B6))+LEN(TRIM(C6))","v":0},{"$f":"IF(AQ6=2,TRIM(B6)&\"      \"&TRIM(C6),IF(AQ6=3,TRIM(B6)&\"    \"&TRIM(C6),IF(AQ6=4,TRIM(B6)&\"  \"&TRIM(C6),TRIM(B6)&TRIM(C6))))","v":""},{"$f":"D6&\" \"&E6","v":" "},{"$f":"IF($G6=\"\",\"\",VLOOKUP($G6,$AJ$6:$AL$61,2,0))","v":""},{"$f":"IF($I6=\"\",\"\",VLOOKUP($I6,$AJ$6:$AL$61,2,0))","v":""},{"$f":"IF($K6=\"\",\"\",VLOOKUP($K6,$AJ$6:$AL$61,2,0))","v":""},{"$f":"IF($M6=\"\",\"\",VLOOKUP($M6,$AJ$6:$AL$61,2,0))","v":""},{"$f":"IF($O6=\"\",\"\",VLOOKUP($O6,$AJ$6:$AL$61,2,0))","v":""},{"$f":"IF($G6=\"\",\"\",VLOOKUP($G6,$AJ$6:$AL$61,3,0))","v":""},{"$f":"IF($I6=\"\",\"\",VLOOKUP($I6,$AJ$6:$AL$61,3,0))","v":""},{"$f":"IF($K6=\"\",\"\",VLOOKUP($K6,$AJ$6:$AL$61,3,0))","v":""},{"$f":"IF($M6=\"\",\"\",VLOOKUP($M6,$AJ$6:$AL$61,3,0))","v":""},{"$f":"IF($O6=\"\",\"\",VLOOKUP($O6,$AJ$6:$AL$61,3,0))","v":""},{"$f":"IF(H6=\"\",\"999:99.99\",\" \"&LEFT(RIGHT(\"        \"&TEXT(H6,\"0.00\"),7),2)&\":\"&RIGHT(TEXT(H6,\"0.00\"),5))","v":"999:99.99"},{"$f":"IF(J6=\"\",\"999:99.99\",\" \"&LEFT(RIGHT(\"        \"&TEXT(J6,\"0.00\"),7),2)&\":\"&RIGHT(TEXT(J6,\"0.00\"),5))","v":"999:99.99"},{"$f":"IF(L6=\"\",\"999:99.99\",\" \"&LEFT(RIGHT(\"        \"&TEXT(L6,\"0.00\"),7),2)&\":\"&RIGHT(TEXT(L6,\"0.00\"),5))","v":"999:99.99"},{"$f":"IF(N6=\"\",\"999:99.99\",\" \"&LEFT(RIGHT(\"        \"&TEXT(N6,\"0.00\"),7),2)&\":\"&RIGHT(TEXT(N6,\"0.00\"),5))","v":"999:99.99"},{"$f":"IF(P6=\"\",\"999:99.99\",\" \"&LEFT(RIGHT(\"        \"&TEXT(P6,\"0.00\"),7),2)&\":\"&RIGHT(TEXT(P6,\"0.00\"),5))","v":"999:99.99"}]
[{"$f":"IF(F7=\"\",\"\",A6+1)","v":""},{"$nulls":15},{"$f":"IF(F7=\"\",\"\",INT(($AQ$1-AE7)/10000))","v":""},{"$f":"IF(ISERROR(VLOOKUP($AI7,$AK$59:$AL$145,2,0)),\"\",VLOOKUP($AI7,$AK$59:$AL$145,2,0))","v":""},null,0,{"$f":"IF(I7=\"\",0,1)","v":0},0,{"$f":"IF(M7=\"\",0,1)","v":0},{"$f":"IF(O7=\"\",0,1)","v":0},{"$f":"SUM(T7:X7)","v":0},{"$f":"IF(G7=\"\",0,IF(OR(G7=I7,G7=K7,G7=M7,G7=O7),1,0))","v":0},{"$f":"IF(I7=\"\",0,IF(OR(G7=I7,I7=K7,I7=M7,I7=O7),1,0))","v":0},{"$f":"IF(K7=\"\",0,IF(OR(K7=G7,I7=K7,K7=M7,K7=O7),1,0))","v":0},{"$f":"IF(M7=\"\",0,IF(OR(G7=M7,I7=M7,K7=M7,M7=O7),1,0))","v":0},{"$f":"IF(O7=\"\",0,IF(OR(G7=O7,I7=O7,K7=O7,M7=O7),1,0))","v":0},{"$f":"YEAR(F7)&RIGHT(\"0\"&MONTH(F7),2)&RIGHT(\"0\"&DAY(F7),2)","v":"19000100"},{"$f":"IF(ISERROR(VLOOKUP($AI7,$AK$59:$AP$145,5,0)),\"\",VLOOKUP($AI7,$AK$59:$AP$145,5,0))","v":""},{"$f":"IF(ISERROR(VLOOKUP($AI7,$AK$59:$AN$145,3,0)),\"\",VLOOKUP($AI7,$AK$59:$AN$145,3,0))","v":""},{"$f":"IF(ISERROR(VLOOKUP($AI7,$AK$59:$AN$145,4,0)),\"\",VLOOKUP($AI7,$AK$59:$AN$145,4,0))","v":""},{"$f":"IF(F7=\"\",\"\",INT(($AQ$2-AE7)/10000))","v":""},"  25m背　泳　ぎ",2,25,null,null,null,2,{"$f":"LEN(TRIM(B7))+LEN(TRIM(C7))","v":0},""," ",{"$f":"IF($G7=\"\",\"\",VLOOKUP($G7,$AJ$6:$AL$61,2,0))","v":""},{"$f":"IF($I7=\"\",\"\",VLOOKUP($I7,$AJ$6:$AL$61,2,0))","v":""},{"$f":"IF($K7=\"\",\"\",VLOOKUP($K7,$AJ$6:$AL$61,2,0))","v":""},{"$f":"IF($M7=\"\",\"\",VLOOKUP($M7,$AJ$6:$AL$61,2,0))","v":""},{"$f":"IF($O7=\"\",\"\",VLOOKUP($O7,$AJ$6:$AL$61,2,0))","v":""},{"$f":"IF($G7=\"\",\"\",VLOOKUP($G7,$AJ$6:$AL$61,3,0))","v":""},{"$f":"IF($I7=\"\",\"\",VLOOKUP($I7,$AJ$6:$AL$61,3,0))","v":""},{"$f":"IF($K7=\"\",\"\",VLOOKUP($K7,$AJ$6:$AL$61,3,0))","v":""},{"$f":"IF($M7=\"\",\"\",VLOOKUP($M7,$AJ$6:$AL$61,3,0))","v":""},{"$f":"IF($O7=\"\",\"\",VLOOKUP($O7,$AJ$6:$AL$61,3,0))","v":""},"999:99.99",{"$f":"IF(J7=\"\",\"999:99.99\",\" \"&LEFT(RIGHT(\"        \"&TEXT(J7,\"0.00\"),7),2)&\":\"&RIGHT(TEXT(J7,\"0.00\"),5))","v":"999:99.99"},{"$f":"IF(L7=\"\",\"999:99.99\",\" \"&LEFT(RIGHT(\"        \"&TEXT(L7,\"0.00\"),7),2)&\":\"&RIGHT(TEXT(L7,\"0.00\"),5))","v":"999:99.99"},{"$f":"IF(N7=\"\",\"999:99.99\",\" \"&LEFT(RIGHT(\"        \"&TEXT(N7,\"0.00\"),7),2)&\":\"&RIGHT(TEXT(N7,\"0.00\"),5))","v":"999:99.99"},{"$f":"IF(P7=\"\",\"999:99.99\",\" \"&LEFT(RIGHT(\"        \"&TEXT(P7,\"0.00\"),7),2)&\":\"&RIGHT(TEXT(P7,\"0.00\"),5))","v":"999:99.99"}]
["",{"$nulls":15},"","",null,0,0,0,0,0,0,0,0,0,0,0,"19000100","","","","","  25m平　泳　ぎ",3,25,null,null,null,3,0,""," ","","","","","","","","","","","999:99.99","999:99.99","999:99.99","999:99.99","999:99.99"]
["",{"$nulls":15},"","",null,0,0,0,0,0,0,0,0,0,0,{"$f":"IF(O9=\"\",0,IF(OR(G9=O9,I9=O9,K9=O9,M9=O9),1,0))","v":0},"19000100","","","","","  25mバタフライ",4,25,null,null,null,4,0,""," ","","","","","","","","",{"$f":"IF($M9=\"\",\"\",VLOOKUP($M9,$AJ$6:$AL$61,3,0))","v":""},"","999:99.99","999:99.99","999:99.99","999:99.99","999:99.99"]
["",{"$nulls":15},"","",null,0,0,0,0,0,0,0,0,0,0,0,"19000100","","","","","  50m自　由　形",1,50,null,null,null,5,0,""," ","","","","","","","","","","","999:99.99","999:99.99","999:99.99","999:99.99","999:99.99"]
["",{"$nulls":15},{"$f":"IF(F11=\"\",\"\",INT(($AQ$1-AE11)/10000))","v":""},"",null,0,0,0,0,0,0,0,0,0,0,0,"19000100","","","","","  50m背　泳　ぎ",2,50,null,null,null,6,0,""," ","","","","","","","","","","","999:99.99","999:99.99","999:99.99","999:99.99","999:99.99"]
["",{"$nulls":15},"","",null,0,0,0,0,0,0,0,0,0,0,0,"19000100","","","","","  50m平　泳　ぎ",3,50,null,null,null,7,0,""," ","","","","","","","","","","","999:99.99","999:99.99","999:99.99","999:99.99","999:99.99"]
["",{"$nulls":15},"","",null,0,0,0,0,0,0,0,0,0,0,0,"19000100","","","","","  50mバタフライ",4,50,null,null,null,8,0,""," ","","","","","","","","","","","999:99.99","999:99.99","999:99.99","999:99.99","999:99.99"]
["",{"$nulls":15},"","",null,0,0,0,0,0,0,0,0,0,0,0,"19000100","","","","",{"$nulls":6},9,0,""," ","","","","","","","","","","","999:99.99","999:99.99","999:99.99","999:99.99","999:99.99"]
["",{"$nulls":15},"","",null,0,0,0,0,0,0,0,0,0,0,0,"19000100","","","","",{"$nulls":6},10,0,""," ","","","","","","","","","","","999:99.99","999:99.99","999:99.99","999:99.99","999:99.99"]
["",{"$nulls":15},"","",null,0,0,0,0,0,0,0,0,0,0,0,"19000100","","","","",{"$nulls":6},11,0,""," ","","","","","","","","","","","999:99.99","999:99.99","999:99.99","999:99.99","999:99.99"]
["",{"$nulls":15},"","",null,0,0,0,0,0,0,0,0,0,0,0,"19000100","","","","",{"$nulls":6},12,0,""," ","","","","","","","","","","","999:99.99","999:99.99","999:99.99","999:99.99","999:99.99"]
["",{"$nulls":15},"","",null,0,0,0,0,0,0,0,0,0,0,0,"19000100","","","","",{"$nulls":6},13,0,""," ","","","","","","","","","","","999:99.99","999:99.99","999:99.99","999:99.99","999:99.99"]
["",{"$nulls":15},"","",null,0,0,0,0,0,0,0,0,0,0,0,"19000100","","","","",{"$nulls":6},14,0,""," ","","","","","","","","","","","999:99.99","999:99.99","999:99.99","999:99.99","999:99.99"]
["",{"$nulls":15},"","",null,0,0,0,0,0,0,0,0,0,0,0,"19000100","","","","",{"$nulls":6},15,0,""," ","","","","","","","","","","","999:99.99","999:99.99","999:99.99","999:99.99","999:99.99"]
["",{"$nulls":15},"","",null,0,0,0,0,0,0,0,0,0,0,0,"19000100","","","","",{"$nulls":6},16,0,""," ","","","","","","","","","","","999:99.99","999:99.99","999:99.99","999:99.99","999:99.99"]
[{"$f":"IF(F22=\"\",\"\",A21+1)","v":""},{"$nulls":15},{"$f":"IF(F22=\"\",\"\",INT(($AQ$1-AE22)/10000))","v":""},"",null,{"$f":"IF(G22=\"\",0,1)","v":0},{"$f":"IF(I22=\"\",0,1)","v":0},0,0,0,0,{"$f":"IF(G22=\"\",0,IF(OR(G22=I22,G22=K22,G22=M22,G22=O22),1,0))","v":0},{"$f":"IF(I22=\"\",0,IF(OR(G22=I22,I22=K22,I22=M22,I22=O22),1,0))","v":0},{"$f":"IF(K22=\"\",0,IF(OR(K22=G22,I22=K22,K22=M22,K22=O22),1,0))","v":0},{"$f":"IF(M22=\"\",0,IF(OR(G22=M22,I22=M22,K22=M22,M22=O22),1,0))","v":0},{"$f":"IF(O22=\"\",0,IF(OR(G22=O22,I22=O22,K22=O22,M22=O22),1,0))","v":0},{"$f":"YEAR(F22)&RIGHT(\"0\"&MONTH(F22),2)&RIGHT(\"0\"&DAY(F22),2)","v":"19000100"},"","","",{"$f":"IF(F22=\"\",\"\",INT(($AQ$2-AE22)/10000))","v":""},{"$nulls":6},17,{"$f":"LEN(TRIM(B22))+LEN(TRIM(C22))","v":0},{"$f":"IF(AQ22=2,TRIM(B22)&\"      \"&TRIM(C22),IF(AQ22=3,TRIM(B22)&\"    \"&TRIM(C22),IF(AQ22=4,TRIM(B22)&\"  \"&TRIM(C22),TRIM(B22)&TRIM(C22))))","v":""},{"$f":"D22&\" \"&E22","v":" "},{"$f":"IF($G22=\"\",\"\",VLOOKUP($G22,$AJ$6:$AL$61,2,0))","v":""},{"$f":"IF($I22=\"\",\"\",VLOOKUP($I22,$AJ$6:$AL$61,2,0))","v":""},"","","",{"$f":"IF($G22=\"\",\"\",VLOOKUP($G22,$AJ$6:$AL$61,3,0))","v":""},{"$f":"IF($I22=\"\",\"\",VLOOKUP($I22,$AJ$6:$AL$61,3,0))","v":""},"","","",{"$f":"IF(H22=\"\",\"999:99.99\",\" \"&LEFT(RIGHT(\"        \"&TEXT(H22,\"0.00\"),7),2)&\":\"&RIGHT(TEXT(H22,\"0.00\"),5))","v":"999:99.99"},{"$f":"IF(J22=\"\",\"999:99.99\",\" \"&LEFT(RIGHT(\"        \"&TEXT(J22,\"0.00\"),7),2)&\":\"&RIGHT(TEXT(J22,\"0.00\"),5))","v":"999:99.99"},"999:99.99","999:99.99","999:99.99"]
["",{"$nulls":15},"","",null,0,0,0,0,0,0,0,0,0,0,0,"19000100","","","","",{"$nulls":6},18,0,""," ","","","","","","","","","","","999:99.99","999:99.99","999:99.99","999:99.99","999:99.99"]
["",{"$nulls":15},"","",null,0,0,0,0,0,0,0,0,0,0,0,"19000100","","","","",{"$nulls":6},19,0,""," ","","","","","","","","","","","999:99.99","999:99.99","999:99.99","999:99.99","999:99.99"]
["",{"$nulls":15},"","",null,0,0,0,0,0,0,0,0,0,0,0,"19000100","","","","",{"$nulls":6},20,0,""," ","","","","","","","","","","","999:99.99","999:99.99","999:99.99","999:99.99","999:99.99"]
["",{"$nulls":15},"","",null,0,0,0,0,0,0,0,0,0,0,0,"19000100","","","","",{"$nulls":6},21,0,""," ","","","","","","","","","","","999:99.99","999:99.99","999:99.99","999:99.99","999:99.99"]
["",{"$nulls":15},"","",null,0,0,0,0,0,0,0,0,0,0,0,"19000100","","","","",{"$nulls":6},22,0,""," ","","","","","","","","","","","999:99.99","999:99.99","999:99.99","999:99.99","999:99.99"]
["",{"$nulls":15},"","",null,0,0,0,0,0,0,0,0,0,0,0,"19000100","","","","",{"$nulls":6},23,0,""," ","","","","","","","","","","","999:99.99","999:99.99","999:99.99","999:99.99","999:99.99"]
["",{"$nulls":15},"","",null,0,0,0,0,0,0,0,0,0,0,0,"19000100","","","","",{"$nulls":6},24,0,""," ","","","","","","","","","","","999:99.99","999:99.99","999:99.99","999:99.99","999:99.99"]
["",{"$nulls":15},"","",null,0,0,0,0,0,0,0,0,0,0,0,"19000100","","","","",{"$nulls":6},25,0,""," ","","","","","","","","","","","999:99.99","999:99.99","999:99.99","999:99.99","999:99.99"]
["",{"$nulls":15},"","",null,0,0,0,0,0,0,0,0,0,0,0,"19000100","","","","",{"$nulls":6},26,0,""," ","","","","","","","","","","","999:99.99","999:99.99","999:99.99","999:99.99","999:99.99"]
["",{"$nulls":15},"","",null,0,0,0,0,0,0,0,0,0,0,0,"19000100","","","","",{"$nulls":6},27,0,""," ","","","","","","","","","","","999:99.99","999:99.99","999:99.99","999:99.99","999:99.99"]
["",{"$nulls":15},"","",null,0,0,0,0,0,0,0,0,0,0,0,"19000100","","","","",{"$nulls":6},28,0,""," ","","","","","","","","","","","999:99.99","999:99.99","999:99.99","999:99.99","999:99.99"]
["",{"$nulls":15},"","",null,0,0,0,0,0,0,0,0,0,0,0,"19000100","","","","",{"$nulls":6},29,0,""," ","","","","","","","","","","","999:99.99","999:99.99","999:99.99","999:99.99","999:99.99"]
["",{"$nulls":15},"","",null,0,0,0,0,0,0,0,0,0,0,0,"19000100","","","","",{"$nulls":6},30,0,""," ","","","","","","","","","","","999:99.99","999:99.99","999:99.99","999:99.99","999:99.99"]
["",{"$nulls":15},"","",null,0,0,0,0,0,0,0,0,0,0,0,"19000100","","","","",{"$nulls":6},31,0,""," ","","","","","","","","","","","999:99.99","999:99.99","999:99.99","999:99.99","999:99.99"]
["",{"$nulls":15},"","",null,0,0,0,0,0,0,0,0,0,0,0,"19000100","","","","",{"$nulls":6},32,0,""," ","","","","","","","","","","","999:99.99","999:99.99","999:99.99","999:99.99","999:99.99"]
["",{"$nulls":15},{"$f":"IF(F38=\"\",\"\",INT(($AQ$1-AE38)/10000))","v":""},"",null,{"$f":"IF(G38=\"\",0,1)","v":0},0,{"$f":"IF(K38=\"\",0,1)","v":0},0,0,0,0,0,0,0,0,{"$f":"YEAR(F38)&RIGHT(\"0\"&MONTH(F38),2)&RIGHT(\"0\"&DAY(F38),2)","v":"19000100"},"","","",{"$f":"IF(F38=\"\",\"\",INT(($AQ$2-AE38)/10000))","v":""},{"$nulls":6},33,{"$f":"LEN(TRIM(B38))+LEN(TRIM(C38))","v":0},{"$f":"IF(AQ38=2,TRIM(B38)&\"      \"&TRIM(C38),IF(AQ38=3,TRIM(B38)&\"    \"&TRIM(C38),IF(AQ38=4,TRIM(B38)&\"  \"&TRIM(C38),TRIM(B38)&TRIM(C38))))","v":""},{"$f":"D38&\" \"&E38","v":" "},"","","","","","","","","","",{"$f":"IF(H38=\"\",\"999:99.99\",\" \"&LEFT(RIGHT(\"        \"&TEXT(H38,\"0.00\"),7),2)&\":\"&RIGHT(TEXT(H38,\"0.00\"),5))","v":"999:99.99"},"999:99.99","999:99.99","999:99.99","999:99.99"]
[{"$f":"IF(F39=\"\",\"\",A38+1)","v":""},{"$nulls":15},"","",null,0,{"$f":"IF(I39=\"\",0,1)","v":0},0,0,0,0,0,0,0,0,0,"19000100","","","","",{"$nulls":6},34,0,""," ","","","","","","","","","","","999:99.99","999:99.99","999:99.99","999:99.99","999:99.99"]
["",{"$nulls":15},"","",null,0,{"$f":"IF(I40=\"\",0,1)","v":0},0,0,0,0,0,0,0,0,0,"19000100","","","","",{"$nulls":6},35,0,""," ","","","","","","","","","","","999:99.99","999:99.99","999:99.99","999:99.99","999:99.99"]
["",{"$nulls":15},"","",null,0,{"$f":"IF(I41=\"\",0,1)","v":0},0,0,0,0,0,0,0,0,0,"19000100","","","","",{"$nulls":6},36,0,""," ","","","","","","","","","","","999:99.99","999:99.99","999:99.99","999:99.99","999:99.99"]
["",{"$nulls":15},"","",null,0,0,0,0,0,0,0,0,0,0,0,"19000100","","","","",{"$nulls":6},37,0,""," ","","","","","","","","","","","999:99.99","999:99.99","999:99.99","999:99.99","999:99.99"]
["",{"$nulls":15},"","",null,0,0,0,0,0,0,0,0,0,0,0,"19000100","","","","",{"$nulls":6},38,0,""," ","","","","","","","","","","","999:99.99","999:99.99","999:99.99","999:99.99","999:99.99"]
["",{"$nulls":15},"","",null,0,0,0,0,0,0,0,0,0,0,0,"19000100","","","","",{"$nulls":6},39,0,""," ","","","","","","","","","","","999:99.99","999:99.99","999:99.99","999:99.99","999:99.99"]
["",{"$nulls":15},"","",null,0,0,0,0,0,0,0,0,0,0,0,"19000100","","","","",{"$nulls":6},40,0,""," ","","","","","","","","","","","999:99.99","999:99.99","999:99.99","999:99.99","999:99.99"]
["",{"$nulls":15},"","",null,0,0,0,0,0,0,0,0,0,0,0,"19000100","","","","",{"$nulls":6},41,0,""," ","","","","","","","","","","","999:99.99","999:99.99","999:99.99","999:99.99","999:99.99"]
["",{"$nulls":15},"","",null,0,0,0,0,0,0,0,0,0,0,0,"19000100","","","","",{"$nulls":6},42,0,""," ","","","","","","","","","","","999:99.99","999:99.99","999:99.99","999:99.99","999:99.99"]
["",{"$nulls":15},"","",null,0,0,0,0,0,0,0,0,0,0,0,"19000100","","","","",{"$nulls":6},43,0,""," ","","","","","","","","","","","999:99.99","999:99.99","999:99.99","999:99.99","999:99.99"]
["",{"$nulls":15},"","",null,0,0,0,0,0,0,0,0,0,0,0,"19000100","","","","",{"$nulls":6},44,0,""," ","","","","","","","","","","","999:99.99","999:99.99","999:99.99","999:99.99","999:99.99"]
["",{"$nulls":15},"","",null,0,0,0,0,0,0,0,0,0,0,0,"19000100","","","","",{"$nulls":6},45,0,""," ","","","","","","","","","","","999:99.99","999:99.99","999:99.99","999:99.99","999:99.99"]
["",{"$nulls":15},"","",null,0,0,0,0,0,0,0,0,0,0,0,"19000100","","","","",{"$nulls":6},46,0,""," ","","","","","","","","","","","999:99.99","999:99.99","999:99.99","999:99.99","999:99.99"]
["",{"$nulls":15},"","",null,0,0,0,0,0,0,0,0,0,0,0,"19000100","","","","",{"$nulls":6},47,0,""," ","","","","","","","","","","","999:99.99","999:99.99","999:99.99","999:99.99","999:99.99"]
["",{"$nulls":15},"","",null,0,0,0,0,0,0,0,0,0,0,0,"19000100","","","","",{"$nulls":6},48,0,""," ","","","","","","","","","","","999:99.99","999:99.99","999:99.99","999:99.99","999:99.99"]
["",{"$nulls":15},"","",null,0,0,0,0,0,0,0,0,0,0,0,"19000100","","","","",{"$nulls":6},49,0,""," ","","","","","","","","","","","999:99.99","999:99.99","999:99.99","999:99.99","999:99.99"]
["",{"$nulls":15},"","",null,0,0,0,0,0,0,0,0,0,0,0,"19000100","","","","",{"$nulls":6},50,0,""," ","","","","","","","","","","","999:99.99","999:99.99","999:99.99","999:99.99","999:99.99"]
[{"$nulls":16},"","",{"$nulls":6},{"$f":"50-COUNTIF(Y6:Y55,0)","v":0},{"$nulls":6},"","","","",{"$nulls":10},{"$f":"IF($G56=\"\",\"\",VLOOKUP($G56,$AJ$6:$AM$61,3,0))","v":""},{"$f":"IF($I56=\"\",\"\",VLOOKUP($I56,$AJ$6:$AM$61,3,0))","v":""}]
["【　女子　】",{"$nulls":5},"種　　目","ｴﾝﾄﾘｰﾀｲﾑ","種　　目","ｴﾝﾄﾘｰﾀｲﾑ","種　　目","ｴﾝﾄﾘｰﾀｲﾑ","種　　目","ｴﾝﾄﾘｰﾀｲﾑ","種　　目","ｴﾝﾄﾘｰﾀｲﾑ","","",{"$nulls":6},{"$f":"SUM(Y6:Y55)","v":0},{"$nulls":6},"","","",""]
[{"$f":"IF(F58=\"\",\"\",1)","v":""},{"$nulls":15},"","",null,{"$f":"IF(G58=\"\",0,1)","v":0},{"$f":"IF(I58=\"\",0,1)","v":0},{"$f":"IF(K58=\"\",0,1)","v":0},{"$f":"IF(M58=\"\",0,1)","v":0},{"$f":"IF(O58=\"\",0,1)","v":0},{"$f":"SUM(T58:X58)","v":0},0,0,0,0,0,{"$f":"YEAR(F58)&RIGHT(\"0\"&MONTH(F58),2)&RIGHT(\"0\"&DAY(F58),2)","v":"19000100"},"","","","",null,null,null,"学種","学年","区分",51,{"$f":"LEN(TRIM(B58))+LEN(TRIM(C58))","v":0},{"$f":"IF(AQ58=2,TRIM(B58)&\"      \"&TRIM(C58),IF(AQ58=3,TRIM(B58)&\"    \"&TRIM(C58),IF(AQ58=4,TRIM(B58)&\"  \"&TRIM(C58),TRIM(B58)&TRIM(C58))))","v":""},{"$f":"D58&\" \"&E58","v":" "},{"$f":"IF($G58=\"\",\"\",VLOOKUP($G58,$AJ$6:$AL$61,2,0))","v":""},{"$f":"IF($I58=\"\",\"\",VLOOKUP($I58,$AJ$6:$AL$61,2,0))","v":""},{"$f":"IF($K58=\"\",\"\",VLOOKUP($K58,$AJ$6:$AL$61,2,0))","v":""},"","",{"$f":"IF($G58=\"\",\"\",VLOOKUP($G58,$AJ$6:$AL$61,3,0))","v":""},{"$f":"IF($I58=\"\",\"\",VLOOKUP($I58,$AJ$6:$AL$61,3,0))","v":""},{"$f":"IF($K58=\"\",\"\",VLOOKUP($K58,$AJ$6:$AL$61,3,0))","v":""},"","",{"$f":"IF(H58=\"\",\"999:99.99\",\" \"&LEFT(RIGHT(\"        \"&TEXT(H58,\"0.00\"),7),2)&\":\"&RIGHT(TEXT(H58,\"0.00\"),5))","v":"999:99.99"},"999:99.99",{"$f":"IF(L58=\"\",\"999:99.99\",\" \"&LEFT(RIGHT(\"        \"&TEXT(L58,\"0.00\"),7),2)&\":\"&RIGHT(TEXT(L58,\"0.00\"),5))","v":"999:99.99"},"999:99.99","999:99.99"]
[{"$f":"IF(F59=\"\",\"\",A58+1)","v":""},{"$nulls":15},"","",null,0,{"$f":"IF(I59=\"\",0,1)","v":0},0,{"$f":"IF(M59=\"\",0,1)","v":0},{"$f":"IF(O59=\"\",0,1)","v":0},{"$f":"SUM(T59:X59)","v":0},0,0,0,0,0,"19000100","","","","",null,18,18,0,0,18,52,0,""," ",{"$f":"IF($G59=\"\",\"\",VLOOKUP($G59,$AJ$6:$AL$61,2,0))","v":""},{"$f":"IF($I59=\"\",\"\",VLOOKUP($I59,$AJ$6:$AL$61,2,0))","v":""},{"$f":"IF($K59=\"\",\"\",VLOOKUP($K59,$AJ$6:$AL$61,2,0))","v":""},"","",{"$f":"IF($G59=\"\",\"\",VLOOKUP($G59,$AJ$6:$AL$61,3,0))","v":""},{"$f":"IF($I59=\"\",\"\",VLOOKUP($I59,$AJ$6:$AL$61,3,0))","v":""},{"$f":"IF($K59=\"\",\"\",VLOOKUP($K59,$AJ$6:$AL$61,3,0))","v":""},"","","999:99.99","999:99.99",{"$f":"IF(L59=\"\",\"999:99.99\",\" \"&LEFT(RIGHT(\"        \"&TEXT(L59,\"0.00\"),7),2)&\":\"&RIGHT(TEXT(L59,\"0.00\"),5))","v":"999:99.99"},"999:99.99","999:99.99"]
["",{"$nulls":15},"","",null,0,0,0,0,0,0,0,0,0,0,0,"19000100","","","","",null,19,19,0,0,18,53,0,""," ","","","","","","","","","","","999:99.99","999:99.99","999:99.99","999:99.99","999:99.99"]
["",{"$nulls":15},"","",null,0,0,0,0,0,0,0,0,0,0,0,"19000100","","","","",null,20,20,0,0,18,54,0,""," ","","","","","","","","","","","999:99.99","999:99.99","999:99.99","999:99.99","999:99.99"]
["",{"$nulls":15},"","",null,0,0,0,0,0,0,0,0,0,0,0,"19000100","","","","",null,21,21,0,0,18,55,0,""," ","","","","","","","","","","","999:99.99","999:99.99","999:99.99","999:99.99","999:99.99"]
["",{"$nulls":15},"","",null,0,0,0,0,0,0,0,0,0,0,0,"19000100","","","","",null,22,22,0,0,18,56,0,""," ","","","","","","","","","","","999:99.99","999:99.99","999:99.99","999:99.99","999:99.99"]
["",{"$nulls":15},"","",null,0,0,0,0,0,0,0,0,0,0,0,"19000100","","","","",null,23,23,0,0,18,57,0,""," ","","","","","","","","","","","999:99.99","999:99.99","999:99.99","999:99.99","999:99.99"]
["",{"$nulls":15},"","",null,0,0,0,0,0,0,0,0,0,0,0,"19000100","","","","",null,24,24,0,0,18,58,0,""," ","","","","","","","","","","","999:99.99","999:99.99","999:99.99","999:99.99","999:99.99"]
["",{"$nulls":15},"","",null,0,0,0,0,0,0,0,0,0,0,0,"19000100","","","","",null,25,25,0,0,25,59,0,""," ","","","","","","","","","","","999:99.99","999:99.99","999:99.99","999:99.99","999:99.99"]
["",{"$nulls":15},"","",null,0,0,0,0,0,0,0,0,0,0,0,"19000100","","","","",null,26,26,0,0,25,60,0,""," ","","","","","","","","","","","999:99.99","999:99.99","999:99.99","999:99.99","999:99.99"]
["",{"$nulls":15},"","",null,0,0,0,0,0,0,0,0,0,0,0,"19000100","","","","",null,27,27,0,0,25,61,0,""," ","","","","","","","","","","","999:99.99","999:99.99","999:99.99","999:99.99","999:99.99"]
["",{"$nulls":15},"","",null,0,0,0,0,0,0,0,0,0,0,0,"19000100","","","","",null,28,28,0,0,25,62,0,""," ","","","","","","","","","","","999:99.99","999:99.99","999:99.99","999:99.99","999:99.99"]
["",{"$nulls":15},{"$f":"IF(F70=\"\",\"\",INT(($AQ$1-AE70)/10000))","v":""},"",null,0,0,0,0,0,0,0,0,0,0,0,"19000100","","","",{"$f":"IF(F70=\"\",\"\",INT(($AQ$2-AE70)/10000))","v":""},null,29,29,0,0,25,63,0,""," ","","","","","","","","","","","999:99.99","999:99.99","999:99.99","999:99.99","999:99.99"]
["",{"$nulls":15},"",{"$f":"IF(ISERROR(VLOOKUP($AI71,$AK$59:$AL$145,2,0)),\"\",VLOOKUP($AI71,$AK$59:$AL$145,2,0))","v":""},null,0,0,0,0,0,0,{"$f":"IF(G71=\"\",0,IF(OR(G71=I71,G71=K71,G71=M71,G71=O71),1,0))","v":0},{"$f":"IF(I71=\"\",0,IF(OR(G71=I71,I71=K71,I71=M71,I71=O71),1,0))","v":0},{"$f":"IF(K71=\"\",0,IF(OR(K71=G71,I71=K71,K71=M71,K71=O71),1,0))","v":0},{"$f":"IF(M71=\"\",0,IF(OR(G71=M71,I71=M71,K71=M71,M71=O71),1,0))","v":0},{"$f":"IF(O71=\"\",0,IF(OR(G71=O71,I71=O71,K71=O71,M71=O71),1,0))","v":0},"19000100",{"$f":"IF(ISERROR(VLOOKUP($AI71,$AK$59:$AP$145,5,0)),\"\",VLOOKUP($AI71,$AK$59:$AP$145,5,0))","v":""},{"$f":"IF(ISERROR(VLOOKUP($AI71,$AK$59:$AN$145,3,0)),\"\",VLOOKUP($AI71,$AK$59:$AN$145,3,0))","v":""},{"$f":"IF(ISERROR(VLOOKUP($AI71,$AK$59:$AN$145,4,0)),\"\",VLOOKUP($AI71,$AK$59:$AN$145,4,0))","v":""},"",null,30,30,0,0,30,64,0,""," ","","","",{"$f":"IF($M71=\"\",\"\",VLOOKUP($M71,$AJ$6:$AL$61,2,0))","v":""},{"$f":"IF($O71=\"\",\"\",VLOOKUP($O71,$AJ$6:$AL$61,2,0))","v":""},"","","",{"$f":"IF($M71=\"\",\"\",VLOOKUP($M71,$AJ$6:$AL$61,3,0))","v":""},{"$f":"IF($O71=\"\",\"\",VLOOKUP($O71,$AJ$6:$AL$61,3,0))","v":""},"999:99.99",{"$f":"IF(J71=\"\",\"999:99.99\",\" \"&LEFT(RIGHT(\"        \"&TEXT(J71,\"0.00\"),7),2)&\":\"&RIGHT(TEXT(J71,\"0.00\"),5))","v":"999:99.99"},"999:99.99",{"$f":"IF(N71=\"\",\"999:99.99\",\" \"&LEFT(RIGHT(\"        \"&TEXT(N71,\"0.00\"),7),2)&\":\"&RIGHT(TEXT(N71,\"0.00\"),5))","v":"999:99.99"},{"$f":"IF(P71=\"\",\"999:99.99\",\" \"&LEFT(RIGHT(\"        \"&TEXT(P71,\"0.00\"),7),2)&\":\"&RIGHT(TEXT(P71,\"0.00\"),5))","v":"999:99.99"}]
["",{"$nulls":15},"","",null,0,0,0,0,0,0,0,0,0,0,0,"19000100","","","","",null,31,31,0,0,30,65,0,""," ","","","","","","","","","","","999:99.99","999:99.99","999:99.99","999:99.99","999:99.99"]
["",{"$nulls":15},"","",null,0,0,0,0,0,0,0,0,0,0,0,"19000100","","","","",null,32,32,0,0,30,66,0,""," ","","","","","","","","","","","999:99.99","999:99.99","999:99.99","999:99.99","999:99.99"]
["",{"$nulls":15},"","",null,0,0,0,0,0,0,0,0,0,0,0,"19000100","","","","",null,33,33,0,0,30,67,0,""," ","","","","","","","","","","","999:99.99","999:99.99","999:99.99","999:99.99","999:99.99"]
["",{"$nulls":15},"","",null,0,0,0,0,0,0,0,0,0,0,0,"19000100","","","","",null,34,34,0,0,30,68,0,""," ","","","","","","","","","","","999:99.99","999:99.99","999:99.99","999:99.99","999:99.99"]
["",{"$nulls":15},"","",null,0,0,0,0,0,0,0,0,0,0,0,"19000100","","","","",null,35,35,0,0,35,69,0,""," ","","","","","","","","","","","999:99.99","999:99.99","999:99.99","999:99.99","999:99.99"]
["",{"$nulls":15},"","",null,0,0,0,0,0,0,0,0,0,0,0,"19000100","","","","",null,36,36,0,0,35,70,0,""," ","","","","","","","","","","","999:99.99","999:99.99","999:99.99","999:99.99","999:99.99"]
["",{"$nulls":15},"","",null,0,0,0,0,0,0,0,0,0,0,0,"19000100","","","","",null,37,37,0,0,35,71,0,""," ","","","","","","","","","","","999:99.99","999:99.99","999:99.99","999:99.99","999:99.99"]
["",{"$nulls":15},"","",null,0,0,0,0,0,0,0,0,0,0,0,"19000100","","","","",null,38,38,0,0,35,72,0,""," ","","","","","","","","","","","999:99.99","999:99.99","999:99.99","999:99.99","999:99.99"]
["",{"$nulls":15},"","",null,0,0,0,0,0,0,0,0,0,0,0,"19000100","","","","",null,39,39,0,0,35,73,0,""," ","","","","","","","","","","","999:99.99","999:99.99","999:99.99","999:99.99","999:99.99"]
["",{"$nulls":15},"","",null,0,0,0,0,0,0,0,0,0,0,0,"19000100","","","","",null,40,40,0,0,40,74,0,""," ","","","","","","","","","","","999:99.99","999:99.99","999:99.99","999:99.99","999:99.99"]
["",{"$nulls":15},"","",null,0,0,0,0,0,0,0,0,0,0,0,"19000100","","","","",null,41,41,0,0,40,75,0,""," ","","","","","","","","","","","999:99.99","999:99.99","999:99.99","999:99.99","999:99.99"]
["",{"$nulls":15},"","",null,0,0,0,0,0,0,0,0,0,0,0,"19000100","","","","",null,42,42,0,0,40,76,0,""," ","","","","","","","","","","","999:99.99","999:99.99","999:99.99","999:99.99","999:99.99"]
["",{"$nulls":15},"","",null,0,0,0,0,0,0,0,0,0,0,0,"19000100","","","","",null,43,43,0,0,40,77,0,""," ","","","","","","","","","","","999:99.99","999:99.99","999:99.99","999:99.99","999:99.99"]
["",{"$nulls":15},"","",null,0,0,0,0,0,0,0,0,0,0,0,"19000100","","","","",null,44,44,0,0,40,78,0,""," ","","","","","","","","","","","999:99.99","999:99.99","999:99.99","999:99.99","999:99.99"]
["",{"$nulls":15},"","",null,0,0,0,0,0,0,0,0,0,0,0,"19000100","","","","",null,45,45,0,0,45,79,0,""," ","","","","","","","","","","","999:99.99","999:99.99","999:99.99","999:99.99","999:99.99"]
["",{"$nulls":15},"","",null,0,0,0,0,0,0,0,0,0,0,0,"19000100","","","","",null,46,46,0,0,45,80,0,""," ","","","","","","","","","","","999:99.99","999:99.99","999:99.99","999:99.99","999:99.99"]
["",{"$nulls":15},"","",null,0,0,0,0,0,0,0,0,0,0,0,"19000100","","","","",null,47,47,0,0,45,81,0,""," ","","","","","","","","","","","999:99.99","999:99.99","999:99.99","999:99.99","999:99.99"]
["",{"$nulls":15},"","",null,0,0,0,0,0,0,0,0,0,0,0,"19000100","","","","",null,48,48,0,0,45,82,0,""," ","","","","","","","","","","","999:99.99","999:99.99","999:99.99","999:99.99","999:99.99"]
["",{"$nulls":15},"","",null,{"$f":"IF(G90=\"\",0,1)","v":0},{"$f":"IF(I90=\"\",0,1)","v":0},{"$f":"IF(K90=\"\",0,1)","v":0},0,0,0,0,0,0,0,0,{"$f":"YEAR(F90)&RIGHT(\"0\"&MONTH(F90),2)&RIGHT(\"0\"&DAY(F90),2)","v":"19000100"},"","","","",null,49,49,0,0,45,83,{"$f":"LEN(TRIM(B90))+LEN(TRIM(C90))","v":0},{"$f":"IF(AQ90=2,TRIM(B90)&\"      \"&TRIM(C90),IF(AQ90=3,TRIM(B90)&\"    \"&TRIM(C90),IF(AQ90=4,TRIM(B90)&\"  \"&TRIM(C90),TRIM(B90)&TRIM(C90))))","v":""},{"$f":"D90&\" \"&E90","v":" "},"","","","","","","","","","",{"$f":"IF(H90=\"\",\"999:99.99\",\" \"&LEFT(RIGHT(\"        \"&TEXT(H90,\"0.00\"),7),2)&\":\"&RIGHT(TEXT(H90,\"0.00\"),5))","v":"999:99.99"},"999:99.99","999:99.99","999:99.99","999:99.99"]
[{"$f":"IF(F91=\"\",\"\",A90+1)","v":""},{"$nulls":15},"","",null,0,{"$f":"IF(I91=\"\",0,1)","v":0},0,0,0,0,0,0,0,0,0,"19000100","","","","",null,50,50,0,0,50,84,0,""," ","","","","","","","","","","","999:99.99","999:99.99","999:99.99","999:99.99","999:99.99"]
["",{"$nulls":15},"","",null,0,{"$f":"IF(I92=\"\",0,1)","v":0},0,0,0,0,0,0,0,0,0,"19000100","","","","",null,51,51,0,0,50,85,0,""," ","","","","","","","","","","","999:99.99","999:99.99","999:99.99","999:99.99","999:99.99"]
["",{"$nulls":15},"","",null,0,0,0,0,0,0,0,0,0,0,0,"19000100","","","","",null,52,52,0,0,50,86,0,""," ","","","","","","","","","","","999:99.99","999:99.99","999:99.99","999:99.99","999:99.99"]
["",{"$nulls":15},{"$f":"IF(F94=\"\",\"\",INT(($AQ$1-AE94)/10000))","v":""},{"$f":"IF(ISERROR(VLOOKUP($AI94,$AK$59:$AL$145,2,0)),\"\",VLOOKUP($AI94,$AK$59:$AL$145,2,0))","v":""},null,0,0,0,0,0,0,0,0,0,0,0,"19000100","","","","",null,53,53,0,0,50,87,0,""," ","","","","","","","","","","","999:99.99","999:99.99","999:99.99","999:99.99","999:99.99"]
["",{"$nulls":15},"","",null,0,0,0,0,0,0,0,0,0,0,0,"19000100","","","","",null,54,54,0,0,50,88,0,""," ","","","","","","","","","","","999:99.99","999:99.99","999:99.99","999:99.99","999:99.99"]
["",{"$nulls":15},"","",null,0,0,0,0,0,0,0,0,0,0,0,"19000100","","","","",null,55,55,0,0,55,89,0,""," ","","","","","","","","","","","999:99.99","999:99.99","999:99.99","999:99.99","999:99.99"]
["",{"$nulls":15},"","",null,0,0,0,0,0,0,0,0,0,0,0,"19000100","","","","",null,56,56,0,0,55,90,0,""," ","","","","","","","","","","","999:99.99","999:99.99","999:99.99","999:99.99","999:99.99"]
["",{"$nulls":15},"","",null,0,0,0,0,0,0,0,0,0,0,0,"19000100","","","","",null,57,57,0,0,55,91,0,""," ","","","","","","","","","","","999:99.99","999:99.99","999:99.99","999:99.99","999:99.99"]
["",{"$nulls":15},"","",null,0,0,0,0,0,0,0,0,0,0,0,"19000100","","","","",null,58,58,0,0,55,92,0,""," ","","","","","","","","","","","999:99.99","999:99.99","999:99.99","999:99.99","999:99.99"]
["",{"$nulls":15},"","",null,0,0,0,0,0,0,0,0,0,0,0,"19000100","","","","",null,59,59,0,0,55,93,0,""," ","","","","","","","","","","","999:99.99","999:99.99","999:99.99","999:99.99","999:99.99"]
["",{"$nulls":15},"","",null,0,0,0,0,0,0,0,0,0,0,0,"19000100","","","","",null,60,60,0,0,60,94,0,""," ","","","","","","","","","","","999:99.99","999:99.99","999:99.99","999:99.99","999:99.99"]
["",{"$nulls":15},{"$f":"IF(F102=\"\",\"\",INT(($AQ$1-AE102)/10000))","v":""},"",null,0,0,0,0,0,0,0,0,0,0,0,"19000100","","","",{"$f":"IF(F102=\"\",\"\",INT(($AQ$2-AE102)/10000))","v":""},null,61,61,0,0,60,95,0,""," ","","","","","","","","","","","999:99.99","999:99.99","999:99.99","999:99.99","999:99.99"]
["",{"$nulls":15},"","",null,0,0,0,0,0,0,0,0,0,0,0,"19000100","","","","",null,62,62,0,0,60,96,0,""," ","","","","","","","","","","","999:99.99","999:99.99","999:99.99","999:99.99","999:99.99"]
["",{"$nulls":15},"","",null,0,0,0,0,0,0,0,0,0,0,0,"19000100","","","","",null,63,63,0,0,60,97,0,""," ","","","","","","","","","","","999:99.99","999:99.99","999:99.99","999:99.99","999:99.99"]
["",{"$nulls":15},"","",null,0,0,0,0,0,0,0,0,0,0,0,"19000100","","","","",null,64,64,0,0,60,98,0,""," ","","","","","","","","","","","999:99.99","999:99.99","999:99.99","999:99.99","999:99.99"]
["",{"$nulls":15},"","",null,0,0,0,0,0,0,0,0,0,0,0,"19000100","","","","",null,65,65,0,0,65,99,0,""," ","","","","","","","","","","","999:99.99","999:99.99","999:99.99","999:99.99","999:99.99"]
["",{"$nulls":15},"","",null,0,0,0,0,0,0,0,0,0,0,0,"19000100","","","","",null,66,66,0,0,65,100,0,""," ","","","","","","","","","","","999:99.99","999:99.99","999:99.99","999:99.99","999:99.99"]
[{"$nulls":24},{"$f":"50-COUNTIF(Y58:Y107,0)","v":0},{"$nulls":11},67,67,0,0,65]
[{"$nulls":24},{"$f":"SUM(Y58:Y107)","v":0},{"$nulls":11},68,68,0,0,65]
[{"$nulls":36},69,69,0,0,65]
[{"$nulls":36},70,70,0,0,70]
[{"$nulls":36},71,71,0,0,70]
[{"$nulls":36},72,72,0,0,70]
[{"$nulls":36},73,73,0,0,70]
[{"$nulls":36},74,74,0,0,70]
[{"$nulls":36},75,75,0,0,75]
[{"$nulls":36},76,76,0,0,75]
[{"$nulls":36},77,77,0,0,75]
[{"$nulls":36},78,78,0,0,75]
[{"$nulls":36},79,79,0,0,75]
[{"$nulls":36},80,80,0,0,80]
[{"$nulls":36},81,81,0,0,80]
[{"$nulls":36},82,82,0,0,80]
[{"$nulls":36},83,83,0,0,80]
[{"$nulls":36},84,84,0,0,80]
[{"$nulls":36},85,85,0,0,85]
[{"$nulls":36},86,86,0,0,85]
[{"$nulls":36},87,87,0,0,85]
[{"$nulls":36},88,88,0,0,85]
[{"$nulls":36},89,89,0,0,85]
[{"$nulls":36},90,90,0,0,90]
[{"$nulls":36},91,91,0,0,90]
[{"$nulls":36},92,92,0,0,90]
[{"$nulls":36},93,93,0,0,90]
[{"$nulls":36},94,94,0,0,90]
[{"$nulls":36},95,95,0,0,95]
[{"$nulls":36},96,96,0,0,95]
[{"$nulls":36},97,97,0,0,95]
[{"$nulls":36},98,98,0,0,95]
[{"$nulls":36},99,99,0,0,95]
[{"$nulls":36},100,100,0,0,100]
[{"$nulls":36},101,101,0,0,100]
[{"$nulls":36},102,102,0,0,100]
[{"$nulls":36},103,103,0,0,100]
[{"$nulls":36},104,104,0,0,100]

{"sheet":"個人種目(ジュニア)","index":2,"n_rows":109,"n_cols":60,"rows_kept":109,"cut":false,"hidden":false,"merged":[[0,8,0,9],[3,6,3,7],[3,8,3,9],[3,10,3,11],[3,12,3,13],[3,14,3,15],[3,45,3,49],[3,50,3,54],[3,55,3,59],[2,25,2,27]]}
[{"$f":"申込書!B2","v":"AQUATICS JAPANCUP CHAMPIONSHIP 2023"},{"$nulls":10},"個人種目(ジュニア)",{"$nulls":22},"大会日：","2023-12-31",{"$nulls":6},{"$f":"YEAR(AJ1)&RIGHT(\"0\"&MONTH(AJ1),2)&RIGHT(\"0\"&DAY(AJ1),2)","v":"20231231"}]
[{"$nulls":11},"色のついた部分のみ入力願います。",{"$nulls":22},"学年起算日：",{"$f":"DATEVALUE(YEAR(AJ1)&\"/04/01\")","v":"2023-04-01"},{"$nulls":6},{"$f":"YEAR(AJ2)&RIGHT(\"0\"&MONTH(AJ2),2)&RIGHT(\"0\"&DAY(AJ2),2)","v":"20230401"}]
[null,{"$f":"IF(申込書!C6=\"\",\"チーム登録を行って下さい！\",申込書!C6)","v":"会場：安城市スポーツセンター"},{"$nulls":22},"出場","種目重複",{"$nulls":8},"学年"]
["No","姓","名","姓カナ","名カナ","生年月日","種目①",null,"種目②",null,"種目③",null,"種目④",null,"種目⑤",null,"年齢","学年",null,"①","②","③","④","⑤","種目数","①","②","③","④","⑤","生年月日","区分No","学種","学年","年齢","幼児～小６","種目No","距離",{"$nulls":7},"種目No",{"$nulls":4},"距離",{"$nulls":4},"エントリータイム"]
["【　男子　】",{"$nulls":5},"種　　目","ｴﾝﾄﾘｰﾀｲﾑ","種　　目","ｴﾝﾄﾘｰﾀｲﾑ","種　　目","ｴﾝﾄﾘｰﾀｲﾑ","種　　目","ｴﾝﾄﾘｰﾀｲﾑ","種　　目","ｴﾝﾄﾘｰﾀｲﾑ",{"$nulls":29},"①","②","③","④","⑤","①","②","③","④","⑤","①","②","③","④","⑤"]
[{"$f":"IF(F6=\"\",\"\",1)","v":""},{"$nulls":15},{"$f":"IF(F6=\"\",\"\",INT(($AQ$1-AE6)/10000))","v":""},{"$f":"IF(ISERROR(VLOOKUP($AI6,$AK$59:$AL$75,2,0)),\"\",VLOOKUP($AI6,$AK$59:$AL$75,2,0))","v":""},null,{"$f":"IF(G6=\"\",0,1)","v":0},{"$f":"IF(I6=\"\",0,1)","v":0},{"$f":"IF(K6=\"\",0,1)","v":0},{"$f":"IF(M6=\"\",0,1)","v":0},{"$f":"IF(O6=\"\",0,1)","v":0},{"$f":"SUM(T6:X6)","v":0},{"$f":"IF(G6=\"\",0,IF(OR(G6=I6,G6=K6,G6=M6,G6=O6),1,0))","v":0},{"$f":"IF(I6=\"\",0,IF(OR(G6=I6,I6=K6,I6=M6,I6=O6),1,0))","v":0},{"$f":"IF(K6=\"\",0,IF(OR(K6=G6,I6=K6,K6=M6,K6=O6),1,0))","v":0},{"$f":"IF(M6=\"\",0,IF(OR(G6=M6,I6=M6,K6=M6,M6=O6),1,0))","v":0},{"$f":"IF(O6=\"\",0,IF(OR(G6=O6,I6=O6,K6=O6,M6=O6),1,0))","v":0},{"$f":"YEAR(F6)&RIGHT(\"0\"&MONTH(F6),2)&RIGHT(\"0\"&DAY(F6),2)","v":"19000100"},{"$f":"IF(ISERROR(VLOOKUP($AI6,$AK$59:$AP$75,5,0)),\"\",VLOOKUP($AI6,$AK$59:$AP$75,5,0))","v":""},{"$f":"IF(ISERROR(VLOOKUP($AI6,$AK$59:$AN$75,3,0)),\"\",VLOOKUP($AI6,$AK$59:$AN$75,3,0))","v":""},{"$f":"IF(ISERROR(VLOOKUP($AI6,$AK$59:$AN$75,4,0)),\"\",VLOOKUP($AI6,$AK$59:$AN$75,4,0))","v":""},{"$f":"IF(F6=\"\",\"\",INT(($AQ$2-AE6)/10000))","v":""},"  25m自　由　形",1,25,null,null,null,101,{"$f":"LEN(TRIM(B6))+LEN(TRIM(C6))","v":0},{"$f":"IF(AQ6=2,TRIM(B6)&\"      \"&TRIM(C6),IF(AQ6=3,TRIM(B6)&\"    \"&TRIM(C6),IF(AQ6=4,TRIM(B6)&\"  \"&TRIM(C6),TRIM(B6)&TRIM(C6))))","v":""},{"$f":"D6&\" \"&E6","v":" "},{"$f":"IF($G6=\"\",\"\",VLOOKUP($G6,$AJ$6:$AL$61,2,0))","v":""},{"$f":"IF($I6=\"\",\"\",VLOOKUP($I6,$AJ$6:$AL$61,2,0))","v":""},{"$f":"IF($K6=\"\",\"\",VLOOKUP($K6,$AJ$6:$AL$61,2,0))","v":""},{"$f":"IF($M6=\"\",\"\",VLOOKUP($M6,$AJ$6:$AL$61,2,0))","v":""},{"$f":"IF($O6=\"\",\"\",VLOOKUP($O6,$AJ$6:$AL$61,2,0))","v":""},{"$f":"IF($G6=\"\",\"\",VLOOKUP($G6,$AJ$6:$AL$61,3,0))","v":""},{"$f":"IF($I6=\"\",\"\",VLOOKUP($I6,$AJ$6:$AL$61,3,0))","v":""},{"$f":"IF($K6=\"\",\"\",VLOOKUP($K6,$AJ$6:$AL$61,3,0))","v":""},{"$f":"IF($M6=\"\",\"\",VLOOKUP($M6,$AJ$6:$AL$61,3,0))","v":""},{"$f":"IF($O6=\"\",\"\",VLOOKUP($O6,$AJ$6:$AL$61,3,0))","v":""},{"$f":"IF(H6=\"\",\"999:99.99\",\" \"&LEFT(RIGHT(\"        \"&TEXT(H6,\"0.00\"),7),2)&\":\"&RIGHT(TEXT(H6,\"0.00\"),5))","v":"999:99.99"},{"$f":"IF(J6=\"\",\"999:99.99\",\" \"&LEFT(RIGHT(\"        \"&TEXT(J6,\"0.00\"),7),2)&\":\"&RIGHT(TEXT(J6,\"0.00\"),5))","v":"999:99.99"},{"$f":"IF(L6=\"\",\"999:99.99\",\" \"&LEFT(RIGHT(\"        \"&TEXT(L6,\"0.00\"),7),2)&\":\"&RIGHT(TEXT(L6,\"0.00\"),5))","v":"999:99.99"},{"$f":"IF(N6=\"\",\"999:99.99\",\" \"&LEFT(RIGHT(\"        \"&TEXT(N6,\"0.00\"),7),2)&\":\"&RIGHT(TEXT(N6,\"0.00\"),5))","v":"999:99.99"},{"$f":"IF(P6=\"\",\"999:99.99\",\" \"&LEFT(RIGHT(\"        \"&TEXT(P6,\"0.00\"),7),2)&\":\"&RIGHT(TEXT(P6,\"0.00\"),5))","v":"999:99.99"}]
[{"$f":"IF(F7=\"\",\"\",A6+1)","v":""},{"$nulls":15},"",{"$f":"IF(ISERROR(VLOOKUP($AI7,$AK$59:$AL$75,2,0)),\"\",VLOOKUP($AI7,$AK$59:$AL$75,2,0))","v":""},null,0,{"$f":"IF(I7=\"\",0,1)","v":0},0,{"$f":"IF(M7=\"\",0,1)","v":0},{"$f":"IF(O7=\"\",0,1)","v":0},{"$f":"SUM(T7:X7)","v":0},{"$f":"IF(G7=\"\",0,IF(OR(G7=I7,G7=K7,G7=M7,G7=O7),1,0))","v":0},{"$f":"IF(I7=\"\",0,IF(OR(G7=I7,I7=K7,I7=M7,I7=O7),1,0))","v":0},{"$f":"IF(K7=\"\",0,IF(OR(K7=G7,I7=K7,K7=M7,K7=O7),1,0))","v":0},{"$f":"IF(M7=\"\",0,IF(OR(G7=M7,I7=M7,K7=M7,M7=O7),1,0))","v":0},{"$f":"IF(O7=\"\",0,IF(OR(G7=O7,I7=O7,K7=O7,M7=O7),1,0))","v":0},"19000100",{"$f":"IF(ISERROR(VLOOKUP($AI7,$AK$59:$AP$75,5,0)),\"\",VLOOKUP($AI7,$AK$59:$AP$75,5,0))","v":""},{"$f":"IF(ISERROR(VLOOKUP($AI7,$AK$59:$AN$75,3,0)),\"\",VLOOKUP($AI7,$AK$59:$AN$75,3,0))","v":""},{"$f":"IF(ISERROR(VLOOKUP($AI7,$AK$59:$AN$75,4,0)),\"\",VLOOKUP($AI7,$AK$59:$AN$75,4,0))","v":""},"","  25m背　泳　ぎ",2,25,null,null,null,102,0,""," ",{"$f":"IF($G7=\"\",\"\",VLOOKUP($G7,$AJ$6:$AL$61,2,0))","v":""},{"$f":"IF($I7=\"\",\"\",VLOOKUP($I7,$AJ$6:$AL$61,2,0))","v":""},{"$f":"IF($K7=\"\",\"\",VLOOKUP($K7,$AJ$6:$AL$61,2,0))","v":""},{"$f":"IF($M7=\"\",\"\",VLOOKUP($M7,$AJ$6:$AL$61,2,0))","v":""},{"$f":"IF($O7=\"\",\"\",VLOOKUP($O7,$AJ$6:$AL$61,2,0))","v":""},{"$f":"IF($G7=\"\",\"\",VLOOKUP($G7,$AJ$6:$AL$61,3,0))","v":""},{"$f":"IF($I7=\"\",\"\",VLOOKUP($I7,$AJ$6:$AL$61,3,0))","v":""},{"$f":"IF($K7=\"\",\"\",VLOOKUP($K7,$AJ$6:$AL$61,3,0))","v":""},{"$f":"IF($M7=\"\",\"\",VLOOKUP($M7,$AJ$6:$AL$61,3,0))","v":""},{"$f":"IF($O7=\"\",\"\",VLOOKUP($O7,$AJ$6:$AL$61,3,0))","v":""},"999:99.99",{"$f":"IF(J7=\"\",\"999:99.99\",\" \"&LEFT(RIGHT(\"        \"&TEXT(J7,\"0.00\"),7),2)&\":\"&RIGHT(TEXT(J7,\"0.00\"),5))","v":"999:99.99"},{"$f":"IF(L7=\"\",\"999:99.99\",\" \"&LEFT(RIGHT(\"        \"&TEXT(L7,\"0.00\"),7),2)&\":\"&RIGHT(TEXT(L7,\"0.00\"),5))","v":"999:99.99"},{"$f":"IF(N7=\"\",\"999:99.99\",\" \"&LEFT(RIGHT(\"        \"&TEXT(N7,\"0.00\"),7),2)&\":\"&RIGHT(TEXT(N7,\"0.00\"),5))","v":"999:99.99"},{"$f":"IF(P7=\"\",\"999:99.99\",\" \"&LEFT(RIGHT(\"        \"&TEXT(P7,\"0.00\"),7),2)&\":\"&RIGHT(TEXT(P7,\"0.00\"),5))","v":"999:99.99"}]
["",{"$nulls":15},"","",null,0,0,0,0,0,0,0,0,0,0,0,"19000100","","","","","  25m平　泳　ぎ",3,25,null,null,null,103,0,""," ","","","","","","","","","","","999:99.99","999:99.99","999:99.99","999:99.99","999:99.99"]
["",{"$nulls":15},"","",null,0,0,0,0,0,0,0,0,0,0,0,"19000100","","","","","  25mバタフライ",4,25,null,null,null,104,0,""," ","","","","","","","","","","","999:99.99","999:99.99","999:99.99","999:99.99","999:99.99"]
["",{"$nulls":15},"","",null,0,0,0,0,0,0,0,0,0,0,0,"19000100","","","","","  50m自　由　形",1,50,null,null,null,105,0,""," ","","","","","","","","","","","999:99.99","999:99.99","999:99.99","999:99.99","999:99.99"]
["",{"$nulls":15},"","",null,0,0,0,0,0,0,0,0,0,0,0,"19000100","","","","","  50m背　泳　ぎ",2,50,null,null,null,106,0,""," ","","","","","","","","","","","999:99.99","999:99.99","999:99.99","999:99.99","999:99.99"]
["",{"$nulls":15},"","",null,0,0,0,0,0,0,0,0,0,0,0,"19000100","","","","","  50m平　泳　ぎ",3,50,null,null,null,107,0,""," ","","","","","","","","","","","999:99.99","999:99.99","999:99.99","999:99.99","999:99.99"]
["",{"$nulls":15},"","",null,0,0,0,0,0,0,0,0,0,0,0,"19000100","","","","","  50mバタフライ",4,50,null,null,null,108,0,""," ","","","","","","","","","","","999:99.99","999:99.99","999:99.99","999:99.99","999:99.99"]
["",{"$nulls":15},"","",null,0,0,0,0,0,0,0,0,0,0,0,"19000100","","","","",{"$nulls":6},109,0,""," ","","","","","","","","","","","999:99.99","999:99.99","999:99.99","999:99.99","999:99.99"]
["",{"$nulls":15},"","",null,0,0,0,0,0,0,0,0,0,0,0,"19000100","","","","",{"$nulls":6},110,0,""," ","","","","","","","","","","","999:99.99","999:99.99","999:99.99","999:99.99","999:99.99"]
["",{"$nulls":15},"","",null,0,0,0,0,0,0,0,0,0,0,0,"19000100","","","","",{"$nulls":6},111,0,""," ","","","","","","","","","","","999:99.99","999:99.99","999:99.99","999:99.99","999:99.99"]
["",{"$nulls":15},"","",null,0,0,0,0,0,0,0,0,0,0,0,"19000100","","","","",{"$nulls":6},112,0,""," ","","","","","","","","","","","999:99.99","999:99.99","999:99.99","999:99.99","999:99.99"]
["",{"$nulls":15},"","",null,0,0,0,0,0,0,0,0,0,0,0,"19000100","","","","",{"$nulls":6},113,0,""," ","","","","","","","","","","","999:99.99","999:99.99","999:99.99","999:99.99","999:99.99"]
["",{"$nulls":15},"","",null,0,0,0,0,0,0,0,0,0,0,0,"19000100","","","","",{"$nulls":6},114,0,""," ","","","","","","","","","","","999:99.99","999:99.99","999:99.99","999:99.99","999:99.99"]
["",{"$nulls":15},"","",null,0,0,0,0,0,0,0,0,0,0,0,"19000100","","","","",{"$nulls":6},115,0,""," ","","","","","","","","","","","999:99.99","999:99.99","999:99.99","999:99.99","999:99.99"]
["",{"$nulls":15},"","",null,0,0,0,0,0,0,0,0,0,0,0,"19000100","","","","",{"$nulls":6},116,0,""," ","","","","","","","","","","","999:99.99","999:99.99","999:99.99","999:99.99","999:99.99"]
["",{"$nulls":15},"","",null,0,0,0,0,0,0,0,0,0,0,0,"19000100","","","","",{"$nulls":6},117,0,""," ","","","","","","","","","","","999:99.99","999:99.99","999:99.99","999:99.99","999:99.99"]
["",{"$nulls":15},"","",null,0,0,0,0,0,0,0,0,0,0,0,"19000100","","","","",{"$nulls":6},118,0,""," ","","","","","","","","","","","999:99.99","999:99.99","999:99.99","999:99.99","999:99.99"]
["",{"$nulls":15},"","",null,0,0,0,0,0,0,0,0,0,0,0,"19000100","","","","",{"$nulls":6},119,0,""," ","","","","","","","","","","","999:99.99","999:99.99","999:99.99","999:99.99","999:99.99"]
["",{"$nulls":15},"","",null,0,0,0,0,0,0,0,0,0,0,0,"19000100","","","","",{"$nulls":6},120,0,""," ","","","","","","","","","","","999:99.99","999:99.99","999:99.99","999:99.99","999:99.99"]
["",{"$nulls":15},"","",null,0,0,0,0,0,0,0,0,0,0,0,"19000100","","","","",{"$nulls":6},121,0,""," ","","","","","","","","","","","999:99.99","999:99.99","999:99.99","999:99.99","999:99.99"]
["",{"$nulls":15},"","",null,0,0,0,0,0,0,0,0,0,0,0,"19000100","","","","",{"$nulls":6},122,0,""," ","","","","","","","","","","","999:99.99","999:99.99","999:99.99","999:99.99","999:99.99"]
["",{"$nulls":15},"","",null,0,0,0,0,0,0,0,0,0,0,0,"19000100","","","","",{"$nulls":6},123,0,""," ","","","","","","","","","","","999:99.99","999:99.99","999:99.99","999:99.99","999:99.99"]
["",{"$nulls":15},"","",null,0,0,0,0,0,0,0,0,0,0,0,"19000100","","","","",{"$nulls":6},124,0,""," ","","","","","","","","","","","999:99.99","999:99.99","999:99.99","999:99.99","999:99.99"]
["",{"$nulls":15},"","",null,0,0,0,0,0,0,0,0,0,0,0,"19000100","","","","",{"$nulls":6},125,0,""," ","","","","","","","","","","","999:99.99","999:99.99","999:99.99","999:99.99","999:99.99"]
["",{"$nulls":15},"","",null,0,0,0,0,0,0,0,0,0,0,0,"19000100","","","","",{"$nulls":6},126,0,""," ","","","","","","","","","","","999:99.99","999:99.99","999:99.99","999:99.99","999:99.99"]
["",{"$nulls":15},"","",null,0,0,0,0,0,0,0,0,0,0,0,"19000100","","","","",{"$nulls":6},127,0,""," ","","","","","","","","","","","999:99.99","999:99.99","999:99.99","999:99.99","999:99.99"]
["",{"$nulls":15},"","",null,0,0,0,0,0,0,0,0,0,0,0,"19000100","","","","",{"$nulls":6},128,0,""," ","","","","","","","","","","","999:99.99","999:99.99","999:99.99","999:99.99","999:99.99"]
["",{"$nulls":15},"","",null,0,0,0,0,0,0,0,0,0,0,0,"19000100","","","","",{"$nulls":6},129,0,""," ","","","","","","","","","","","999:99.99","999:99.99","999:99.99","999:99.99","999:99.99"]
["",{"$nulls":15},"","",null,0,0,0,0,0,0,0,0,0,0,0,"19000100","","","","",{"$nulls":6},130,0,""," ","","","","","","","","","","","999:99.99","999:99.99","999:99.99","999:99.99","999:99.99"]
["",{"$nulls":15},"","",null,0,0,0,0,0,0,0,0,0,0,0,"19000100","","","","",{"$nulls":6},131,0,""," ","","","","","","","","","","","999:99.99","999:99.99","999:99.99","999:99.99","999:99.99"]
["",{"$nulls":15},"","",null,0,0,0,0,0,0,0,0,0,0,0,"19000100","","","","",{"$nulls":6},132,0,""," ","","","","","","","","","","","999:99.99","999:99.99","999:99.99","999:99.99","999:99.99"]
["",{"$nulls":15},{"$f":"IF(F38=\"\",\"\",INT(($AQ$1-AE38)/10000))","v":""},"",null,0,0,0,0,0,0,0,0,0,0,0,{"$f":"YEAR(F38)&RIGHT(\"0\"&MONTH(F38),2)&RIGHT(\"0\"&DAY(F38),2)","v":"19000100"},"","","",{"$f":"IF(F38=\"\",\"\",INT(($AQ$2-AE38)/10000))","v":""},{"$nulls":6},133,{"$f":"LEN(TRIM(B38))+LEN(TRIM(C38))","v":0},{"$f":"IF(AQ38=2,TRIM(B38)&\"      \"&TRIM(C38),IF(AQ38=3,TRIM(B38)&\"    \"&TRIM(C38),IF(AQ38=4,TRIM(B38)&\"  \"&TRIM(C38),TRIM(B38)&TRIM(C38))))","v":""},{"$f":"D38&\" \"&E38","v":" "},"","","","","","","","","","","999:99.99","999:99.99","999:99.99","999:99.99","999:99.99"]
["",{"$nulls":15},"","",null,0,{"$f":"IF(I39=\"\",0,1)","v":0},0,0,0,0,0,0,0,0,0,"19000100","","","","",{"$nulls":6},134,0,""," ","","","","","","","","","","","999:99.99","999:99.99","999:99.99","999:99.99","999:99.99"]
["",{"$nulls":15},"","",null,0,{"$f":"IF(I40=\"\",0,1)","v":0},0,0,0,0,0,0,0,0,0,"19000100","","","","",{"$nulls":6},135,0,""," ","","","","","","","","","","","999:99.99","999:99.99","999:99.99","999:99.99","999:99.99"]
["",{"$nulls":15},"","",null,0,{"$f":"IF(I41=\"\",0,1)","v":0},0,0,0,0,0,0,0,0,0,"19000100","","","","",{"$nulls":6},136,0,""," ","","","","","","","","","","","999:99.99","999:99.99","999:99.99","999:99.99","999:99.99"]
["",{"$nulls":15},"","",null,0,0,0,0,0,0,0,0,0,0,0,"19000100","","","","",{"$nulls":6},137,0,""," ","","","","","","","","","","","999:99.99","999:99.99","999:99.99","999:99.99","999:99.99"]
["",{"$nulls":15},"","",null,0,0,0,0,0,0,0,0,0,0,0,"19000100","","","","",{"$nulls":6},138,0,""," ","","","","","","","","","","","999:99.99","999:99.99","999:99.99","999:99.99","999:99.99"]
["",{"$nulls":15},"","",null,0,0,0,0,0,0,0,0,0,0,0,"19000100","","","","",{"$nulls":6},139,0,""," ","","","","","","","","","","","999:99.99","999:99.99","999:99.99","999:99.99","999:99.99"]
["",{"$nulls":15},"","",null,0,0,0,0,0,0,0,0,0,0,0,"19000100","","","","",{"$nulls":6},140,0,""," ","","","","","","","","","","","999:99.99","999:99.99","999:99.99","999:99.99","999:99.99"]
["",{"$nulls":15},"","",null,0,0,0,0,0,0,0,0,0,0,0,"19000100","","","","",{"$nulls":6},141,0,""," ","","","","","","","","","","","999:99.99","999:99.99","999:99.99","999:99.99","999:99.99"]
["",{"$nulls":15},"","",null,0,0,0,0,0,0,0,0,0,0,0,"19000100","","","","",{"$nulls":6},142,0,""," ","","","","","","","","","","","999:99.99","999:99.99","999:99.99","999:99.99","999:99.99"]
["",{"$nulls":15},"","",null,0,0,0,0,0,0,0,0,0,0,0,"19000100","","","","",{"$nulls":6},143,0,""," ","","","","","","","","","","","999:99.99","999:99.99","999:99.99","999:99.99","999:99.99"]
["",{"$nulls":15},"","",null,0,0,0,0,0,0,0,0,0,0,0,"19000100","","","","",{"$nulls":6},144,0,""," ","","","","","","","","","","","999:99.99","999:99.99","999:99.99","999:99.99","999:99.99"]
["",{"$nulls":15},"","",null,0,0,0,0,0,0,0,0,0,0,0,"19000100","","","","",{"$nulls":6},145,0,""," ","","","","","","","","","","","999:99.99","999:99.99","999:99.99","999:99.99","999:99.99"]
["",{"$nulls":15},"","",null,0,0,0,0,0,0,0,0,0,0,0,"19000100","","","","",{"$nulls":6},146,0,""," ","","","","","","","","","","","999:99.99","999:99.99","999:99.99","999:99.99","999:99.99"]
["",{"$nulls":15},"","",null,0,0,0,0,0,0,0,0,0,0,0,"19000100","","","","",{"$nulls":6},147,0,""," ","","","","","","","","","","","999:99.99","999:99.99","999:99.99","999:99.99","999:99.99"]
["",{"$nulls":15},"","",null,0,0,0,0,0,0,0,0,0,0,0,"19000100","","","","",{"$nulls":6},148,0,""," ","","","","","","","","","","","999:99.99","999:99.99","999:99.99","999:99.99","999:99.99"]
["",{"$nulls":15},"","",null,0,0,0,0,0,0,0,0,0,0,0,"19000100","","","","",{"$nulls":6},149,0,""," ","","","","","","","","","","","999:99.99","999:99.99","999:99.99","999:99.99","999:99.99"]
["",{"$nulls":15},"","",null,0,0,0,0,0,0,0,0,0,0,0,"19000100","","","","",{"$nulls":6},150,0,""," ","","","","","","","","","","","999:99.99","999:99.99","999:99.99","999:99.99","999:99.99"]
[{"$nulls":16},"",{"$f":"IF(ISERROR(VLOOKUP(AI56,AK$59:$AL$74,2,0)),\"\",VLOOKUP(AI56,AK$59:$AL$74,2,0))","v":""},{"$nulls":6},{"$f":"50-COUNTIF(Y6:Y55,0)","v":0},{"$nulls":6},{"$f":"IF(R56=\"\",\"\",IF(Q56<9,1,IF(Q56<11,2,IF(Q56<13,3,IF(Q56<15,4,5)))))","v":""},{"$f":"IF(ISERROR(VLOOKUP($AI56,$AK$59:$AN$74,3,0)),\"\",VLOOKUP($AI56,$AK$59:$AN$74,3,0))","v":""},{"$f":"IF(ISERROR(VLOOKUP($AI56,$AK$59:$AN$74,4,0)),\"\",VLOOKUP($AI56,$AK$59:$AN$74,4,0))","v":""},"",{"$nulls":10},{"$f":"IF($G56=\"\",\"\",VLOOKUP($G56,$AJ$6:$AM$61,3,0))","v":""},{"$f":"IF($I56=\"\",\"\",VLOOKUP($I56,$AJ$6:$AM$61,3,0))","v":""}]
["【　女子　】",{"$nulls":5},"種　　目","ｴﾝﾄﾘｰﾀｲﾑ","種　　目","ｴﾝﾄﾘｰﾀｲﾑ","種　　目","ｴﾝﾄﾘｰﾀｲﾑ","種　　目","ｴﾝﾄﾘｰﾀｲﾑ","種　　目","ｴﾝﾄﾘｰﾀｲﾑ","",{"$f":"IF(ISERROR(VLOOKUP(AI57,AK$59:$AL$74,2,0)),\"\",VLOOKUP(AI57,AK$59:$AL$74,2,0))","v":""},{"$nulls":6},{"$f":"SUM(Y6:Y55)","v":0},{"$nulls":6},{"$f":"IF(R57=\"\",\"\",IF(Q57<9,1,IF(Q57<11,2,IF(Q57<13,3,IF(Q57<15,4,5)))))","v":""},{"$f":"IF(ISERROR(VLOOKUP($AI57,$AK$59:$AN$74,3,0)),\"\",VLOOKUP($AI57,$AK$59:$AN$74,3,0))","v":""},{"$f":"IF(ISERROR(VLOOKUP($AI57,$AK$59:$AN$74,4,0)),\"\",VLOOKUP($AI57,$AK$59:$AN$74,4,0))","v":""},""]
[{"$f":"IF(F58=\"\",\"\",1)","v":""},{"$nulls":15},"",{"$f":"IF(ISERROR(VLOOKUP(AI58,AK$59:$AL$75,2,0)),\"\",VLOOKUP(AI58,AK$59:$AL$75,2,0))","v":""},null,{"$f":"IF(G58=\"\",0,1)","v":0},{"$f":"IF(I58=\"\",0,1)","v":0},{"$f":"IF(K58=\"\",0,1)","v":0},{"$f":"IF(M58=\"\",0,1)","v":0},{"$f":"IF(O58=\"\",0,1)","v":0},{"$f":"SUM(T58:X58)","v":0},0,0,0,0,0,{"$f":"YEAR(F58)&RIGHT(\"0\"&MONTH(F58),2)&RIGHT(\"0\"&DAY(F58),2)","v":"19000100"},{"$f":"IF(ISERROR(VLOOKUP($AI58,$AK$59:$AP$75,5,0)),\"\",VLOOKUP($AI58,$AK$59:$AP$75,5,0))","v":""},{"$f":"IF(ISERROR(VLOOKUP($AI58,$AK$59:$AN$75,3,0)),\"\",VLOOKUP($AI58,$AK$59:$AN$75,3,0))","v":""},{"$f":"IF(ISERROR(VLOOKUP($AI58,$AK$59:$AN$75,4,0)),\"\",VLOOKUP($AI58,$AK$59:$AN$75,4,0))","v":""},"",null,null,null,"学種","学年","区分",151,{"$f":"LEN(TRIM(B58))+LEN(TRIM(C58))","v":0},{"$f":"IF(AQ58=2,TRIM(B58)&\"      \"&TRIM(C58),IF(AQ58=3,TRIM(B58)&\"    \"&TRIM(C58),IF(AQ58=4,TRIM(B58)&\"  \"&TRIM(C58),TRIM(B58)&TRIM(C58))))","v":""},{"$f":"D58&\" \"&E58","v":" "},{"$f":"IF($G58=\"\",\"\",VLOOKUP($G58,$AJ$6:$AL$61,2,0))","v":""},{"$f":"IF($I58=\"\",\"\",VLOOKUP($I58,$AJ$6:$AL$61,2,0))","v":""},{"$f":"IF($K58=\"\",\"\",VLOOKUP($K58,$AJ$6:$AL$61,2,0))","v":""},"","",{"$f":"IF($G58=\"\",\"\",VLOOKUP($G58,$AJ$6:$AL$61,3,0))","v":""},{"$f":"IF($I58=\"\",\"\",VLOOKUP($I58,$AJ$6:$AL$61,3,0))","v":""},{"$f":"IF($K58=\"\",\"\",VLOOKUP($K58,$AJ$6:$AL$61,3,0))","v":""},"","",{"$f":"IF(H58=\"\",\"999:99.99\",\" \"&LEFT(RIGHT(\"        \"&TEXT(H58,\"0.00\"),7),2)&\":\"&RIGHT(TEXT(H58,\"0.00\"),5))","v":"999:99.99"},"999:99.99",{"$f":"IF(L58=\"\",\"999:99.99\",\" \"&LEFT(RIGHT(\"        \"&TEXT(L58,\"0.00\"),7),2)&\":\"&RIGHT(TEXT(L58,\"0.00\"),5))","v":"999:99.99"},"999:99.99","999:99.99"]
[{"$f":"IF(F59=\"\",\"\",A58+1)","v":""},{"$nulls":15},"",{"$f":"IF(ISERROR(VLOOKUP(AI59,AK$59:$AL$75,2,0)),\"\",VLOOKUP(AI59,AK$59:$AL$75,2,0))","v":""},null,0,{"$f":"IF(I59=\"\",0,1)","v":0},0,0,0,0,0,0,0,0,0,"19000100",{"$f":"IF(ISERROR(VLOOKUP($AI59,$AK$59:$AP$75,5,0)),\"\",VLOOKUP($AI59,$AK$59:$AP$75,5,0))","v":""},{"$f":"IF(ISERROR(VLOOKUP($AI59,$AK$59:$AN$75,3,0)),\"\",VLOOKUP($AI59,$AK$59:$AN$75,3,0))","v":""},{"$f":"IF(ISERROR(VLOOKUP($AI59,$AK$59:$AN$75,4,0)),\"\",VLOOKUP($AI59,$AK$59:$AN$75,4,0))","v":""},"",null,1,null,0,0,1,152,0,""," ",{"$f":"IF($G59=\"\",\"\",VLOOKUP($G59,$AJ$6:$AL$61,2,0))","v":""},{"$f":"IF($I59=\"\",\"\",VLOOKUP($I59,$AJ$6:$AL$61,2,0))","v":""},{"$f":"IF($K59=\"\",\"\",VLOOKUP($K59,$AJ$6:$AL$61,2,0))","v":""},"","",{"$f":"IF($G59=\"\",\"\",VLOOKUP($G59,$AJ$6:$AL$61,3,0))","v":""},{"$f":"IF($I59=\"\",\"\",VLOOKUP($I59,$AJ$6:$AL$61,3,0))","v":""},{"$f":"IF($K59=\"\",\"\",VLOOKUP($K59,$AJ$6:$AL$61,3,0))","v":""},"","","999:99.99","999:99.99",{"$f":"IF(L59=\"\",\"999:99.99\",\" \"&LEFT(RIGHT(\"        \"&TEXT(L59,\"0.00\"),7),2)&\":\"&RIGHT(TEXT(L59,\"0.00\"),5))","v":"999:99.99"},"999:99.99","999:99.99"]
["",{"$nulls":15},"",{"$f":"IF(ISERROR(VLOOKUP(AI60,AK$59:$AL$75,2,0)),\"\",VLOOKUP(AI60,AK$59:$AL$75,2,0))","v":""},null,0,0,0,0,0,0,0,0,0,0,0,"19000100","","","","",null,2,null,0,0,1,153,0,""," ","","","","","","","","","","","999:99.99","999:99.99","999:99.99","999:99.99","999:99.99"]
["",{"$nulls":15},"",{"$f":"IF(ISERROR(VLOOKUP(AI61,AK$59:$AL$75,2,0)),\"\",VLOOKUP(AI61,AK$59:$AL$75,2,0))","v":""},null,0,0,0,0,0,0,0,0,0,0,0,"19000100","","","","",null,3,"年少",0,1,1,154,0,""," ","","","","","","","","","","","999:99.99","999:99.99","999:99.99","999:99.99","999:99.99"]
["",{"$nulls":15},"",{"$f":"IF(ISERROR(VLOOKUP(AI62,AK$59:$AL$75,2,0)),\"\",VLOOKUP(AI62,AK$59:$AL$75,2,0))","v":""},null,0,0,0,0,0,0,0,0,0,0,0,"19000100","","","","",null,4,"年中",0,2,1,155,0,""," ","","","","","","","","","","","999:99.99","999:99.99","999:99.99","999:99.99","999:99.99"]
["",{"$nulls":15},"",{"$f":"IF(ISERROR(VLOOKUP(AI63,AK$59:$AL$75,2,0)),\"\",VLOOKUP(AI63,AK$59:$AL$75,2,0))","v":""},null,0,0,0,0,0,0,0,0,0,0,0,"19000100","","","","",null,5,"年長",0,3,1,156,0,""," ","","","","","","","","","","","999:99.99","999:99.99","999:99.99","999:99.99","999:99.99"]
["",{"$nulls":15},"",{"$f":"IF(ISERROR(VLOOKUP(AI64,AK$59:$AL$75,2,0)),\"\",VLOOKUP(AI64,AK$59:$AL$75,2,0))","v":""},null,0,0,0,0,0,0,0,0,0,0,0,"19000100","","","","",null,6,"小1",1,1,1,157,0,""," ","","","","","","","","","","","999:99.99","999:99.99","999:99.99","999:99.99","999:99.99"]
["",{"$nulls":15},"",{"$f":"IF(ISERROR(VLOOKUP(AI65,AK$59:$AL$75,2,0)),\"\",VLOOKUP(AI65,AK$59:$AL$75,2,0))","v":""},null,0,0,0,0,0,0,0,0,0,0,0,"19000100","","","","",null,7,"小2",1,2,1,158,0,""," ","","","","","","","","","","","999:99.99","999:99.99","999:99.99","999:99.99","999:99.99"]
["",{"$nulls":15},"",{"$f":"IF(ISERROR(VLOOKUP(AI66,AK$59:$AL$75,2,0)),\"\",VLOOKUP(AI66,AK$59:$AL$75,2,0))","v":""},null,0,0,0,0,0,0,0,0,0,0,0,"19000100","","","","",null,8,"小3",1,3,1,159,0,""," ","","","","","","","","","","","999:99.99","999:99.99","999:99.99","999:99.99","999:99.99"]
["",{"$nulls":15},"",{"$f":"IF(ISERROR(VLOOKUP(AI67,AK$59:$AL$75,2,0)),\"\",VLOOKUP(AI67,AK$59:$AL$75,2,0))","v":""},null,0,0,0,0,0,0,0,0,0,0,0,"19000100","","","","",null,9,"小4",1,4,2,160,0,""," ","","","","","","","","","","","999:99.99","999:99.99","999:99.99","999:99.99","999:99.99"]
["",{"$nulls":15},"",{"$f":"IF(ISERROR(VLOOKUP(AI68,AK$59:$AL$75,2,0)),\"\",VLOOKUP(AI68,AK$59:$AL$75,2,0))","v":""},null,0,0,0,0,0,0,0,0,0,0,0,"19000100","","","","",null,10,"小5",1,5,2,161,0,""," ","","","","","","","","","","","999:99.99","999:99.99","999:99.99","999:99.99","999:99.99"]
["",{"$nulls":15},"",{"$f":"IF(ISERROR(VLOOKUP(AI69,AK$59:$AL$75,2,0)),\"\",VLOOKUP(AI69,AK$59:$AL$75,2,0))","v":""},null,0,0,0,0,0,0,0,0,0,0,0,"19000100","","","","",null,11,"小6",1,6,2,162,0,""," ","","","","","","","","","","","999:99.99","999:99.99","999:99.99","999:99.99","999:99.99"]
["",{"$nulls":15},{"$f":"IF(F70=\"\",\"\",INT(($AQ$1-AE70)/10000))","v":""},{"$f":"IF(ISERROR(VLOOKUP(AI70,AK$59:$AL$75,2,0)),\"\",VLOOKUP(AI70,AK$59:$AL$75,2,0))","v":""},null,0,0,0,0,0,0,0,0,0,0,0,"19000100","","","",{"$f":"IF(F70=\"\",\"\",INT(($AQ$2-AE70)/10000))","v":""},null,12,"中1",2,1,3,163,0,""," ","","","","","","","","","","","999:99.99","999:99.99","999:99.99","999:99.99","999:99.99"]
["",{"$nulls":15},"",{"$f":"IF(ISERROR(VLOOKUP(AI71,AK$59:$AL$75,2,0)),\"\",VLOOKUP(AI71,AK$59:$AL$75,2,0))","v":""},null,0,0,0,0,0,0,{"$f":"IF(G71=\"\",0,IF(OR(G71=I71,G71=K71,G71=M71,G71=O71),1,0))","v":0},{"$f":"IF(I71=\"\",0,IF(OR(G71=I71,I71=K71,I71=M71,I71=O71),1,0))","v":0},{"$f":"IF(K71=\"\",0,IF(OR(K71=G71,I71=K71,K71=M71,K71=O71),1,0))","v":0},{"$f":"IF(M71=\"\",0,IF(OR(G71=M71,I71=M71,K71=M71,M71=O71),1,0))","v":0},{"$f":"IF(O71=\"\",0,IF(OR(G71=O71,I71=O71,K71=O71,M71=O71),1,0))","v":0},"19000100","","","","",null,13,"中2",2,2,3,164,0,""," ","","","",{"$f":"IF($M71=\"\",\"\",VLOOKUP($M71,$AJ$6:$AL$61,2,0))","v":""},{"$f":"IF($O71=\"\",\"\",VLOOKUP($O71,$AJ$6:$AL$61,2,0))","v":""},"","","",{"$f":"IF($M71=\"\",\"\",VLOOKUP($M71,$AJ$6:$AL$61,3,0))","v":""},{"$f":"IF($O71=\"\",\"\",VLOOKUP($O71,$AJ$6:$AL$61,3,0))","v":""},"999:99.99",{"$f":"IF(J71=\"\",\"999:99.99\",\" \"&LEFT(RIGHT(\"        \"&TEXT(J71,\"0.00\"),7),2)&\":\"&RIGHT(TEXT(J71,\"0.00\"),5))","v":"999:99.99"},"999:99.99",{"$f":"IF(N71=\"\",\"999:99.99\",\" \"&LEFT(RIGHT(\"        \"&TEXT(N71,\"0.00\"),7),2)&\":\"&RIGHT(TEXT(N71,\"0.00\"),5))","v":"999:99.99"},{"$f":"IF(P71=\"\",\"999:99.99\",\" \"&LEFT(RIGHT(\"        \"&TEXT(P71,\"0.00\"),7),2)&\":\"&RIGHT(TEXT(P71,\"0.00\"),5))","v":"999:99.99"}]
["",{"$nulls":15},"",{"$f":"IF(ISERROR(VLOOKUP(AI72,AK$59:$AL$75,2,0)),\"\",VLOOKUP(AI72,AK$59:$AL$75,2,0))","v":""},null,0,0,0,0,0,0,0,0,0,0,0,"19000100","","","","",null,14,"中3",2,3,3,165,0,""," ","","","","","","","","","","","999:99.99","999:99.99","999:99.99","999:99.99","999:99.99"]
["",{"$nulls":15},"",{"$f":"IF(ISERROR(VLOOKUP(AI73,AK$59:$AL$75,2,0)),\"\",VLOOKUP(AI73,AK$59:$AL$75,2,0))","v":""},null,0,0,0,0,0,0,0,0,0,0,0,"19000100","","","","",null,15,"高1",3,1,4,166,0,""," ","","","","","","","","","","","999:99.99","999:99.99","999:99.99","999:99.99","999:99.99"]
["",{"$nulls":15},"",{"$f":"IF(ISERROR(VLOOKUP(AI74,AK$59:$AL$75,2,0)),\"\",VLOOKUP(AI74,AK$59:$AL$75,2,0))","v":""},null,0,0,0,0,0,0,0,0,0,0,0,"19000100","","","","",null,16,"高2",3,2,4,167,0,""," ","","","","","","","","","","","999:99.99","999:99.99","999:99.99","999:99.99","999:99.99"]
["",{"$nulls":15},"",{"$f":"IF(ISERROR(VLOOKUP(AI75,AK$59:$AL$75,2,0)),\"\",VLOOKUP(AI75,AK$59:$AL$75,2,0))","v":""},null,0,0,0,0,0,0,0,0,0,0,0,"19000100","","","","",null,17,"高3",3,3,4,168,0,""," ","","","","","","","","","","","999:99.99","999:99.99","999:99.99","999:99.99","999:99.99"]
["",{"$nulls":15},"",{"$f":"IF(ISERROR(VLOOKUP(AI76,AK$59:$AL$75,2,0)),\"\",VLOOKUP(AI76,AK$59:$AL$75,2,0))","v":""},null,0,0,0,0,0,0,0,0,0,0,0,"19000100","","","","",{"$nulls":6},169,0,""," ","","","","","","","","","","","999:99.99","999:99.99","999:99.99","999:99.99","999:99.99"]
["",{"$nulls":15},"",{"$f":"IF(ISERROR(VLOOKUP(AI77,AK$59:$AL$75,2,0)),\"\",VLOOKUP(AI77,AK$59:$AL$75,2,0))","v":""},null,0,0,0,0,0,0,0,0,0,0,0,"19000100","","","","",{"$nulls":6},170,0,""," ","","","","","","","","","","","999:99.99","999:99.99","999:99.99","999:99.99","999:99.99"]
["",{"$nulls":15},"",{"$f":"IF(ISERROR(VLOOKUP(AI78,AK$59:$AL$75,2,0)),\"\",VLOOKUP(AI78,AK$59:$AL$75,2,0))","v":""},null,0,0,0,0,0,0,0,0,0,0,0,"19000100","","","","",{"$nulls":6},171,0,""," ","","","","","","","","","","","999:99.99","999:99.99","999:99.99","999:99.99","999:99.99"]
["",{"$nulls":15},"",{"$f":"IF(ISERROR(VLOOKUP(AI79,AK$59:$AL$75,2,0)),\"\",VLOOKUP(AI79,AK$59:$AL$75,2,0))","v":""},null,0,0,0,0,0,0,0,0,0,0,0,"19000100","","","","",{"$nulls":6},172,0,""," ","","","","","","","","","","","999:99.99","999:99.99","999:99.99","999:99.99","999:99.99"]
["",{"$nulls":15},"",{"$f":"IF(ISERROR(VLOOKUP(AI80,AK$59:$AL$75,2,0)),\"\",VLOOKUP(AI80,AK$59:$AL$75,2,0))","v":""},null,0,0,0,0,0,0,0,0,0,0,0,"19000100","","","","",{"$nulls":6},173,0,""," ","","","","","","","","","","","999:99.99","999:99.99","999:99.99","999:99.99","999:99.99"]
["",{"$nulls":15},"",{"$f":"IF(ISERROR(VLOOKUP(AI81,AK$59:$AL$75,2,0)),\"\",VLOOKUP(AI81,AK$59:$AL$75,2,0))","v":""},null,0,0,0,0,0,0,0,0,0,0,0,"19000100","","","","",{"$nulls":6},174,0,""," ","","","","","","","","","","","999:99.99","999:99.99","999:99.99","999:99.99","999:99.99"]
["",{"$nulls":15},"",{"$f":"IF(ISERROR(VLOOKUP(AI82,AK$59:$AL$75,2,0)),\"\",VLOOKUP(AI82,AK$59:$AL$75,2,0))","v":""},null,0,0,0,0,0,0,0,0,0,0,0,"19000100","","","","",{"$nulls":6},175,0,""," ","","","","","","","","","","","999:99.99","999:99.99","999:99.99","999:99.99","999:99.99"]
["",{"$nulls":15},"",{"$f":"IF(ISERROR(VLOOKUP(AI83,AK$59:$AL$75,2,0)),\"\",VLOOKUP(AI83,AK$59:$AL$75,2,0))","v":""},null,0,0,0,0,0,0,0,0,0,0,0,"19000100","","","","",{"$nulls":6},176,0,""," ","","","","","","","","","","","999:99.99","999:99.99","999:99.99","999:99.99","999:99.99"]
["",{"$nulls":15},"",{"$f":"IF(ISERROR(VLOOKUP(AI84,AK$59:$AL$75,2,0)),\"\",VLOOKUP(AI84,AK$59:$AL$75,2,0))","v":""},null,0,0,0,0,0,0,0,0,0,0,0,"19000100","","","","",{"$nulls":6},177,0,""," ","","","","","","","","","","","999:99.99","999:99.99","999:99.99","999:99.99","999:99.99"]
["",{"$nulls":15},"",{"$f":"IF(ISERROR(VLOOKUP(AI85,AK$59:$AL$75,2,0)),\"\",VLOOKUP(AI85,AK$59:$AL$75,2,0))","v":""},null,0,0,0,0,0,0,0,0,0,0,0,"19000100","","","","",{"$nulls":6},178,0,""," ","","","","","","","","","","","999:99.99","999:99.99","999:99.99","999:99.99","999:99.99"]
["",{"$nulls":15},"",{"$f":"IF(ISERROR(VLOOKUP(AI86,AK$59:$AL$75,2,0)),\"\",VLOOKUP(AI86,AK$59:$AL$75,2,0))","v":""},null,0,0,0,0,0,0,0,0,0,0,0,"19000100","","","","",{"$nulls":6},179,0,""," ","","","","","","","","","","","999:99.99","999:99.99","999:99.99","999:99.99","999:99.99"]
["",{"$nulls":15},"",{"$f":"IF(ISERROR(VLOOKUP(AI87,AK$59:$AL$75,2,0)),\"\",VLOOKUP(AI87,AK$59:$AL$75,2,0))","v":""},null,0,0,0,0,0,0,0,0,0,0,0,"19000100","","","","",{"$nulls":6},180,0,""," ","","","","","","","","","","","999:99.99","999:99.99","999:99.99","999:99.99","999:99.99"]
["",{"$nulls":15},"",{"$f":"IF(ISERROR(VLOOKUP(AI88,AK$59:$AL$75,2,0)),\"\",VLOOKUP(AI88,AK$59:$AL$75,2,0))","v":""},null,0,0,0,0,0,0,0,0,0,0,0,"19000100","","","","",{"$nulls":6},181,0,""," ","","","","","","","","","","","999:99.99","999:99.99","999:99.99","999:99.99","999:99.99"]
["",{"$nulls":15},"",{"$f":"IF(ISERROR(VLOOKUP(AI89,AK$59:$AL$75,2,0)),\"\",VLOOKUP(AI89,AK$59:$AL$75,2,0))","v":""},null,0,0,0,0,0,0,0,0,0,0,0,"19000100","","","","",{"$nulls":6},182,0,""," ","","","","","","","","","","","999:99.99","999:99.99","999:99.99","999:99.99","999:99.99"]
["",{"$nulls":15},"",{"$f":"IF(ISERROR(VLOOKUP(AI90,AK$59:$AL$75,2,0)),\"\",VLOOKUP(AI90,AK$59:$AL$75,2,0))","v":""},null,0,{"$f":"IF(I90=\"\",0,1)","v":0},0,0,0,0,0,0,0,0,0,{"$f":"YEAR(F90)&RIGHT(\"0\"&MONTH(F90),2)&RIGHT(\"0\"&DAY(F90),2)","v":"19000100"},"","","","",{"$nulls":6},183,{"$f":"LEN(TRIM(B90))+LEN(TRIM(C90))","v":0},{"$f":"IF(AQ90=2,TRIM(B90)&\"      \"&TRIM(C90),IF(AQ90=3,TRIM(B90)&\"    \"&TRIM(C90),IF(AQ90=4,TRIM(B90)&\"  \"&TRIM(C90),TRIM(B90)&TRIM(C90))))","v":""},{"$f":"D90&\" \"&E90","v":" "},"","","","","","","","","","","999:99.99","999:99.99","999:99.99","999:99.99","999:99.99"]
["",{"$nulls":15},"",{"$f":"IF(ISERROR(VLOOKUP(AI91,AK$59:$AL$75,2,0)),\"\",VLOOKUP(AI91,AK$59:$AL$75,2,0))","v":""},null,0,{"$f":"IF(I91=\"\",0,1)","v":0},0,0,0,0,0,0,0,0,0,"19000100","","","","",{"$nulls":6},184,0,""," ","","","","","","","","","","","999:99.99","999:99.99","999:99.99","999:99.99","999:99.99"]
["",{"$nulls":15},"",{"$f":"IF(ISERROR(VLOOKUP(AI92,AK$59:$AL$75,2,0)),\"\",VLOOKUP(AI92,AK$59:$AL$75,2,0))","v":""},null,0,{"$f":"IF(I92=\"\",0,1)","v":0},0,0,0,0,0,0,0,0,0,"19000100","","","","",{"$nulls":6},185,0,""," ","","","","","","","","","","","999:99.99","999:99.99","999:99.99","999:99.99","999:99.99"]
["",{"$nulls":15},"",{"$f":"IF(ISERROR(VLOOKUP(AI93,AK$59:$AL$75,2,0)),\"\",VLOOKUP(AI93,AK$59:$AL$75,2,0))","v":""},null,0,0,0,0,0,0,0,0,0,0,0,"19000100","","","","",{"$nulls":6},186,0,""," ","","","","","","","","","","","999:99.99","999:99.99","999:99.99","999:99.99","999:99.99"]
["",{"$nulls":15},"",{"$f":"IF(ISERROR(VLOOKUP(AI94,AK$59:$AL$75,2,0)),\"\",VLOOKUP(AI94,AK$59:$AL$75,2,0))","v":""},null,0,0,0,0,0,0,0,0,0,0,0,"19000100","","","","",{"$nulls":6},187,0,""," ","","","","","","","","","","","999:99.99","999:99.99","999:99.99","999:99.99","999:99.99"]
["",{"$nulls":15},"",{"$f":"IF(ISERROR(VLOOKUP(AI95,AK$59:$AL$75,2,0)),\"\",VLOOKUP(AI95,AK$59:$AL$75,2,0))","v":""},null,0,0,0,0,0,0,0,0,0,0,0,"19000100","","","","",{"$nulls":6},188,0,""," ","","","","","","","","","","","999:99.99","999:99.99","999:99.99","999:99.99","999:99.99"]
["",{"$nulls":15},"",{"$f":"IF(ISERROR(VLOOKUP(AI96,AK$59:$AL$75,2,0)),\"\",VLOOKUP(AI96,AK$59:$AL$75,2,0))","v":""},null,0,0,0,0,0,0,0,0,0,0,0,"19000100","","","","",{"$nulls":6},189,0,""," ","","","","","","","","","","","999:99.99","999:99.99","999:99.99","999:99.99","999:99.99"]
["",{"$nulls":15},"",{"$f":"IF(ISERROR(VLOOKUP(AI97,AK$59:$AL$75,2,0)),\"\",VLOOKUP(AI97,AK$59:$AL$75,2,0))","v":""},null,0,0,0,0,0,0,0,0,0,0,0,"19000100","","","","",{"$nulls":6},190,0,""," ","","","","","","","","","","","999:99.99","999:99.99","999:99.99","999:99.99","999:99.99"]
["",{"$nulls":15},"",{"$f":"IF(ISERROR(VLOOKUP(AI98,AK$59:$AL$75,2,0)),\"\",VLOOKUP(AI98,AK$59:$AL$75,2,0))","v":""},null,0,0,0,0,0,0,0,0,0,0,0,"19000100","","","","",{"$nulls":6},191,0,""," ","","","","","","","","","","","999:99.99","999:99.99","999:99.99","999:99.99","999:99.99"]
["",{"$nulls":15},"",{"$f":"IF(ISERROR(VLOOKUP(AI99,AK$59:$AL$75,2,0)),\"\",VLOOKUP(AI99,AK$59:$AL$75,2,0))","v":""},null,0,0,0,0,0,0,0,0,0,0,0,"19000100","","","","",{"$nulls":6},192,0,""," ","","","","","","","","","","","999:99.99","999:99.99","999:99.99","999:99.99","999:99.99"]
["",{"$nulls":15},"",{"$f":"IF(ISERROR(VLOOKUP(AI100,AK$59:$AL$75,2,0)),\"\",VLOOKUP(AI100,AK$59:$AL$75,2,0))","v":""},null,0,0,0,0,0,0,0,0,0,0,0,"19000100","","","","",{"$nulls":6},193,0,""," ","","","","","","","","","","","999:99.99","999:99.99","999:99.99","999:99.99","999:99.99"]
["",{"$nulls":15},"",{"$f":"IF(ISERROR(VLOOKUP(AI101,AK$59:$AL$75,2,0)),\"\",VLOOKUP(AI101,AK$59:$AL$75,2,0))","v":""},null,0,0,0,0,0,0,0,0,0,0,0,"19000100","","","","",{"$nulls":6},194,0,""," ","","","","","","","","","","","999:99.99","999:99.99","999:99.99","999:99.99","999:99.99"]
["",{"$nulls":15},{"$f":"IF(F102=\"\",\"\",INT(($AQ$1-AE102)/10000))","v":""},{"$f":"IF(ISERROR(VLOOKUP(AI102,AK$59:$AL$75,2,0)),\"\",VLOOKUP(AI102,AK$59:$AL$75,2,0))","v":""},null,0,0,0,0,0,0,0,0,0,0,0,"19000100","","","",{"$f":"IF(F102=\"\",\"\",INT(($AQ$2-AE102)/10000))","v":""},{"$nulls":6},195,0,""," ","","","","","","","","","","","999:99.99","999:99.99","999:99.99","999:99.99","999:99.99"]
["",{"$nulls":15},"",{"$f":"IF(ISERROR(VLOOKUP(AI103,AK$59:$AL$75,2,0)),\"\",VLOOKUP(AI103,AK$59:$AL$75,2,0))","v":""},null,0,0,0,0,0,0,0,0,0,0,0,"19000100","","","","",{"$nulls":6},196,0,""," ","","","","","","","","","","","999:99.99","999:99.99","999:99.99","999:99.99","999:99.99"]
["",{"$nulls":15},"",{"$f":"IF(ISERROR(VLOOKUP(AI104,AK$59:$AL$75,2,0)),\"\",VLOOKUP(AI104,AK$59:$AL$75,2,0))","v":""},null,0,0,0,0,0,0,0,0,0,0,0,"19000100","","","","",{"$nulls":6},197,0,""," ","","","","","","","","","","","999:99.99","999:99.99","999:99.99","999:99.99","999:99.99"]
["",{"$nulls":15},"",{"$f":"IF(ISERROR(VLOOKUP(AI105,AK$59:$AL$75,2,0)),\"\",VLOOKUP(AI105,AK$59:$AL$75,2,0))","v":""},null,0,0,0,0,0,0,0,0,0,0,0,"19000100","","","","",{"$nulls":6},198,0,""," ","","","","","","","","","","","999:99.99","999:99.99","999:99.99","999:99.99","999:99.99"]
["",{"$nulls":15},"",{"$f":"IF(ISERROR(VLOOKUP(AI106,AK$59:$AL$75,2,0)),\"\",VLOOKUP(AI106,AK$59:$AL$75,2,0))","v":""},null,0,0,0,0,0,0,0,0,0,0,0,"19000100","","","","",{"$nulls":6},199,0,""," ","","","","","","","","","","","999:99.99","999:99.99","999:99.99","999:99.99","999:99.99"]
["",{"$nulls":15},"",{"$f":"IF(ISERROR(VLOOKUP(AI107,AK$59:$AL$75,2,0)),\"\",VLOOKUP(AI107,AK$59:$AL$75,2,0))","v":""},null,0,0,0,0,0,0,0,0,0,0,0,"19000100","","","","",{"$nulls":6},200,0,""," ","","","","","","","","","","","999:99.99","999:99.99","999:99.99","999:99.99","999:99.99"]
[{"$nulls":24},{"$f":"50-COUNTIF(Y58:Y107,0)","v":0}]
[{"$nulls":24},{"$f":"SUM(Y58:Y107)","v":0}]

{"sheet":"リレー","index":3,"n_rows":216,"n_cols":84,"rows_kept":216,"cut":false,"hidden":false,"merged":[[3,43,3,46],[0,0,0,4],[0,7,0,8],[1,0,1,2],[2,7,2,8],[3,16,4,16],[3,17,3,21],[3,23,3,27],[3,28,3,31],[3,32,3,35],[3,36,3,40],[3,41,3,42]]}
[{"$f":"申込書!B2","v":"AQUATICS JAPANCUP CHAMPIONSHIP 2023"},{"$nulls":6},"リレー申込"]
[]
[{"$error":"#REF!"},"色のついた部分のみ入力願います。"]
[null,"チーム登録を行って下さい",{"$nulls":4},"※個人種目の入力を先に行って下さい。",{"$nulls":6},"種目","プロ","種目","距離","性別",{"$nulls":4},"区分","年齢",{"$nulls":4},"スタッフ",null,null,null,"プロNo氏名",null,null,null,"重複",{"$nulls":4},"種目数",null,"泳者No"]
["No.","性別","区分","種目","ｴﾝﾄﾘｰﾀｲﾑ","第一泳者","第二泳者","第三泳者","第四泳者",null,"合計年齢","ｴﾝﾄﾘｰﾀｲﾑ",null,"番号","No","No",null,"①","②","③","④","計",null,"①","②","③","④","計","①","②","③","④","①","②","③","④","①","②","③","④",null,"No区分","数","①","②","③","④",null,"種目名","種目No","距離",null,null,"氏名","氏名2","年齢","性別","ｽﾀｯﾌ","選手No",{"$f":"AX14","v":1},{"$f":"AX15","v":2},{"$f":"AX16","v":3},{"$f":"AX17","v":4},{"$f":"AX18","v":5},{"$f":"AX19","v":6},{"$f":"AX18","v":5},{"$f":"AX19","v":6},{"$f":"AX20","v":0},{"$f":"AX21","v":0},{"$f":"AX30","v":0},{"$f":"AX31","v":0}]
[{"$f":"IF(B6=\"\",\"\",1)","v":""},{"$nulls":8},{"$f":"IF(V6=3,\"性別確認!\",IF(AO6<>0,\"泳者重複!\",\"\"))","v":""},{"$f":"IF(D6=\"\",\"\",SUM(X6:AA6))","v":""},{"$f":"IF(E6=\"\",\"999:99.99\",\" \"&LEFT(RIGHT(\"        \"&TEXT(E6,\"0.00\"),7),2)&\":\"&RIGHT(TEXT(E6,\"0.00\"),5))","v":"999:99.99"},null,{"$f":"IF($D6=\"\",\"\",VLOOKUP($B6&$D6,$AW$14:$AX$31,2,0))","v":""},{"$f":"IF($D6=\"\",\"\",VLOOKUP($B6&$D6,$AW$14:$AY$31,3,0))","v":""},{"$f":"IF($D6=\"\",\"\",VLOOKUP($D6,$AW$7:$AY$10,2,0))","v":""},{"$f":"IF($D6=\"\",\"\",VLOOKUP($D6,$AW$7:$AY$10,3,0))","v":""},{"$f":"IF(F6=\"\",0,VLOOKUP(F6,$BB$7:$BE$216,4,0))","v":0},{"$f":"IF(G6=\"\",0,VLOOKUP(G6,$BB$7:$BE$216,4,0))","v":0},{"$f":"IF(H6=\"\",0,VLOOKUP(H6,$BB$7:$BE$216,4,0))","v":0},{"$f":"IF(I6=\"\",0,VLOOKUP(I6,$BB$7:$BE$216,4,0))","v":0},{"$f":"IF(B6=\"\",\"\",IF(B6=\"男子\",0,IF(B6=\"女子\",5,9)))","v":""},{"$f":"IF(C6=\"\",\"\",VLOOKUP(C6,$CC$7:$CD$23,2,0))","v":""},{"$f":"IF($F6=\"\",0,VLOOKUP($F6,$BB$7:$BE$216,3,0))","v":0},{"$f":"IF($G6=\"\",0,VLOOKUP($G6,$BB$7:$BE$216,3,0))","v":0},{"$f":"IF($H6=\"\",0,VLOOKUP($H6,$BB$7:$BE$216,3,0))","v":0},{"$f":"IF($I6=\"\",0,VLOOKUP($I6,$BB$7:$BE$216,3,0))","v":0},{"$f":"IF(SUM(X6:AA6)=0,0,IF(SUM(X6:AA6)=20,5,IF(SUM(X6:AA6)=10,9,3)))","v":0},{"$f":"IF($F6=\"\",0,VLOOKUP($F6,$BB$7:$BF$216,5,0))","v":0},{"$f":"IF($G6=\"\",0,VLOOKUP($G6,$BB$7:$BF$216,5,0))","v":0},{"$f":"IF($H6=\"\",0,VLOOKUP($H6,$BB$7:$BF$216,5,0))","v":0},{"$f":"IF($I6=\"\",0,VLOOKUP($I6,$BB$7:$BF$216,5,0))","v":0},{"$f":"IF(F6=\"\",\"\",$N6&F6)","v":""},{"$f":"IF(G6=\"\",\"\",$N6&G6)","v":""},{"$f":"IF(H6=\"\",\"\",$N6&H6)","v":""},{"$f":"IF(I6=\"\",\"\",$N6&I6)","v":""},{"$f":"IF(F6=\"\",0,VLOOKUP(F6,$BB$7:$BS$216,$N6+6,0))","v":0},{"$f":"IF(G6=\"\",0,VLOOKUP(G6,$BB$7:$BS$216,$N6+6,0))","v":0},{"$f":"IF(H6=\"\",0,VLOOKUP(H6,$BB$7:$BS$216,$N6+6,0))","v":0},{"$f":"IF(I6=\"\",0,VLOOKUP(I6,$BB$7:$BS$216,$N6+6,0))","v":0},{"$f":"IF(OR(AK6>1,AL6>1,AM6>1,AN6>1),1,0)","v":0},{"$f":"IF(D6=\"\",\"\",TEXT(N6,\"00\")&W6)","v":""},{"$f":"IF(AP6=\"\",0,COUNTIF($AP$6:$AP$65,AP6))","v":0},{"$f":"IF(F6=\"\",\"\",VLOOKUP(F6,$BB$7:$BG$216,6,0))","v":""},{"$f":"IF(G6=\"\",\"\",VLOOKUP(G6,$BB$7:$BG$216,6,0))","v":""},{"$f":"IF(H6=\"\",\"\",VLOOKUP(H6,$BB$7:$BG$216,6,0))","v":""},{"$f":"IF(I6=\"\",\"\",VLOOKUP(I6,$BB$7:$BG$216,6,0))","v":""}]
[{"$f":"IF(B7=\"\",\"\",A6+1)","v":""},{"$nulls":8},{"$f":"IF(V7=3,\"性別確認!\",IF(AO7<>0,\"泳者重複!\",\"\"))","v":""},{"$f":"IF(D7=\"\",\"\",SUM(X7:AA7))","v":""},{"$f":"IF(E7=\"\",\"999:99.99\",\" \"&LEFT(RIGHT(\"        \"&TEXT(E7,\"0.00\"),7),2)&\":\"&RIGHT(TEXT(E7,\"0.00\"),5))","v":"999:99.99"},null,{"$f":"IF($D7=\"\",\"\",VLOOKUP($B7&$D7,$AW$14:$AX$31,2,0))","v":""},{"$f":"IF($D7=\"\",\"\",VLOOKUP($B7&$D7,$AW$14:$AY$31,3,0))","v":""},{"$f":"IF($D7=\"\",\"\",VLOOKUP($D7,$AW$7:$AY$10,2,0))","v":""},{"$f":"IF($D7=\"\",\"\",VLOOKUP($D7,$AW$7:$AY$10,3,0))","v":""},{"$f":"IF(F7=\"\",0,VLOOKUP(F7,$BB$7:$BE$216,4,0))","v":0},{"$f":"IF(G7=\"\",0,VLOOKUP(G7,$BB$7:$BE$216,4,0))","v":0},{"$f":"IF(H7=\"\",0,VLOOKUP(H7,$BB$7:$BE$216,4,0))","v":0},{"$f":"IF(I7=\"\",0,VLOOKUP(I7,$BB$7:$BE$216,4,0))","v":0},{"$f":"IF(B7=\"\",\"\",IF(B7=\"男子\",0,IF(B7=\"女子\",5,9)))","v":""},{"$f":"IF(C7=\"\",\"\",VLOOKUP(C7,$CC$7:$CD$23,2,0))","v":""},{"$f":"IF($F7=\"\",0,VLOOKUP($F7,$BB$7:$BE$216,3,0))","v":0},{"$f":"IF($G7=\"\",0,VLOOKUP($G7,$BB$7:$BE$216,3,0))","v":0},{"$f":"IF($H7=\"\",0,VLOOKUP($H7,$BB$7:$BE$216,3,0))","v":0},{"$f":"IF($I7=\"\",0,VLOOKUP($I7,$BB$7:$BE$216,3,0))","v":0},{"$f":"IF(SUM(X7:AA7)=0,0,IF(SUM(X7:AA7)=20,5,IF(SUM(X7:AA7)=10,9,3)))","v":0},{"$f":"IF($F7=\"\",0,VLOOKUP($F7,$BB$7:$BF$216,5,0))","v":0},{"$f":"IF($G7=\"\",0,VLOOKUP($G7,$BB$7:$BF$216,5,0))","v":0},{"$f":"IF($H7=\"\",0,VLOOKUP($H7,$BB$7:$BF$216,5,0))","v":0},{"$f":"IF($I7=\"\",0,VLOOKUP($I7,$BB$7:$BF$216,5,0))","v":0},{"$f":"IF(F7=\"\",\"\",$N7&F7)","v":""},"","","",{"$f":"IF(F7=\"\",0,VLOOKUP(F7,$BB$7:$BS$216,$N7+6,0))","v":0},{"$f":"IF(G7=\"\",0,VLOOKUP(G7,$BB$7:$BS$216,$N7+6,0))","v":0},{"$f":"IF(H7=\"\",0,VLOOKUP(H7,$BB$7:$BS$216,$N7+6,0))","v":0},{"$f":"IF(I7=\"\",0,VLOOKUP(I7,$BB$7:$BS$216,$N7+6,0))","v":0},{"$f":"IF(OR(AK7>1,AL7>1,AM7>1,AN7>1),1,0)","v":0},{"$f":"IF(D7=\"\",\"\",TEXT(N7,\"00\")&W7)","v":""},{"$f":"IF(AP7=\"\",0,COUNTIF($AP$6:$AP$65,AP7))","v":0},{"$f":"IF(F7=\"\",\"\",VLOOKUP(F7,$BB$7:$BG$216,6,0))","v":""},{"$f":"IF(G7=\"\",\"\",VLOOKUP(G7,$BB$7:$BG$216,6,0))","v":""},{"$f":"IF(H7=\"\",\"\",VLOOKUP(H7,$BB$7:$BG$216,6,0))","v":""},{"$f":"IF(I7=\"\",\"\",VLOOKUP(I7,$BB$7:$BG$216,6,0))","v":""},null,"100mフリーリレー",6,100,null,1,{"$f":"選手!C2","v":""},{"$f":"選手!L2","v":""},{"$f":"選手!F2","v":""},{"$f":"選手!B2","v":0},null,{"$f":"選手!A2","v":""},{"$f":"COUNTIF($AG$6:$AJ$65,BH$5&$BB7)","v":0},{"$f":"COUNTIF($AG$6:$AJ$65,BI$5&$BB7)","v":0},0,0,0,0,0,0,0,0,0,0,{"$nulls":6},"選手",50,{"$nulls":4},350]
[{"$f":"IF(B8=\"\",\"\",A7+1)","v":""},{"$nulls":8},"","","999:99.99",null,{"$f":"IF($D8=\"\",\"\",VLOOKUP($B8&$D8,$AW$14:$AX$31,2,0))","v":""},"","","",0,0,0,0,"","",0,0,0,0,0,0,0,0,0,"","","","",0,0,0,0,{"$f":"IF(OR(AK8>1,AL8>1,AM8>1,AN8>1),1,0)","v":0},"",0,"","","","",null,"100mメドレーリレー",7,100,null,2,{"$f":"選手!C3","v":""},{"$f":"選手!L3","v":""},{"$f":"選手!F3","v":""},{"$f":"選手!B3","v":0},null,{"$f":"選手!A3","v":""},{"$f":"COUNTIF($AG$6:$AJ$65,BH$5&$BB8)","v":0},0,0,0,0,0,0,0,0,0,0,0,{"$nulls":6},"ﾒｶﾞｽｲﾏｰ",100,null,null,1,null,340]
["",{"$nulls":8},"","","999:99.99",null,"","","","",0,0,0,0,"","",0,0,0,0,0,0,0,0,0,"","","","",0,0,0,0,0,"",0,"","","","",null,"200mフリーリレー",6,200,null,3,{"$f":"選手!C4","v":""},{"$f":"選手!L4","v":""},{"$f":"選手!F4","v":""},{"$f":"選手!B4","v":0},null,{"$f":"選手!A4","v":""},0,{"$f":"COUNTIF($AG$6:$AJ$65,BI$5&$BB9)","v":0},0,0,0,0,0,0,0,0,0,0,{"$nulls":6},"1級",101,null,"Ａ２４",5,null,320]
["",{"$nulls":8},"","","999:99.99",null,"","","","",0,0,0,0,"","",0,0,0,0,0,0,0,0,0,"","","","",0,0,0,0,0,"",0,"","","","",null,"200mメドレーリレー",7,200,null,4,{"$f":"選手!C5","v":""},{"$f":"選手!L5","v":""},{"$f":"選手!F5","v":""},{"$f":"選手!B5","v":0},null,{"$f":"選手!A5","v":""},0,0,0,0,0,0,0,0,0,0,0,0,{"$nulls":6},"2級",102,null,"Ｂ３０",6,null,310]
["",{"$nulls":8},"","","999:99.99",null,"","","","",0,0,0,0,"","",0,0,0,0,0,0,0,0,0,"","","","",0,0,0,0,0,"",0,"","","","",{"$nulls":5},5,{"$f":"選手!C6","v":""},{"$f":"選手!L6","v":""},{"$f":"選手!F6","v":""},{"$f":"選手!B6","v":0},null,{"$f":"選手!A6","v":""},0,0,0,0,0,0,0,0,0,0,0,0,{"$nulls":6},"3級",103,null,"Ｃ３６",7,null,305]
["",{"$nulls":8},"","","999:99.99",null,"","","","",0,0,0,0,"","",0,0,0,0,0,0,0,0,0,"","","","",0,0,0,0,0,"",0,"","","","",{"$nulls":5},6,{"$f":"選手!C7","v":""},{"$f":"選手!L7","v":""},{"$f":"選手!F7","v":""},{"$f":"選手!B7","v":0},null,{"$f":"選手!A7","v":""},0,0,0,0,0,0,0,0,0,0,0,0,{"$nulls":6},"4級",104,null,"Ｄ４２",8,null,300]
["",{"$nulls":8},"","","999:99.99",null,"","","","",0,0,0,0,"","",0,0,0,0,0,0,0,0,0,"","","","",0,0,0,0,0,"",0,"","","","",null,null,"種目番号","プロNo","ｴﾝﾄﾘｰ数",7,{"$f":"選手!C8","v":""},{"$f":"選手!L8","v":""},{"$f":"選手!F8","v":""},{"$f":"選手!B8","v":0},null,{"$f":"選手!A8","v":""},0,0,0,0,0,0,0,0,0,0,0,0,{"$nulls":6},"5級",105,null,"Ｅ４８",9]
["",{"$nulls":8},"","","999:99.99",null,"","","","",0,0,0,0,"","",0,0,0,0,0,0,0,0,0,"","","","",0,0,0,0,0,"",0,"","","","",null,"女子100mメドレーリレー",1,33,{"$f":"COUNTIF($N$6:$N$65,AX14)","v":0},8,{"$f":"選手!C9","v":""},{"$f":"選手!L9","v":""},{"$f":"選手!F9","v":""},{"$f":"選手!B9","v":0},null,{"$f":"選手!A9","v":""},0,0,0,0,0,0,0,0,0,0,0,0,{"$nulls":6},"6級",106,null,"Ｆ５４",10]
["",{"$nulls":8},"","","999:99.99",null,"","","","",0,0,0,0,"","",0,0,0,0,0,0,0,0,0,"","","","",0,0,0,0,0,"",0,"","","","",null,"男子100mメドレーリレー",2,34,0,9,{"$f":"選手!C10","v":""},{"$f":"選手!L10","v":""},{"$f":"選手!F10","v":""},{"$f":"選手!B10","v":0},null,{"$f":"選手!A10","v":""},0,0,0,0,0,0,0,0,0,0,0,0,{"$nulls":9},"Ｇ６０",11]
["",{"$nulls":8},"","","999:99.99",null,"","","","",0,0,0,0,"","",0,0,0,0,0,0,0,0,0,"","","","",0,0,0,0,0,"",0,"","","","",null,"混合100mメドレーリレー",3,35,{"$f":"COUNTIF($N$6:$N$65,AX16)","v":0},10,{"$f":"選手!C11","v":""},{"$f":"選手!L11","v":""},{"$f":"選手!F11","v":""},{"$f":"選手!B11","v":0},null,{"$f":"選手!A11","v":""},0,0,0,0,0,0,0,0,0,0,0,0,{"$nulls":9},"Ｈ６６",12]
["",{"$nulls":8},"","","999:99.99",null,"","","","",0,0,0,0,"","",0,0,0,0,0,0,0,0,0,"","","","",0,0,0,0,0,"",0,"","","","",null,"女子100mフリーリレー",4,39,{"$f":"COUNTIF($N$6:$N$65,AX17)","v":0},11,{"$f":"選手!C12","v":""},{"$f":"選手!L12","v":""},{"$f":"選手!F12","v":""},{"$f":"選手!B12","v":0},null,{"$f":"選手!A12","v":""},0,0,0,0,0,0,0,0,0,0,0,0,{"$nulls":9},"Ｒ１１９",119]
["",{"$nulls":8},"","","999:99.99",null,"","","","",0,0,0,0,"","",0,0,0,0,0,0,0,0,0,"","","","",0,0,0,0,0,"",0,"","","","",null,"男子100mフリーリレー",5,40,0,12,{"$f":"選手!C13","v":""},{"$f":"選手!L13","v":""},{"$f":"選手!F13","v":""},{"$f":"選手!B13","v":0},null,{"$f":"選手!A13","v":""},0,0,0,0,0,0,0,0,0,0,0,0,{"$nulls":9},"Ｒ１２０",120]
["",{"$nulls":8},"","","999:99.99",null,"","","","",0,0,0,0,"","",0,0,0,0,0,0,0,0,0,"","","","",0,0,0,0,0,"",0,"","","","",null,"混合100mフリーリレー",6,41,0,13,{"$f":"選手!C14","v":""},{"$f":"選手!L14","v":""},{"$f":"選手!F14","v":""},{"$f":"選手!B14","v":0},null,{"$f":"選手!A14","v":""},0,0,0,0,0,0,0,0,0,0,0,0,{"$nulls":9},"Ｒ１６０",160]
["",{"$nulls":8},"","","999:99.99",null,"","","","",0,0,0,0,"","",0,0,0,0,0,0,0,0,0,"","","","",0,0,0,0,0,"",0,"","","","",{"$nulls":5},14,{"$f":"選手!C15","v":""},{"$f":"選手!L15","v":""},{"$f":"選手!F15","v":""},{"$f":"選手!B15","v":0},null,{"$f":"選手!A15","v":""},0,0,0,0,0,0,0,0,0,0,0,0,{"$nulls":9},"Ｒ２００",200]
["",{"$nulls":8},"","","999:99.99",null,"","","","",0,0,0,0,"","",0,0,0,0,0,0,0,0,0,"","","","",0,0,0,0,0,"",0,"","","","",{"$nulls":5},15,{"$f":"選手!C16","v":""},{"$f":"選手!L16","v":""},{"$f":"選手!F16","v":""},{"$f":"選手!B16","v":0},null,{"$f":"選手!A16","v":""},0,0,0,0,0,0,0,0,0,0,0,0,{"$nulls":9},"Ｒ２４０",240]
["",{"$nulls":8},"","","999:99.99",null,"","","","",0,0,0,0,"","",0,0,0,0,0,0,0,0,0,"","","","",0,0,0,0,0,"",0,"","","","",null,"女子",{"$f":"AZ14+AZ17","v":0},null,null,16,{"$f":"選手!C17","v":""},{"$f":"選手!L17","v":""},{"$f":"選手!F17","v":""},{"$f":"選手!B17","v":0},null,{"$f":"選手!A17","v":""},0,0,0,0,0,0,0,0,0,0,0,0,{"$nulls":9},"Ｒ２８０",280]
["",{"$nulls":8},"","","999:99.99",null,"","","","",0,0,0,0,"","",0,0,0,0,0,0,0,0,0,"","","","",0,0,0,0,0,"",0,"","","","",null,"男子",{"$f":"AZ15+AZ18","v":0},null,null,17,{"$f":"選手!C18","v":""},{"$f":"選手!L18","v":""},{"$f":"選手!F18","v":""},{"$f":"選手!B18","v":0},null,{"$f":"選手!A18","v":""},0,0,0,0,0,0,0,0,0,0,0,0,{"$nulls":9},"Ｒ３２０",320]
["",{"$nulls":8},"","","999:99.99",null,"","","","",0,0,0,0,"","",0,0,0,0,0,0,0,0,0,"","","","",0,0,0,0,0,"",0,"","","","",null,"混合",{"$f":"AZ16+AZ19","v":0},null,null,18,{"$f":"選手!C19","v":""},{"$f":"選手!L19","v":""},{"$f":"選手!F19","v":""},{"$f":"選手!B19","v":0},null,{"$f":"選手!A19","v":""},0,0,0,0,0,0,0,0,0,0,0,0]
["",{"$nulls":8},"","","999:99.99",null,"","","","",0,0,0,0,"","",0,0,0,0,0,0,0,0,0,"","","","",0,0,0,0,0,"",0,"","","","",null,"合計",{"$f":"SUM(AZ14:AZ20)","v":0},null,null,19,{"$f":"選手!C20","v":""},{"$f":"選手!L20","v":""},{"$f":"選手!F20","v":""},{"$f":"選手!B20","v":0},null,{"$f":"選手!A20","v":""},0,0,0,0,0,0,0,0,0,0,0,0]
["",{"$nulls":8},"","","999:99.99",null,"","","","",0,0,0,0,"","",0,0,0,0,0,0,0,0,0,"","","","",0,0,0,0,0,"",0,"","","","",{"$nulls":5},20,{"$f":"選手!C21","v":""},{"$f":"選手!L21","v":""},{"$f":"選手!F21","v":""},{"$f":"選手!B21","v":0},null,{"$f":"選手!A21","v":""},0,0,0,0,0,0,0,0,0,0,0,0]
["",{"$nulls":8},"","","999:99.99",null,"","","","",0,0,0,0,"","",0,0,0,0,0,0,0,0,0,"","","","",0,0,0,0,0,"",0,"","","","",{"$nulls":5},21,{"$f":"選手!C22","v":""},{"$f":"選手!L22","v":""},{"$f":"選手!F22","v":""},{"$f":"選手!B22","v":0},null,{"$f":"選手!A22","v":""},0,0,0,0,0,0,0,0,0,0,0,0]
["",{"$nulls":8},"","","999:99.99",null,"","","","",0,0,0,0,"","",0,0,0,0,0,0,0,0,0,"","","","",0,0,0,0,0,"",0,"","","","",{"$nulls":5},22,{"$f":"選手!C23","v":""},{"$f":"選手!L23","v":""},{"$f":"選手!F23","v":""},{"$f":"選手!B23","v":0},null,{"$f":"選手!A23","v":""},0,0,0,0,0,0,0,0,0,0,0,0]
["",{"$nulls":8},"","","999:99.99",null,"","","","",0,0,0,0,"","",0,0,0,0,0,0,0,0,0,"","","","",0,0,0,0,0,"",0,"","","","",{"$nulls":5},23,{"$f":"選手!C24","v":""},{"$f":"選手!L24","v":""},{"$f":"選手!F24","v":""},{"$f":"選手!B24","v":0},null,{"$f":"選手!A24","v":""},0,0,0,0,0,0,0,0,0,0,0,0]
["",{"$nulls":8},"","","999:99.99",null,"","","","",0,0,0,0,"","",0,0,0,0,0,0,0,0,0,"","","","",0,0,0,0,0,"",0,"","","","",{"$nulls":5},24,{"$f":"選手!C25","v":""},{"$f":"選手!L25","v":""},{"$f":"選手!F25","v":""},{"$f":"選手!B25","v":0},null,{"$f":"選手!A25","v":""},0,0,0,0,0,0,0,0,0,0,0,0]
["",{"$nulls":8},"","","999:99.99",null,"","","","",0,0,0,0,"","",0,0,0,0,0,0,0,0,0,"","","","",0,0,0,0,0,"",0,"","","","",{"$nulls":5},25,{"$f":"選手!C26","v":""},{"$f":"選手!L26","v":""},{"$f":"選手!F26","v":""},{"$f":"選手!B26","v":0},null,{"$f":"選手!A26","v":""},0,0,0,0,0,0,0,0,0,0,0,0]
["",{"$nulls":8},"","","999:99.99",null,"","","","",0,0,0,0,"","",0,0,0,0,0,0,0,0,0,"","","","",0,0,0,0,0,"",0,"","","","",{"$nulls":5},26,{"$f":"選手!C27","v":""},{"$f":"選手!L27","v":""},{"$f":"選手!F27","v":""},{"$f":"選手!B27","v":0},null,{"$f":"選手!A27","v":""},0,0,0,0,0,0,0,0,0,0,0,0]
["",{"$nulls":8},"","","999:99.99",null,"","","","",0,0,0,0,"","",0,0,0,0,0,0,0,0,0,"","","","",0,0,0,0,0,"",0,"","","","",{"$nulls":5},27,{"$f":"選手!C28","v":""},{"$f":"選手!L28","v":""},{"$f":"選手!F28","v":""},{"$f":"選手!B28","v":0},null,{"$f":"選手!A28","v":""},0,0,0,0,0,0,0,0,0,0,0,0]
["",{"$nulls":8},"","","999:99.99",null,"","","","",0,0,0,0,"","",0,0,0,0,0,0,0,0,0,"","","","",0,0,0,0,0,"",0,"","","","",{"$nulls":5},28,{"$f":"選手!C29","v":""},{"$f":"選手!L29","v":""},{"$f":"選手!F29","v":""},{"$f":"選手!B29","v":0},null,{"$f":"選手!A29","v":""},0,0,0,0,0,0,0,0,0,0,0,0]
["",{"$nulls":8},"","","999:99.99",null,"","","","",0,0,0,0,"","",0,0,0,0,0,0,0,0,0,"","","","",0,0,0,0,0,"",0,"","","","",{"$nulls":5},29,{"$f":"選手!C30","v":""},{"$f":"選手!L30","v":""},{"$f":"選手!F30","v":""},{"$f":"選手!B30","v":0},null,{"$f":"選手!A30","v":""},0,0,0,0,0,0,0,0,0,0,0,0]
["",{"$nulls":8},"","","999:99.99",null,"","","","",0,0,0,0,"","",0,0,0,0,0,0,0,0,0,"","","","",0,0,0,0,0,"",0,"","","","",{"$nulls":5},30,{"$f":"選手!C31","v":""},{"$f":"選手!L31","v":""},{"$f":"選手!F31","v":""},{"$f":"選手!B31","v":0},null,{"$f":"選手!A31","v":""},0,0,0,0,0,0,0,0,0,0,0,0]
["",{"$nulls":8},"","","999:99.99",null,"","","","",0,0,0,0,"","",0,0,0,0,0,0,0,0,0,"","","","",0,0,0,0,0,"",0,"","","","",{"$nulls":5},31,{"$f":"選手!C32","v":""},{"$f":"選手!L32","v":""},{"$f":"選手!F32","v":""},{"$f":"選手!B32","v":0},null,{"$f":"選手!A32","v":""},0,0,0,0,0,0,0,0,0,0,0,0]
["",{"$nulls":8},"","","999:99.99",null,"","","","",0,0,0,0,"","",0,0,0,0,0,0,0,0,0,"","","","",0,0,0,0,0,"",0,"","","","",{"$nulls":5},32,{"$f":"選手!C33","v":""},{"$f":"選手!L33","v":""},{"$f":"選手!F33","v":""},{"$f":"選手!B33","v":0},null,{"$f":"選手!A33","v":""},0,0,0,0,0,0,0,0,0,0,0,0]
["",{"$nulls":8},"","","999:99.99",null,"","","","",0,0,0,0,"","",0,0,0,0,0,0,0,0,0,"","","","",0,0,0,0,0,"",0,"","","","",{"$nulls":5},33,{"$f":"選手!C34","v":""},{"$f":"選手!L34","v":""},{"$f":"選手!F34","v":""},{"$f":"選手!B34","v":0},null,{"$f":"選手!A34","v":""},0,0,0,0,0,0,0,0,0,0,0,0]
["",{"$nulls":8},"","","999:99.99",null,"","","","",0,0,0,0,"","",0,0,0,0,0,0,0,0,0,"","","","",0,0,0,0,0,"",0,"","","","",{"$nulls":5},34,{"$f":"選手!C35","v":""},{"$f":"選手!L35","v":""},{"$f":"選手!F35","v":""},{"$f":"選手!B35","v":0},null,{"$f":"選手!A35","v":""},{"$f":"COUNTIF($AG$6:$AJ$65,BH$5&$BB40)","v":0},0,0,0,0,0,0,0,0,0,0,0]
["",{"$nulls":8},"","","999:99.99",null,"","","","",0,0,0,0,"","",0,0,0,0,0,0,0,0,0,"","","","",0,0,0,0,0,"",0,"","","","",{"$nulls":5},35,{"$f":"選手!C36","v":""},{"$f":"選手!L36","v":""},{"$f":"選手!F36","v":""},{"$f":"選手!B36","v":0},null,{"$f":"選手!A36","v":""},0,0,0,0,0,0,0,0,0,0,0,0]
["",{"$nulls":8},"","","999:99.99",null,"","","","",0,0,0,0,"","",0,0,0,0,0,0,0,0,0,"","","","",0,0,0,0,0,"",0,"","","","",{"$nulls":5},36,{"$f":"選手!C37","v":""},{"$f":"選手!L37","v":""},{"$f":"選手!F37","v":""},{"$f":"選手!B37","v":0},null,{"$f":"選手!A37","v":""},0,0,0,0,0,0,0,0,0,0,0,0]
["",{"$nulls":8},"","","999:99.99",null,"","","","",0,0,0,0,"","",0,0,0,0,0,0,0,0,0,"","","","",0,0,0,0,0,"",0,"","","","",{"$nulls":5},37,{"$f":"選手!C38","v":""},{"$f":"選手!L38","v":""},{"$f":"選手!F38","v":""},{"$f":"選手!B38","v":0},null,{"$f":"選手!A38","v":""},0,0,0,0,0,0,0,0,0,0,0,0]
["",{"$nulls":8},"","","999:99.99",null,"","","","",0,0,0,0,"","",0,0,0,0,0,0,0,0,0,"","","","",0,0,0,0,0,"",0,"","","","",{"$nulls":5},38,{"$f":"選手!C39","v":""},{"$f":"選手!L39","v":""},{"$f":"選手!F39","v":""},{"$f":"選手!B39","v":0},null,{"$f":"選手!A39","v":""},0,0,0,0,0,0,0,0,0,0,0,0]
["",{"$nulls":8},"","","999:99.99",null,"","","","",0,0,0,0,"","",0,0,0,0,0,0,0,0,0,"","","","",0,0,0,0,0,"",0,"","","","",{"$nulls":5},39,{"$f":"選手!C40","v":""},{"$f":"選手!L40","v":""},{"$f":"選手!F40","v":""},{"$f":"選手!B40","v":0},null,{"$f":"選手!A40","v":""},0,0,0,0,0,0,0,0,0,0,0,0]
["",{"$nulls":8},"","","999:99.99",null,"","","","",0,0,0,0,"","",0,0,0,0,0,0,0,0,0,"","","","",0,0,0,0,0,"",0,"","","","",{"$nulls":5},40,{"$f":"選手!C41","v":""},{"$f":"選手!L41","v":""},{"$f":"選手!F41","v":""},{"$f":"選手!B41","v":0},null,{"$f":"選手!A41","v":""},0,0,0,0,0,0,0,0,0,0,0,0]
["",{"$nulls":8},"","","999:99.99",null,"","","","",0,0,0,0,"","",0,0,0,0,0,0,0,0,0,"","","","",0,0,0,0,0,"",0,"","","","",{"$nulls":5},41,{"$f":"選手!C42","v":""},{"$f":"選手!L42","v":""},{"$f":"選手!F42","v":""},{"$f":"選手!B42","v":0},null,{"$f":"選手!A42","v":""},0,0,0,0,0,0,0,0,0,0,0,0]
["",{"$nulls":8},"","","999:99.99",null,"","","","",0,0,0,0,"","",0,0,0,0,0,0,0,0,0,"","","","",0,0,0,0,0,"",0,"","","","",{"$nulls":5},42,{"$f":"選手!C43","v":""},{"$f":"選手!L43","v":""},{"$f":"選手!F43","v":""},{"$f":"選手!B43","v":0},null,{"$f":"選手!A43","v":""},0,0,0,0,0,0,0,0,0,0,0,0]
["",{"$nulls":8},"","","999:99.99",null,"","","","",0,0,0,0,"","",0,0,0,0,0,0,0,0,0,"","","","",0,0,0,0,0,"",0,"","","","",{"$nulls":5},43,{"$f":"選手!C44","v":""},{"$f":"選手!L44","v":""},{"$f":"選手!F44","v":""},{"$f":"選手!B44","v":0},null,{"$f":"選手!A44","v":""},0,0,0,0,0,0,0,0,0,0,0,0]
["",{"$nulls":8},"","","999:99.99",null,"","","","",0,0,0,0,"","",0,0,0,0,0,0,0,0,0,"","","","",0,0,0,0,0,"",0,"","","","",{"$nulls":5},44,{"$f":"選手!C45","v":""},{"$f":"選手!L45","v":""},{"$f":"選手!F45","v":""},{"$f":"選手!B45","v":0},null,{"$f":"選手!A45","v":""},0,0,0,0,0,0,0,0,0,0,0,0]
["",{"$nulls":8},"","","999:99.99",null,"","","","",0,0,0,0,"","",0,0,0,0,0,0,0,0,0,"","","","",0,0,0,0,0,"",0,"","","","",{"$nulls":5},45,{"$f":"選手!C46","v":""},{"$f":"選手!L46","v":""},{"$f":"選手!F46","v":""},{"$f":"選手!B46","v":0},null,{"$f":"選手!A46","v":""},0,0,0,0,0,0,0,0,0,0,0,0]
["",{"$nulls":8},"","","999:99.99",null,"","","","",0,0,0,0,"","",0,0,0,0,0,0,0,0,0,"","","","",0,0,0,0,0,"",0,"","","","",{"$nulls":5},46,{"$f":"選手!C47","v":""},{"$f":"選手!L47","v":""},{"$f":"選手!F47","v":""},{"$f":"選手!B47","v":0},null,{"$f":"選手!A47","v":""},0,0,0,0,0,0,0,0,0,0,0,0]
["",{"$nulls":8},"","","999:99.99",null,"","","","",0,0,0,0,"","",0,0,0,0,0,0,0,0,0,"","","","",0,0,0,0,0,"",0,"","","","",{"$nulls":5},47,{"$f":"選手!C48","v":""},{"$f":"選手!L48","v":""},{"$f":"選手!F48","v":""},{"$f":"選手!B48","v":0},null,{"$f":"選手!A48","v":""},0,0,0,0,0,0,0,0,0,0,0,0]
["",{"$nulls":8},"",{"$f":"IF(D54=\"\",\"\",SUM(X54:AA54))","v":""},"999:99.99",null,"","","","",0,0,0,0,"","",0,0,0,0,0,0,0,0,0,"","","","",0,0,0,0,0,"",0,"","","","",{"$nulls":5},48,{"$f":"選手!C49","v":""},{"$f":"選手!L49","v":""},{"$f":"選手!F49","v":""},{"$f":"選手!B49","v":0},null,{"$f":"選手!A49","v":""},0,0,0,0,0,0,0,0,0,0,0,0]
["",{"$nulls":8},"",{"$f":"IF(D55=\"\",\"\",SUM(X55:AA55))","v":""},"999:99.99",null,"","","","",0,0,0,0,"","",0,0,0,0,0,0,0,0,0,"","","","",0,0,0,0,0,"",0,"","","","",{"$nulls":5},49,{"$f":"選手!C50","v":""},{"$f":"選手!L50","v":""},{"$f":"選手!F50","v":""},{"$f":"選手!B50","v":0},null,{"$f":"選手!A50","v":""},0,0,0,0,0,0,0,0,0,0,0,0]
["",{"$nulls":8},"",{"$f":"IF(D56=\"\",\"\",SUM(X56:AA56))","v":""},"999:99.99",null,"","","","",0,0,0,0,"","",0,0,0,0,{"$f":"IF(SUM(X56:AA56)=0,0,IF(SUM(X56:AA56)=20,5,IF(SUM(X56:AA56)=10,9,3)))","v":0},0,0,0,0,"","","","",0,0,0,0,0,"",0,"","","","",{"$nulls":5},50,{"$f":"選手!C51","v":""},{"$f":"選手!L51","v":""},{"$f":"選手!F51","v":""},{"$f":"選手!B51","v":0},null,{"$f":"選手!A51","v":""},0,0,0,0,0,0,0,0,0,0,0,0]
["",{"$nulls":8},"","","999:99.99",null,"","","","",0,0,0,0,"","",0,0,0,0,0,0,0,0,0,"","","","",0,0,0,0,0,"",0,"","","","",{"$nulls":5},51,{"$f":"選手!C52","v":""},{"$f":"選手!L52","v":""},{"$f":"選手!F52","v":""},{"$f":"選手!B52","v":0},null,{"$f":"選手!A52","v":0},0,0,0,0,0,0,0,0,0,0,0,0]
["",{"$nulls":8},"","","999:99.99",null,"","","","",0,0,0,0,"","",0,0,0,0,0,0,0,0,0,"","","","",0,0,0,0,0,"",0,"","","","",{"$nulls":5},52,{"$f":"選手!C53","v":""},{"$f":"選手!L53","v":""},{"$f":"選手!F53","v":""},{"$f":"選手!B53","v":0},null,{"$f":"選手!A53","v":0},0,0,0,0,0,0,0,0,0,0,0,0]
["",{"$nulls":8},"","","999:99.99",null,"","","","",0,0,0,0,"","",0,0,0,0,0,0,0,0,0,"","","","",0,0,0,0,0,"",0,"","","","",{"$nulls":5},53,{"$f":"選手!C54","v":""},{"$f":"選手!L54","v":""},{"$f":"選手!F54","v":""},{"$f":"選手!B54","v":5},null,{"$f":"選手!A54","v":""},0,0,0,0,0,0,0,0,0,0,0,0]
["",{"$nulls":8},"","","999:99.99",null,"","","","",0,0,0,0,"","",0,0,0,0,0,0,0,0,0,"","","","",0,0,0,0,0,"",0,"","","","",{"$nulls":5},54,{"$f":"選手!C55","v":""},{"$f":"選手!L55","v":""},{"$f":"選手!F55","v":""},{"$f":"選手!B55","v":5},null,{"$f":"選手!A55","v":""},0,0,0,0,0,0,0,0,0,0,0,0]
["",{"$nulls":8},"","","999:99.99",null,"","","","",0,0,0,0,"","",0,0,0,0,0,0,0,0,0,"","","","",0,0,0,0,0,"",0,"","","","",{"$nulls":5},55,{"$f":"選手!C56","v":""},{"$f":"選手!L56","v":""},{"$f":"選手!F56","v":""},{"$f":"選手!B56","v":5},null,{"$f":"選手!A56","v":""},0,0,0,{"$f":"COUNTIF($AG$6:$AJ$65,BK$5&$BB61)","v":0},0,0,0,0,0,0,0,0]
["",{"$nulls":8},"","","999:99.99",null,"","","","",0,0,0,0,"","",0,0,0,0,0,0,0,0,0,"","","","",0,0,0,0,0,"",0,"","","","",{"$nulls":5},56,{"$f":"選手!C57","v":""},{"$f":"選手!L57","v":""},{"$f":"選手!F57","v":""},{"$f":"選手!B57","v":5},null,{"$f":"選手!A57","v":""},{"$f":"COUNTIF($AG$6:$AJ$65,BH$5&$BB62)","v":0},0,0,0,0,0,0,0,0,0,0,0]
["",{"$nulls":8},"","","999:99.99",null,"","","","",0,0,0,0,"","",0,0,0,0,0,0,0,0,0,"","","","",0,0,0,0,0,"",0,{"$f":"IF(F63=\"\",\"\",VLOOKUP(F63,$BB$7:$BG$216,6,0))","v":""},"","","",{"$nulls":5},57,{"$f":"選手!C58","v":""},{"$f":"選手!L58","v":""},{"$f":"選手!F58","v":""},{"$f":"選手!B58","v":5},null,{"$f":"選手!A58","v":""},0,0,0,0,0,0,0,0,0,0,0,0]
["",{"$nulls":8},"","","999:99.99",null,"","","","",0,0,0,0,"","",0,0,0,0,0,0,0,0,0,"","","","",0,0,0,0,0,"",0,"","","","",{"$nulls":5},58,{"$f":"選手!C59","v":""},{"$f":"選手!L59","v":""},{"$f":"選手!F59","v":""},{"$f":"選手!B59","v":5},null,{"$f":"選手!A59","v":""},0,0,0,0,0,0,0,0,0,0,0,0]
["",{"$nulls":8},"","","999:99.99",null,"","","","",0,0,0,0,"","",0,0,0,0,0,0,0,0,0,"","","","",0,0,0,0,0,"",0,"","","","",{"$nulls":5},59,{"$f":"選手!C60","v":""},{"$f":"選手!L60","v":""},{"$f":"選手!F60","v":""},{"$f":"選手!B60","v":5},null,{"$f":"選手!A60","v":""},0,0,0,0,0,0,0,0,0,0,0,0]
[{"$nulls":52},60,{"$f":"選手!C61","v":""},{"$f":"選手!L61","v":""},{"$f":"選手!F61","v":""},{"$f":"選手!B61","v":5},null,{"$f":"選手!A61","v":""},0,0,0,0,0,0,0,0,0,0,0,0]
[{"$nulls":52},61,{"$f":"選手!C62","v":""},{"$f":"選手!L62","v":""},{"$f":"選手!F62","v":""},{"$f":"選手!B62","v":5},null,{"$f":"選手!A62","v":""},0,0,0,0,0,0,0,0,0,0,0,0]
[{"$nulls":52},62,{"$f":"選手!C63","v":""},{"$f":"選手!L63","v":""},{"$f":"選手!F63","v":""},{"$f":"選手!B63","v":5},null,{"$f":"選手!A63","v":""},0,0,0,0,0,0,0,0,0,0,0,0]
[{"$nulls":52},63,{"$f":"選手!C64","v":""},{"$f":"選手!L64","v":""},{"$f":"選手!F64","v":""},{"$f":"選手!B64","v":5},null,{"$f":"選手!A64","v":""},0,0,0,0,0,0,0,0,0,0,0,0]
[{"$nulls":52},64,{"$f":"選手!C65","v":""},{"$f":"選手!L65","v":""},{"$f":"選手!F65","v":""},{"$f":"選手!B65","v":5},null,{"$f":"選手!A65","v":""},0,0,0,0,0,0,0,0,0,0,0,0]
[{"$nulls":52},65,{"$f":"選手!C66","v":""},{"$f":"選手!L66","v":""},{"$f":"選手!F66","v":""},{"$f":"選手!B66","v":5},null,{"$f":"選手!A66","v":""},0,0,0,0,0,0,0,0,0,0,0,0]
[{"$nulls":52},66,{"$f":"選手!C67","v":""},{"$f":"選手!L67","v":""},{"$f":"選手!F67","v":""},{"$f":"選手!B67","v":5},null,{"$f":"選手!A67","v":""},0,0,0,0,0,0,0,0,0,0,0,0]
[{"$nulls":52},67,{"$f":"選手!C68","v":""},{"$f":"選手!L68","v":""},{"$f":"選手!F68","v":""},{"$f":"選手!B68","v":5},null,{"$f":"選手!A68","v":""},0,0,0,0,0,0,0,0,0,0,0,0]
[{"$nulls":52},68,{"$f":"選手!C69","v":""},{"$f":"選手!L69","v":""},{"$f":"選手!F69","v":""},{"$f":"選手!B69","v":5},null,{"$f":"選手!A69","v":""},0,0,0,0,0,0,0,0,0,0,0,0]
[{"$nulls":52},69,{"$f":"選手!C70","v":""},{"$f":"選手!L70","v":""},{"$f":"選手!F70","v":""},{"$f":"選手!B70","v":5},null,{"$f":"選手!A70","v":""},0,0,0,0,0,0,0,0,0,0,0,0]
[{"$nulls":52},70,{"$f":"選手!C71","v":""},{"$f":"選手!L71","v":""},{"$f":"選手!F71","v":""},{"$f":"選手!B71","v":5},null,{"$f":"選手!A71","v":""},0,0,0,0,0,0,0,0,0,0,0,0]
[{"$nulls":52},71,{"$f":"選手!C72","v":""},{"$f":"選手!L72","v":""},{"$f":"選手!F72","v":""},{"$f":"選手!B72","v":5},null,{"$f":"選手!A72","v":""},0,0,0,0,0,0,0,0,0,0,0,0]
[{"$nulls":52},72,{"$f":"選手!C73","v":""},{"$f":"選手!L73","v":""},{"$f":"選手!F73","v":""},{"$f":"選手!B73","v":5},null,{"$f":"選手!A73","v":""},0,0,0,0,0,0,0,0,0,0,0,0]
[{"$nulls":52},73,{"$f":"選手!C74","v":""},{"$f":"選手!L74","v":""},{"$f":"選手!F74","v":""},{"$f":"選手!B74","v":5},null,{"$f":"選手!A74","v":""},0,0,0,0,0,0,0,0,0,0,0,0]
[{"$nulls":52},74,{"$f":"選手!C75","v":""},{"$f":"選手!L75","v":""},{"$f":"選手!F75","v":""},{"$f":"選手!B75","v":5},null,{"$f":"選手!A75","v":""},0,0,0,0,0,0,0,0,0,0,0,0]
[{"$nulls":52},75,{"$f":"選手!C76","v":""},{"$f":"選手!L76","v":""},{"$f":"選手!F76","v":""},{"$f":"選手!B76","v":5},null,{"$f":"選手!A76","v":""},0,0,0,0,0,0,0,0,0,0,0,0]
[{"$nulls":52},76,{"$f":"選手!C77","v":""},{"$f":"選手!L77","v":""},{"$f":"選手!F77","v":""},{"$f":"選手!B77","v":5},null,{"$f":"選手!A77","v":""},0,0,0,0,0,0,0,0,0,0,0,0]
[{"$nulls":52},77,{"$f":"選手!C78","v":""},{"$f":"選手!L78","v":""},{"$f":"選手!F78","v":""},{"$f":"選手!B78","v":5},null,{"$f":"選手!A78","v":""},0,0,0,0,0,0,0,0,0,0,0,0]
[{"$nulls":52},78,{"$f":"選手!C79","v":""},{"$f":"選手!L79","v":""},{"$f":"選手!F79","v":""},{"$f":"選手!B79","v":5},null,{"$f":"選手!A79","v":""},0,0,0,0,0,{"$f":"COUNTIF($AG$6:$AJ$65,BM$5&$BB84)","v":0},0,0,0,0,0,0]
[{"$nulls":52},79,{"$f":"選手!C80","v":""},{"$f":"選手!L80","v":""},{"$f":"選手!F80","v":""},{"$f":"選手!B80","v":5},null,{"$f":"選手!A80","v":""},0,{"$f":"COUNTIF($AG$6:$AJ$65,BI$5&$BB85)","v":0},0,0,0,0,0,0,0,0,0,0]
[{"$nulls":52},80,{"$f":"選手!C81","v":""},{"$f":"選手!L81","v":""},{"$f":"選手!F81","v":""},{"$f":"選手!B81","v":5},null,{"$f":"選手!A81","v":""},0,0,0,0,0,0,0,0,0,0,0,0]
[{"$nulls":52},81,{"$f":"選手!C82","v":""},{"$f":"選手!L82","v":""},{"$f":"選手!F82","v":""},{"$f":"選手!B82","v":5},null,{"$f":"選手!A82","v":""},0,0,0,0,0,0,0,0,0,0,0,0]
[{"$nulls":52},82,{"$f":"選手!C83","v":""},{"$f":"選手!L83","v":""},{"$f":"選手!F83","v":""},{"$f":"選手!B83","v":5},null,{"$f":"選手!A83","v":""},0,0,0,0,0,0,0,0,0,0,0,0]
[{"$nulls":52},83,{"$f":"選手!C84","v":""},{"$f":"選手!L84","v":""},{"$f":"選手!F84","v":""},{"$f":"選手!B84","v":5},null,{"$f":"選手!A84","v":""},0,0,0,0,0,0,0,0,0,0,0,0]
[{"$nulls":52},84,{"$f":"選手!C85","v":""},{"$f":"選手!L85","v":""},{"$f":"選手!F85","v":""},{"$f":"選手!B85","v":5},null,{"$f":"選手!A85","v":""},0,0,0,0,0,0,0,0,0,0,0,0]
[{"$nulls":52},85,{"$f":"選手!C86","v":""},{"$f":"選手!L86","v":""},{"$f":"選手!F86","v":""},{"$f":"選手!B86","v":5},null,{"$f":"選手!A86","v":""},0,0,0,0,0,0,0,0,0,0,0,0]
[{"$nulls":52},86,{"$f":"選手!C87","v":""},{"$f":"選手!L87","v":""},{"$f":"選手!F87","v":""},{"$f":"選手!B87","v":5},null,{"$f":"選手!A87","v":""},0,0,0,0,0,0,0,0,0,0,0,0]
[{"$nulls":52},87,{"$f":"選手!C88","v":""},{"$f":"選手!L88","v":""},{"$f":"選手!F88","v":""},{"$f":"選手!B88","v":5},null,{"$f":"選手!A88","v":""},0,0,0,0,0,0,0,0,0,0,0,0]
[{"$nulls":52},88,{"$f":"選手!C89","v":""},{"$f":"選手!L89","v":""},{"$f":"選手!F89","v":""},{"$f":"選手!B89","v":5},null,{"$f":"選手!A89","v":""},0,0,0,0,0,0,0,0,0,0,0,0]
[{"$nulls":52},89,{"$f":"選手!C90","v":""},{"$f":"選手!L90","v":""},{"$f":"選手!F90","v":""},{"$f":"選手!B90","v":5},null,{"$f":"選手!A90","v":""},0,{"$f":"COUNTIF($AG$6:$AJ$65,BI$5&$BB95)","v":0},0,0,0,0,0,0,0,0,0,0]
[{"$nulls":52},90,{"$f":"選手!C91","v":""},{"$f":"選手!L91","v":""},{"$f":"選手!F91","v":""},{"$f":"選手!B91","v":5},null,{"$f":"選手!A91","v":""},0,0,0,0,0,0,0,0,0,0,0,0]
[{"$nulls":52},91,{"$f":"選手!C92","v":""},{"$f":"選手!L92","v":""},{"$f":"選手!F92","v":""},{"$f":"選手!B92","v":5},null,{"$f":"選手!A92","v":""},0,0,0,0,0,0,0,0,0,0,0,0]
[{"$nulls":52},92,{"$f":"選手!C93","v":""},{"$f":"選手!L93","v":""},{"$f":"選手!F93","v":""},{"$f":"選手!B93","v":5},null,{"$f":"選手!A93","v":""},0,0,0,0,0,0,0,0,0,0,0,0]
[{"$nulls":52},93,{"$f":"選手!C94","v":""},{"$f":"選手!L94","v":""},{"$f":"選手!F94","v":""},{"$f":"選手!B94","v":5},null,{"$f":"選手!A94","v":""},0,0,0,0,0,0,0,0,0,0,0,0]
[{"$nulls":52},94,{"$f":"選手!C95","v":""},{"$f":"選手!L95","v":""},{"$f":"選手!F95","v":""},{"$f":"選手!B95","v":5},null,{"$f":"選手!A95","v":""},0,0,0,0,0,0,0,0,0,0,0,0]
[{"$nulls":52},95,{"$f":"選手!C96","v":""},{"$f":"選手!L96","v":""},{"$f":"選手!F96","v":""},{"$f":"選手!B96","v":5},null,{"$f":"選手!A96","v":""},0,0,0,0,0,0,0,0,0,0,0,0]
[{"$nulls":52},96,{"$f":"選手!C97","v":""},{"$f":"選手!L97","v":""},{"$f":"選手!F97","v":""},{"$f":"選手!B97","v":5},null,{"$f":"選手!A97","v":""},0,0,0,0,0,0,0,0,0,0,0,0]
[{"$nulls":52},97,{"$f":"選手!C98","v":""},{"$f":"選手!L98","v":""},{"$f":"選手!F98","v":""},{"$f":"選手!B98","v":5},null,{"$f":"選手!A98","v":""},0,0,0,0,0,0,0,0,0,0,0,0]
[{"$nulls":52},98,{"$f":"選手!C99","v":""},{"$f":"選手!L99","v":""},{"$f":"選手!F99","v":""},{"$f":"選手!B99","v":5},null,{"$f":"選手!A99","v":""},0,{"$f":"COUNTIF($AG$6:$AJ$65,BI$5&$BB104)","v":0},{"$f":"COUNTIF($AG$6:$AJ$65,BJ$5&$BB104)","v":0},{"$f":"COUNTIF($AG$6:$AJ$65,BK$5&$BB104)","v":0},{"$f":"COUNTIF($AG$6:$AJ$65,BL$5&$BB104)","v":0},0,0,0,0,0,0,0]
[{"$nulls":52},99,{"$f":"選手!C100","v":""},{"$f":"選手!L100","v":""},{"$f":"選手!F100","v":""},{"$f":"選手!B100","v":5},null,{"$f":"選手!A100","v":""},{"$f":"COUNTIF($AG$6:$AJ$65,BH$5&$BB105)","v":0},0,0,0,0,0,0,0,0,0,0,0]
[{"$nulls":52},100,{"$f":"選手!C101","v":""},{"$f":"選手!L101","v":""},{"$f":"選手!F101","v":""},{"$f":"選手!B101","v":5},null,{"$f":"選手!A101","v":""},0,0,0,0,0,0,0,0,0,0,0,0]
[{"$nulls":52},101,{"$f":"選手!C102","v":""},{"$f":"選手!L102","v":""},{"$f":"選手!F102","v":""},{"$f":"選手!B102","v":5},null,{"$f":"選手!A102","v":""}]
[{"$nulls":52},102,{"$f":"選手!C103","v":""},{"$f":"選手!L103","v":""},{"$f":"選手!F103","v":""},{"$f":"選手!B103","v":5},null,{"$f":"選手!A103","v":""}]
[{"$nulls":52},103,{"$f":"選手!C104","v":""},{"$f":"選手!L104","v":""},{"$f":"選手!F104","v":""},{"$f":"選手!B104","v":0},null,{"$f":"選手!A104","v":""}]
[{"$nulls":52},104,{"$f":"選手!C105","v":""},{"$f":"選手!L105","v":""},{"$f":"選手!F105","v":""},{"$f":"選手!B105","v":0},null,{"$f":"選手!A105","v":""}]
[{"$nulls":52},105,{"$f":"選手!C106","v":""},{"$f":"選手!L106","v":""},{"$f":"選手!F106","v":""},{"$f":"選手!B106","v":0},null,{"$f":"選手!A106","v":""}]
[{"$nulls":52},106,{"$f":"選手!C107","v":""},{"$f":"選手!L107","v":""},{"$f":"選手!F107","v":""},{"$f":"選手!B107","v":0},null,{"$f":"選手!A107","v":""}]
[{"$nulls":52},107,{"$f":"選手!C108","v":""},{"$f":"選手!L108","v":""},{"$f":"選手!F108","v":""},{"$f":"選手!B108","v":0},null,{"$f":"選手!A108","v":""}]
[{"$nulls":52},108,{"$f":"選手!C109","v":""},{"$f":"選手!L109","v":""},{"$f":"選手!F109","v":""},{"$f":"選手!B109","v":0},null,{"$f":"選手!A109","v":""}]
[{"$nulls":52},109,{"$f":"選手!C110","v":""},{"$f":"選手!L110","v":""},{"$f":"選手!F110","v":""},{"$f":"選手!B110","v":0},null,{"$f":"選手!A110","v":""}]
[{"$nulls":52},110,{"$f":"選手!C111","v":""},{"$f":"選手!L111","v":""},{"$f":"選手!F111","v":""},{"$f":"選手!B111","v":0},null,{"$f":"選手!A111","v":""}]
[{"$nulls":52},111,{"$f":"選手!C112","v":""},{"$f":"選手!L112","v":""},{"$f":"選手!F112","v":""},{"$f":"選手!B112","v":0},null,{"$f":"選手!A112","v":""}]
[{"$nulls":52},112,{"$f":"選手!C113","v":""},{"$f":"選手!L113","v":""},{"$f":"選手!F113","v":""},{"$f":"選手!B113","v":0},null,{"$f":"選手!A113","v":""}]
[{"$nulls":52},113,{"$f":"選手!C114","v":""},{"$f":"選手!L114","v":""},{"$f":"選手!F114","v":""},{"$f":"選手!B114","v":0},null,{"$f":"選手!A114","v":""}]
[{"$nulls":52},114,{"$f":"選手!C115","v":""},{"$f":"選手!L115","v":""},{"$f":"選手!F115","v":""},{"$f":"選手!B115","v":0},null,{"$f":"選手!A115","v":""}]
[{"$nulls":52},115,{"$f":"選手!C116","v":""},{"$f":"選手!L116","v":""},{"$f":"選手!F116","v":""},{"$f":"選手!B116","v":0},null,{"$f":"選手!A116","v":""}]
[{"$nulls":52},116,{"$f":"選手!C117","v":""},{"$f":"選手!L117","v":""},{"$f":"選手!F117","v":""},{"$f":"選手!B117","v":0},null,{"$f":"選手!A117","v":""}]
[{"$nulls":52},117,{"$f":"選手!C118","v":""},{"$f":"選手!L118","v":""},{"$f":"選手!F118","v":""},{"$f":"選手!B118","v":0},null,{"$f":"選手!A118","v":""}]
[{"$nulls":52},118,{"$f":"選手!C119","v":""},{"$f":"選手!L119","v":""},{"$f":"選手!F119","v":""},{"$f":"選手!B119","v":0},null,{"$f":"選手!A119","v":""}]
[{"$nulls":52},119,{"$f":"選手!C120","v":""},{"$f":"選手!L120","v":""},{"$f":"選手!F120","v":""},{"$f":"選手!B120","v":0},null,{"$f":"選手!A120","v":""}]
[{"$nulls":52},120,{"$f":"選手!C121","v":""},{"$f":"選手!L121","v":""},{"$f":"選手!F121","v":""},{"$f":"選手!B121","v":0},null,{"$f":"選手!A121","v":""}]
[{"$nulls":52},121,{"$f":"選手!C122","v":""},{"$f":"選手!L122","v":""},{"$f":"選手!F122","v":""},{"$f":"選手!B122","v":0},null,{"$f":"選手!A122","v":""}]
[{"$nulls":52},122,{"$f":"選手!C123","v":""},{"$f":"選手!L123","v":""},{"$f":"選手!F123","v":""},{"$f":"選手!B123","v":0},null,{"$f":"選手!A123","v":""}]
[{"$nulls":52},123,{"$f":"選手!C124","v":""},{"$f":"選手!L124","v":""},{"$f":"選手!F124","v":""},{"$f":"選手!B124","v":0},null,{"$f":"選手!A124","v":""}]
[{"$nulls":52},124,{"$f":"選手!C125","v":""},{"$f":"選手!L125","v":""},{"$f":"選手!F125","v":""},{"$f":"選手!B125","v":0},null,{"$f":"選手!A125","v":""}]
[{"$nulls":52},125,{"$f":"選手!C126","v":""},{"$f":"選手!L126","v":""},{"$f":"選手!F126","v":""},{"$f":"選手!B126","v":0},null,{"$f":"選手!A126","v":""}]
[{"$nulls":52},126,{"$f":"選手!C127","v":""},{"$f":"選手!L127","v":""},{"$f":"選手!F127","v":""},{"$f":"選手!B127","v":0},null,{"$f":"選手!A127","v":""}]
[{"$nulls":52},127,{"$f":"選手!C128","v":""},{"$f":"選手!L128","v":""},{"$f":"選手!F128","v":""},{"$f":"選手!B128","v":0},null,{"$f":"選手!A128","v":""}]
[{"$nulls":52},128,{"$f":"選手!C129","v":""},{"$f":"選手!L129","v":""},{"$f":"選手!F129","v":""},{"$f":"選手!B129","v":0},null,{"$f":"選手!A129","v":""}]
[{"$nulls":52},129,{"$f":"選手!C130","v":""},{"$f":"選手!L130","v":""},{"$f":"選手!F130","v":""},{"$f":"選手!B130","v":0},null,{"$f":"選手!A130","v":""}]
[{"$nulls":52},130,{"$f":"選手!C131","v":""},{"$f":"選手!L131","v":""},{"$f":"選手!F131","v":""},{"$f":"選手!B131","v":0},null,{"$f":"選手!A131","v":""}]
[{"$nulls":52},131,{"$f":"選手!C132","v":""},{"$f":"選手!L132","v":""},{"$f":"選手!F132","v":""},{"$f":"選手!B132","v":0},null,{"$f":"選手!A132","v":""}]
[{"$nulls":52},132,{"$f":"選手!C133","v":""},{"$f":"選手!L133","v":""},{"$f":"選手!F133","v":""},{"$f":"選手!B133","v":0},null,{"$f":"選手!A133","v":""}]
[{"$nulls":52},133,{"$f":"選手!C134","v":""},{"$f":"選手!L134","v":""},{"$f":"選手!F134","v":""},{"$f":"選手!B134","v":0},null,{"$f":"選手!A134","v":""}]
[{"$nulls":52},134,{"$f":"選手!C135","v":""},{"$f":"選手!L135","v":""},{"$f":"選手!F135","v":""},{"$f":"選手!B135","v":0},null,{"$f":"選手!A135","v":""}]
[{"$nulls":52},135,{"$f":"選手!C136","v":""},{"$f":"選手!L136","v":""},{"$f":"選手!F136","v":""},{"$f":"選手!B136","v":0},null,{"$f":"選手!A136","v":""}]
[{"$nulls":52},136,{"$f":"選手!C137","v":""},{"$f":"選手!L137","v":""},{"$f":"選手!F137","v":""},{"$f":"選手!B137","v":0},null,{"$f":"選手!A137","v":""}]
[{"$nulls":52},137,{"$f":"選手!C138","v":""},{"$f":"選手!L138","v":""},{"$f":"選手!F138","v":""},{"$f":"選手!B138","v":0},null,{"$f":"選手!A138","v":""}]
[{"$nulls":52},138,{"$f":"選手!C139","v":""},{"$f":"選手!L139","v":""},{"$f":"選手!F139","v":""},{"$f":"選手!B139","v":0},null,{"$f":"選手!A139","v":""}]
[{"$nulls":52},139,{"$f":"選手!C140","v":""},{"$f":"選手!L140","v":""},{"$f":"選手!F140","v":""},{"$f":"選手!B140","v":0},null,{"$f":"選手!A140","v":""}]
[{"$nulls":52},140,{"$f":"選手!C141","v":""},{"$f":"選手!L141","v":""},{"$f":"選手!F141","v":""},{"$f":"選手!B141","v":0},null,{"$f":"選手!A141","v":""}]
[{"$nulls":52},141,{"$f":"選手!C142","v":""},{"$f":"選手!L142","v":""},{"$f":"選手!F142","v":""},{"$f":"選手!B142","v":0},null,{"$f":"選手!A142","v":""}]
[{"$nulls":52},142,{"$f":"選手!C143","v":""},{"$f":"選手!L143","v":""},{"$f":"選手!F143","v":""},{"$f":"選手!B143","v":0},null,{"$f":"選手!A143","v":""}]
[{"$nulls":52},143,{"$f":"選手!C144","v":""},{"$f":"選手!L144","v":""},{"$f":"選手!F144","v":""},{"$f":"選手!B144","v":0},null,{"$f":"選手!A144","v":""}]
[{"$nulls":52},144,{"$f":"選手!C145","v":""},{"$f":"選手!L145","v":""},{"$f":"選手!F145","v":""},{"$f":"選手!B145","v":0},null,{"$f":"選手!A145","v":""}]
[{"$nulls":52},145,{"$f":"選手!C146","v":""},{"$f":"選手!L146","v":""},{"$f":"選手!F146","v":""},{"$f":"選手!B146","v":0},null,{"$f":"選手!A146","v":""}]
[{"$nulls":52},146,{"$f":"選手!C147","v":""},{"$f":"選手!L147","v":""},{"$f":"選手!F147","v":""},{"$f":"選手!B147","v":0},null,{"$f":"選手!A147","v":""}]
[{"$nulls":52},147,{"$f":"選手!C148","v":""},{"$f":"選手!L148","v":""},{"$f":"選手!F148","v":""},{"$f":"選手!B148","v":0},null,{"$f":"選手!A148","v":""}]
[{"$nulls":52},148,{"$f":"選手!C149","v":""},{"$f":"選手!L149","v":""},{"$f":"選手!F149","v":""},{"$f":"選手!B149","v":0},null,{"$f":"選手!A149","v":""}]
[{"$nulls":52},149,{"$f":"選手!C150","v":""},{"$f":"選手!L150","v":""},{"$f":"選手!F150","v":""},{"$f":"選手!B150","v":0},null,{"$f":"選手!A150","v":""}]
[{"$nulls":52},150,{"$f":"選手!C151","v":""},{"$f":"選手!L151","v":""},{"$f":"選手!F151","v":""},{"$f":"選手!B151","v":0},null,{"$f":"選手!A151","v":""}]
[{"$nulls":52},151,{"$f":"選手!C152","v":""},{"$f":"選手!L152","v":""},{"$f":"選手!F152","v":""},{"$f":"選手!B152","v":0},null,{"$f":"選手!A152","v":""}]
[{"$nulls":52},152,{"$f":"選手!C153","v":""},{"$f":"選手!L153","v":""},{"$f":"選手!F153","v":""},{"$f":"選手!B153","v":0},null,{"$f":"選手!A153","v":""}]
[{"$nulls":52},153,{"$f":"選手!C154","v":0},{"$f":"選手!L154","v":0},{"$f":"選手!F154","v":0},{"$f":"選手!B154","v":0},null,{"$f":"選手!A154","v":0}]
[{"$nulls":52},154,{"$f":"選手!C155","v":0},{"$f":"選手!L155","v":0},{"$f":"選手!F155","v":0},{"$f":"選手!B155","v":0},null,{"$f":"選手!A155","v":0}]
[{"$nulls":52},155,{"$f":"選手!C156","v":""},{"$f":"選手!L156","v":""},{"$f":"選手!F156","v":""},{"$f":"選手!B156","v":5},null,{"$f":"選手!A156","v":""}]
[{"$nulls":52},156,{"$f":"選手!C157","v":""},{"$f":"選手!L157","v":""},{"$f":"選手!F157","v":""},{"$f":"選手!B157","v":5},null,{"$f":"選手!A157","v":""}]
[{"$nulls":52},157,{"$f":"選手!C158","v":""},{"$f":"選手!L158","v":""},{"$f":"選手!F158","v":""},{"$f":"選手!B158","v":5},null,{"$f":"選手!A158","v":""}]
[{"$nulls":52},158,{"$f":"選手!C159","v":""},{"$f":"選手!L159","v":""},{"$f":"選手!F159","v":""},{"$f":"選手!B159","v":5},null,{"$f":"選手!A159","v":""}]
[{"$nulls":52},159,{"$f":"選手!C160","v":""},{"$f":"選手!L160","v":""},{"$f":"選手!F160","v":""},{"$f":"選手!B160","v":5},null,{"$f":"選手!A160","v":""}]
[{"$nulls":52},160,{"$f":"選手!C161","v":""},{"$f":"選手!L161","v":""},{"$f":"選手!F161","v":""},{"$f":"選手!B161","v":5},null,{"$f":"選手!A161","v":""}]
[{"$nulls":52},161,{"$f":"選手!C162","v":""},{"$f":"選手!L162","v":""},{"$f":"選手!F162","v":""},{"$f":"選手!B162","v":5},null,{"$f":"選手!A162","v":""}]
[{"$nulls":52},162,{"$f":"選手!C163","v":""},{"$f":"選手!L163","v":""},{"$f":"選手!F163","v":""},{"$f":"選手!B163","v":5},null,{"$f":"選手!A163","v":""}]
[{"$nulls":52},163,{"$f":"選手!C164","v":""},{"$f":"選手!L164","v":""},{"$f":"選手!F164","v":""},{"$f":"選手!B164","v":5},null,{"$f":"選手!A164","v":""}]
[{"$nulls":52},164,{"$f":"選手!C165","v":""},{"$f":"選手!L165","v":""},{"$f":"選手!F165","v":""},{"$f":"選手!B165","v":5},null,{"$f":"選手!A165","v":""}]
[{"$nulls":52},165,{"$f":"選手!C166","v":""},{"$f":"選手!L166","v":""},{"$f":"選手!F166","v":""},{"$f":"選手!B166","v":5},null,{"$f":"選手!A166","v":""}]
[{"$nulls":52},166,{"$f":"選手!C167","v":""},{"$f":"選手!L167","v":""},{"$f":"選手!F167","v":""},{"$f":"選手!B167","v":5},null,{"$f":"選手!A167","v":""}]
[{"$nulls":52},167,{"$f":"選手!C168","v":""},{"$f":"選手!L168","v":""},{"$f":"選手!F168","v":""},{"$f":"選手!B168","v":5},null,{"$f":"選手!A168","v":""}]
[{"$nulls":52},168,{"$f":"選手!C169","v":""},{"$f":"選手!L169","v":""},{"$f":"選手!F169","v":""},{"$f":"選手!B169","v":5},null,{"$f":"選手!A169","v":""}]
[{"$nulls":52},169,{"$f":"選手!C170","v":""},{"$f":"選手!L170","v":""},{"$f":"選手!F170","v":""},{"$f":"選手!B170","v":5},null,{"$f":"選手!A170","v":""}]
[{"$nulls":52},170,{"$f":"選手!C171","v":""},{"$f":"選手!L171","v":""},{"$f":"選手!F171","v":""},{"$f":"選手!B171","v":5},null,{"$f":"選手!A171","v":""}]
[{"$nulls":52},171,{"$f":"選手!C172","v":""},{"$f":"選手!L172","v":""},{"$f":"選手!F172","v":""},{"$f":"選手!B172","v":5},null,{"$f":"選手!A172","v":""}]
[{"$nulls":52},172,{"$f":"選手!C173","v":""},{"$f":"選手!L173","v":""},{"$f":"選手!F173","v":""},{"$f":"選手!B173","v":5},null,{"$f":"選手!A173","v":""}]
[{"$nulls":52},173,{"$f":"選手!C174","v":""},{"$f":"選手!L174","v":""},{"$f":"選手!F174","v":""},{"$f":"選手!B174","v":5},null,{"$f":"選手!A174","v":""}]
[{"$nulls":52},174,{"$f":"選手!C175","v":""},{"$f":"選手!L175","v":""},{"$f":"選手!F175","v":""},{"$f":"選手!B175","v":5},null,{"$f":"選手!A175","v":""}]
[{"$nulls":52},175,{"$f":"選手!C176","v":""},{"$f":"選手!L176","v":""},{"$f":"選手!F176","v":""},{"$f":"選手!B176","v":5},null,{"$f":"選手!A176","v":""}]
[{"$nulls":52},176,{"$f":"選手!C177","v":""},{"$f":"選手!L177","v":""},{"$f":"選手!F177","v":""},{"$f":"選手!B177","v":5},null,{"$f":"選手!A177","v":""}]
[{"$nulls":52},177,{"$f":"選手!C178","v":""},{"$f":"選手!L178","v":""},{"$f":"選手!F178","v":""},{"$f":"選手!B178","v":5},null,{"$f":"選手!A178","v":""}]
[{"$nulls":52},178,{"$f":"選手!C179","v":""},{"$f":"選手!L179","v":""},{"$f":"選手!F179","v":""},{"$f":"選手!B179","v":5},null,{"$f":"選手!A179","v":""}]
[{"$nulls":52},179,{"$f":"選手!C180","v":""},{"$f":"選手!L180","v":""},{"$f":"選手!F180","v":""},{"$f":"選手!B180","v":5},null,{"$f":"選手!A180","v":""}]
[{"$nulls":52},180,{"$f":"選手!C181","v":""},{"$f":"選手!L181","v":""},{"$f":"選手!F181","v":""},{"$f":"選手!B181","v":5},null,{"$f":"選手!A181","v":""}]
[{"$nulls":52},181,{"$f":"選手!C182","v":""},{"$f":"選手!L182","v":""},{"$f":"選手!F182","v":""},{"$f":"選手!B182","v":5},null,{"$f":"選手!A182","v":""}]
[{"$nulls":52},182,{"$f":"選手!C183","v":""},{"$f":"選手!L183","v":""},{"$f":"選手!F183","v":""},{"$f":"選手!B183","v":5},null,{"$f":"選手!A183","v":""}]
[{"$nulls":52},183,{"$f":"選手!C184","v":""},{"$f":"選手!L184","v":""},{"$f":"選手!F184","v":""},{"$f":"選手!B184","v":5},null,{"$f":"選手!A184","v":""}]
[{"$nulls":52},184,{"$f":"選手!C185","v":""},{"$f":"選手!L185","v":""},{"$f":"選手!F185","v":""},{"$f":"選手!B185","v":5},null,{"$f":"選手!A185","v":""}]
[{"$nulls":52},185,{"$f":"選手!C186","v":""},{"$f":"選手!L186","v":""},{"$f":"選手!F186","v":""},{"$f":"選手!B186","v":5},null,{"$f":"選手!A186","v":""}]
[{"$nulls":52},186,{"$f":"選手!C187","v":""},{"$f":"選手!L187","v":""},{"$f":"選手!F187","v":""},{"$f":"選手!B187","v":5},null,{"$f":"選手!A187","v":""}]
[{"$nulls":52},187,{"$f":"選手!C188","v":""},{"$f":"選手!L188","v":""},{"$f":"選手!F188","v":""},{"$f":"選手!B188","v":5},null,{"$f":"選手!A188","v":""}]
[{"$nulls":52},188,{"$f":"選手!C189","v":""},{"$f":"選手!L189","v":""},{"$f":"選手!F189","v":""},{"$f":"選手!B189","v":5},null,{"$f":"選手!A189","v":""}]
[{"$nulls":52},189,{"$f":"選手!C190","v":""},{"$f":"選手!L190","v":""},{"$f":"選手!F190","v":""},{"$f":"選手!B190","v":5},null,{"$f":"選手!A190","v":""}]
[{"$nulls":52},190,{"$f":"選手!C191","v":""},{"$f":"選手!L191","v":""},{"$f":"選手!F191","v":""},{"$f":"選手!B191","v":5},null,{"$f":"選手!A191","v":""}]
[{"$nulls":52},191,{"$f":"選手!C192","v":""},{"$f":"選手!L192","v":""},{"$f":"選手!F192","v":""},{"$f":"選手!B192","v":5},null,{"$f":"選手!A192","v":""}]
[{"$nulls":52},192,{"$f":"選手!C193","v":""},{"$f":"選手!L193","v":""},{"$f":"選手!F193","v":""},{"$f":"選手!B193","v":5},null,{"$f":"選手!A193","v":""}]
[{"$nulls":52},193,{"$f":"選手!C194","v":""},{"$f":"選手!L194","v":""},{"$f":"選手!F194","v":""},{"$f":"選手!B194","v":5},null,{"$f":"選手!A194","v":""}]
[{"$nulls":52},194,{"$f":"選手!C195","v":""},{"$f":"選手!L195","v":""},{"$f":"選手!F195","v":""},{"$f":"選手!B195","v":5},null,{"$f":"選手!A195","v":""}]
[{"$nulls":52},195,{"$f":"選手!C196","v":""},{"$f":"選手!L196","v":""},{"$f":"選手!F196","v":""},{"$f":"選手!B196","v":5},null,{"$f":"選手!A196","v":""}]
[{"$nulls":52},196,{"$f":"選手!C197","v":""},{"$f":"選手!L197","v":""},{"$f":"選手!F197","v":""},{"$f":"選手!B197","v":5},null,{"$f":"選手!A197","v":""}]
[{"$nulls":52},197,{"$f":"選手!C198","v":""},{"$f":"選手!L198","v":""},{"$f":"選手!F198","v":""},{"$f":"選手!B198","v":5},null,{"$f":"選手!A198","v":""}]
[{"$nulls":52},198,{"$f":"選手!C199","v":""},{"$f":"選手!L199","v":""},{"$f":"選手!F199","v":""},{"$f":"選手!B199","v":5},null,{"$f":"選手!A199","v":""}]
[{"$nulls":52},199,{"$f":"選手!C200","v":""},{"$f":"選手!L200","v":""},{"$f":"選手!F200","v":""},{"$f":"選手!B200","v":5},null,{"$f":"選手!A200","v":""}]
[{"$nulls":52},200,{"$f":"選手!C201","v":""},{"$f":"選手!L201","v":""},{"$f":"選手!F201","v":""},{"$f":"選手!B201","v":5},null,{"$f":"選手!A201","v":""}]
[{"$nulls":52},201,{"$f":"選手!C202","v":""},{"$f":"選手!L202","v":""},{"$f":"選手!F202","v":""},{"$f":"選手!B202","v":5},null,{"$f":"選手!A202","v":""}]
[{"$nulls":52},202,{"$f":"選手!C203","v":""},{"$f":"選手!L203","v":""},{"$f":"選手!F203","v":""},{"$f":"選手!B203","v":5},null,{"$f":"選手!A203","v":""}]
[{"$nulls":52},203,{"$f":"選手!C204","v":""},{"$f":"選手!L204","v":""},{"$f":"選手!F204","v":""},{"$f":"選手!B204","v":5},null,{"$f":"選手!A204","v":""}]
[{"$nulls":52},204,{"$f":"選手!C205","v":""},{"$f":"選手!L205","v":""},{"$f":"選手!F205","v":""},{"$f":"選手!B205","v":5},null,{"$f":"選手!A205","v":""}]
[{"$nulls":52},205]
[{"$nulls":52},206]
[{"$nulls":52},207]
[{"$nulls":52},208]
[{"$nulls":52},209]
[{"$nulls":52},210]

{"sheet":"リレー種目","index":4,"n_rows":41,"n_cols":26,"rows_kept":41,"cut":false,"hidden":true,"merged":[[0,6,0,7],[4,1,4,2],[17,1,17,2],[30,1,30,2]]}
[{"$f":"申込書!B1","v":0},{"$nulls":5},"リレー種目"]
[{"$nulls":4},"色のついた部分のみ入力願います。"]
[null,{"$f":"IF(申込書!C6=\"\",\"チーム登録を行って下さい！\",申込書!C6)","v":"会場：安城市スポーツセンター"}]
[]
[null,"男　子"]
[]
[null,"No","区分","200mフリーリレー","TIME１","200mメドレーリレー","TIME２",{"$nulls":9},"性別","区分No","No1","No2","ｴﾝﾄﾘｰﾀｲﾑ1","ｴﾝﾄﾘｰﾀｲﾑ2","種目No1","種目No2","距離1","距離2"]
[null,1,{"$nulls":7},"本科・ＳＡ(幼児～小２)",21,{"$nulls":5},0,{"$f":"IF(C8=\"\",\"\",VLOOKUP(C8,$J$8:$K$15,2,0)+8)","v":""},{"$f":"IF($D8=\"出場\",VLOOKUP($D8,$J$20:$Q$21,2,0),\"\")","v":""},{"$f":"IF($F8=\"出場\",VLOOKUP($F8,$J$22:$Q$23,2,0),\"\")","v":""},{"$f":"IF(E8=\"\",\"999:99.99\",\" \"&LEFT(RIGHT(\"        \"&TEXT(E8,\"0.00\"),7),2)&\":\"&RIGHT(TEXT(E8,\"0.00\"),5))","v":"999:99.99"},{"$f":"IF(G8=\"\",\"999:99.99\",\" \"&LEFT(RIGHT(\"        \"&TEXT(G8,\"0.00\"),7),2)&\":\"&RIGHT(TEXT(G8,\"0.00\"),5))","v":"999:99.99"},{"$f":"IF($D8=\"出場\",VLOOKUP($D8,$J$20:$P$21,3,0),\"\")","v":""},{"$f":"IF($F8=\"出場\",VLOOKUP($F8,$J$22:$Q$23,3,0),\"\")","v":""},{"$f":"IF($D8=\"出場\",VLOOKUP($D8,$J$21:$Q$24,4,0),\"\")","v":""},{"$f":"IF($F8=\"出場\",VLOOKUP($F8,$J$21:$Q$24,4,0),\"\")","v":""}]
[null,2,{"$nulls":7},"本科・Ｂ(小３・小４)",22,{"$nulls":5},0,{"$f":"IF(C9=\"\",\"\",VLOOKUP(C9,$J$8:$K$15,2,0)+8)","v":""},{"$f":"IF($D9=\"出場\",VLOOKUP($D9,$J$20:$Q$21,2,0),\"\")","v":""},{"$f":"IF($F9=\"出場\",VLOOKUP($F9,$J$22:$Q$23,2,0),\"\")","v":""},"999:99.99","999:99.99",{"$f":"IF($D9=\"出場\",VLOOKUP($D9,$J$20:$P$21,3,0),\"\")","v":""},{"$f":"IF($F9=\"出場\",VLOOKUP($F9,$J$22:$Q$23,3,0),\"\")","v":""},{"$f":"IF($D9=\"出場\",VLOOKUP($D9,$J$21:$Q$24,4,0),\"\")","v":""},{"$f":"IF($F9=\"出場\",VLOOKUP($F9,$J$21:$Q$24,4,0),\"\")","v":""}]
[null,3,{"$nulls":7},"本科・Ｃ(小５・小６)",23,{"$nulls":5},0,"","","","999:99.99","999:99.99","","","",""]
[null,4,{"$nulls":7},"本科・ＤＥ(中・高校生)",24,{"$nulls":5},0,"","","","999:99.99","999:99.99","","","",""]
[null,5,{"$nulls":7},"選手・ＳＡ(幼児～小２)",25,{"$nulls":5},0,"","","","999:99.99","999:99.99","","","",""]
[null,6,{"$nulls":7},"選手・Ｂ(小３・小４)",26,{"$nulls":5},0,"","","","999:99.99","999:99.99","","","",""]
[null,7,{"$nulls":7},"選手・Ｃ(小５・小６)",27,{"$nulls":5},0,"","","","999:99.99","999:99.99","","","",""]
[null,8,{"$nulls":7},"選手・ＤＥ(中・高校生)",28,{"$nulls":5},0,"","","","999:99.99","999:99.99","","","",""]
[{"$nulls":17},{"$f":"IF(C16=\"\",\"\",VLOOKUP(C16,$J$8:$K$12,2,0))","v":""},{"$f":"IF(D16=\"\",\"\",VLOOKUP(D16,$J$21:$N$22,2,0))","v":""},{"$f":"IF(F16=\"\",\"\",VLOOKUP(F16,$J$21:$N$22,2,0))","v":""}]
[{"$nulls":17},{"$f":"IF(C17=\"\",\"\",VLOOKUP(C17,$J$8:$K$12,2,0))","v":""},{"$f":"IF(D17=\"\",\"\",VLOOKUP(D17,$J$21:$N$22,2,0))","v":""},{"$f":"IF(F17=\"\",\"\",VLOOKUP(F17,$J$21:$N$22,2,0))","v":""}]
[null,"女　子",{"$nulls":15},{"$f":"IF(C18=\"\",\"\",VLOOKUP(C18,$J$8:$K$12,2,0))","v":""},{"$f":"IF(D18=\"\",\"\",VLOOKUP(D18,$J$21:$N$22,2,0))","v":""},{"$f":"IF(F18=\"\",\"\",VLOOKUP(F18,$J$21:$N$22,2,0))","v":""}]
[{"$nulls":17},{"$f":"IF(C19=\"\",\"\",VLOOKUP(C19,$J$8:$K$12,2,0))","v":""},{"$f":"IF(D19=\"\",\"\",VLOOKUP(D19,$J$21:$N$22,2,0))","v":""},{"$f":"IF(F19=\"\",\"\",VLOOKUP(F19,$J$21:$N$22,2,0))","v":""}]
[null,"No","区分","200mフリーリレー","TIME１","200mメドレーリレー","TIME２",null,null,"不出場",null,null,null,"男子","女子","混合"]
[null,1,{"$nulls":6},"フリーリレー","出場",62,6,200,{"$f":"COUNTIF($D$8:$D$15,J21)","v":0},{"$f":"COUNTIF($D$21:$D$28,J21)","v":0},{"$f":"COUNTIF($D$34:$G$41,J21)","v":0},5,{"$f":"IF(C21=\"\",\"\",VLOOKUP(C21,$J$8:$K$15,2,0))","v":""},{"$f":"IF(D21=\"出場\",VLOOKUP(D21,$J$20:$N$21,2,0),\"\")","v":""},{"$f":"IF(F21=\"出場\",VLOOKUP(F21,$J$22:$N$23,2,0),\"\")","v":""},{"$f":"IF(E21=\"\",\"999:99.99\",\" \"&LEFT(RIGHT(\"        \"&TEXT(E21,\"0.00\"),7),2)&\":\"&RIGHT(TEXT(E21,\"0.00\"),5))","v":"999:99.99"},{"$f":"IF(G21=\"\",\"999:99.99\",\" \"&LEFT(RIGHT(\"        \"&TEXT(G21,\"0.00\"),7),2)&\":\"&RIGHT(TEXT(G21,\"0.00\"),5))","v":"999:99.99"},"","","",""]
[null,2,{"$nulls":7},"不出場",{"$nulls":6},5,{"$f":"IF(C22=\"\",\"\",VLOOKUP(C22,$J$8:$K$15,2,0))","v":""},{"$f":"IF(D22=\"出場\",VLOOKUP(D22,$J$20:$N$21,2,0),\"\")","v":""},{"$f":"IF(F22=\"出場\",VLOOKUP(F22,$J$22:$N$23,2,0),\"\")","v":""},"999:99.99","999:99.99","","","",""]
[null,3,{"$nulls":6},"メドレーリレー","出場",72,7,200,{"$f":"COUNTIF($F$8:$F$15,J23)","v":0},{"$f":"COUNTIF($F$21:$F$28,J23)","v":0},null,5,"","","","999:99.99","999:99.99","","","",""]
[null,4,{"$nulls":11},{"$f":"COUNTIF($D$8:$F$12,J24)","v":0},{"$f":"COUNTIF($D$21:$F$25,J24)","v":0},null,5,"","","","999:99.99","999:99.99","","","",""]
[null,5,{"$nulls":14},5,"","","","999:99.99","999:99.99","","","",""]
[null,6,{"$nulls":14},5,"","","","999:99.99","999:99.99","","","",""]
[null,7,{"$nulls":14},5,"","","","999:99.99","999:99.99","","","",""]
[null,8,{"$nulls":14},5,"","","","999:99.99","999:99.99","","","",""]
[]
[]
[null,"混　合"]
[]
[null,"No","区分","種目１","TIME１","種目２","TIME２"]
[null,1,"一般・ＳＡ(幼児～小２)",{"$nulls":13},9,{"$f":"IF(C34=\"\",\"\",VLOOKUP(C34,$J$8:$K$15,2,0))","v":{"$error":"#N/A"}},{"$f":"IF(D34=\"\",\"\",VLOOKUP(D34,$J$21:$N$222,2,0))","v":""},{"$f":"IF(F34=\"\",\"\",VLOOKUP(F34,$J$21:$N$24,2,0))","v":""},{"$f":"IF(E34=\"\",\"999:99.99\",\" \"&LEFT(RIGHT(\"        \"&TEXT(E34,\"0.00\"),7),2)&\":\"&RIGHT(TEXT(E34,\"0.00\"),5))","v":"999:99.99"},{"$f":"IF(G34=\"\",\"999:99.99\",\" \"&LEFT(RIGHT(\"        \"&TEXT(G34,\"0.00\"),7),2)&\":\"&RIGHT(TEXT(G34,\"0.00\"),5))","v":"999:99.99"},{"$f":"IF($D34=\"\",\"\",VLOOKUP($D34,$J$21:$Q$24,3,0))","v":""},{"$f":"IF($F34=\"\",\"\",VLOOKUP($F34,$J$21:$Q$24,3,0))","v":""},{"$f":"IF($D34=\"\",\"\",VLOOKUP($D34,$J$21:$Q$24,4,0))","v":""},{"$f":"IF($F34=\"\",\"\",VLOOKUP($F34,$J$21:$Q$24,4,0))","v":""}]
[null,2,"一般・Ｂ(小３・小４)",{"$nulls":13},9,{"$f":"IF(C35=\"\",\"\",VLOOKUP(C35,$J$8:$K$15,2,0))","v":{"$error":"#N/A"}},"","","999:99.99","999:99.99","","","",""]
[null,3,"一般・Ｃ(小５・小６)",{"$nulls":13},9,{"$error":"#N/A"},"","","999:99.99","999:99.99","","","",""]
[null,4,"一般・Ｄ(中・高校生)",{"$nulls":13},9,{"$error":"#N/A"},"","","999:99.99","999:99.99","","","",""]
[null,5,"選手・ＳＡ(幼児～小２)",{"$nulls":13},9,25,"","","999:99.99","999:99.99","","","",""]
[null,6,"選手・Ｂ(小３・小４)",{"$nulls":13},9,26,"","","999:99.99","999:99.99","","","",""]
[null,7,"選手・Ｃ(小５・小６)",{"$nulls":13},9,27,"","","999:99.99","999:99.99","","","",""]
[null,8,"選手・Ｄ(中・高校生)",{"$nulls":13},9,{"$error":"#N/A"},"","","999:99.99","999:99.99","","","",""]

{"sheet":"団体","index":5,"n_rows":3,"n_cols":41,"rows_kept":3,"cut":false,"hidden":true,"merged":[[0,37,0,39],[0,31,0,36],[0,25,0,28],[0,0,1,0],[0,1,1,1],[0,2,1,2],[0,3,1,3],[0,4,1,4],[0,5,1,5],[0,6,1,6],[0,7,0,9],[0,10,0,12],[0,13,0,15],[0,16,0,18],[0,19,0,21],[0,22,0,24]]}
["No","チーム番号","チーム略称","チーム名","チーム名カナ","連絡責任者名","責任者カナ","参加人数(マスターズ)",null,null,"参加人数(ジュニア)",null,null,"参加人数(合計)",null,null,"個人種目数(マスターズ)",null,null,"個人種目数(ジュニア)",null,null,"個人種目数(合計)",null,null,"リレー種目数",null,null,null,"プログラム数","合計金額","連絡先住所",{"$nulls":5},"役員協力",null,null,"備考"]
[{"$nulls":7},"男子","女子","合計","男子","女子","合計","男子","女子","合計","男子","女子","合計","男子","女子","合計","男子","女子","合計","男子","女子","混合","合計",null,null,"郵便番号","住所１","住所2","電話番号","ＦＡＸ番号","メールアドレス","氏名","ﾌﾘｶﾞﾅ","役職"]
[null,{"$f":"申込書!AB2","v":0},{"$f":"申込書!D14","v":0},{"$f":"申込書!D10","v":0},{"$f":"申込書!D8","v":0},{"$f":"申込書!P14","v":0},{"$f":"申込書!P12","v":0},{"$f":"申込書!Q27","v":0},{"$f":"申込書!K27","v":0},{"$f":"H3+I3","v":0},{"$f":"申込書!Q28","v":0},{"$f":"申込書!K28","v":0},{"$f":"K3+L3","v":0},{"$f":"H3+K3","v":0},{"$f":"I3+L3","v":0},{"$f":"J3+M3","v":0},{"$f":"申込書!Q32","v":0},{"$f":"申込書!K32","v":0},{"$f":"Q3+R3","v":0},{"$f":"申込書!Q33","v":0},{"$f":"申込書!K33","v":0},{"$f":"T3+U3","v":0},{"$f":"Q3+T3","v":0},{"$f":"R3+U3","v":0},{"$f":"S3+V3","v":0},{"$f":"申込書!Q37","v":0},{"$f":"申込書!K37","v":0},{"$f":"申込書!W37","v":0},{"$f":"SUM(Z3:AB3)","v":0},{"$f":"申込書!P45","v":0},{"$f":"申込書!U46","v":1500},{"$f":"申込書!E16","v":0},{"$f":"申込書!D17","v":0},{"$f":"申込書!D18","v":0},{"$f":"申込書!I19","v":0},{"$f":"申込書!S19","v":0},{"$f":"申込書!I20","v":0},{"$f":"申込書!D24","v":0},{"$f":"申込書!D22","v":0},{"$f":"申込書!R24","v":0},{"$f":"申込書!D48","v":0}]

{"sheet":"所属1","index":6,"n_rows":2,"n_cols":5,"rows_kept":2,"cut":false,"hidden":true,"merged":[]}
["所属番号","所属名","所属略称","所属名カナ","所属略称カナ"]
[{"$f":"申込書!AB2","v":0},{"$f":"申込書!D10","v":0},{"$f":"申込書!D14","v":0},{"$f":"申込書!D8","v":0},{"$f":"申込書!D12","v":0}]

{"sheet":"選手","index":7,"n_rows":205,"n_cols":14,"rows_kept":205,"cut":false,"hidden":true,"merged":[]}
["選手No","性別","氏名2","氏名カナ","生年月日","年齢","区分No","学種","学年","JASF","登録100","氏名2","氏名キー","団体番号"]
[{"$f":"IF('個人種目(マスターズ)'!B6=\"\",\"\",'個人種目(マスターズ)'!AP6)","v":""},0,{"$f":"IF(A2=\"\",\"\",'個人種目(マスターズ)'!AR6)","v":""},{"$f":"IF(A2=\"\",\"\",'個人種目(マスターズ)'!AS6)","v":""},{"$f":"IF(A2=\"\",\"\",'個人種目(マスターズ)'!F6)","v":""},{"$f":"IF(A2=\"\",\"\",'個人種目(マスターズ)'!Q6)","v":""},{"$f":"IF(A2=\"\",\"\",'個人種目(マスターズ)'!AF6)","v":""},{"$f":"IF(A2=\"\",\"\",'個人種目(マスターズ)'!AG6)","v":""},{"$f":"IF(A2=\"\",\"\",'個人種目(マスターズ)'!AH6)","v":""},null,null,{"$f":"IF(A2=\"\",\"\",C2)","v":""},{"$f":"IF(A2=\"\",\"\",TRIM('個人種目(マスターズ)'!B6)&TRIM('個人種目(マスターズ)'!C6))","v":""},{"$f":"IF(A2=\"\",\"\",申込書!$AB$2)","v":""}]
[{"$f":"IF('個人種目(マスターズ)'!B7=\"\",\"\",'個人種目(マスターズ)'!AP7)","v":""},0,{"$f":"IF(A3=\"\",\"\",'個人種目(マスターズ)'!AR7)","v":""},{"$f":"IF(A3=\"\",\"\",'個人種目(マスターズ)'!AS7)","v":""},{"$f":"IF(A3=\"\",\"\",'個人種目(マスターズ)'!F7)","v":""},{"$f":"IF(A3=\"\",\"\",'個人種目(マスターズ)'!Q7)","v":""},{"$f":"IF(A3=\"\",\"\",'個人種目(マスターズ)'!AF7)","v":""},{"$f":"IF(A3=\"\",\"\",'個人種目(マスターズ)'!AG7)","v":""},{"$f":"IF(A3=\"\",\"\",'個人種目(マスターズ)'!AH7)","v":""},null,null,{"$f":"IF(A3=\"\",\"\",C3)","v":""},{"$f":"IF(A3=\"\",\"\",TRIM('個人種目(マスターズ)'!B7)&TRIM('個人種目(マスターズ)'!C7))","v":""},{"$f":"IF(A3=\"\",\"\",申込書!$AB$2)","v":""}]
[{"$f":"IF('個人種目(マスターズ)'!B8=\"\",\"\",'個人種目(マスターズ)'!AP8)","v":""},0,{"$f":"IF(A4=\"\",\"\",'個人種目(マスターズ)'!AR8)","v":""},{"$f":"IF(A4=\"\",\"\",'個人種目(マスターズ)'!AS8)","v":""},{"$f":"IF(A4=\"\",\"\",'個人種目(マスターズ)'!F8)","v":""},{"$f":"IF(A4=\"\",\"\",'個人種目(マスターズ)'!Q8)","v":""},{"$f":"IF(A4=\"\",\"\",'個人種目(マスターズ)'!AF8)","v":""},{"$f":"IF(A4=\"\",\"\",'個人種目(マスターズ)'!AG8)","v":""},{"$f":"IF(A4=\"\",\"\",'個人種目(マスターズ)'!AH8)","v":""},null,null,"",{"$f":"IF(A4=\"\",\"\",TRIM('個人種目(マスターズ)'!B8)&TRIM('個人種目(マスターズ)'!C8))","v":""},{"$f":"IF(A4=\"\",\"\",申込書!$AB$2)","v":""}]
[{"$f":"IF('個人種目(マスターズ)'!B9=\"\",\"\",'個人種目(マスターズ)'!AP9)","v":""},0,{"$f":"IF(A5=\"\",\"\",'個人種目(マスターズ)'!AR9)","v":""},{"$f":"IF(A5=\"\",\"\",'個人種目(マスターズ)'!AS9)","v":""},{"$f":"IF(A5=\"\",\"\",'個人種目(マスターズ)'!F9)","v":""},{"$f":"IF(A5=\"\",\"\",'個人種目(マスターズ)'!Q9)","v":""},{"$f":"IF(A5=\"\",\"\",'個人種目(マスターズ)'!AF9)","v":""},{"$f":"IF(A5=\"\",\"\",'個人種目(マスターズ)'!AG9)","v":""},{"$f":"IF(A5=\"\",\"\",'個人種目(マスターズ)'!AH9)","v":""},null,null,"",{"$f":"IF(A5=\"\",\"\",TRIM('個人種目(マスターズ)'!B9)&TRIM('個人種目(マスターズ)'!C9))","v":""},{"$f":"IF(A5=\"\",\"\",申込書!$AB$2)","v":""}]
[{"$f":"IF('個人種目(マスターズ)'!B10=\"\",\"\",'個人種目(マスターズ)'!AP10)","v":""},0,{"$f":"IF(A6=\"\",\"\",'個人種目(マスターズ)'!AR10)","v":""},{"$f":"IF(A6=\"\",\"\",'個人種目(マスターズ)'!AS10)","v":""},{"$f":"IF(A6=\"\",\"\",'個人種目(マスターズ)'!F10)","v":""},{"$f":"IF(A6=\"\",\"\",'個人種目(マスターズ)'!Q10)","v":""},{"$f":"IF(A6=\"\",\"\",'個人種目(マスターズ)'!AF10)","v":""},{"$f":"IF(A6=\"\",\"\",'個人種目(マスターズ)'!AG10)","v":""},{"$f":"IF(A6=\"\",\"\",'個人種目(マスターズ)'!AH10)","v":""},null,null,"",{"$f":"IF(A6=\"\",\"\",TRIM('個人種目(マスターズ)'!B10)&TRIM('個人種目(マスターズ)'!C10))","v":""},{"$f":"IF(A6=\"\",\"\",申込書!$AB$2)","v":""}]
[{"$f":"IF('個人種目(マスターズ)'!B11=\"\",\"\",'個人種目(マスターズ)'!AP11)","v":""},0,{"$f":"IF(A7=\"\",\"\",'個人種目(マスターズ)'!AR11)","v":""},{"$f":"IF(A7=\"\",\"\",'個人種目(マスターズ)'!AS11)","v":""},{"$f":"IF(A7=\"\",\"\",'個人種目(マスターズ)'!F11)","v":""},{"$f":"IF(A7=\"\",\"\",'個人種目(マスターズ)'!Q11)","v":""},{"$f":"IF(A7=\"\",\"\",'個人種目(マスターズ)'!AF11)","v":""},{"$f":"IF(A7=\"\",\"\",'個人種目(マスターズ)'!AG11)","v":""},{"$f":"IF(A7=\"\",\"\",'個人種目(マスターズ)'!AH11)","v":""},null,null,"",{"$f":"IF(A7=\"\",\"\",TRIM('個人種目(マスターズ)'!B11)&TRIM('個人種目(マスターズ)'!C11))","v":""},{"$f":"IF(A7=\"\",\"\",申込書!$AB$2)","v":""}]
[{"$f":"IF('個人種目(マスターズ)'!B12=\"\",\"\",'個人種目(マスターズ)'!AP12)","v":""},0,{"$f":"IF(A8=\"\",\"\",'個人種目(マスターズ)'!AR12)","v":""},{"$f":"IF(A8=\"\",\"\",'個人種目(マスターズ)'!AS12)","v":""},{"$f":"IF(A8=\"\",\"\",'個人種目(マスターズ)'!F12)","v":""},{"$f":"IF(A8=\"\",\"\",'個人種目(マスターズ)'!Q12)","v":""},{"$f":"IF(A8=\"\",\"\",'個人種目(マスターズ)'!AF12)","v":""},{"$f":"IF(A8=\"\",\"\",'個人種目(マスターズ)'!AG12)","v":""},{"$f":"IF(A8=\"\",\"\",'個人種目(マスターズ)'!AH12)","v":""},null,null,"",{"$f":"IF(A8=\"\",\"\",TRIM('個人種目(マスターズ)'!B12)&TRIM('個人種目(マスターズ)'!C12))","v":""},{"$f":"IF(A8=\"\",\"\",申込書!$AB$2)","v":""}]
[{"$f":"IF('個人種目(マスターズ)'!B13=\"\",\"\",'個人種目(マスターズ)'!AP13)","v":""},0,{"$f":"IF(A9=\"\",\"\",'個人種目(マスターズ)'!AR13)","v":""},{"$f":"IF(A9=\"\",\"\",'個人種目(マスターズ)'!AS13)","v":""},{"$f":"IF(A9=\"\",\"\",'個人種目(マスターズ)'!F13)","v":""},{"$f":"IF(A9=\"\",\"\",'個人種目(マスターズ)'!Q13)","v":""},{"$f":"IF(A9=\"\",\"\",'個人種目(マスターズ)'!AF13)","v":""},{"$f":"IF(A9=\"\",\"\",'個人種目(マスターズ)'!AG13)","v":""},{"$f":"IF(A9=\"\",\"\",'個人種目(マスターズ)'!AH13)","v":""},null,null,"",{"$f":"IF(A9=\"\",\"\",TRIM('個人種目(マスターズ)'!B13)&TRIM('個人種目(マスターズ)'!C13))","v":""},{"$f":"IF(A9=\"\",\"\",申込書!$AB$2)","v":""}]
[{"$f":"IF('個人種目(マスターズ)'!B14=\"\",\"\",'個人種目(マスターズ)'!AP14)","v":""},0,{"$f":"IF(A10=\"\",\"\",'個人種目(マスターズ)'!AR14)","v":""},{"$f":"IF(A10=\"\",\"\",'個人種目(マスターズ)'!AS14)","v":""},{"$f":"IF(A10=\"\",\"\",'個人種目(マスターズ)'!F14)","v":""},{"$f":"IF(A10=\"\",\"\",'個人種目(マスターズ)'!Q14)","v":""},{"$f":"IF(A10=\"\",\"\",'個人種目(マスターズ)'!AF14)","v":""},{"$f":"IF(A10=\"\",\"\",'個人種目(マスターズ)'!AG14)","v":""},{"$f":"IF(A10=\"\",\"\",'個人種目(マスターズ)'!AH14)","v":""},null,null,"",{"$f":"IF(A10=\"\",\"\",TRIM('個人種目(マスターズ)'!B14)&TRIM('個人種目(マスターズ)'!C14))","v":""},{"$f":"IF(A10=\"\",\"\",申込書!$AB$2)","v":""}]
[{"$f":"IF('個人種目(マスターズ)'!B15=\"\",\"\",'個人種目(マスターズ)'!AP15)","v":""},0,{"$f":"IF(A11=\"\",\"\",'個人種目(マスターズ)'!AR15)","v":""},{"$f":"IF(A11=\"\",\"\",'個人種目(マスターズ)'!AS15)","v":""},{"$f":"IF(A11=\"\",\"\",'個人種目(マスターズ)'!F15)","v":""},{"$f":"IF(A11=\"\",\"\",'個人種目(マスターズ)'!Q15)","v":""},{"$f":"IF(A11=\"\",\"\",'個人種目(マスターズ)'!AF15)","v":""},{"$f":"IF(A11=\"\",\"\",'個人種目(マスターズ)'!AG15)","v":""},{"$f":"IF(A11=\"\",\"\",'個人種目(マスターズ)'!AH15)","v":""},null,null,"",{"$f":"IF(A11=\"\",\"\",TRIM('個人種目(マスターズ)'!B15)&TRIM('個人種目(マスターズ)'!C15))","v":""},{"$f":"IF(A11=\"\",\"\",申込書!$AB$2)","v":""}]
[{"$f":"IF('個人種目(マスターズ)'!B16=\"\",\"\",'個人種目(マスターズ)'!AP16)","v":""},0,{"$f":"IF(A12=\"\",\"\",'個人種目(マスターズ)'!AR16)","v":""},{"$f":"IF(A12=\"\",\"\",'個人種目(マスターズ)'!AS16)","v":""},{"$f":"IF(A12=\"\",\"\",'個人種目(マスターズ)'!F16)","v":""},{"$f":"IF(A12=\"\",\"\",'個人種目(マスターズ)'!Q16)","v":""},{"$f":"IF(A12=\"\",\"\",'個人種目(マスターズ)'!AF16)","v":""},{"$f":"IF(A12=\"\",\"\",'個人種目(マスターズ)'!AG16)","v":""},{"$f":"IF(A12=\"\",\"\",'個人種目(マスターズ)'!AH16)","v":""},null,null,"",{"$f":"IF(A12=\"\",\"\",TRIM('個人種目(マスターズ)'!B16)&TRIM('個人種目(マスターズ)'!C16))","v":""},{"$f":"IF(A12=\"\",\"\",申込書!$AB$2)","v":""}]
[{"$f":"IF('個人種目(マスターズ)'!B17=\"\",\"\",'個人種目(マスターズ)'!AP17)","v":""},0,{"$f":"IF(A13=\"\",\"\",'個人種目(マスターズ)'!AR17)","v":""},{"$f":"IF(A13=\"\",\"\",'個人種目(マスターズ)'!AS17)","v":""},{"$f":"IF(A13=\"\",\"\",'個人種目(マスターズ)'!F17)","v":""},{"$f":"IF(A13=\"\",\"\",'個人種目(マスターズ)'!Q17)","v":""},{"$f":"IF(A13=\"\",\"\",'個人種目(マスターズ)'!AF17)","v":""},{"$f":"IF(A13=\"\",\"\",'個人種目(マスターズ)'!AG17)","v":""},{"$f":"IF(A13=\"\",\"\",'個人種目(マスターズ)'!AH17)","v":""},null,null,"",{"$f":"IF(A13=\"\",\"\",TRIM('個人種目(マスターズ)'!B17)&TRIM('個人種目(マスターズ)'!C17))","v":""},{"$f":"IF(A13=\"\",\"\",申込書!$AB$2)","v":""}]
[{"$f":"IF('個人種目(マスターズ)'!B18=\"\",\"\",'個人種目(マスターズ)'!AP18)","v":""},0,{"$f":"IF(A14=\"\",\"\",'個人種目(マスターズ)'!AR18)","v":""},{"$f":"IF(A14=\"\",\"\",'個人種目(マスターズ)'!AS18)","v":""},{"$f":"IF(A14=\"\",\"\",'個人種目(マスターズ)'!F18)","v":""},{"$f":"IF(A14=\"\",\"\",'個人種目(マスターズ)'!Q18)","v":""},{"$f":"IF(A14=\"\",\"\",'個人種目(マスターズ)'!AF18)","v":""},{"$f":"IF(A14=\"\",\"\",'個人種目(マスターズ)'!AG18)","v":""},{"$f":"IF(A14=\"\",\"\",'個人種目(マスターズ)'!AH18)","v":""},null,null,"",{"$f":"IF(A14=\"\",\"\",TRIM('個人種目(マスターズ)'!B18)&TRIM('個人種目(マスターズ)'!C18))","v":""},{"$f":"IF(A14=\"\",\"\",申込書!$AB$2)","v":""}]
[{"$f":"IF('個人種目(マスターズ)'!B19=\"\",\"\",'個人種目(マスターズ)'!AP19)","v":""},0,{"$f":"IF(A15=\"\",\"\",'個人種目(マスターズ)'!AR19)","v":""},{"$f":"IF(A15=\"\",\"\",'個人種目(マスターズ)'!AS19)","v":""},{"$f":"IF(A15=\"\",\"\",'個人種目(マスターズ)'!F19)","v":""},{"$f":"IF(A15=\"\",\"\",'個人種目(マスターズ)'!Q19)","v":""},{"$f":"IF(A15=\"\",\"\",'個人種目(マスターズ)'!AF19)","v":""},{"$f":"IF(A15=\"\",\"\",'個人種目(マスターズ)'!AG19)","v":""},{"$f":"IF(A15=\"\",\"\",'個人種目(マスターズ)'!AH19)","v":""},null,null,"",{"$f":"IF(A15=\"\",\"\",TRIM('個人種目(マスターズ)'!B19)&TRIM('個人種目(マスターズ)'!C19))","v":""},{"$f":"IF(A15=\"\",\"\",申込書!$AB$2)","v":""}]
[{"$f":"IF('個人種目(マスターズ)'!B20=\"\",\"\",'個人種目(マスターズ)'!AP20)","v":""},0,{"$f":"IF(A16=\"\",\"\",'個人種目(マスターズ)'!AR20)","v":""},{"$f":"IF(A16=\"\",\"\",'個人種目(マスターズ)'!AS20)","v":""},{"$f":"IF(A16=\"\",\"\",'個人種目(マスターズ)'!F20)","v":""},{"$f":"IF(A16=\"\",\"\",'個人種目(マスターズ)'!Q20)","v":""},{"$f":"IF(A16=\"\",\"\",'個人種目(マスターズ)'!AF20)","v":""},{"$f":"IF(A16=\"\",\"\",'個人種目(マスターズ)'!AG20)","v":""},{"$f":"IF(A16=\"\",\"\",'個人種目(マスターズ)'!AH20)","v":""},null,null,"",{"$f":"IF(A16=\"\",\"\",TRIM('個人種目(マスターズ)'!B20)&TRIM('個人種目(マスターズ)'!C20))","v":""},{"$f":"IF(A16=\"\",\"\",申込書!$AB$2)","v":""}]
[{"$f":"IF('個人種目(マスターズ)'!B21=\"\",\"\",'個人種目(マスターズ)'!AP21)","v":""},0,{"$f":"IF(A17=\"\",\"\",'個人種目(マスターズ)'!AR21)","v":""},{"$f":"IF(A17=\"\",\"\",'個人種目(マスターズ)'!AS21)","v":""},{"$f":"IF(A17=\"\",\"\",'個人種目(マスターズ)'!F21)","v":""},{"$f":"IF(A17=\"\",\"\",'個人種目(マスターズ)'!Q21)","v":""},{"$f":"IF(A17=\"\",\"\",'個人種目(マスターズ)'!AF21)","v":""},{"$f":"IF(A17=\"\",\"\",'個人種目(マスターズ)'!AG21)","v":""},{"$f":"IF(A17=\"\",\"\",'個人種目(マスターズ)'!AH21)","v":""},null,null,"",{"$f":"IF(A17=\"\",\"\",TRIM('個人種目(マスターズ)'!B21)&TRIM('個人種目(マスターズ)'!C21))","v":""},{"$f":"IF(A17=\"\",\"\",申込書!$AB$2)","v":""}]
[{"$f":"IF('個人種目(マスターズ)'!B22=\"\",\"\",'個人種目(マスターズ)'!AP22)","v":""},0,{"$f":"IF(A18=\"\",\"\",'個人種目(マスターズ)'!AR22)","v":""},{"$f":"IF(A18=\"\",\"\",'個人種目(マスターズ)'!AS22)","v":""},{"$f":"IF(A18=\"\",\"\",'個人種目(マスターズ)'!F22)","v":""},{"$f":"IF(A18=\"\",\"\",'個人種目(マスターズ)'!Q22)","v":""},{"$f":"IF(A18=\"\",\"\",'個人種目(マスターズ)'!AF22)","v":""},{"$f":"IF(A18=\"\",\"\",'個人種目(マスターズ)'!AG22)","v":""},{"$f":"IF(A18=\"\",\"\",'個人種目(マスターズ)'!AH22)","v":""},null,null,"",{"$f":"IF(A18=\"\",\"\",TRIM('個人種目(マスターズ)'!B22)&TRIM('個人種目(マスターズ)'!C22))","v":""},{"$f":"IF(A18=\"\",\"\",申込書!$AB$2)","v":""}]
[{"$f":"IF('個人種目(マスターズ)'!B23=\"\",\"\",'個人種目(マスターズ)'!AP23)","v":""},0,{"$f":"IF(A19=\"\",\"\",'個人種目(マスターズ)'!AR23)","v":""},{"$f":"IF(A19=\"\",\"\",'個人種目(マスターズ)'!AS23)","v":""},{"$f":"IF(A19=\"\",\"\",'個人種目(マスターズ)'!F23)","v":""},{"$f":"IF(A19=\"\",\"\",'個人種目(マスターズ)'!Q23)","v":""},{"$f":"IF(A19=\"\",\"\",'個人種目(マスターズ)'!AF23)","v":""},{"$f":"IF(A19=\"\",\"\",'個人種目(マスターズ)'!AG23)","v":""},{"$f":"IF(A19=\"\",\"\",'個人種目(マスターズ)'!AH23)","v":""},null,null,"",{"$f":"IF(A19=\"\",\"\",TRIM('個人種目(マスターズ)'!B23)&TRIM('個人種目(マスターズ)'!C23))","v":""},{"$f":"IF(A19=\"\",\"\",申込書!$AB$2)","v":""}]
[{"$f":"IF('個人種目(マスターズ)'!B24=\"\",\"\",'個人種目(マスターズ)'!AP24)","v":""},0,{"$f":"IF(A20=\"\",\"\",'個人種目(マスターズ)'!AR24)","v":""},{"$f":"IF(A20=\"\",\"\",'個人種目(マスターズ)'!AS24)","v":""},{"$f":"IF(A20=\"\",\"\",'個人種目(マスターズ)'!F24)","v":""},{"$f":"IF(A20=\"\",\"\",'個人種目(マスターズ)'!Q24)","v":""},{"$f":"IF(A20=\"\",\"\",'個人種目(マスターズ)'!AF24)","v":""},{"$f":"IF(A20=\"\",\"\",'個人種目(マスターズ)'!AG24)","v":""},{"$f":"IF(A20=\"\",\"\",'個人種目(マスターズ)'!AH24)","v":""},null,null,"",{"$f":"IF(A20=\"\",\"\",TRIM('個人種目(マスターズ)'!B24)&TRIM('個人種目(マスターズ)'!C24))","v":""},{"$f":"IF(A20=\"\",\"\",申込書!$AB$2)","v":""}]
[{"$f":"IF('個人種目(マスターズ)'!B25=\"\",\"\",'個人種目(マスターズ)'!AP25)","v":""},0,{"$f":"IF(A21=\"\",\"\",'個人種目(マスターズ)'!AR25)","v":""},{"$f":"IF(A21=\"\",\"\",'個人種目(マスターズ)'!AS25)","v":""},{"$f":"IF(A21=\"\",\"\",'個人種目(マスターズ)'!F25)","v":""},{"$f":"IF(A21=\"\",\"\",'個人種目(マスターズ)'!Q25)","v":""},{"$f":"IF(A21=\"\",\"\",'個人種目(マスターズ)'!AF25)","v":""},{"$f":"IF(A21=\"\",\"\",'個人種目(マスターズ)'!AG25)","v":""},{"$f":"IF(A21=\"\",\"\",'個人種目(マスターズ)'!AH25)","v":""},null,null,"",{"$f":"IF(A21=\"\",\"\",TRIM('個人種目(マスターズ)'!B25)&TRIM('個人種目(マスターズ)'!C25))","v":""},{"$f":"IF(A21=\"\",\"\",申込書!$AB$2)","v":""}]
[{"$f":"IF('個人種目(マスターズ)'!B26=\"\",\"\",'個人種目(マスターズ)'!AP26)","v":""},0,{"$f":"IF(A22=\"\",\"\",'個人種目(マスターズ)'!AR26)","v":""},{"$f":"IF(A22=\"\",\"\",'個人種目(マスターズ)'!AS26)","v":""},{"$f":"IF(A22=\"\",\"\",'個人種目(マスターズ)'!F26)","v":""},{"$f":"IF(A22=\"\",\"\",'個人種目(マスターズ)'!Q26)","v":""},{"$f":"IF(A22=\"\",\"\",'個人種目(マスターズ)'!AF26)","v":""},{"$f":"IF(A22=\"\",\"\",'個人種目(マスターズ)'!AG26)","v":""},{"$f":"IF(A22=\"\",\"\",'個人種目(マスターズ)'!AH26)","v":""},null,null,"",{"$f":"IF(A22=\"\",\"\",TRIM('個人種目(マスターズ)'!B26)&TRIM('個人種目(マスターズ)'!C26))","v":""},{"$f":"IF(A22=\"\",\"\",申込書!$AB$2)","v":""}]
[{"$f":"IF('個人種目(マスターズ)'!B27=\"\",\"\",'個人種目(マスターズ)'!AP27)","v":""},0,{"$f":"IF(A23=\"\",\"\",'個人種目(マスターズ)'!AR27)","v":""},{"$f":"IF(A23=\"\",\"\",'個人種目(マスターズ)'!AS27)","v":""},{"$f":"IF(A23=\"\",\"\",'個人種目(マスターズ)'!F27)","v":""},{"$f":"IF(A23=\"\",\"\",'個人種目(マスターズ)'!Q27)","v":""},{"$f":"IF(A23=\"\",\"\",'個人種目(マスターズ)'!AF27)","v":""},{"$f":"IF(A23=\"\",\"\",'個人種目(マスターズ)'!AG27)","v":""},{"$f":"IF(A23=\"\",\"\",'個人種目(マスターズ)'!AH27)","v":""},null,null,"",{"$f":"IF(A23=\"\",\"\",TRIM('個人種目(マスターズ)'!B27)&TRIM('個人種目(マスターズ)'!C27))","v":""},{"$f":"IF(A23=\"\",\"\",申込書!$AB$2)","v":""}]
[{"$f":"IF('個人種目(マスターズ)'!B28=\"\",\"\",'個人種目(マスターズ)'!AP28)","v":""},0,{"$f":"IF(A24=\"\",\"\",'個人種目(マスターズ)'!AR28)","v":""},{"$f":"IF(A24=\"\",\"\",'個人種目(マスターズ)'!AS28)","v":""},{"$f":"IF(A24=\"\",\"\",'個人種目(マスターズ)'!F28)","v":""},{"$f":"IF(A24=\"\",\"\",'個人種目(マスターズ)'!Q28)","v":""},{"$f":"IF(A24=\"\",\"\",'個人種目(マスターズ)'!AF28)","v":""},{"$f":"IF(A24=\"\",\"\",'個人種目(マスターズ)'!AG28)","v":""},{"$f":"IF(A24=\"\",\"\",'個人種目(マスターズ)'!AH28)","v":""},null,null,"",{"$f":"IF(A24=\"\",\"\",TRIM('個人種目(マスターズ)'!B28)&TRIM('個人種目(マスターズ)'!C28))","v":""},{"$f":"IF(A24=\"\",\"\",申込書!$AB$2)","v":""}]
[{"$f":"IF('個人種目(マスターズ)'!B29=\"\",\"\",'個人種目(マスターズ)'!AP29)","v":""},0,{"$f":"IF(A25=\"\",\"\",'個人種目(マスターズ)'!AR29)","v":""},{"$f":"IF(A25=\"\",\"\",'個人種目(マスターズ)'!AS29)","v":""},{"$f":"IF(A25=\"\",\"\",'個人種目(マスターズ)'!F29)","v":""},{"$f":"IF(A25=\"\",\"\",'個人種目(マスターズ)'!Q29)","v":""},{"$f":"IF(A25=\"\",\"\",'個人種目(マスターズ)'!AF29)","v":""},{"$f":"IF(A25=\"\",\"\",'個人種目(マスターズ)'!AG29)","v":""},{"$f":"IF(A25=\"\",\"\",'個人種目(マスターズ)'!AH29)","v":""},null,null,"",{"$f":"IF(A25=\"\",\"\",TRIM('個人種目(マスターズ)'!B29)&TRIM('個人種目(マスターズ)'!C29))","v":""},{"$f":"IF(A25=\"\",\"\",申込書!$AB$2)","v":""}]
[{"$f":"IF('個人種目(マスターズ)'!B30=\"\",\"\",'個人種目(マスターズ)'!AP30)","v":""},0,{"$f":"IF(A26=\"\",\"\",'個人種目(マスターズ)'!AR30)","v":""},{"$f":"IF(A26=\"\",\"\",'個人種目(マスターズ)'!AS30)","v":""},{"$f":"IF(A26=\"\",\"\",'個人種目(マスターズ)'!F30)","v":""},{"$f":"IF(A26=\"\",\"\",'個人種目(マスターズ)'!Q30)","v":""},{"$f":"IF(A26=\"\",\"\",'個人種目(マスターズ)'!AF30)","v":""},{"$f":"IF(A26=\"\",\"\",'個人種目(マスターズ)'!AG30)","v":""},{"$f":"IF(A26=\"\",\"\",'個人種目(マスターズ)'!AH30)","v":""},null,null,"",{"$f":"IF(A26=\"\",\"\",TRIM('個人種目(マスターズ)'!B30)&TRIM('個人種目(マスターズ)'!C30))","v":""},{"$f":"IF(A26=\"\",\"\",申込書!$AB$2)","v":""}]
[{"$f":"IF('個人種目(マスターズ)'!B31=\"\",\"\",'個人種目(マスターズ)'!AP31)","v":""},0,{"$f":"IF(A27=\"\",\"\",'個人種目(マスターズ)'!AR31)","v":""},{"$f":"IF(A27=\"\",\"\",'個人種目(マスターズ)'!AS31)","v":""},{"$f":"IF(A27=\"\",\"\",'個人種目(マスターズ)'!F31)","v":""},{"$f":"IF(A27=\"\",\"\",'個人種目(マスターズ)'!Q31)","v":""},{"$f":"IF(A27=\"\",\"\",'個人種目(マスターズ)'!AF31)","v":""},{"$f":"IF(A27=\"\",\"\",'個人種目(マスターズ)'!AG31)","v":""},{"$f":"IF(A27=\"\",\"\",'個人種目(マスターズ)'!AH31)","v":""},null,null,"",{"$f":"IF(A27=\"\",\"\",TRIM('個人種目(マスターズ)'!B31)&TRIM('個人種目(マスターズ)'!C31))","v":""},{"$f":"IF(A27=\"\",\"\",申込書!$AB$2)","v":""}]
[{"$f":"IF('個人種目(マスターズ)'!B32=\"\",\"\",'個人種目(マスターズ)'!AP32)","v":""},0,{"$f":"IF(A28=\"\",\"\",'個人種目(マスターズ)'!AR32)","v":""},{"$f":"IF(A28=\"\",\"\",'個人種目(マスターズ)'!AS32)","v":""},{"$f":"IF(A28=\"\",\"\",'個人種目(マスターズ)'!F32)","v":""},{"$f":"IF(A28=\"\",\"\",'個人種目(マスターズ)'!Q32)","v":""},{"$f":"IF(A28=\"\",\"\",'個人種目(マスターズ)'!AF32)","v":""},{"$f":"IF(A28=\"\",\"\",'個人種目(マスターズ)'!AG32)","v":""},{"$f":"IF(A28=\"\",\"\",'個人種目(マスターズ)'!AH32)","v":""},null,null,"",{"$f":"IF(A28=\"\",\"\",TRIM('個人種目(マスターズ)'!B32)&TRIM('個人種目(マスターズ)'!C32))","v":""},{"$f":"IF(A28=\"\",\"\",申込書!$AB$2)","v":""}]
[{"$f":"IF('個人種目(マスターズ)'!B33=\"\",\"\",'個人種目(マスターズ)'!AP33)","v":""},0,{"$f":"IF(A29=\"\",\"\",'個人種目(マスターズ)'!AR33)","v":""},{"$f":"IF(A29=\"\",\"\",'個人種目(マスターズ)'!AS33)","v":""},{"$f":"IF(A29=\"\",\"\",'個人種目(マスターズ)'!F33)","v":""},{"$f":"IF(A29=\"\",\"\",'個人種目(マスターズ)'!Q33)","v":""},{"$f":"IF(A29=\"\",\"\",'個人種目(マスターズ)'!AF33)","v":""},{"$f":"IF(A29=\"\",\"\",'個人種目(マスターズ)'!AG33)","v":""},{"$f":"IF(A29=\"\",\"\",'個人種目(マスターズ)'!AH33)","v":""},null,null,"",{"$f":"IF(A29=\"\",\"\",TRIM('個人種目(マスターズ)'!B33)&TRIM('個人種目(マスターズ)'!C33))","v":""},{"$f":"IF(A29=\"\",\"\",申込書!$AB$2)","v":""}]
[{"$f":"IF('個人種目(マスターズ)'!B34=\"\",\"\",'個人種目(マスターズ)'!AP34)","v":""},0,{"$f":"IF(A30=\"\",\"\",'個人種目(マスターズ)'!AR34)","v":""},{"$f":"IF(A30=\"\",\"\",'個人種目(マスターズ)'!AS34)","v":""},{"$f":"IF(A30=\"\",\"\",'個人種目(マスターズ)'!F34)","v":""},{"$f":"IF(A30=\"\",\"\",'個人種目(マスターズ)'!Q34)","v":""},{"$f":"IF(A30=\"\",\"\",'個人種目(マスターズ)'!AF34)","v":""},{"$f":"IF(A30=\"\",\"\",'個人種目(マスターズ)'!AG34)","v":""},{"$f":"IF(A30=\"\",\"\",'個人種目(マスターズ)'!AH34)","v":""},null,null,"",{"$f":"IF(A30=\"\",\"\",TRIM('個人種目(マスターズ)'!B34)&TRIM('個人種目(マスターズ)'!C34))","v":""},{"$f":"IF(A30=\"\",\"\",申込書!$AB$2)","v":""}]
[{"$f":"IF('個人種目(マスターズ)'!B35=\"\",\"\",'個人種目(マスターズ)'!AP35)","v":""},0,{"$f":"IF(A31=\"\",\"\",'個人種目(マスターズ)'!AR35)","v":""},{"$f":"IF(A31=\"\",\"\",'個人種目(マスターズ)'!AS35)","v":""},{"$f":"IF(A31=\"\",\"\",'個人種目(マスターズ)'!F35)","v":""},{"$f":"IF(A31=\"\",\"\",'個人種目(マスターズ)'!Q35)","v":""},{"$f":"IF(A31=\"\",\"\",'個人種目(マスターズ)'!AF35)","v":""},{"$f":"IF(A31=\"\",\"\",'個人種目(マスターズ)'!AG35)","v":""},{"$f":"IF(A31=\"\",\"\",'個人種目(マスターズ)'!AH35)","v":""},null,null,"",{"$f":"IF(A31=\"\",\"\",TRIM('個人種目(マスターズ)'!B35)&TRIM('個人種目(マスターズ)'!C35))","v":""},{"$f":"IF(A31=\"\",\"\",申込書!$AB$2)","v":""}]
[{"$f":"IF('個人種目(マスターズ)'!B36=\"\",\"\",'個人種目(マスターズ)'!AP36)","v":""},0,{"$f":"IF(A32=\"\",\"\",'個人種目(マスターズ)'!AR36)","v":""},{"$f":"IF(A32=\"\",\"\",'個人種目(マスターズ)'!AS36)","v":""},{"$f":"IF(A32=\"\",\"\",'個人種目(マスターズ)'!F36)","v":""},{"$f":"IF(A32=\"\",\"\",'個人種目(マスターズ)'!Q36)","v":""},{"$f":"IF(A32=\"\",\"\",'個人種目(マスターズ)'!AF36)","v":""},{"$f":"IF(A32=\"\",\"\",'個人種目(マスターズ)'!AG36)","v":""},{"$f":"IF(A32=\"\",\"\",'個人種目(マスターズ)'!AH36)","v":""},null,null,"",{"$f":"IF(A32=\"\",\"\",TRIM('個人種目(マスターズ)'!B36)&TRIM('個人種目(マスターズ)'!C36))","v":""},{"$f":"IF(A32=\"\",\"\",申込書!$AB$2)","v":""}]
[{"$f":"IF('個人種目(マスターズ)'!B37=\"\",\"\",'個人種目(マスターズ)'!AP37)","v":""},0,{"$f":"IF(A33=\"\",\"\",'個人種目(マスターズ)'!AR37)","v":""},{"$f":"IF(A33=\"\",\"\",'個人種目(マスターズ)'!AS37)","v":""},{"$f":"IF(A33=\"\",\"\",'個人種目(マスターズ)'!F37)","v":""},{"$f":"IF(A33=\"\",\"\",'個人種目(マスターズ)'!Q37)","v":""},{"$f":"IF(A33=\"\",\"\",'個人種目(マスターズ)'!AF37)","v":""},{"$f":"IF(A33=\"\",\"\",'個人種目(マスターズ)'!AG37)","v":""},{"$f":"IF(A33=\"\",\"\",'個人種目(マスターズ)'!AH37)","v":""},null,null,"",{"$f":"IF(A33=\"\",\"\",TRIM('個人種目(マスターズ)'!B37)&TRIM('個人種目(マスターズ)'!C37))","v":""},{"$f":"IF(A33=\"\",\"\",申込書!$AB$2)","v":""}]
[{"$f":"IF('個人種目(マスターズ)'!B38=\"\",\"\",'個人種目(マスターズ)'!AP38)","v":""},0,{"$f":"IF(A34=\"\",\"\",'個人種目(マスターズ)'!AR38)","v":""},{"$f":"IF(A34=\"\",\"\",'個人種目(マスターズ)'!AS38)","v":""},{"$f":"IF(A34=\"\",\"\",'個人種目(マスターズ)'!F38)","v":""},{"$f":"IF(A34=\"\",\"\",'個人種目(マスターズ)'!Q38)","v":""},{"$f":"IF(A34=\"\",\"\",'個人種目(マスターズ)'!AF38)","v":""},{"$f":"IF(A34=\"\",\"\",'個人種目(マスターズ)'!AG38)","v":""},{"$f":"IF(A34=\"\",\"\",'個人種目(マスターズ)'!AH38)","v":""},null,null,"",{"$f":"IF(A34=\"\",\"\",TRIM('個人種目(マスターズ)'!B38)&TRIM('個人種目(マスターズ)'!C38))","v":""},{"$f":"IF(A34=\"\",\"\",申込書!$AB$2)","v":""}]
[{"$f":"IF('個人種目(マスターズ)'!B39=\"\",\"\",'個人種目(マスターズ)'!AP39)","v":""},0,{"$f":"IF(A35=\"\",\"\",'個人種目(マスターズ)'!AR39)","v":""},{"$f":"IF(A35=\"\",\"\",'個人種目(マスターズ)'!AS39)","v":""},{"$f":"IF(A35=\"\",\"\",'個人種目(マスターズ)'!F39)","v":""},{"$f":"IF(A35=\"\",\"\",'個人種目(マスターズ)'!Q39)","v":""},{"$f":"IF(A35=\"\",\"\",'個人種目(マスターズ)'!AF39)","v":""},{"$f":"IF(A35=\"\",\"\",'個人種目(マスターズ)'!AG39)","v":""},{"$f":"IF(A35=\"\",\"\",'個人種目(マスターズ)'!AH39)","v":""},null,null,"",{"$f":"IF(A35=\"\",\"\",TRIM('個人種目(マスターズ)'!B39)&TRIM('個人種目(マスターズ)'!C39))","v":""},{"$f":"IF(A35=\"\",\"\",申込書!$AB$2)","v":""}]
[{"$f":"IF('個人種目(マスターズ)'!B40=\"\",\"\",'個人種目(マスターズ)'!AP40)","v":""},0,{"$f":"IF(A36=\"\",\"\",'個人種目(マスターズ)'!AR40)","v":""},{"$f":"IF(A36=\"\",\"\",'個人種目(マスターズ)'!AS40)","v":""},{"$f":"IF(A36=\"\",\"\",'個人種目(マスターズ)'!F40)","v":""},{"$f":"IF(A36=\"\",\"\",'個人種目(マスターズ)'!Q40)","v":""},{"$f":"IF(A36=\"\",\"\",'個人種目(マスターズ)'!AF40)","v":""},{"$f":"IF(A36=\"\",\"\",'個人種目(マスターズ)'!AG40)","v":""},{"$f":"IF(A36=\"\",\"\",'個人種目(マスターズ)'!AH40)","v":""},null,null,"",{"$f":"IF(A36=\"\",\"\",TRIM('個人種目(マスターズ)'!B40)&TRIM('個人種目(マスターズ)'!C40))","v":""},{"$f":"IF(A36=\"\",\"\",申込書!$AB$2)","v":""}]
[{"$f":"IF('個人種目(マスターズ)'!B41=\"\",\"\",'個人種目(マスターズ)'!AP41)","v":""},0,{"$f":"IF(A37=\"\",\"\",'個人種目(マスターズ)'!AR41)","v":""},{"$f":"IF(A37=\"\",\"\",'個人種目(マスターズ)'!AS41)","v":""},{"$f":"IF(A37=\"\",\"\",'個人種目(マスターズ)'!F41)","v":""},{"$f":"IF(A37=\"\",\"\",'個人種目(マスターズ)'!Q41)","v":""},{"$f":"IF(A37=\"\",\"\",'個人種目(マスターズ)'!AF41)","v":""},{"$f":"IF(A37=\"\",\"\",'個人種目(マスターズ)'!AG41)","v":""},{"$f":"IF(A37=\"\",\"\",'個人種目(マスターズ)'!AH41)","v":""},null,null,"",{"$f":"IF(A37=\"\",\"\",TRIM('個人種目(マスターズ)'!B41)&TRIM('個人種目(マスターズ)'!C41))","v":""},{"$f":"IF(A37=\"\",\"\",申込書!$AB$2)","v":""}]
[{"$f":"IF('個人種目(マスターズ)'!B42=\"\",\"\",'個人種目(マスターズ)'!AP42)","v":""},0,{"$f":"IF(A38=\"\",\"\",'個人種目(マスターズ)'!AR42)","v":""},{"$f":"IF(A38=\"\",\"\",'個人種目(マスターズ)'!AS42)","v":""},{"$f":"IF(A38=\"\",\"\",'個人種目(マスターズ)'!F42)","v":""},{"$f":"IF(A38=\"\",\"\",'個人種目(マスターズ)'!Q42)","v":""},{"$f":"IF(A38=\"\",\"\",'個人種目(マスターズ)'!AF42)","v":""},{"$f":"IF(A38=\"\",\"\",'個人種目(マスターズ)'!AG42)","v":""},{"$f":"IF(A38=\"\",\"\",'個人種目(マスターズ)'!AH42)","v":""},null,null,"",{"$f":"IF(A38=\"\",\"\",TRIM('個人種目(マスターズ)'!B42)&TRIM('個人種目(マスターズ)'!C42))","v":""},{"$f":"IF(A38=\"\",\"\",申込書!$AB$2)","v":""}]
[{"$f":"IF('個人種目(マスターズ)'!B43=\"\",\"\",'個人種目(マスターズ)'!AP43)","v":""},0,{"$f":"IF(A39=\"\",\"\",'個人種目(マスターズ)'!AR43)","v":""},{"$f":"IF(A39=\"\",\"\",'個人種目(マスターズ)'!AS43)","v":""},{"$f":"IF(A39=\"\",\"\",'個人種目(マスターズ)'!F43)","v":""},{"$f":"IF(A39=\"\",\"\",'個人種目(マスターズ)'!Q43)","v":""},{"$f":"IF(A39=\"\",\"\",'個人種目(マスターズ)'!AF43)","v":""},{"$f":"IF(A39=\"\",\"\",'個人種目(マスターズ)'!AG43)","v":""},{"$f":"IF(A39=\"\",\"\",'個人種目(マスターズ)'!AH43)","v":""},null,null,"",{"$f":"IF(A39=\"\",\"\",TRIM('個人種目(マスターズ)'!B43)&TRIM('個人種目(マスターズ)'!C43))","v":""},{"$f":"IF(A39=\"\",\"\",申込書!$AB$2)","v":""}]
[{"$f":"IF('個人種目(マスターズ)'!B44=\"\",\"\",'個人種目(マスターズ)'!AP44)","v":""},0,{"$f":"IF(A40=\"\",\"\",'個人種目(マスターズ)'!AR44)","v":""},{"$f":"IF(A40=\"\",\"\",'個人種目(マスターズ)'!AS44)","v":""},{"$f":"IF(A40=\"\",\"\",'個人種目(マスターズ)'!F44)","v":""},{"$f":"IF(A40=\"\",\"\",'個人種目(マスターズ)'!Q44)","v":""},{"$f":"IF(A40=\"\",\"\",'個人種目(マスターズ)'!AF44)","v":""},{"$f":"IF(A40=\"\",\"\",'個人種目(マスターズ)'!AG44)","v":""},{"$f":"IF(A40=\"\",\"\",'個人種目(マスターズ)'!AH44)","v":""},null,null,"",{"$f":"IF(A40=\"\",\"\",TRIM('個人種目(マスターズ)'!B44)&TRIM('個人種目(マスターズ)'!C44))","v":""},{"$f":"IF(A40=\"\",\"\",申込書!$AB$2)","v":""}]
[{"$f":"IF('個人種目(マスターズ)'!B45=\"\",\"\",'個人種目(マスターズ)'!AP45)","v":""},0,{"$f":"IF(A41=\"\",\"\",'個人種目(マスターズ)'!AR45)","v":""},{"$f":"IF(A41=\"\",\"\",'個人種目(マスターズ)'!AS45)","v":""},{"$f":"IF(A41=\"\",\"\",'個人種目(マスターズ)'!F45)","v":""},{"$f":"IF(A41=\"\",\"\",'個人種目(マスターズ)'!Q45)","v":""},{"$f":"IF(A41=\"\",\"\",'個人種目(マスターズ)'!AF45)","v":""},{"$f":"IF(A41=\"\",\"\",'個人種目(マスターズ)'!AG45)","v":""},{"$f":"IF(A41=\"\",\"\",'個人種目(マスターズ)'!AH45)","v":""},null,null,"",{"$f":"IF(A41=\"\",\"\",TRIM('個人種目(マスターズ)'!B45)&TRIM('個人種目(マスターズ)'!C45))","v":""},{"$f":"IF(A41=\"\",\"\",申込書!$AB$2)","v":""}]
[{"$f":"IF('個人種目(マスターズ)'!B46=\"\",\"\",'個人種目(マスターズ)'!AP46)","v":""},0,{"$f":"IF(A42=\"\",\"\",'個人種目(マスターズ)'!AR46)","v":""},{"$f":"IF(A42=\"\",\"\",'個人種目(マスターズ)'!AS46)","v":""},{"$f":"IF(A42=\"\",\"\",'個人種目(マスターズ)'!F46)","v":""},{"$f":"IF(A42=\"\",\"\",'個人種目(マスターズ)'!Q46)","v":""},{"$f":"IF(A42=\"\",\"\",'個人種目(マスターズ)'!AF46)","v":""},{"$f":"IF(A42=\"\",\"\",'個人種目(マスターズ)'!AG46)","v":""},{"$f":"IF(A42=\"\",\"\",'個人種目(マスターズ)'!AH46)","v":""},null,null,"",{"$f":"IF(A42=\"\",\"\",TRIM('個人種目(マスターズ)'!B46)&TRIM('個人種目(マスターズ)'!C46))","v":""},{"$f":"IF(A42=\"\",\"\",申込書!$AB$2)","v":""}]
[{"$f":"IF('個人種目(マスターズ)'!B47=\"\",\"\",'個人種目(マスターズ)'!AP47)","v":""},0,{"$f":"IF(A43=\"\",\"\",'個人種目(マスターズ)'!AR47)","v":""},{"$f":"IF(A43=\"\",\"\",'個人種目(マスターズ)'!AS47)","v":""},{"$f":"IF(A43=\"\",\"\",'個人種目(マスターズ)'!F47)","v":""},{"$f":"IF(A43=\"\",\"\",'個人種目(マスターズ)'!Q47)","v":""},{"$f":"IF(A43=\"\",\"\",'個人種目(マスターズ)'!AF47)","v":""},{"$f":"IF(A43=\"\",\"\",'個人種目(マスターズ)'!AG47)","v":""},{"$f":"IF(A43=\"\",\"\",'個人種目(マスターズ)'!AH47)","v":""},null,null,"",{"$f":"IF(A43=\"\",\"\",TRIM('個人種目(マスターズ)'!B47)&TRIM('個人種目(マスターズ)'!C47))","v":""},{"$f":"IF(A43=\"\",\"\",申込書!$AB$2)","v":""}]
[{"$f":"IF('個人種目(マスターズ)'!B48=\"\",\"\",'個人種目(マスターズ)'!AP48)","v":""},0,{"$f":"IF(A44=\"\",\"\",'個人種目(マスターズ)'!AR48)","v":""},{"$f":"IF(A44=\"\",\"\",'個人種目(マスターズ)'!AS48)","v":""},{"$f":"IF(A44=\"\",\"\",'個人種目(マスターズ)'!F48)","v":""},{"$f":"IF(A44=\"\",\"\",'個人種目(マスターズ)'!Q48)","v":""},{"$f":"IF(A44=\"\",\"\",'個人種目(マスターズ)'!AF48)","v":""},{"$f":"IF(A44=\"\",\"\",'個人種目(マスターズ)'!AG48)","v":""},{"$f":"IF(A44=\"\",\"\",'個人種目(マスターズ)'!AH48)","v":""},null,null,"",{"$f":"IF(A44=\"\",\"\",TRIM('個人種目(マスターズ)'!B48)&TRIM('個人種目(マスターズ)'!C48))","v":""},{"$f":"IF(A44=\"\",\"\",申込書!$AB$2)","v":""}]
[{"$f":"IF('個人種目(マスターズ)'!B49=\"\",\"\",'個人種目(マスターズ)'!AP49)","v":""},0,{"$f":"IF(A45=\"\",\"\",'個人種目(マスターズ)'!AR49)","v":""},{"$f":"IF(A45=\"\",\"\",'個人種目(マスターズ)'!AS49)","v":""},{"$f":"IF(A45=\"\",\"\",'個人種目(マスターズ)'!F49)","v":""},{"$f":"IF(A45=\"\",\"\",'個人種目(マスターズ)'!Q49)","v":""},{"$f":"IF(A45=\"\",\"\",'個人種目(マスターズ)'!AF49)","v":""},{"$f":"IF(A45=\"\",\"\",'個人種目(マスターズ)'!AG49)","v":""},{"$f":"IF(A45=\"\",\"\",'個人種目(マスターズ)'!AH49)","v":""},null,null,"",{"$f":"IF(A45=\"\",\"\",TRIM('個人種目(マスターズ)'!B49)&TRIM('個人種目(マスターズ)'!C49))","v":""},{"$f":"IF(A45=\"\",\"\",申込書!$AB$2)","v":""}]
[{"$f":"IF('個人種目(マスターズ)'!B50=\"\",\"\",'個人種目(マスターズ)'!AP50)","v":""},0,{"$f":"IF(A46=\"\",\"\",'個人種目(マスターズ)'!AR50)","v":""},{"$f":"IF(A46=\"\",\"\",'個人種目(マスターズ)'!AS50)","v":""},{"$f":"IF(A46=\"\",\"\",'個人種目(マスターズ)'!F50)","v":""},{"$f":"IF(A46=\"\",\"\",'個人種目(マスターズ)'!Q50)","v":""},{"$f":"IF(A46=\"\",\"\",'個人種目(マスターズ)'!AF50)","v":""},{"$f":"IF(A46=\"\",\"\",'個人種目(マスターズ)'!AG50)","v":""},{"$f":"IF(A46=\"\",\"\",'個人種目(マスターズ)'!AH50)","v":""},null,null,"",{"$f":"IF(A46=\"\",\"\",TRIM('個人種目(マスターズ)'!B50)&TRIM('個人種目(マスターズ)'!C50))","v":""},{"$f":"IF(A46=\"\",\"\",申込書!$AB$2)","v":""}]
[{"$f":"IF('個人種目(マスターズ)'!B51=\"\",\"\",'個人種目(マスターズ)'!AP51)","v":""},0,{"$f":"IF(A47=\"\",\"\",'個人種目(マスターズ)'!AR51)","v":""},{"$f":"IF(A47=\"\",\"\",'個人種目(マスターズ)'!AS51)","v":""},{"$f":"IF(A47=\"\",\"\",'個人種目(マスターズ)'!F51)","v":""},{"$f":"IF(A47=\"\",\"\",'個人種目(マスターズ)'!Q51)","v":""},{"$f":"IF(A47=\"\",\"\",'個人種目(マスターズ)'!AF51)","v":""},{"$f":"IF(A47=\"\",\"\",'個人種目(マスターズ)'!AG51)","v":""},{"$f":"IF(A47=\"\",\"\",'個人種目(マスターズ)'!AH51)","v":""},null,null,"",{"$f":"IF(A47=\"\",\"\",TRIM('個人種目(マスターズ)'!B51)&TRIM('個人種目(マスターズ)'!C51))","v":""},{"$f":"IF(A47=\"\",\"\",申込書!$AB$2)","v":""}]
[{"$f":"IF('個人種目(マスターズ)'!B52=\"\",\"\",'個人種目(マスターズ)'!AP52)","v":""},0,{"$f":"IF(A48=\"\",\"\",'個人種目(マスターズ)'!AR52)","v":""},{"$f":"IF(A48=\"\",\"\",'個人種目(マスターズ)'!AS52)","v":""},{"$f":"IF(A48=\"\",\"\",'個人種目(マスターズ)'!F52)","v":""},{"$f":"IF(A48=\"\",\"\",'個人種目(マスターズ)'!Q52)","v":""},{"$f":"IF(A48=\"\",\"\",'個人種目(マスターズ)'!AF52)","v":""},{"$f":"IF(A48=\"\",\"\",'個人種目(マスターズ)'!AG52)","v":""},{"$f":"IF(A48=\"\",\"\",'個人種目(マスターズ)'!AH52)","v":""},null,null,"",{"$f":"IF(A48=\"\",\"\",TRIM('個人種目(マスターズ)'!B52)&TRIM('個人種目(マスターズ)'!C52))","v":""},{"$f":"IF(A48=\"\",\"\",申込書!$AB$2)","v":""}]
[{"$f":"IF('個人種目(マスターズ)'!B53=\"\",\"\",'個人種目(マスターズ)'!AP53)","v":""},0,{"$f":"IF(A49=\"\",\"\",'個人種目(マスターズ)'!AR53)","v":""},{"$f":"IF(A49=\"\",\"\",'個人種目(マスターズ)'!AS53)","v":""},{"$f":"IF(A49=\"\",\"\",'個人種目(マスターズ)'!F53)","v":""},{"$f":"IF(A49=\"\",\"\",'個人種目(マスターズ)'!Q53)","v":""},{"$f":"IF(A49=\"\",\"\",'個人種目(マスターズ)'!AF53)","v":""},{"$f":"IF(A49=\"\",\"\",'個人種目(マスターズ)'!AG53)","v":""},{"$f":"IF(A49=\"\",\"\",'個人種目(マスターズ)'!AH53)","v":""},null,null,"",{"$f":"IF(A49=\"\",\"\",TRIM('個人種目(マスターズ)'!B53)&TRIM('個人種目(マスターズ)'!C53))","v":""},{"$f":"IF(A49=\"\",\"\",申込書!$AB$2)","v":""}]
[{"$f":"IF('個人種目(マスターズ)'!B54=\"\",\"\",'個人種目(マスターズ)'!AP54)","v":""},0,{"$f":"IF(A50=\"\",\"\",'個人種目(マスターズ)'!AR54)","v":""},{"$f":"IF(A50=\"\",\"\",'個人種目(マスターズ)'!AS54)","v":""},{"$f":"IF(A50=\"\",\"\",'個人種目(マスターズ)'!F54)","v":""},{"$f":"IF(A50=\"\",\"\",'個人種目(マスターズ)'!Q54)","v":""},{"$f":"IF(A50=\"\",\"\",'個人種目(マスターズ)'!AF54)","v":""},{"$f":"IF(A50=\"\",\"\",'個人種目(マスターズ)'!AG54)","v":""},{"$f":"IF(A50=\"\",\"\",'個人種目(マスターズ)'!AH54)","v":""},null,null,"",{"$f":"IF(A50=\"\",\"\",TRIM('個人種目(マスターズ)'!B54)&TRIM('個人種目(マスターズ)'!C54))","v":""},{"$f":"IF(A50=\"\",\"\",申込書!$AB$2)","v":""}]
[{"$f":"IF('個人種目(マスターズ)'!B55=\"\",\"\",'個人種目(マスターズ)'!AP55)","v":""},0,{"$f":"IF(A51=\"\",\"\",'個人種目(マスターズ)'!AR55)","v":""},{"$f":"IF(A51=\"\",\"\",'個人種目(マスターズ)'!AS55)","v":""},{"$f":"IF(A51=\"\",\"\",'個人種目(マスターズ)'!F55)","v":""},{"$f":"IF(A51=\"\",\"\",'個人種目(マスターズ)'!Q55)","v":""},{"$f":"IF(A51=\"\",\"\",'個人種目(マスターズ)'!AF55)","v":""},{"$f":"IF(A51=\"\",\"\",'個人種目(マスターズ)'!AG55)","v":""},{"$f":"IF(A51=\"\",\"\",'個人種目(マスターズ)'!AH55)","v":""},null,null,"",{"$f":"IF(A51=\"\",\"\",TRIM('個人種目(マスターズ)'!B55)&TRIM('個人種目(マスターズ)'!C55))","v":""},{"$f":"IF(A51=\"\",\"\",申込書!$AB$2)","v":""}]
[null,0,{"$f":"IF(A52=\"\",\"\",'個人種目(マスターズ)'!AR56)","v":""},{"$f":"IF(A52=\"\",\"\",'個人種目(マスターズ)'!AS56)","v":""},{"$f":"IF(A52=\"\",\"\",'個人種目(マスターズ)'!F56)","v":""},{"$f":"IF(A52=\"\",\"\",'個人種目(マスターズ)'!Q56)","v":""},{"$f":"IF(A52=\"\",\"\",'個人種目(マスターズ)'!AF56)","v":""},{"$f":"IF(A52=\"\",\"\",'個人種目(マスターズ)'!AG56)","v":""},{"$f":"IF(A52=\"\",\"\",'個人種目(マスターズ)'!AH56)","v":""},{"$f":"IF(A52=\"\",\"\",IF('個人種目(マスターズ)'!#REF!=\"○\",\"○\",\"×\")&'個人種目(マスターズ)'!#REF!)","v":""},null,"",{"$f":"IF(A52=\"\",\"\",TRIM('個人種目(マスターズ)'!B56)&TRIM('個人種目(マスターズ)'!C56))","v":""},{"$f":"IF(A52=\"\",\"\",申込書!$AB$2)","v":""}]
[null,0,{"$f":"IF(A53=\"\",\"\",'個人種目(マスターズ)'!AR57)","v":""},{"$f":"IF(A53=\"\",\"\",'個人種目(マスターズ)'!AS57)","v":""},{"$f":"IF(A53=\"\",\"\",'個人種目(マスターズ)'!F57)","v":""},{"$f":"IF(A53=\"\",\"\",'個人種目(マスターズ)'!Q57)","v":""},{"$f":"IF(A53=\"\",\"\",'個人種目(マスターズ)'!AF57)","v":""},{"$f":"IF(A53=\"\",\"\",'個人種目(マスターズ)'!AG57)","v":""},{"$f":"IF(A53=\"\",\"\",'個人種目(マスターズ)'!AH57)","v":""},{"$f":"IF(A53=\"\",\"\",IF('個人種目(マスターズ)'!#REF!=\"○\",\"○\",\"×\")&'個人種目(マスターズ)'!#REF!)","v":""},null,"",{"$f":"IF(A53=\"\",\"\",TRIM('個人種目(マスターズ)'!B57)&TRIM('個人種目(マスターズ)'!C57))","v":""},{"$f":"IF(A53=\"\",\"\",申込書!$AB$2)","v":""}]
[{"$f":"IF('個人種目(マスターズ)'!B58=\"\",\"\",'個人種目(マスターズ)'!AP58)","v":""},5,{"$f":"IF(A54=\"\",\"\",'個人種目(マスターズ)'!AR58)","v":""},{"$f":"IF(A54=\"\",\"\",'個人種目(マスターズ)'!AS58)","v":""},{"$f":"IF(A54=\"\",\"\",'個人種目(マスターズ)'!F58)","v":""},{"$f":"IF(A54=\"\",\"\",'個人種目(マスターズ)'!Q58)","v":""},{"$f":"IF(A54=\"\",\"\",'個人種目(マスターズ)'!AF58)","v":""},{"$f":"IF(A54=\"\",\"\",'個人種目(マスターズ)'!AG58)","v":""},{"$f":"IF(A54=\"\",\"\",'個人種目(マスターズ)'!AH58)","v":""},null,null,"",{"$f":"IF(A54=\"\",\"\",TRIM('個人種目(マスターズ)'!B58)&TRIM('個人種目(マスターズ)'!C58))","v":""},{"$f":"IF(A54=\"\",\"\",申込書!$AB$2)","v":""}]
[{"$f":"IF('個人種目(マスターズ)'!B59=\"\",\"\",'個人種目(マスターズ)'!AP59)","v":""},5,{"$f":"IF(A55=\"\",\"\",'個人種目(マスターズ)'!AR59)","v":""},{"$f":"IF(A55=\"\",\"\",'個人種目(マスターズ)'!AS59)","v":""},{"$f":"IF(A55=\"\",\"\",'個人種目(マスターズ)'!F59)","v":""},{"$f":"IF(A55=\"\",\"\",'個人種目(マスターズ)'!Q59)","v":""},{"$f":"IF(A55=\"\",\"\",'個人種目(マスターズ)'!AF59)","v":""},{"$f":"IF(A55=\"\",\"\",'個人種目(マスターズ)'!AG59)","v":""},{"$f":"IF(A55=\"\",\"\",'個人種目(マスターズ)'!AH59)","v":""},null,null,"",{"$f":"IF(A55=\"\",\"\",TRIM('個人種目(マスターズ)'!B59)&TRIM('個人種目(マスターズ)'!C59))","v":""},{"$f":"IF(A55=\"\",\"\",申込書!$AB$2)","v":""}]
[{"$f":"IF('個人種目(マスターズ)'!B60=\"\",\"\",'個人種目(マスターズ)'!AP60)","v":""},5,{"$f":"IF(A56=\"\",\"\",'個人種目(マスターズ)'!AR60)","v":""},{"$f":"IF(A56=\"\",\"\",'個人種目(マスターズ)'!AS60)","v":""},{"$f":"IF(A56=\"\",\"\",'個人種目(マスターズ)'!F60)","v":""},{"$f":"IF(A56=\"\",\"\",'個人種目(マスターズ)'!Q60)","v":""},{"$f":"IF(A56=\"\",\"\",'個人種目(マスターズ)'!AF60)","v":""},{"$f":"IF(A56=\"\",\"\",'個人種目(マスターズ)'!AG60)","v":""},{"$f":"IF(A56=\"\",\"\",'個人種目(マスターズ)'!AH60)","v":""},null,null,"",{"$f":"IF(A56=\"\",\"\",TRIM('個人種目(マスターズ)'!B60)&TRIM('個人種目(マスターズ)'!C60))","v":""},{"$f":"IF(A56=\"\",\"\",申込書!$AB$2)","v":""}]
[{"$f":"IF('個人種目(マスターズ)'!B61=\"\",\"\",'個人種目(マスターズ)'!AP61)","v":""},5,{"$f":"IF(A57=\"\",\"\",'個人種目(マスターズ)'!AR61)","v":""},{"$f":"IF(A57=\"\",\"\",'個人種目(マスターズ)'!AS61)","v":""},{"$f":"IF(A57=\"\",\"\",'個人種目(マスターズ)'!F61)","v":""},{"$f":"IF(A57=\"\",\"\",'個人種目(マスターズ)'!Q61)","v":""},{"$f":"IF(A57=\"\",\"\",'個人種目(マスターズ)'!AF61)","v":""},{"$f":"IF(A57=\"\",\"\",'個人種目(マスターズ)'!AG61)","v":""},{"$f":"IF(A57=\"\",\"\",'個人種目(マスターズ)'!AH61)","v":""},null,null,"",{"$f":"IF(A57=\"\",\"\",TRIM('個人種目(マスターズ)'!B61)&TRIM('個人種目(マスターズ)'!C61))","v":""},{"$f":"IF(A57=\"\",\"\",申込書!$AB$2)","v":""}]
[{"$f":"IF('個人種目(マスターズ)'!B62=\"\",\"\",'個人種目(マスターズ)'!AP62)","v":""},5,{"$f":"IF(A58=\"\",\"\",'個人種目(マスターズ)'!AR62)","v":""},{"$f":"IF(A58=\"\",\"\",'個人種目(マスターズ)'!AS62)","v":""},{"$f":"IF(A58=\"\",\"\",'個人種目(マスターズ)'!F62)","v":""},{"$f":"IF(A58=\"\",\"\",'個人種目(マスターズ)'!Q62)","v":""},{"$f":"IF(A58=\"\",\"\",'個人種目(マスターズ)'!AF62)","v":""},{"$f":"IF(A58=\"\",\"\",'個人種目(マスターズ)'!AG62)","v":""},{"$f":"IF(A58=\"\",\"\",'個人種目(マスターズ)'!AH62)","v":""},null,null,"",{"$f":"IF(A58=\"\",\"\",TRIM('個人種目(マスターズ)'!B62)&TRIM('個人種目(マスターズ)'!C62))","v":""},{"$f":"IF(A58=\"\",\"\",申込書!$AB$2)","v":""}]
[{"$f":"IF('個人種目(マスターズ)'!B63=\"\",\"\",'個人種目(マスターズ)'!AP63)","v":""},5,{"$f":"IF(A59=\"\",\"\",'個人種目(マスターズ)'!AR63)","v":""},{"$f":"IF(A59=\"\",\"\",'個人種目(マスターズ)'!AS63)","v":""},{"$f":"IF(A59=\"\",\"\",'個人種目(マスターズ)'!F63)","v":""},{"$f":"IF(A59=\"\",\"\",'個人種目(マスターズ)'!Q63)","v":""},{"$f":"IF(A59=\"\",\"\",'個人種目(マスターズ)'!AF63)","v":""},{"$f":"IF(A59=\"\",\"\",'個人種目(マスターズ)'!AG63)","v":""},{"$f":"IF(A59=\"\",\"\",'個人種目(マスターズ)'!AH63)","v":""},null,null,"",{"$f":"IF(A59=\"\",\"\",TRIM('個人種目(マスターズ)'!B63)&TRIM('個人種目(マスターズ)'!C63))","v":""},{"$f":"IF(A59=\"\",\"\",申込書!$AB$2)","v":""}]
[{"$f":"IF('個人種目(マスターズ)'!B64=\"\",\"\",'個人種目(マスターズ)'!AP64)","v":""},5,{"$f":"IF(A60=\"\",\"\",'個人種目(マスターズ)'!AR64)","v":""},{"$f":"IF(A60=\"\",\"\",'個人種目(マスターズ)'!AS64)","v":""},{"$f":"IF(A60=\"\",\"\",'個人種目(マスターズ)'!F64)","v":""},{"$f":"IF(A60=\"\",\"\",'個人種目(マスターズ)'!Q64)","v":""},{"$f":"IF(A60=\"\",\"\",'個人種目(マスターズ)'!AF64)","v":""},{"$f":"IF(A60=\"\",\"\",'個人種目(マスターズ)'!AG64)","v":""},{"$f":"IF(A60=\"\",\"\",'個人種目(マスターズ)'!AH64)","v":""},null,null,"",{"$f":"IF(A60=\"\",\"\",TRIM('個人種目(マスターズ)'!B64)&TRIM('個人種目(マスターズ)'!C64))","v":""},{"$f":"IF(A60=\"\",\"\",申込書!$AB$2)","v":""}]
[{"$f":"IF('個人種目(マスターズ)'!B65=\"\",\"\",'個人種目(マスターズ)'!AP65)","v":""},5,{"$f":"IF(A61=\"\",\"\",'個人種目(マスターズ)'!AR65)","v":""},{"$f":"IF(A61=\"\",\"\",'個人種目(マスターズ)'!AS65)","v":""},{"$f":"IF(A61=\"\",\"\",'個人種目(マスターズ)'!F65)","v":""},{"$f":"IF(A61=\"\",\"\",'個人種目(マスターズ)'!Q65)","v":""},{"$f":"IF(A61=\"\",\"\",'個人種目(マスターズ)'!AF65)","v":""},{"$f":"IF(A61=\"\",\"\",'個人種目(マスターズ)'!AG65)","v":""},{"$f":"IF(A61=\"\",\"\",'個人種目(マスターズ)'!AH65)","v":""},null,null,"",{"$f":"IF(A61=\"\",\"\",TRIM('個人種目(マスターズ)'!B65)&TRIM('個人種目(マスターズ)'!C65))","v":""},{"$f":"IF(A61=\"\",\"\",申込書!$AB$2)","v":""}]
[{"$f":"IF('個人種目(マスターズ)'!B66=\"\",\"\",'個人種目(マスターズ)'!AP66)","v":""},5,{"$f":"IF(A62=\"\",\"\",'個人種目(マスターズ)'!AR66)","v":""},{"$f":"IF(A62=\"\",\"\",'個人種目(マスターズ)'!AS66)","v":""},{"$f":"IF(A62=\"\",\"\",'個人種目(マスターズ)'!F66)","v":""},{"$f":"IF(A62=\"\",\"\",'個人種目(マスターズ)'!Q66)","v":""},{"$f":"IF(A62=\"\",\"\",'個人種目(マスターズ)'!AF66)","v":""},{"$f":"IF(A62=\"\",\"\",'個人種目(マスターズ)'!AG66)","v":""},{"$f":"IF(A62=\"\",\"\",'個人種目(マスターズ)'!AH66)","v":""},null,null,"",{"$f":"IF(A62=\"\",\"\",TRIM('個人種目(マスターズ)'!B66)&TRIM('個人種目(マスターズ)'!C66))","v":""},{"$f":"IF(A62=\"\",\"\",申込書!$AB$2)","v":""}]
[{"$f":"IF('個人種目(マスターズ)'!B67=\"\",\"\",'個人種目(マスターズ)'!AP67)","v":""},5,{"$f":"IF(A63=\"\",\"\",'個人種目(マスターズ)'!AR67)","v":""},{"$f":"IF(A63=\"\",\"\",'個人種目(マスターズ)'!AS67)","v":""},{"$f":"IF(A63=\"\",\"\",'個人種目(マスターズ)'!F67)","v":""},{"$f":"IF(A63=\"\",\"\",'個人種目(マスターズ)'!Q67)","v":""},{"$f":"IF(A63=\"\",\"\",'個人種目(マスターズ)'!AF67)","v":""},{"$f":"IF(A63=\"\",\"\",'個人種目(マスターズ)'!AG67)","v":""},{"$f":"IF(A63=\"\",\"\",'個人種目(マスターズ)'!AH67)","v":""},null,null,"",{"$f":"IF(A63=\"\",\"\",TRIM('個人種目(マスターズ)'!B67)&TRIM('個人種目(マスターズ)'!C67))","v":""},{"$f":"IF(A63=\"\",\"\",申込書!$AB$2)","v":""}]
[{"$f":"IF('個人種目(マスターズ)'!B68=\"\",\"\",'個人種目(マスターズ)'!AP68)","v":""},5,{"$f":"IF(A64=\"\",\"\",'個人種目(マスターズ)'!AR68)","v":""},{"$f":"IF(A64=\"\",\"\",'個人種目(マスターズ)'!AS68)","v":""},{"$f":"IF(A64=\"\",\"\",'個人種目(マスターズ)'!F68)","v":""},{"$f":"IF(A64=\"\",\"\",'個人種目(マスターズ)'!Q68)","v":""},{"$f":"IF(A64=\"\",\"\",'個人種目(マスターズ)'!AF68)","v":""},{"$f":"IF(A64=\"\",\"\",'個人種目(マスターズ)'!AG68)","v":""},{"$f":"IF(A64=\"\",\"\",'個人種目(マスターズ)'!AH68)","v":""},null,null,"",{"$f":"IF(A64=\"\",\"\",TRIM('個人種目(マスターズ)'!B68)&TRIM('個人種目(マスターズ)'!C68))","v":""},{"$f":"IF(A64=\"\",\"\",申込書!$AB$2)","v":""}]
[{"$f":"IF('個人種目(マスターズ)'!B69=\"\",\"\",'個人種目(マスターズ)'!AP69)","v":""},5,{"$f":"IF(A65=\"\",\"\",'個人種目(マスターズ)'!AR69)","v":""},{"$f":"IF(A65=\"\",\"\",'個人種目(マスターズ)'!AS69)","v":""},{"$f":"IF(A65=\"\",\"\",'個人種目(マスターズ)'!F69)","v":""},{"$f":"IF(A65=\"\",\"\",'個人種目(マスターズ)'!Q69)","v":""},{"$f":"IF(A65=\"\",\"\",'個人種目(マスターズ)'!AF69)","v":""},{"$f":"IF(A65=\"\",\"\",'個人種目(マスターズ)'!AG69)","v":""},{"$f":"IF(A65=\"\",\"\",'個人種目(マスターズ)'!AH69)","v":""},null,null,"",{"$f":"IF(A65=\"\",\"\",TRIM('個人種目(マスターズ)'!B69)&TRIM('個人種目(マスターズ)'!C69))","v":""},{"$f":"IF(A65=\"\",\"\",申込書!$AB$2)","v":""}]
[{"$f":"IF('個人種目(マスターズ)'!B70=\"\",\"\",'個人種目(マスターズ)'!AP70)","v":""},5,{"$f":"IF(A66=\"\",\"\",'個人種目(マスターズ)'!AR70)","v":""},{"$f":"IF(A66=\"\",\"\",'個人種目(マスターズ)'!AS70)","v":""},{"$f":"IF(A66=\"\",\"\",'個人種目(マスターズ)'!F70)","v":""},{"$f":"IF(A66=\"\",\"\",'個人種目(マスターズ)'!Q70)","v":""},{"$f":"IF(A66=\"\",\"\",'個人種目(マスターズ)'!AF70)","v":""},{"$f":"IF(A66=\"\",\"\",'個人種目(マスターズ)'!AG70)","v":""},{"$f":"IF(A66=\"\",\"\",'個人種目(マスターズ)'!AH70)","v":""},null,null,"",{"$f":"IF(A66=\"\",\"\",TRIM('個人種目(マスターズ)'!B70)&TRIM('個人種目(マスターズ)'!C70))","v":""},{"$f":"IF(A66=\"\",\"\",申込書!$AB$2)","v":""}]
[{"$f":"IF('個人種目(マスターズ)'!B71=\"\",\"\",'個人種目(マスターズ)'!AP71)","v":""},5,{"$f":"IF(A67=\"\",\"\",'個人種目(マスターズ)'!AR71)","v":""},{"$f":"IF(A67=\"\",\"\",'個人種目(マスターズ)'!AS71)","v":""},{"$f":"IF(A67=\"\",\"\",'個人種目(マスターズ)'!F71)","v":""},{"$f":"IF(A67=\"\",\"\",'個人種目(マスターズ)'!Q71)","v":""},{"$f":"IF(A67=\"\",\"\",'個人種目(マスターズ)'!AF71)","v":""},{"$f":"IF(A67=\"\",\"\",'個人種目(マスターズ)'!AG71)","v":""},{"$f":"IF(A67=\"\",\"\",'個人種目(マスターズ)'!AH71)","v":""},null,null,{"$f":"IF(A67=\"\",\"\",C67)","v":""},{"$f":"IF(A67=\"\",\"\",TRIM('個人種目(マスターズ)'!B71)&TRIM('個人種目(マスターズ)'!C71))","v":""},{"$f":"IF(A67=\"\",\"\",申込書!$AB$2)","v":""}]
[{"$f":"IF('個人種目(マスターズ)'!B72=\"\",\"\",'個人種目(マスターズ)'!AP72)","v":""},5,{"$f":"IF(A68=\"\",\"\",'個人種目(マスターズ)'!AR72)","v":""},{"$f":"IF(A68=\"\",\"\",'個人種目(マスターズ)'!AS72)","v":""},{"$f":"IF(A68=\"\",\"\",'個人種目(マスターズ)'!F72)","v":""},{"$f":"IF(A68=\"\",\"\",'個人種目(マスターズ)'!Q72)","v":""},{"$f":"IF(A68=\"\",\"\",'個人種目(マスターズ)'!AF72)","v":""},{"$f":"IF(A68=\"\",\"\",'個人種目(マスターズ)'!AG72)","v":""},{"$f":"IF(A68=\"\",\"\",'個人種目(マスターズ)'!AH72)","v":""},null,null,"",{"$f":"IF(A68=\"\",\"\",TRIM('個人種目(マスターズ)'!B72)&TRIM('個人種目(マスターズ)'!C72))","v":""},{"$f":"IF(A68=\"\",\"\",申込書!$AB$2)","v":""}]
[{"$f":"IF('個人種目(マスターズ)'!B73=\"\",\"\",'個人種目(マスターズ)'!AP73)","v":""},5,{"$f":"IF(A69=\"\",\"\",'個人種目(マスターズ)'!AR73)","v":""},{"$f":"IF(A69=\"\",\"\",'個人種目(マスターズ)'!AS73)","v":""},{"$f":"IF(A69=\"\",\"\",'個人種目(マスターズ)'!F73)","v":""},{"$f":"IF(A69=\"\",\"\",'個人種目(マスターズ)'!Q73)","v":""},{"$f":"IF(A69=\"\",\"\",'個人種目(マスターズ)'!AF73)","v":""},{"$f":"IF(A69=\"\",\"\",'個人種目(マスターズ)'!AG73)","v":""},{"$f":"IF(A69=\"\",\"\",'個人種目(マスターズ)'!AH73)","v":""},null,null,"",{"$f":"IF(A69=\"\",\"\",TRIM('個人種目(マスターズ)'!B73)&TRIM('個人種目(マスターズ)'!C73))","v":""},{"$f":"IF(A69=\"\",\"\",申込書!$AB$2)","v":""}]
[{"$f":"IF('個人種目(マスターズ)'!B74=\"\",\"\",'個人種目(マスターズ)'!AP74)","v":""},5,{"$f":"IF(A70=\"\",\"\",'個人種目(マスターズ)'!AR74)","v":""},{"$f":"IF(A70=\"\",\"\",'個人種目(マスターズ)'!AS74)","v":""},{"$f":"IF(A70=\"\",\"\",'個人種目(マスターズ)'!F74)","v":""},{"$f":"IF(A70=\"\",\"\",'個人種目(マスターズ)'!Q74)","v":""},{"$f":"IF(A70=\"\",\"\",'個人種目(マスターズ)'!AF74)","v":""},{"$f":"IF(A70=\"\",\"\",'個人種目(マスターズ)'!AG74)","v":""},{"$f":"IF(A70=\"\",\"\",'個人種目(マスターズ)'!AH74)","v":""},null,null,"",{"$f":"IF(A70=\"\",\"\",TRIM('個人種目(マスターズ)'!B74)&TRIM('個人種目(マスターズ)'!C74))","v":""},{"$f":"IF(A70=\"\",\"\",申込書!$AB$2)","v":""}]
[{"$f":"IF('個人種目(マスターズ)'!B75=\"\",\"\",'個人種目(マスターズ)'!AP75)","v":""},5,{"$f":"IF(A71=\"\",\"\",'個人種目(マスターズ)'!AR75)","v":""},{"$f":"IF(A71=\"\",\"\",'個人種目(マスターズ)'!AS75)","v":""},{"$f":"IF(A71=\"\",\"\",'個人種目(マスターズ)'!F75)","v":""},{"$f":"IF(A71=\"\",\"\",'個人種目(マスターズ)'!Q75)","v":""},{"$f":"IF(A71=\"\",\"\",'個人種目(マスターズ)'!AF75)","v":""},{"$f":"IF(A71=\"\",\"\",'個人種目(マスターズ)'!AG75)","v":""},{"$f":"IF(A71=\"\",\"\",'個人種目(マスターズ)'!AH75)","v":""},null,null,"",{"$f":"IF(A71=\"\",\"\",TRIM('個人種目(マスターズ)'!B75)&TRIM('個人種目(マスターズ)'!C75))","v":""},{"$f":"IF(A71=\"\",\"\",申込書!$AB$2)","v":""}]
[{"$f":"IF('個人種目(マスターズ)'!B76=\"\",\"\",'個人種目(マスターズ)'!AP76)","v":""},5,{"$f":"IF(A72=\"\",\"\",'個人種目(マスターズ)'!AR76)","v":""},{"$f":"IF(A72=\"\",\"\",'個人種目(マスターズ)'!AS76)","v":""},{"$f":"IF(A72=\"\",\"\",'個人種目(マスターズ)'!F76)","v":""},{"$f":"IF(A72=\"\",\"\",'個人種目(マスターズ)'!Q76)","v":""},{"$f":"IF(A72=\"\",\"\",'個人種目(マスターズ)'!AF76)","v":""},{"$f":"IF(A72=\"\",\"\",'個人種目(マスターズ)'!AG76)","v":""},{"$f":"IF(A72=\"\",\"\",'個人種目(マスターズ)'!AH76)","v":""},null,null,"",{"$f":"IF(A72=\"\",\"\",TRIM('個人種目(マスターズ)'!B76)&TRIM('個人種目(マスターズ)'!C76))","v":""},{"$f":"IF(A72=\"\",\"\",申込書!$AB$2)","v":""}]
[{"$f":"IF('個人種目(マスターズ)'!B77=\"\",\"\",'個人種目(マスターズ)'!AP77)","v":""},5,{"$f":"IF(A73=\"\",\"\",'個人種目(マスターズ)'!AR77)","v":""},{"$f":"IF(A73=\"\",\"\",'個人種目(マスターズ)'!AS77)","v":""},{"$f":"IF(A73=\"\",\"\",'個人種目(マスターズ)'!F77)","v":""},{"$f":"IF(A73=\"\",\"\",'個人種目(マスターズ)'!Q77)","v":""},{"$f":"IF(A73=\"\",\"\",'個人種目(マスターズ)'!AF77)","v":""},{"$f":"IF(A73=\"\",\"\",'個人種目(マスターズ)'!AG77)","v":""},{"$f":"IF(A73=\"\",\"\",'個人種目(マスターズ)'!AH77)","v":""},null,null,"",{"$f":"IF(A73=\"\",\"\",TRIM('個人種目(マスターズ)'!B77)&TRIM('個人種目(マスターズ)'!C77))","v":""},{"$f":"IF(A73=\"\",\"\",申込書!$AB$2)","v":""}]
[{"$f":"IF('個人種目(マスターズ)'!B78=\"\",\"\",'個人種目(マスターズ)'!AP78)","v":""},5,{"$f":"IF(A74=\"\",\"\",'個人種目(マスターズ)'!AR78)","v":""},{"$f":"IF(A74=\"\",\"\",'個人種目(マスターズ)'!AS78)","v":""},{"$f":"IF(A74=\"\",\"\",'個人種目(マスターズ)'!F78)","v":""},{"$f":"IF(A74=\"\",\"\",'個人種目(マスターズ)'!Q78)","v":""},{"$f":"IF(A74=\"\",\"\",'個人種目(マスターズ)'!AF78)","v":""},{"$f":"IF(A74=\"\",\"\",'個人種目(マスターズ)'!AG78)","v":""},{"$f":"IF(A74=\"\",\"\",'個人種目(マスターズ)'!AH78)","v":""},null,null,"",{"$f":"IF(A74=\"\",\"\",TRIM('個人種目(マスターズ)'!B78)&TRIM('個人種目(マスターズ)'!C78))","v":""},{"$f":"IF(A74=\"\",\"\",申込書!$AB$2)","v":""}]
[{"$f":"IF('個人種目(マスターズ)'!B79=\"\",\"\",'個人種目(マスターズ)'!AP79)","v":""},5,{"$f":"IF(A75=\"\",\"\",'個人種目(マスターズ)'!AR79)","v":""},{"$f":"IF(A75=\"\",\"\",'個人種目(マスターズ)'!AS79)","v":""},{"$f":"IF(A75=\"\",\"\",'個人種目(マスターズ)'!F79)","v":""},{"$f":"IF(A75=\"\",\"\",'個人種目(マスターズ)'!Q79)","v":""},{"$f":"IF(A75=\"\",\"\",'個人種目(マスターズ)'!AF79)","v":""},{"$f":"IF(A75=\"\",\"\",'個人種目(マスターズ)'!AG79)","v":""},{"$f":"IF(A75=\"\",\"\",'個人種目(マスターズ)'!AH79)","v":""},null,null,"",{"$f":"IF(A75=\"\",\"\",TRIM('個人種目(マスターズ)'!B79)&TRIM('個人種目(マスターズ)'!C79))","v":""},{"$f":"IF(A75=\"\",\"\",申込書!$AB$2)","v":""}]
[{"$f":"IF('個人種目(マスターズ)'!B80=\"\",\"\",'個人種目(マスターズ)'!AP80)","v":""},5,{"$f":"IF(A76=\"\",\"\",'個人種目(マスターズ)'!AR80)","v":""},{"$f":"IF(A76=\"\",\"\",'個人種目(マスターズ)'!AS80)","v":""},{"$f":"IF(A76=\"\",\"\",'個人種目(マスターズ)'!F80)","v":""},{"$f":"IF(A76=\"\",\"\",'個人種目(マスターズ)'!Q80)","v":""},{"$f":"IF(A76=\"\",\"\",'個人種目(マスターズ)'!AF80)","v":""},{"$f":"IF(A76=\"\",\"\",'個人種目(マスターズ)'!AG80)","v":""},{"$f":"IF(A76=\"\",\"\",'個人種目(マスターズ)'!AH80)","v":""},null,null,"",{"$f":"IF(A76=\"\",\"\",TRIM('個人種目(マスターズ)'!B80)&TRIM('個人種目(マスターズ)'!C80))","v":""},{"$f":"IF(A76=\"\",\"\",申込書!$AB$2)","v":""}]
[{"$f":"IF('個人種目(マスターズ)'!B81=\"\",\"\",'個人種目(マスターズ)'!AP81)","v":""},5,{"$f":"IF(A77=\"\",\"\",'個人種目(マスターズ)'!AR81)","v":""},{"$f":"IF(A77=\"\",\"\",'個人種目(マスターズ)'!AS81)","v":""},{"$f":"IF(A77=\"\",\"\",'個人種目(マスターズ)'!F81)","v":""},{"$f":"IF(A77=\"\",\"\",'個人種目(マスターズ)'!Q81)","v":""},{"$f":"IF(A77=\"\",\"\",'個人種目(マスターズ)'!AF81)","v":""},{"$f":"IF(A77=\"\",\"\",'個人種目(マスターズ)'!AG81)","v":""},{"$f":"IF(A77=\"\",\"\",'個人種目(マスターズ)'!AH81)","v":""},null,null,"",{"$f":"IF(A77=\"\",\"\",TRIM('個人種目(マスターズ)'!B81)&TRIM('個人種目(マスターズ)'!C81))","v":""},{"$f":"IF(A77=\"\",\"\",申込書!$AB$2)","v":""}]
[{"$f":"IF('個人種目(マスターズ)'!B82=\"\",\"\",'個人種目(マスターズ)'!AP82)","v":""},5,{"$f":"IF(A78=\"\",\"\",'個人種目(マスターズ)'!AR82)","v":""},{"$f":"IF(A78=\"\",\"\",'個人種目(マスターズ)'!AS82)","v":""},{"$f":"IF(A78=\"\",\"\",'個人種目(マスターズ)'!F82)","v":""},{"$f":"IF(A78=\"\",\"\",'個人種目(マスターズ)'!Q82)","v":""},{"$f":"IF(A78=\"\",\"\",'個人種目(マスターズ)'!AF82)","v":""},{"$f":"IF(A78=\"\",\"\",'個人種目(マスターズ)'!AG82)","v":""},{"$f":"IF(A78=\"\",\"\",'個人種目(マスターズ)'!AH82)","v":""},null,null,"",{"$f":"IF(A78=\"\",\"\",TRIM('個人種目(マスターズ)'!B82)&TRIM('個人種目(マスターズ)'!C82))","v":""},{"$f":"IF(A78=\"\",\"\",申込書!$AB$2)","v":""}]
[{"$f":"IF('個人種目(マスターズ)'!B83=\"\",\"\",'個人種目(マスターズ)'!AP83)","v":""},5,{"$f":"IF(A79=\"\",\"\",'個人種目(マスターズ)'!AR83)","v":""},{"$f":"IF(A79=\"\",\"\",'個人種目(マスターズ)'!AS83)","v":""},{"$f":"IF(A79=\"\",\"\",'個人種目(マスターズ)'!F83)","v":""},{"$f":"IF(A79=\"\",\"\",'個人種目(マスターズ)'!Q83)","v":""},{"$f":"IF(A79=\"\",\"\",'個人種目(マスターズ)'!AF83)","v":""},{"$f":"IF(A79=\"\",\"\",'個人種目(マスターズ)'!AG83)","v":""},{"$f":"IF(A79=\"\",\"\",'個人種目(マスターズ)'!AH83)","v":""},null,null,"",{"$f":"IF(A79=\"\",\"\",TRIM('個人種目(マスターズ)'!B83)&TRIM('個人種目(マスターズ)'!C83))","v":""},{"$f":"IF(A79=\"\",\"\",申込書!$AB$2)","v":""}]
[{"$f":"IF('個人種目(マスターズ)'!B84=\"\",\"\",'個人種目(マスターズ)'!AP84)","v":""},5,{"$f":"IF(A80=\"\",\"\",'個人種目(マスターズ)'!AR84)","v":""},{"$f":"IF(A80=\"\",\"\",'個人種目(マスターズ)'!AS84)","v":""},{"$f":"IF(A80=\"\",\"\",'個人種目(マスターズ)'!F84)","v":""},{"$f":"IF(A80=\"\",\"\",'個人種目(マスターズ)'!Q84)","v":""},{"$f":"IF(A80=\"\",\"\",'個人種目(マスターズ)'!AF84)","v":""},{"$f":"IF(A80=\"\",\"\",'個人種目(マスターズ)'!AG84)","v":""},{"$f":"IF(A80=\"\",\"\",'個人種目(マスターズ)'!AH84)","v":""},null,null,"",{"$f":"IF(A80=\"\",\"\",TRIM('個人種目(マスターズ)'!B84)&TRIM('個人種目(マスターズ)'!C84))","v":""},{"$f":"IF(A80=\"\",\"\",申込書!$AB$2)","v":""}]
[{"$f":"IF('個人種目(マスターズ)'!B85=\"\",\"\",'個人種目(マスターズ)'!AP85)","v":""},5,{"$f":"IF(A81=\"\",\"\",'個人種目(マスターズ)'!AR85)","v":""},{"$f":"IF(A81=\"\",\"\",'個人種目(マスターズ)'!AS85)","v":""},{"$f":"IF(A81=\"\",\"\",'個人種目(マスターズ)'!F85)","v":""},{"$f":"IF(A81=\"\",\"\",'個人種目(マスターズ)'!Q85)","v":""},{"$f":"IF(A81=\"\",\"\",'個人種目(マスターズ)'!AF85)","v":""},{"$f":"IF(A81=\"\",\"\",'個人種目(マスターズ)'!AG85)","v":""},{"$f":"IF(A81=\"\",\"\",'個人種目(マスターズ)'!AH85)","v":""},null,null,"",{"$f":"IF(A81=\"\",\"\",TRIM('個人種目(マスターズ)'!B85)&TRIM('個人種目(マスターズ)'!C85))","v":""},{"$f":"IF(A81=\"\",\"\",申込書!$AB$2)","v":""}]
[{"$f":"IF('個人種目(マスターズ)'!B86=\"\",\"\",'個人種目(マスターズ)'!AP86)","v":""},5,{"$f":"IF(A82=\"\",\"\",'個人種目(マスターズ)'!AR86)","v":""},{"$f":"IF(A82=\"\",\"\",'個人種目(マスターズ)'!AS86)","v":""},{"$f":"IF(A82=\"\",\"\",'個人種目(マスターズ)'!F86)","v":""},{"$f":"IF(A82=\"\",\"\",'個人種目(マスターズ)'!Q86)","v":""},{"$f":"IF(A82=\"\",\"\",'個人種目(マスターズ)'!AF86)","v":""},{"$f":"IF(A82=\"\",\"\",'個人種目(マスターズ)'!AG86)","v":""},{"$f":"IF(A82=\"\",\"\",'個人種目(マスターズ)'!AH86)","v":""},null,null,"",{"$f":"IF(A82=\"\",\"\",TRIM('個人種目(マスターズ)'!B86)&TRIM('個人種目(マスターズ)'!C86))","v":""},{"$f":"IF(A82=\"\",\"\",申込書!$AB$2)","v":""}]
[{"$f":"IF('個人種目(マスターズ)'!B87=\"\",\"\",'個人種目(マスターズ)'!AP87)","v":""},5,{"$f":"IF(A83=\"\",\"\",'個人種目(マスターズ)'!AR87)","v":""},{"$f":"IF(A83=\"\",\"\",'個人種目(マスターズ)'!AS87)","v":""},{"$f":"IF(A83=\"\",\"\",'個人種目(マスターズ)'!F87)","v":""},{"$f":"IF(A83=\"\",\"\",'個人種目(マスターズ)'!Q87)","v":""},{"$f":"IF(A83=\"\",\"\",'個人種目(マスターズ)'!AF87)","v":""},{"$f":"IF(A83=\"\",\"\",'個人種目(マスターズ)'!AG87)","v":""},{"$f":"IF(A83=\"\",\"\",'個人種目(マスターズ)'!AH87)","v":""},null,null,"",{"$f":"IF(A83=\"\",\"\",TRIM('個人種目(マスターズ)'!B87)&TRIM('個人種目(マスターズ)'!C87))","v":""},{"$f":"IF(A83=\"\",\"\",申込書!$AB$2)","v":""}]
[{"$f":"IF('個人種目(マスターズ)'!B88=\"\",\"\",'個人種目(マスターズ)'!AP88)","v":""},5,{"$f":"IF(A84=\"\",\"\",'個人種目(マスターズ)'!AR88)","v":""},{"$f":"IF(A84=\"\",\"\",'個人種目(マスターズ)'!AS88)","v":""},{"$f":"IF(A84=\"\",\"\",'個人種目(マスターズ)'!F88)","v":""},{"$f":"IF(A84=\"\",\"\",'個人種目(マスターズ)'!Q88)","v":""},{"$f":"IF(A84=\"\",\"\",'個人種目(マスターズ)'!AF88)","v":""},{"$f":"IF(A84=\"\",\"\",'個人種目(マスターズ)'!AG88)","v":""},{"$f":"IF(A84=\"\",\"\",'個人種目(マスターズ)'!AH88)","v":""},null,null,"",{"$f":"IF(A84=\"\",\"\",TRIM('個人種目(マスターズ)'!B88)&TRIM('個人種目(マスターズ)'!C88))","v":""},{"$f":"IF(A84=\"\",\"\",申込書!$AB$2)","v":""}]
[{"$f":"IF('個人種目(マスターズ)'!B89=\"\",\"\",'個人種目(マスターズ)'!AP89)","v":""},5,{"$f":"IF(A85=\"\",\"\",'個人種目(マスターズ)'!AR89)","v":""},{"$f":"IF(A85=\"\",\"\",'個人種目(マスターズ)'!AS89)","v":""},{"$f":"IF(A85=\"\",\"\",'個人種目(マスターズ)'!F89)","v":""},{"$f":"IF(A85=\"\",\"\",'個人種目(マスターズ)'!Q89)","v":""},{"$f":"IF(A85=\"\",\"\",'個人種目(マスターズ)'!AF89)","v":""},{"$f":"IF(A85=\"\",\"\",'個人種目(マスターズ)'!AG89)","v":""},{"$f":"IF(A85=\"\",\"\",'個人種目(マスターズ)'!AH89)","v":""},null,null,"",{"$f":"IF(A85=\"\",\"\",TRIM('個人種目(マスターズ)'!B89)&TRIM('個人種目(マスターズ)'!C89))","v":""},{"$f":"IF(A85=\"\",\"\",申込書!$AB$2)","v":""}]
[{"$f":"IF('個人種目(マスターズ)'!B90=\"\",\"\",'個人種目(マスターズ)'!AP90)","v":""},5,{"$f":"IF(A86=\"\",\"\",'個人種目(マスターズ)'!AR90)","v":""},{"$f":"IF(A86=\"\",\"\",'個人種目(マスターズ)'!AS90)","v":""},{"$f":"IF(A86=\"\",\"\",'個人種目(マスターズ)'!F90)","v":""},{"$f":"IF(A86=\"\",\"\",'個人種目(マスターズ)'!Q90)","v":""},{"$f":"IF(A86=\"\",\"\",'個人種目(マスターズ)'!AF90)","v":""},{"$f":"IF(A86=\"\",\"\",'個人種目(マスターズ)'!AG90)","v":""},{"$f":"IF(A86=\"\",\"\",'個人種目(マスターズ)'!AH90)","v":""},null,null,"",{"$f":"IF(A86=\"\",\"\",TRIM('個人種目(マスターズ)'!B90)&TRIM('個人種目(マスターズ)'!C90))","v":""},{"$f":"IF(A86=\"\",\"\",申込書!$AB$2)","v":""}]
[{"$f":"IF('個人種目(マスターズ)'!B91=\"\",\"\",'個人種目(マスターズ)'!AP91)","v":""},5,{"$f":"IF(A87=\"\",\"\",'個人種目(マスターズ)'!AR91)","v":""},{"$f":"IF(A87=\"\",\"\",'個人種目(マスターズ)'!AS91)","v":""},{"$f":"IF(A87=\"\",\"\",'個人種目(マスターズ)'!F91)","v":""},{"$f":"IF(A87=\"\",\"\",'個人種目(マスターズ)'!Q91)","v":""},{"$f":"IF(A87=\"\",\"\",'個人種目(マスターズ)'!AF91)","v":""},{"$f":"IF(A87=\"\",\"\",'個人種目(マスターズ)'!AG91)","v":""},{"$f":"IF(A87=\"\",\"\",'個人種目(マスターズ)'!AH91)","v":""},null,null,"",{"$f":"IF(A87=\"\",\"\",TRIM('個人種目(マスターズ)'!B91)&TRIM('個人種目(マスターズ)'!C91))","v":""},{"$f":"IF(A87=\"\",\"\",申込書!$AB$2)","v":""}]
[{"$f":"IF('個人種目(マスターズ)'!B92=\"\",\"\",'個人種目(マスターズ)'!AP92)","v":""},5,{"$f":"IF(A88=\"\",\"\",'個人種目(マスターズ)'!AR92)","v":""},{"$f":"IF(A88=\"\",\"\",'個人種目(マスターズ)'!AS92)","v":""},{"$f":"IF(A88=\"\",\"\",'個人種目(マスターズ)'!F92)","v":""},{"$f":"IF(A88=\"\",\"\",'個人種目(マスターズ)'!Q92)","v":""},{"$f":"IF(A88=\"\",\"\",'個人種目(マスターズ)'!AF92)","v":""},{"$f":"IF(A88=\"\",\"\",'個人種目(マスターズ)'!AG92)","v":""},{"$f":"IF(A88=\"\",\"\",'個人種目(マスターズ)'!AH92)","v":""},null,null,"",{"$f":"IF(A88=\"\",\"\",TRIM('個人種目(マスターズ)'!B92)&TRIM('個人種目(マスターズ)'!C92))","v":""},{"$f":"IF(A88=\"\",\"\",申込書!$AB$2)","v":""}]
[{"$f":"IF('個人種目(マスターズ)'!B93=\"\",\"\",'個人種目(マスターズ)'!AP93)","v":""},5,{"$f":"IF(A89=\"\",\"\",'個人種目(マスターズ)'!AR93)","v":""},{"$f":"IF(A89=\"\",\"\",'個人種目(マスターズ)'!AS93)","v":""},{"$f":"IF(A89=\"\",\"\",'個人種目(マスターズ)'!F93)","v":""},{"$f":"IF(A89=\"\",\"\",'個人種目(マスターズ)'!Q93)","v":""},{"$f":"IF(A89=\"\",\"\",'個人種目(マスターズ)'!AF93)","v":""},{"$f":"IF(A89=\"\",\"\",'個人種目(マスターズ)'!AG93)","v":""},{"$f":"IF(A89=\"\",\"\",'個人種目(マスターズ)'!AH93)","v":""},null,null,"",{"$f":"IF(A89=\"\",\"\",TRIM('個人種目(マスターズ)'!B93)&TRIM('個人種目(マスターズ)'!C93))","v":""},{"$f":"IF(A89=\"\",\"\",申込書!$AB$2)","v":""}]
[{"$f":"IF('個人種目(マスターズ)'!B94=\"\",\"\",'個人種目(マスターズ)'!AP94)","v":""},5,{"$f":"IF(A90=\"\",\"\",'個人種目(マスターズ)'!AR94)","v":""},{"$f":"IF(A90=\"\",\"\",'個人種目(マスターズ)'!AS94)","v":""},{"$f":"IF(A90=\"\",\"\",'個人種目(マスターズ)'!F94)","v":""},{"$f":"IF(A90=\"\",\"\",'個人種目(マスターズ)'!Q94)","v":""},{"$f":"IF(A90=\"\",\"\",'個人種目(マスターズ)'!AF94)","v":""},{"$f":"IF(A90=\"\",\"\",'個人種目(マスターズ)'!AG94)","v":""},{"$f":"IF(A90=\"\",\"\",'個人種目(マスターズ)'!AH94)","v":""},null,null,"",{"$f":"IF(A90=\"\",\"\",TRIM('個人種目(マスターズ)'!B94)&TRIM('個人種目(マスターズ)'!C94))","v":""},{"$f":"IF(A90=\"\",\"\",申込書!$AB$2)","v":""}]
[{"$f":"IF('個人種目(マスターズ)'!B95=\"\",\"\",'個人種目(マスターズ)'!AP95)","v":""},5,{"$f":"IF(A91=\"\",\"\",'個人種目(マスターズ)'!AR95)","v":""},{"$f":"IF(A91=\"\",\"\",'個人種目(マスターズ)'!AS95)","v":""},{"$f":"IF(A91=\"\",\"\",'個人種目(マスターズ)'!F95)","v":""},{"$f":"IF(A91=\"\",\"\",'個人種目(マスターズ)'!Q95)","v":""},{"$f":"IF(A91=\"\",\"\",'個人種目(マスターズ)'!AF95)","v":""},{"$f":"IF(A91=\"\",\"\",'個人種目(マスターズ)'!AG95)","v":""},{"$f":"IF(A91=\"\",\"\",'個人種目(マスターズ)'!AH95)","v":""},null,null,"",{"$f":"IF(A91=\"\",\"\",TRIM('個人種目(マスターズ)'!B95)&TRIM('個人種目(マスターズ)'!C95))","v":""},{"$f":"IF(A91=\"\",\"\",申込書!$AB$2)","v":""}]
[{"$f":"IF('個人種目(マスターズ)'!B96=\"\",\"\",'個人種目(マスターズ)'!AP96)","v":""},5,{"$f":"IF(A92=\"\",\"\",'個人種目(マスターズ)'!AR96)","v":""},{"$f":"IF(A92=\"\",\"\",'個人種目(マスターズ)'!AS96)","v":""},{"$f":"IF(A92=\"\",\"\",'個人種目(マスターズ)'!F96)","v":""},{"$f":"IF(A92=\"\",\"\",'個人種目(マスターズ)'!Q96)","v":""},{"$f":"IF(A92=\"\",\"\",'個人種目(マスターズ)'!AF96)","v":""},{"$f":"IF(A92=\"\",\"\",'個人種目(マスターズ)'!AG96)","v":""},{"$f":"IF(A92=\"\",\"\",'個人種目(マスターズ)'!AH96)","v":""},null,null,"",{"$f":"IF(A92=\"\",\"\",TRIM('個人種目(マスターズ)'!B96)&TRIM('個人種目(マスターズ)'!C96))","v":""},{"$f":"IF(A92=\"\",\"\",申込書!$AB$2)","v":""}]
[{"$f":"IF('個人種目(マスターズ)'!B97=\"\",\"\",'個人種目(マスターズ)'!AP97)","v":""},5,{"$f":"IF(A93=\"\",\"\",'個人種目(マスターズ)'!AR97)","v":""},{"$f":"IF(A93=\"\",\"\",'個人種目(マスターズ)'!AS97)","v":""},{"$f":"IF(A93=\"\",\"\",'個人種目(マスターズ)'!F97)","v":""},{"$f":"IF(A93=\"\",\"\",'個人種目(マスターズ)'!Q97)","v":""},{"$f":"IF(A93=\"\",\"\",'個人種目(マスターズ)'!AF97)","v":""},{"$f":"IF(A93=\"\",\"\",'個人種目(マスターズ)'!AG97)","v":""},{"$f":"IF(A93=\"\",\"\",'個人種目(マスターズ)'!AH97)","v":""},null,null,"",{"$f":"IF(A93=\"\",\"\",TRIM('個人種目(マスターズ)'!B97)&TRIM('個人種目(マスターズ)'!C97))","v":""},{"$f":"IF(A93=\"\",\"\",申込書!$AB$2)","v":""}]
[{"$f":"IF('個人種目(マスターズ)'!B98=\"\",\"\",'個人種目(マスターズ)'!AP98)","v":""},5,{"$f":"IF(A94=\"\",\"\",'個人種目(マスターズ)'!AR98)","v":""},{"$f":"IF(A94=\"\",\"\",'個人種目(マスターズ)'!AS98)","v":""},{"$f":"IF(A94=\"\",\"\",'個人種目(マスターズ)'!F98)","v":""},{"$f":"IF(A94=\"\",\"\",'個人種目(マスターズ)'!Q98)","v":""},{"$f":"IF(A94=\"\",\"\",'個人種目(マスターズ)'!AF98)","v":""},{"$f":"IF(A94=\"\",\"\",'個人種目(マスターズ)'!AG98)","v":""},{"$f":"IF(A94=\"\",\"\",'個人種目(マスターズ)'!AH98)","v":""},null,null,"",{"$f":"IF(A94=\"\",\"\",TRIM('個人種目(マスターズ)'!B98)&TRIM('個人種目(マスターズ)'!C98))","v":""},{"$f":"IF(A94=\"\",\"\",申込書!$AB$2)","v":""}]
[{"$f":"IF('個人種目(マスターズ)'!B99=\"\",\"\",'個人種目(マスターズ)'!AP99)","v":""},5,{"$f":"IF(A95=\"\",\"\",'個人種目(マスターズ)'!AR99)","v":""},{"$f":"IF(A95=\"\",\"\",'個人種目(マスターズ)'!AS99)","v":""},{"$f":"IF(A95=\"\",\"\",'個人種目(マスターズ)'!F99)","v":""},{"$f":"IF(A95=\"\",\"\",'個人種目(マスターズ)'!Q99)","v":""},{"$f":"IF(A95=\"\",\"\",'個人種目(マスターズ)'!AF99)","v":""},{"$f":"IF(A95=\"\",\"\",'個人種目(マスターズ)'!AG99)","v":""},{"$f":"IF(A95=\"\",\"\",'個人種目(マスターズ)'!AH99)","v":""},null,null,"",{"$f":"IF(A95=\"\",\"\",TRIM('個人種目(マスターズ)'!B99)&TRIM('個人種目(マスターズ)'!C99))","v":""},{"$f":"IF(A95=\"\",\"\",申込書!$AB$2)","v":""}]
[{"$f":"IF('個人種目(マスターズ)'!B100=\"\",\"\",'個人種目(マスターズ)'!AP100)","v":""},5,{"$f":"IF(A96=\"\",\"\",'個人種目(マスターズ)'!AR100)","v":""},{"$f":"IF(A96=\"\",\"\",'個人種目(マスターズ)'!AS100)","v":""},{"$f":"IF(A96=\"\",\"\",'個人種目(マスターズ)'!F100)","v":""},{"$f":"IF(A96=\"\",\"\",'個人種目(マスターズ)'!Q100)","v":""},{"$f":"IF(A96=\"\",\"\",'個人種目(マスターズ)'!AF100)","v":""},{"$f":"IF(A96=\"\",\"\",'個人種目(マスターズ)'!AG100)","v":""},{"$f":"IF(A96=\"\",\"\",'個人種目(マスターズ)'!AH100)","v":""},null,null,"",{"$f":"IF(A96=\"\",\"\",TRIM('個人種目(マスターズ)'!B100)&TRIM('個人種目(マスターズ)'!C100))","v":""},{"$f":"IF(A96=\"\",\"\",申込書!$AB$2)","v":""}]
[{"$f":"IF('個人種目(マスターズ)'!B101=\"\",\"\",'個人種目(マスターズ)'!AP101)","v":""},5,{"$f":"IF(A97=\"\",\"\",'個人種目(マスターズ)'!AR101)","v":""},{"$f":"IF(A97=\"\",\"\",'個人種目(マスターズ)'!AS101)","v":""},{"$f":"IF(A97=\"\",\"\",'個人種目(マスターズ)'!F101)","v":""},{"$f":"IF(A97=\"\",\"\",'個人種目(マスターズ)'!Q101)","v":""},{"$f":"IF(A97=\"\",\"\",'個人種目(マスターズ)'!AF101)","v":""},{"$f":"IF(A97=\"\",\"\",'個人種目(マスターズ)'!AG101)","v":""},{"$f":"IF(A97=\"\",\"\",'個人種目(マスターズ)'!AH101)","v":""},null,null,"",{"$f":"IF(A97=\"\",\"\",TRIM('個人種目(マスターズ)'!B101)&TRIM('個人種目(マスターズ)'!C101))","v":""},{"$f":"IF(A97=\"\",\"\",申込書!$AB$2)","v":""}]
[{"$f":"IF('個人種目(マスターズ)'!B102=\"\",\"\",'個人種目(マスターズ)'!AP102)","v":""},5,{"$f":"IF(A98=\"\",\"\",'個人種目(マスターズ)'!AR102)","v":""},{"$f":"IF(A98=\"\",\"\",'個人種目(マスターズ)'!AS102)","v":""},{"$f":"IF(A98=\"\",\"\",'個人種目(マスターズ)'!F102)","v":""},{"$f":"IF(A98=\"\",\"\",'個人種目(マスターズ)'!Q102)","v":""},{"$f":"IF(A98=\"\",\"\",'個人種目(マスターズ)'!AF102)","v":""},{"$f":"IF(A98=\"\",\"\",'個人種目(マスターズ)'!AG102)","v":""},{"$f":"IF(A98=\"\",\"\",'個人種目(マスターズ)'!AH102)","v":""},null,null,"",{"$f":"IF(A98=\"\",\"\",TRIM('個人種目(マスターズ)'!B102)&TRIM('個人種目(マスターズ)'!C102))","v":""},{"$f":"IF(A98=\"\",\"\",申込書!$AB$2)","v":""}]
[{"$f":"IF('個人種目(マスターズ)'!B103=\"\",\"\",'個人種目(マスターズ)'!AP103)","v":""},5,{"$f":"IF(A99=\"\",\"\",'個人種目(マスターズ)'!AR103)","v":""},{"$f":"IF(A99=\"\",\"\",'個人種目(マスターズ)'!AS103)","v":""},{"$f":"IF(A99=\"\",\"\",'個人種目(マスターズ)'!F103)","v":""},{"$f":"IF(A99=\"\",\"\",'個人種目(マスターズ)'!Q103)","v":""},{"$f":"IF(A99=\"\",\"\",'個人種目(マスターズ)'!AF103)","v":""},{"$f":"IF(A99=\"\",\"\",'個人種目(マスターズ)'!AG103)","v":""},{"$f":"IF(A99=\"\",\"\",'個人種目(マスターズ)'!AH103)","v":""},null,null,"",{"$f":"IF(A99=\"\",\"\",TRIM('個人種目(マスターズ)'!B103)&TRIM('個人種目(マスターズ)'!C103))","v":""},{"$f":"IF(A99=\"\",\"\",申込書!$AB$2)","v":""}]
[{"$f":"IF('個人種目(マスターズ)'!B104=\"\",\"\",'個人種目(マスターズ)'!AP104)","v":""},5,{"$f":"IF(A100=\"\",\"\",'個人種目(マスターズ)'!AR104)","v":""},{"$f":"IF(A100=\"\",\"\",'個人種目(マスターズ)'!AS104)","v":""},{"$f":"IF(A100=\"\",\"\",'個人種目(マスターズ)'!F104)","v":""},{"$f":"IF(A100=\"\",\"\",'個人種目(マスターズ)'!Q104)","v":""},{"$f":"IF(A100=\"\",\"\",'個人種目(マスターズ)'!AF104)","v":""},{"$f":"IF(A100=\"\",\"\",'個人種目(マスターズ)'!AG104)","v":""},{"$f":"IF(A100=\"\",\"\",'個人種目(マスターズ)'!AH104)","v":""},null,null,"",{"$f":"IF(A100=\"\",\"\",TRIM('個人種目(マスターズ)'!B104)&TRIM('個人種目(マスターズ)'!C104))","v":""},{"$f":"IF(A100=\"\",\"\",申込書!$AB$2)","v":""}]
[{"$f":"IF('個人種目(マスターズ)'!B105=\"\",\"\",'個人種目(マスターズ)'!AP105)","v":""},5,{"$f":"IF(A101=\"\",\"\",'個人種目(マスターズ)'!AR105)","v":""},{"$f":"IF(A101=\"\",\"\",'個人種目(マスターズ)'!AS105)","v":""},{"$f":"IF(A101=\"\",\"\",'個人種目(マスターズ)'!F105)","v":""},{"$f":"IF(A101=\"\",\"\",'個人種目(マスターズ)'!Q105)","v":""},{"$f":"IF(A101=\"\",\"\",'個人種目(マスターズ)'!AF105)","v":""},{"$f":"IF(A101=\"\",\"\",'個人種目(マスターズ)'!AG105)","v":""},{"$f":"IF(A101=\"\",\"\",'個人種目(マスターズ)'!AH105)","v":""},null,null,"",{"$f":"IF(A101=\"\",\"\",TRIM('個人種目(マスターズ)'!B105)&TRIM('個人種目(マスターズ)'!C105))","v":""},{"$f":"IF(A101=\"\",\"\",申込書!$AB$2)","v":""}]
[{"$f":"IF('個人種目(マスターズ)'!B106=\"\",\"\",'個人種目(マスターズ)'!AP106)","v":""},5,{"$f":"IF(A102=\"\",\"\",'個人種目(マスターズ)'!AR106)","v":""},{"$f":"IF(A102=\"\",\"\",'個人種目(マスターズ)'!AS106)","v":""},{"$f":"IF(A102=\"\",\"\",'個人種目(マスターズ)'!F106)","v":""},{"$f":"IF(A102=\"\",\"\",'個人種目(マスターズ)'!Q106)","v":""},{"$f":"IF(A102=\"\",\"\",'個人種目(マスターズ)'!AF106)","v":""},{"$f":"IF(A102=\"\",\"\",'個人種目(マスターズ)'!AG106)","v":""},{"$f":"IF(A102=\"\",\"\",'個人種目(マスターズ)'!AH106)","v":""},null,null,"",{"$f":"IF(A102=\"\",\"\",TRIM('個人種目(マスターズ)'!B106)&TRIM('個人種目(マスターズ)'!C106))","v":""},{"$f":"IF(A102=\"\",\"\",申込書!$AB$2)","v":""}]
[{"$f":"IF('個人種目(マスターズ)'!B107=\"\",\"\",'個人種目(マスターズ)'!AP107)","v":""},5,{"$f":"IF(A103=\"\",\"\",'個人種目(マスターズ)'!AR107)","v":""},{"$f":"IF(A103=\"\",\"\",'個人種目(マスターズ)'!AS107)","v":""},{"$f":"IF(A103=\"\",\"\",'個人種目(マスターズ)'!F107)","v":""},{"$f":"IF(A103=\"\",\"\",'個人種目(マスターズ)'!Q107)","v":""},{"$f":"IF(A103=\"\",\"\",'個人種目(マスターズ)'!AF107)","v":""},{"$f":"IF(A103=\"\",\"\",'個人種目(マスターズ)'!AG107)","v":""},{"$f":"IF(A103=\"\",\"\",'個人種目(マスターズ)'!AH107)","v":""},null,null,"",{"$f":"IF(A103=\"\",\"\",TRIM('個人種目(マスターズ)'!B107)&TRIM('個人種目(マスターズ)'!C107))","v":""},{"$f":"IF(A103=\"\",\"\",申込書!$AB$2)","v":""}]
[{"$f":"IF('個人種目(ジュニア)'!B6=\"\",\"\",'個人種目(ジュニア)'!AP6)","v":""},0,{"$f":"IF(A104=\"\",\"\",'個人種目(ジュニア)'!AR6)","v":""},{"$f":"IF(A104=\"\",\"\",'個人種目(ジュニア)'!AS6)","v":""},{"$f":"IF(A104=\"\",\"\",'個人種目(ジュニア)'!F6)","v":""},{"$f":"IF(A104=\"\",\"\",'個人種目(ジュニア)'!Q6)","v":""},{"$f":"IF(A104=\"\",\"\",'個人種目(ジュニア)'!AF6)","v":""},{"$f":"IF(A104=\"\",\"\",'個人種目(ジュニア)'!AG6)","v":""},{"$f":"IF(A104=\"\",\"\",'個人種目(ジュニア)'!AH6)","v":""},1,null,{"$f":"IF(A104=\"\",\"\",C104)","v":""},{"$f":"IF(A104=\"\",\"\",TRIM('個人種目(ジュニア)'!B6)&TRIM('個人種目(ジュニア)'!C6))","v":""},{"$f":"IF(A104=\"\",\"\",申込書!$AB$2)","v":""}]
[{"$f":"IF('個人種目(ジュニア)'!B7=\"\",\"\",'個人種目(ジュニア)'!AP7)","v":""},0,{"$f":"IF(A105=\"\",\"\",'個人種目(ジュニア)'!AR7)","v":""},{"$f":"IF(A105=\"\",\"\",'個人種目(ジュニア)'!AS7)","v":""},{"$f":"IF(A105=\"\",\"\",'個人種目(ジュニア)'!F7)","v":""},{"$f":"IF(A105=\"\",\"\",'個人種目(ジュニア)'!Q7)","v":""},{"$f":"IF(A105=\"\",\"\",'個人種目(ジュニア)'!AF7)","v":""},{"$f":"IF(A105=\"\",\"\",'個人種目(ジュニア)'!AG7)","v":""},{"$f":"IF(A105=\"\",\"\",'個人種目(ジュニア)'!AH7)","v":""},1,null,{"$f":"IF(A105=\"\",\"\",C105)","v":""},{"$f":"IF(A105=\"\",\"\",TRIM('個人種目(ジュニア)'!B7)&TRIM('個人種目(ジュニア)'!C7))","v":""},{"$f":"IF(A105=\"\",\"\",申込書!$AB$2)","v":""}]
[{"$f":"IF('個人種目(ジュニア)'!B8=\"\",\"\",'個人種目(ジュニア)'!AP8)","v":""},0,{"$f":"IF(A106=\"\",\"\",'個人種目(ジュニア)'!AR8)","v":""},{"$f":"IF(A106=\"\",\"\",'個人種目(ジュニア)'!AS8)","v":""},{"$f":"IF(A106=\"\",\"\",'個人種目(ジュニア)'!F8)","v":""},{"$f":"IF(A106=\"\",\"\",'個人種目(ジュニア)'!Q8)","v":""},{"$f":"IF(A106=\"\",\"\",'個人種目(ジュニア)'!AF8)","v":""},{"$f":"IF(A106=\"\",\"\",'個人種目(ジュニア)'!AG8)","v":""},{"$f":"IF(A106=\"\",\"\",'個人種目(ジュニア)'!AH8)","v":""},1,null,"",{"$f":"IF(A106=\"\",\"\",TRIM('個人種目(ジュニア)'!B8)&TRIM('個人種目(ジュニア)'!C8))","v":""},{"$f":"IF(A106=\"\",\"\",申込書!$AB$2)","v":""}]
[{"$f":"IF('個人種目(ジュニア)'!B9=\"\",\"\",'個人種目(ジュニア)'!AP9)","v":""},0,{"$f":"IF(A107=\"\",\"\",'個人種目(ジュニア)'!AR9)","v":""},{"$f":"IF(A107=\"\",\"\",'個人種目(ジュニア)'!AS9)","v":""},{"$f":"IF(A107=\"\",\"\",'個人種目(ジュニア)'!F9)","v":""},{"$f":"IF(A107=\"\",\"\",'個人種目(ジュニア)'!Q9)","v":""},{"$f":"IF(A107=\"\",\"\",'個人種目(ジュニア)'!AF9)","v":""},{"$f":"IF(A107=\"\",\"\",'個人種目(ジュニア)'!AG9)","v":""},{"$f":"IF(A107=\"\",\"\",'個人種目(ジュニア)'!AH9)","v":""},1,null,"",{"$f":"IF(A107=\"\",\"\",TRIM('個人種目(ジュニア)'!B9)&TRIM('個人種目(ジュニア)'!C9))","v":""},{"$f":"IF(A107=\"\",\"\",申込書!$AB$2)","v":""}]
[{"$f":"IF('個人種目(ジュニア)'!B10=\"\",\"\",'個人種目(ジュニア)'!AP10)","v":""},0,{"$f":"IF(A108=\"\",\"\",'個人種目(ジュニア)'!AR10)","v":""},{"$f":"IF(A108=\"\",\"\",'個人種目(ジュニア)'!AS10)","v":""},{"$f":"IF(A108=\"\",\"\",'個人種目(ジュニア)'!F10)","v":""},{"$f":"IF(A108=\"\",\"\",'個人種目(ジュニア)'!Q10)","v":""},{"$f":"IF(A108=\"\",\"\",'個人種目(ジュニア)'!AF10)","v":""},{"$f":"IF(A108=\"\",\"\",'個人種目(ジュニア)'!AG10)","v":""},{"$f":"IF(A108=\"\",\"\",'個人種目(ジュニア)'!AH10)","v":""},1,null,"",{"$f":"IF(A108=\"\",\"\",TRIM('個人種目(ジュニア)'!B10)&TRIM('個人種目(ジュニア)'!C10))","v":""},{"$f":"IF(A108=\"\",\"\",申込書!$AB$2)","v":""}]
[{"$f":"IF('個人種目(ジュニア)'!B11=\"\",\"\",'個人種目(ジュニア)'!AP11)","v":""},0,{"$f":"IF(A109=\"\",\"\",'個人種目(ジュニア)'!AR11)","v":""},{"$f":"IF(A109=\"\",\"\",'個人種目(ジュニア)'!AS11)","v":""},{"$f":"IF(A109=\"\",\"\",'個人種目(ジュニア)'!F11)","v":""},{"$f":"IF(A109=\"\",\"\",'個人種目(ジュニア)'!Q11)","v":""},{"$f":"IF(A109=\"\",\"\",'個人種目(ジュニア)'!AF11)","v":""},{"$f":"IF(A109=\"\",\"\",'個人種目(ジュニア)'!AG11)","v":""},{"$f":"IF(A109=\"\",\"\",'個人種目(ジュニア)'!AH11)","v":""},1,null,"",{"$f":"IF(A109=\"\",\"\",TRIM('個人種目(ジュニア)'!B11)&TRIM('個人種目(ジュニア)'!C11))","v":""},{"$f":"IF(A109=\"\",\"\",申込書!$AB$2)","v":""}]
[{"$f":"IF('個人種目(ジュニア)'!B12=\"\",\"\",'個人種目(ジュニア)'!AP12)","v":""},0,{"$f":"IF(A110=\"\",\"\",'個人種目(ジュニア)'!AR12)","v":""},{"$f":"IF(A110=\"\",\"\",'個人種目(ジュニア)'!AS12)","v":""},{"$f":"IF(A110=\"\",\"\",'個人種目(ジュニア)'!F12)","v":""},{"$f":"IF(A110=\"\",\"\",'個人種目(ジュニア)'!Q12)","v":""},{"$f":"IF(A110=\"\",\"\",'個人種目(ジュニア)'!AF12)","v":""},{"$f":"IF(A110=\"\",\"\",'個人種目(ジュニア)'!AG12)","v":""},{"$f":"IF(A110=\"\",\"\",'個人種目(ジュニア)'!AH12)","v":""},1,null,"",{"$f":"IF(A110=\"\",\"\",TRIM('個人種目(ジュニア)'!B12)&TRIM('個人種目(ジュニア)'!C12))","v":""},{"$f":"IF(A110=\"\",\"\",申込書!$AB$2)","v":""}]
[{"$f":"IF('個人種目(ジュニア)'!B13=\"\",\"\",'個人種目(ジュニア)'!AP13)","v":""},0,{"$f":"IF(A111=\"\",\"\",'個人種目(ジュニア)'!AR13)","v":""},{"$f":"IF(A111=\"\",\"\",'個人種目(ジュニア)'!AS13)","v":""},{"$f":"IF(A111=\"\",\"\",'個人種目(ジュニア)'!F13)","v":""},{"$f":"IF(A111=\"\",\"\",'個人種目(ジュニア)'!Q13)","v":""},{"$f":"IF(A111=\"\",\"\",'個人種目(ジュニア)'!AF13)","v":""},{"$f":"IF(A111=\"\",\"\",'個人種目(ジュニア)'!AG13)","v":""},{"$f":"IF(A111=\"\",\"\",'個人種目(ジュニア)'!AH13)","v":""},1,null,"",{"$f":"IF(A111=\"\",\"\",TRIM('個人種目(ジュニア)'!B13)&TRIM('個人種目(ジュニア)'!C13))","v":""},{"$f":"IF(A111=\"\",\"\",申込書!$AB$2)","v":""}]
[{"$f":"IF('個人種目(ジュニア)'!B14=\"\",\"\",'個人種目(ジュニア)'!AP14)","v":""},0,{"$f":"IF(A112=\"\",\"\",'個人種目(ジュニア)'!AR14)","v":""},{"$f":"IF(A112=\"\",\"\",'個人種目(ジュニア)'!AS14)","v":""},{"$f":"IF(A112=\"\",\"\",'個人種目(ジュニア)'!F14)","v":""},{"$f":"IF(A112=\"\",\"\",'個人種目(ジュニア)'!Q14)","v":""},{"$f":"IF(A112=\"\",\"\",'個人種目(ジュニア)'!AF14)","v":""},{"$f":"IF(A112=\"\",\"\",'個人種目(ジュニア)'!AG14)","v":""},{"$f":"IF(A112=\"\",\"\",'個人種目(ジュニア)'!AH14)","v":""},1,null,"",{"$f":"IF(A112=\"\",\"\",TRIM('個人種目(ジュニア)'!B14)&TRIM('個人種目(ジュニア)'!C14))","v":""},{"$f":"IF(A112=\"\",\"\",申込書!$AB$2)","v":""}]
[{"$f":"IF('個人種目(ジュニア)'!B15=\"\",\"\",'個人種目(ジュニア)'!AP15)","v":""},0,{"$f":"IF(A113=\"\",\"\",'個人種目(ジュニア)'!AR15)","v":""},{"$f":"IF(A113=\"\",\"\",'個人種目(ジュニア)'!AS15)","v":""},{"$f":"IF(A113=\"\",\"\",'個人種目(ジュニア)'!F15)","v":""},{"$f":"IF(A113=\"\",\"\",'個人種目(ジュニア)'!Q15)","v":""},{"$f":"IF(A113=\"\",\"\",'個人種目(ジュニア)'!AF15)","v":""},{"$f":"IF(A113=\"\",\"\",'個人種目(ジュニア)'!AG15)","v":""},{"$f":"IF(A113=\"\",\"\",'個人種目(ジュニア)'!AH15)","v":""},1,null,"",{"$f":"IF(A113=\"\",\"\",TRIM('個人種目(ジュニア)'!B15)&TRIM('個人種目(ジュニア)'!C15))","v":""},{"$f":"IF(A113=\"\",\"\",申込書!$AB$2)","v":""}]
[{"$f":"IF('個人種目(ジュニア)'!B16=\"\",\"\",'個人種目(ジュニア)'!AP16)","v":""},0,{"$f":"IF(A114=\"\",\"\",'個人種目(ジュニア)'!AR16)","v":""},{"$f":"IF(A114=\"\",\"\",'個人種目(ジュニア)'!AS16)","v":""},{"$f":"IF(A114=\"\",\"\",'個人種目(ジュニア)'!F16)","v":""},{"$f":"IF(A114=\"\",\"\",'個人種目(ジュニア)'!Q16)","v":""},{"$f":"IF(A114=\"\",\"\",'個人種目(ジュニア)'!AF16)","v":""},{"$f":"IF(A114=\"\",\"\",'個人種目(ジュニア)'!AG16)","v":""},{"$f":"IF(A114=\"\",\"\",'個人種目(ジュニア)'!AH16)","v":""},1,null,"",{"$f":"IF(A114=\"\",\"\",TRIM('個人種目(ジュニア)'!B16)&TRIM('個人種目(ジュニア)'!C16))","v":""},{"$f":"IF(A114=\"\",\"\",申込書!$AB$2)","v":""}]
[{"$f":"IF('個人種目(ジュニア)'!B17=\"\",\"\",'個人種目(ジュニア)'!AP17)","v":""},0,{"$f":"IF(A115=\"\",\"\",'個人種目(ジュニア)'!AR17)","v":""},{"$f":"IF(A115=\"\",\"\",'個人種目(ジュニア)'!AS17)","v":""},{"$f":"IF(A115=\"\",\"\",'個人種目(ジュニア)'!F17)","v":""},{"$f":"IF(A115=\"\",\"\",'個人種目(ジュニア)'!Q17)","v":""},{"$f":"IF(A115=\"\",\"\",'個人種目(ジュニア)'!AF17)","v":""},{"$f":"IF(A115=\"\",\"\",'個人種目(ジュニア)'!AG17)","v":""},{"$f":"IF(A115=\"\",\"\",'個人種目(ジュニア)'!AH17)","v":""},1,null,"",{"$f":"IF(A115=\"\",\"\",TRIM('個人種目(ジュニア)'!B17)&TRIM('個人種目(ジュニア)'!C17))","v":""},{"$f":"IF(A115=\"\",\"\",申込書!$AB$2)","v":""}]
[{"$f":"IF('個人種目(ジュニア)'!B18=\"\",\"\",'個人種目(ジュニア)'!AP18)","v":""},0,{"$f":"IF(A116=\"\",\"\",'個人種目(ジュニア)'!AR18)","v":""},{"$f":"IF(A116=\"\",\"\",'個人種目(ジュニア)'!AS18)","v":""},{"$f":"IF(A116=\"\",\"\",'個人種目(ジュニア)'!F18)","v":""},{"$f":"IF(A116=\"\",\"\",'個人種目(ジュニア)'!Q18)","v":""},{"$f":"IF(A116=\"\",\"\",'個人種目(ジュニア)'!AF18)","v":""},{"$f":"IF(A116=\"\",\"\",'個人種目(ジュニア)'!AG18)","v":""},{"$f":"IF(A116=\"\",\"\",'個人種目(ジュニア)'!AH18)","v":""},1,null,"",{"$f":"IF(A116=\"\",\"\",TRIM('個人種目(ジュニア)'!B18)&TRIM('個人種目(ジュニア)'!C18))","v":""},{"$f":"IF(A116=\"\",\"\",申込書!$AB$2)","v":""}]
[{"$f":"IF('個人種目(ジュニア)'!B19=\"\",\"\",'個人種目(ジュニア)'!AP19)","v":""},0,{"$f":"IF(A117=\"\",\"\",'個人種目(ジュニア)'!AR19)","v":""},{"$f":"IF(A117=\"\",\"\",'個人種目(ジュニア)'!AS19)","v":""},{"$f":"IF(A117=\"\",\"\",'個人種目(ジュニア)'!F19)","v":""},{"$f":"IF(A117=\"\",\"\",'個人種目(ジュニア)'!Q19)","v":""},{"$f":"IF(A117=\"\",\"\",'個人種目(ジュニア)'!AF19)","v":""},{"$f":"IF(A117=\"\",\"\",'個人種目(ジュニア)'!AG19)","v":""},{"$f":"IF(A117=\"\",\"\",'個人種目(ジュニア)'!AH19)","v":""},1,null,"",{"$f":"IF(A117=\"\",\"\",TRIM('個人種目(ジュニア)'!B19)&TRIM('個人種目(ジュニア)'!C19))","v":""},{"$f":"IF(A117=\"\",\"\",申込書!$AB$2)","v":""}]
[{"$f":"IF('個人種目(ジュニア)'!B20=\"\",\"\",'個人種目(ジュニア)'!AP20)","v":""},0,{"$f":"IF(A118=\"\",\"\",'個人種目(ジュニア)'!AR20)","v":""},{"$f":"IF(A118=\"\",\"\",'個人種目(ジュニア)'!AS20)","v":""},{"$f":"IF(A118=\"\",\"\",'個人種目(ジュニア)'!F20)","v":""},{"$f":"IF(A118=\"\",\"\",'個人種目(ジュニア)'!Q20)","v":""},{"$f":"IF(A118=\"\",\"\",'個人種目(ジュニア)'!AF20)","v":""},{"$f":"IF(A118=\"\",\"\",'個人種目(ジュニア)'!AG20)","v":""},{"$f":"IF(A118=\"\",\"\",'個人種目(ジュニア)'!AH20)","v":""},1,null,"",{"$f":"IF(A118=\"\",\"\",TRIM('個人種目(ジュニア)'!B20)&TRIM('個人種目(ジュニア)'!C20))","v":""},{"$f":"IF(A118=\"\",\"\",申込書!$AB$2)","v":""}]
[{"$f":"IF('個人種目(ジュニア)'!B21=\"\",\"\",'個人種目(ジュニア)'!AP21)","v":""},0,{"$f":"IF(A119=\"\",\"\",'個人種目(ジュニア)'!AR21)","v":""},{"$f":"IF(A119=\"\",\"\",'個人種目(ジュニア)'!AS21)","v":""},{"$f":"IF(A119=\"\",\"\",'個人種目(ジュニア)'!F21)","v":""},{"$f":"IF(A119=\"\",\"\",'個人種目(ジュニア)'!Q21)","v":""},{"$f":"IF(A119=\"\",\"\",'個人種目(ジュニア)'!AF21)","v":""},{"$f":"IF(A119=\"\",\"\",'個人種目(ジュニア)'!AG21)","v":""},{"$f":"IF(A119=\"\",\"\",'個人種目(ジュニア)'!AH21)","v":""},1,null,"",{"$f":"IF(A119=\"\",\"\",TRIM('個人種目(ジュニア)'!B21)&TRIM('個人種目(ジュニア)'!C21))","v":""},{"$f":"IF(A119=\"\",\"\",申込書!$AB$2)","v":""}]
[{"$f":"IF('個人種目(ジュニア)'!B22=\"\",\"\",'個人種目(ジュニア)'!AP22)","v":""},0,{"$f":"IF(A120=\"\",\"\",'個人種目(ジュニア)'!AR22)","v":""},{"$f":"IF(A120=\"\",\"\",'個人種目(ジュニア)'!AS22)","v":""},{"$f":"IF(A120=\"\",\"\",'個人種目(ジュニア)'!F22)","v":""},{"$f":"IF(A120=\"\",\"\",'個人種目(ジュニア)'!Q22)","v":""},{"$f":"IF(A120=\"\",\"\",'個人種目(ジュニア)'!AF22)","v":""},{"$f":"IF(A120=\"\",\"\",'個人種目(ジュニア)'!AG22)","v":""},{"$f":"IF(A120=\"\",\"\",'個人種目(ジュニア)'!AH22)","v":""},1,null,"",{"$f":"IF(A120=\"\",\"\",TRIM('個人種目(ジュニア)'!B22)&TRIM('個人種目(ジュニア)'!C22))","v":""},{"$f":"IF(A120=\"\",\"\",申込書!$AB$2)","v":""}]
[{"$f":"IF('個人種目(ジュニア)'!B23=\"\",\"\",'個人種目(ジュニア)'!AP23)","v":""},0,{"$f":"IF(A121=\"\",\"\",'個人種目(ジュニア)'!AR23)","v":""},{"$f":"IF(A121=\"\",\"\",'個人種目(ジュニア)'!AS23)","v":""},{"$f":"IF(A121=\"\",\"\",'個人種目(ジュニア)'!F23)","v":""},{"$f":"IF(A121=\"\",\"\",'個人種目(ジュニア)'!Q23)","v":""},{"$f":"IF(A121=\"\",\"\",'個人種目(ジュニア)'!AF23)","v":""},{"$f":"IF(A121=\"\",\"\",'個人種目(ジュニア)'!AG23)","v":""},{"$f":"IF(A121=\"\",\"\",'個人種目(ジュニア)'!AH23)","v":""},1,null,"",{"$f":"IF(A121=\"\",\"\",TRIM('個人種目(ジュニア)'!B23)&TRIM('個人種目(ジュニア)'!C23))","v":""},{"$f":"IF(A121=\"\",\"\",申込書!$AB$2)","v":""}]
[{"$f":"IF('個人種目(ジュニア)'!B24=\"\",\"\",'個人種目(ジュニア)'!AP24)","v":""},0,{"$f":"IF(A122=\"\",\"\",'個人種目(ジュニア)'!AR24)","v":""},{"$f":"IF(A122=\"\",\"\",'個人種目(ジュニア)'!AS24)","v":""},{"$f":"IF(A122=\"\",\"\",'個人種目(ジュニア)'!F24)","v":""},{"$f":"IF(A122=\"\",\"\",'個人種目(ジュニア)'!Q24)","v":""},{"$f":"IF(A122=\"\",\"\",'個人種目(ジュニア)'!AF24)","v":""},{"$f":"IF(A122=\"\",\"\",'個人種目(ジュニア)'!AG24)","v":""},{"$f":"IF(A122=\"\",\"\",'個人種目(ジュニア)'!AH24)","v":""},1,null,"",{"$f":"IF(A122=\"\",\"\",TRIM('個人種目(ジュニア)'!B24)&TRIM('個人種目(ジュニア)'!C24))","v":""},{"$f":"IF(A122=\"\",\"\",申込書!$AB$2)","v":""}]
[{"$f":"IF('個人種目(ジュニア)'!B25=\"\",\"\",'個人種目(ジュニア)'!AP25)","v":""},0,{"$f":"IF(A123=\"\",\"\",'個人種目(ジュニア)'!AR25)","v":""},{"$f":"IF(A123=\"\",\"\",'個人種目(ジュニア)'!AS25)","v":""},{"$f":"IF(A123=\"\",\"\",'個人種目(ジュニア)'!F25)","v":""},{"$f":"IF(A123=\"\",\"\",'個人種目(ジュニア)'!Q25)","v":""},{"$f":"IF(A123=\"\",\"\",'個人種目(ジュニア)'!AF25)","v":""},{"$f":"IF(A123=\"\",\"\",'個人種目(ジュニア)'!AG25)","v":""},{"$f":"IF(A123=\"\",\"\",'個人種目(ジュニア)'!AH25)","v":""},1,null,"",{"$f":"IF(A123=\"\",\"\",TRIM('個人種目(ジュニア)'!B25)&TRIM('個人種目(ジュニア)'!C25))","v":""},{"$f":"IF(A123=\"\",\"\",申込書!$AB$2)","v":""}]
[{"$f":"IF('個人種目(ジュニア)'!B26=\"\",\"\",'個人種目(ジュニア)'!AP26)","v":""},0,{"$f":"IF(A124=\"\",\"\",'個人種目(ジュニア)'!AR26)","v":""},{"$f":"IF(A124=\"\",\"\",'個人種目(ジュニア)'!AS26)","v":""},{"$f":"IF(A124=\"\",\"\",'個人種目(ジュニア)'!F26)","v":""},{"$f":"IF(A124=\"\",\"\",'個人種目(ジュニア)'!Q26)","v":""},{"$f":"IF(A124=\"\",\"\",'個人種目(ジュニア)'!AF26)","v":""},{"$f":"IF(A124=\"\",\"\",'個人種目(ジュニア)'!AG26)","v":""},{"$f":"IF(A124=\"\",\"\",'個人種目(ジュニア)'!AH26)","v":""},1,null,"",{"$f":"IF(A124=\"\",\"\",TRIM('個人種目(ジュニア)'!B26)&TRIM('個人種目(ジュニア)'!C26))","v":""},{"$f":"IF(A124=\"\",\"\",申込書!$AB$2)","v":""}]
[{"$f":"IF('個人種目(ジュニア)'!B27=\"\",\"\",'個人種目(ジュニア)'!AP27)","v":""},0,{"$f":"IF(A125=\"\",\"\",'個人種目(ジュニア)'!AR27)","v":""},{"$f":"IF(A125=\"\",\"\",'個人種目(ジュニア)'!AS27)","v":""},{"$f":"IF(A125=\"\",\"\",'個人種目(ジュニア)'!F27)","v":""},{"$f":"IF(A125=\"\",\"\",'個人種目(ジュニア)'!Q27)","v":""},{"$f":"IF(A125=\"\",\"\",'個人種目(ジュニア)'!AF27)","v":""},{"$f":"IF(A125=\"\",\"\",'個人種目(ジュニア)'!AG27)","v":""},{"$f":"IF(A125=\"\",\"\",'個人種目(ジュニア)'!AH27)","v":""},1,null,"",{"$f":"IF(A125=\"\",\"\",TRIM('個人種目(ジュニア)'!B27)&TRIM('個人種目(ジュニア)'!C27))","v":""},{"$f":"IF(A125=\"\",\"\",申込書!$AB$2)","v":""}]
[{"$f":"IF('個人種目(ジュニア)'!B28=\"\",\"\",'個人種目(ジュニア)'!AP28)","v":""},0,{"$f":"IF(A126=\"\",\"\",'個人種目(ジュニア)'!AR28)","v":""},{"$f":"IF(A126=\"\",\"\",'個人種目(ジュニア)'!AS28)","v":""},{"$f":"IF(A126=\"\",\"\",'個人種目(ジュニア)'!F28)","v":""},{"$f":"IF(A126=\"\",\"\",'個人種目(ジュニア)'!Q28)","v":""},{"$f":"IF(A126=\"\",\"\",'個人種目(ジュニア)'!AF28)","v":""},{"$f":"IF(A126=\"\",\"\",'個人種目(ジュニア)'!AG28)","v":""},{"$f":"IF(A126=\"\",\"\",'個人種目(ジュニア)'!AH28)","v":""},1,null,"",{"$f":"IF(A126=\"\",\"\",TRIM('個人種目(ジュニア)'!B28)&TRIM('個人種目(ジュニア)'!C28))","v":""},{"$f":"IF(A126=\"\",\"\",申込書!$AB$2)","v":""}]
[{"$f":"IF('個人種目(ジュニア)'!B29=\"\",\"\",'個人種目(ジュニア)'!AP29)","v":""},0,{"$f":"IF(A127=\"\",\"\",'個人種目(ジュニア)'!AR29)","v":""},{"$f":"IF(A127=\"\",\"\",'個人種目(ジュニア)'!AS29)","v":""},{"$f":"IF(A127=\"\",\"\",'個人種目(ジュニア)'!F29)","v":""},{"$f":"IF(A127=\"\",\"\",'個人種目(ジュニア)'!Q29)","v":""},{"$f":"IF(A127=\"\",\"\",'個人種目(ジュニア)'!AF29)","v":""},{"$f":"IF(A127=\"\",\"\",'個人種目(ジュニア)'!AG29)","v":""},{"$f":"IF(A127=\"\",\"\",'個人種目(ジュニア)'!AH29)","v":""},1,null,"",{"$f":"IF(A127=\"\",\"\",TRIM('個人種目(ジュニア)'!B29)&TRIM('個人種目(ジュニア)'!C29))","v":""},{"$f":"IF(A127=\"\",\"\",申込書!$AB$2)","v":""}]
[{"$f":"IF('個人種目(ジュニア)'!B30=\"\",\"\",'個人種目(ジュニア)'!AP30)","v":""},0,{"$f":"IF(A128=\"\",\"\",'個人種目(ジュニア)'!AR30)","v":""},{"$f":"IF(A128=\"\",\"\",'個人種目(ジュニア)'!AS30)","v":""},{"$f":"IF(A128=\"\",\"\",'個人種目(ジュニア)'!F30)","v":""},{"$f":"IF(A128=\"\",\"\",'個人種目(ジュニア)'!Q30)","v":""},{"$f":"IF(A128=\"\",\"\",'個人種目(ジュニア)'!AF30)","v":""},{"$f":"IF(A128=\"\",\"\",'個人種目(ジュニア)'!AG30)","v":""},{"$f":"IF(A128=\"\",\"\",'個人種目(ジュニア)'!AH30)","v":""},1,null,"",{"$f":"IF(A128=\"\",\"\",TRIM('個人種目(ジュニア)'!B30)&TRIM('個人種目(ジュニア)'!C30))","v":""},{"$f":"IF(A128=\"\",\"\",申込書!$AB$2)","v":""}]
[{"$f":"IF('個人種目(ジュニア)'!B31=\"\",\"\",'個人種目(ジュニア)'!AP31)","v":""},0,{"$f":"IF(A129=\"\",\"\",'個人種目(ジュニア)'!AR31)","v":""},{"$f":"IF(A129=\"\",\"\",'個人種目(ジュニア)'!AS31)","v":""},{"$f":"IF(A129=\"\",\"\",'個人種目(ジュニア)'!F31)","v":""},{"$f":"IF(A129=\"\",\"\",'個人種目(ジュニア)'!Q31)","v":""},{"$f":"IF(A129=\"\",\"\",'個人種目(ジュニア)'!AF31)","v":""},{"$f":"IF(A129=\"\",\"\",'個人種目(ジュニア)'!AG31)","v":""},{"$f":"IF(A129=\"\",\"\",'個人種目(ジュニア)'!AH31)","v":""},1,null,"",{"$f":"IF(A129=\"\",\"\",TRIM('個人種目(ジュニア)'!B31)&TRIM('個人種目(ジュニア)'!C31))","v":""},{"$f":"IF(A129=\"\",\"\",申込書!$AB$2)","v":""}]
[{"$f":"IF('個人種目(ジュニア)'!B32=\"\",\"\",'個人種目(ジュニア)'!AP32)","v":""},0,{"$f":"IF(A130=\"\",\"\",'個人種目(ジュニア)'!AR32)","v":""},{"$f":"IF(A130=\"\",\"\",'個人種目(ジュニア)'!AS32)","v":""},{"$f":"IF(A130=\"\",\"\",'個人種目(ジュニア)'!F32)","v":""},{"$f":"IF(A130=\"\",\"\",'個人種目(ジュニア)'!Q32)","v":""},{"$f":"IF(A130=\"\",\"\",'個人種目(ジュニア)'!AF32)","v":""},{"$f":"IF(A130=\"\",\"\",'個人種目(ジュニア)'!AG32)","v":""},{"$f":"IF(A130=\"\",\"\",'個人種目(ジュニア)'!AH32)","v":""},1,null,"",{"$f":"IF(A130=\"\",\"\",TRIM('個人種目(ジュニア)'!B32)&TRIM('個人種目(ジュニア)'!C32))","v":""},{"$f":"IF(A130=\"\",\"\",申込書!$AB$2)","v":""}]
[{"$f":"IF('個人種目(ジュニア)'!B33=\"\",\"\",'個人種目(ジュニア)'!AP33)","v":""},0,{"$f":"IF(A131=\"\",\"\",'個人種目(ジュニア)'!AR33)","v":""},{"$f":"IF(A131=\"\",\"\",'個人種目(ジュニア)'!AS33)","v":""},{"$f":"IF(A131=\"\",\"\",'個人種目(ジュニア)'!F33)","v":""},{"$f":"IF(A131=\"\",\"\",'個人種目(ジュニア)'!Q33)","v":""},{"$f":"IF(A131=\"\",\"\",'個人種目(ジュニア)'!AF33)","v":""},{"$f":"IF(A131=\"\",\"\",'個人種目(ジュニア)'!AG33)","v":""},{"$f":"IF(A131=\"\",\"\",'個人種目(ジュニア)'!AH33)","v":""},1,null,"",{"$f":"IF(A131=\"\",\"\",TRIM('個人種目(ジュニア)'!B33)&TRIM('個人種目(ジュニア)'!C33))","v":""},{"$f":"IF(A131=\"\",\"\",申込書!$AB$2)","v":""}]
[{"$f":"IF('個人種目(ジュニア)'!B34=\"\",\"\",'個人種目(ジュニア)'!AP34)","v":""},0,{"$f":"IF(A132=\"\",\"\",'個人種目(ジュニア)'!AR34)","v":""},{"$f":"IF(A132=\"\",\"\",'個人種目(ジュニア)'!AS34)","v":""},{"$f":"IF(A132=\"\",\"\",'個人種目(ジュニア)'!F34)","v":""},{"$f":"IF(A132=\"\",\"\",'個人種目(ジュニア)'!Q34)","v":""},{"$f":"IF(A132=\"\",\"\",'個人種目(ジュニア)'!AF34)","v":""},{"$f":"IF(A132=\"\",\"\",'個人種目(ジュニア)'!AG34)","v":""},{"$f":"IF(A132=\"\",\"\",'個人種目(ジュニア)'!AH34)","v":""},1,null,"",{"$f":"IF(A132=\"\",\"\",TRIM('個人種目(ジュニア)'!B34)&TRIM('個人種目(ジュニア)'!C34))","v":""},{"$f":"IF(A132=\"\",\"\",申込書!$AB$2)","v":""}]
[{"$f":"IF('個人種目(ジュニア)'!B35=\"\",\"\",'個人種目(ジュニア)'!AP35)","v":""},0,{"$f":"IF(A133=\"\",\"\",'個人種目(ジュニア)'!AR35)","v":""},{"$f":"IF(A133=\"\",\"\",'個人種目(ジュニア)'!AS35)","v":""},{"$f":"IF(A133=\"\",\"\",'個人種目(ジュニア)'!F35)","v":""},{"$f":"IF(A133=\"\",\"\",'個人種目(ジュニア)'!Q35)","v":""},{"$f":"IF(A133=\"\",\"\",'個人種目(ジュニア)'!AF35)","v":""},{"$f":"IF(A133=\"\",\"\",'個人種目(ジュニア)'!AG35)","v":""},{"$f":"IF(A133=\"\",\"\",'個人種目(ジュニア)'!AH35)","v":""},1,null,"",{"$f":"IF(A133=\"\",\"\",TRIM('個人種目(ジュニア)'!B35)&TRIM('個人種目(ジュニア)'!C35))","v":""},{"$f":"IF(A133=\"\",\"\",申込書!$AB$2)","v":""}]
[{"$f":"IF('個人種目(ジュニア)'!B36=\"\",\"\",'個人種目(ジュニア)'!AP36)","v":""},0,{"$f":"IF(A134=\"\",\"\",'個人種目(ジュニア)'!AR36)","v":""},{"$f":"IF(A134=\"\",\"\",'個人種目(ジュニア)'!AS36)","v":""},{"$f":"IF(A134=\"\",\"\",'個人種目(ジュニア)'!F36)","v":""},{"$f":"IF(A134=\"\",\"\",'個人種目(ジュニア)'!Q36)","v":""},{"$f":"IF(A134=\"\",\"\",'個人種目(ジュニア)'!AF36)","v":""},{"$f":"IF(A134=\"\",\"\",'個人種目(ジュニア)'!AG36)","v":""},{"$f":"IF(A134=\"\",\"\",'個人種目(ジュニア)'!AH36)","v":""},1,null,"",{"$f":"IF(A134=\"\",\"\",TRIM('個人種目(ジュニア)'!B36)&TRIM('個人種目(ジュニア)'!C36))","v":""},{"$f":"IF(A134=\"\",\"\",申込書!$AB$2)","v":""}]
[{"$f":"IF('個人種目(ジュニア)'!B37=\"\",\"\",'個人種目(ジュニア)'!AP37)","v":""},0,{"$f":"IF(A135=\"\",\"\",'個人種目(ジュニア)'!AR37)","v":""},{"$f":"IF(A135=\"\",\"\",'個人種目(ジュニア)'!AS37)","v":""},{"$f":"IF(A135=\"\",\"\",'個人種目(ジュニア)'!F37)","v":""},{"$f":"IF(A135=\"\",\"\",'個人種目(ジュニア)'!Q37)","v":""},{"$f":"IF(A135=\"\",\"\",'個人種目(ジュニア)'!AF37)","v":""},{"$f":"IF(A135=\"\",\"\",'個人種目(ジュニア)'!AG37)","v":""},{"$f":"IF(A135=\"\",\"\",'個人種目(ジュニア)'!AH37)","v":""},1,null,"",{"$f":"IF(A135=\"\",\"\",TRIM('個人種目(ジュニア)'!B37)&TRIM('個人種目(ジュニア)'!C37))","v":""},{"$f":"IF(A135=\"\",\"\",申込書!$AB$2)","v":""}]
[{"$f":"IF('個人種目(ジュニア)'!B38=\"\",\"\",'個人種目(ジュニア)'!AP38)","v":""},0,{"$f":"IF(A136=\"\",\"\",'個人種目(ジュニア)'!AR38)","v":""},{"$f":"IF(A136=\"\",\"\",'個人種目(ジュニア)'!AS38)","v":""},{"$f":"IF(A136=\"\",\"\",'個人種目(ジュニア)'!F38)","v":""},{"$f":"IF(A136=\"\",\"\",'個人種目(ジュニア)'!Q38)","v":""},{"$f":"IF(A136=\"\",\"\",'個人種目(ジュニア)'!AF38)","v":""},{"$f":"IF(A136=\"\",\"\",'個人種目(ジュニア)'!AG38)","v":""},{"$f":"IF(A136=\"\",\"\",'個人種目(ジュニア)'!AH38)","v":""},1,null,"",{"$f":"IF(A136=\"\",\"\",TRIM('個人種目(ジュニア)'!B38)&TRIM('個人種目(ジュニア)'!C38))","v":""},{"$f":"IF(A136=\"\",\"\",申込書!$AB$2)","v":""}]
[{"$f":"IF('個人種目(ジュニア)'!B39=\"\",\"\",'個人種目(ジュニア)'!AP39)","v":""},0,{"$f":"IF(A137=\"\",\"\",'個人種目(ジュニア)'!AR39)","v":""},{"$f":"IF(A137=\"\",\"\",'個人種目(ジュニア)'!AS39)","v":""},{"$f":"IF(A137=\"\",\"\",'個人種目(ジュニア)'!F39)","v":""},{"$f":"IF(A137=\"\",\"\",'個人種目(ジュニア)'!Q39)","v":""},{"$f":"IF(A137=\"\",\"\",'個人種目(ジュニア)'!AF39)","v":""},{"$f":"IF(A137=\"\",\"\",'個人種目(ジュニア)'!AG39)","v":""},{"$f":"IF(A137=\"\",\"\",'個人種目(ジュニア)'!AH39)","v":""},1,null,"",{"$f":"IF(A137=\"\",\"\",TRIM('個人種目(ジュニア)'!B39)&TRIM('個人種目(ジュニア)'!C39))","v":""},{"$f":"IF(A137=\"\",\"\",申込書!$AB$2)","v":""}]
[{"$f":"IF('個人種目(ジュニア)'!B40=\"\",\"\",'個人種目(ジュニア)'!AP40)","v":""},0,{"$f":"IF(A138=\"\",\"\",'個人種目(ジュニア)'!AR40)","v":""},{"$f":"IF(A138=\"\",\"\",'個人種目(ジュニア)'!AS40)","v":""},{"$f":"IF(A138=\"\",\"\",'個人種目(ジュニア)'!F40)","v":""},{"$f":"IF(A138=\"\",\"\",'個人種目(ジュニア)'!Q40)","v":""},{"$f":"IF(A138=\"\",\"\",'個人種目(ジュニア)'!AF40)","v":""},{"$f":"IF(A138=\"\",\"\",'個人種目(ジュニア)'!AG40)","v":""},{"$f":"IF(A138=\"\",\"\",'個人種目(ジュニア)'!AH40)","v":""},1,null,"",{"$f":"IF(A138=\"\",\"\",TRIM('個人種目(ジュニア)'!B40)&TRIM('個人種目(ジュニア)'!C40))","v":""},{"$f":"IF(A138=\"\",\"\",申込書!$AB$2)","v":""}]
[{"$f":"IF('個人種目(ジュニア)'!B41=\"\",\"\",'個人種目(ジュニア)'!AP41)","v":""},0,{"$f":"IF(A139=\"\",\"\",'個人種目(ジュニア)'!AR41)","v":""},{"$f":"IF(A139=\"\",\"\",'個人種目(ジュニア)'!AS41)","v":""},{"$f":"IF(A139=\"\",\"\",'個人種目(ジュニア)'!F41)","v":""},{"$f":"IF(A139=\"\",\"\",'個人種目(ジュニア)'!Q41)","v":""},{"$f":"IF(A139=\"\",\"\",'個人種目(ジュニア)'!AF41)","v":""},{"$f":"IF(A139=\"\",\"\",'個人種目(ジュニア)'!AG41)","v":""},{"$f":"IF(A139=\"\",\"\",'個人種目(ジュニア)'!AH41)","v":""},1,null,"",{"$f":"IF(A139=\"\",\"\",TRIM('個人種目(ジュニア)'!B41)&TRIM('個人種目(ジュニア)'!C41))","v":""},{"$f":"IF(A139=\"\",\"\",申込書!$AB$2)","v":""}]
[{"$f":"IF('個人種目(ジュニア)'!B42=\"\",\"\",'個人種目(ジュニア)'!AP42)","v":""},0,{"$f":"IF(A140=\"\",\"\",'個人種目(ジュニア)'!AR42)","v":""},{"$f":"IF(A140=\"\",\"\",'個人種目(ジュニア)'!AS42)","v":""},{"$f":"IF(A140=\"\",\"\",'個人種目(ジュニア)'!F42)","v":""},{"$f":"IF(A140=\"\",\"\",'個人種目(ジュニア)'!Q42)","v":""},{"$f":"IF(A140=\"\",\"\",'個人種目(ジュニア)'!AF42)","v":""},{"$f":"IF(A140=\"\",\"\",'個人種目(ジュニア)'!AG42)","v":""},{"$f":"IF(A140=\"\",\"\",'個人種目(ジュニア)'!AH42)","v":""},1,null,"",{"$f":"IF(A140=\"\",\"\",TRIM('個人種目(ジュニア)'!B42)&TRIM('個人種目(ジュニア)'!C42))","v":""},{"$f":"IF(A140=\"\",\"\",申込書!$AB$2)","v":""}]
[{"$f":"IF('個人種目(ジュニア)'!B43=\"\",\"\",'個人種目(ジュニア)'!AP43)","v":""},0,{"$f":"IF(A141=\"\",\"\",'個人種目(ジュニア)'!AR43)","v":""},{"$f":"IF(A141=\"\",\"\",'個人種目(ジュニア)'!AS43)","v":""},{"$f":"IF(A141=\"\",\"\",'個人種目(ジュニア)'!F43)","v":""},{"$f":"IF(A141=\"\",\"\",'個人種目(ジュニア)'!Q43)","v":""},{"$f":"IF(A141=\"\",\"\",'個人種目(ジュニア)'!AF43)","v":""},{"$f":"IF(A141=\"\",\"\",'個人種目(ジュニア)'!AG43)","v":""},{"$f":"IF(A141=\"\",\"\",'個人種目(ジュニア)'!AH43)","v":""},1,null,"",{"$f":"IF(A141=\"\",\"\",TRIM('個人種目(ジュニア)'!B43)&TRIM('個人種目(ジュニア)'!C43))","v":""},{"$f":"IF(A141=\"\",\"\",申込書!$AB$2)","v":""}]
[{"$f":"IF('個人種目(ジュニア)'!B44=\"\",\"\",'個人種目(ジュニア)'!AP44)","v":""},0,{"$f":"IF(A142=\"\",\"\",'個人種目(ジュニア)'!AR44)","v":""},{"$f":"IF(A142=\"\",\"\",'個人種目(ジュニア)'!AS44)","v":""},{"$f":"IF(A142=\"\",\"\",'個人種目(ジュニア)'!F44)","v":""},{"$f":"IF(A142=\"\",\"\",'個人種目(ジュニア)'!Q44)","v":""},{"$f":"IF(A142=\"\",\"\",'個人種目(ジュニア)'!AF44)","v":""},{"$f":"IF(A142=\"\",\"\",'個人種目(ジュニア)'!AG44)","v":""},{"$f":"IF(A142=\"\",\"\",'個人種目(ジュニア)'!AH44)","v":""},1,null,"",{"$f":"IF(A142=\"\",\"\",TRIM('個人種目(ジュニア)'!B44)&TRIM('個人種目(ジュニア)'!C44))","v":""},{"$f":"IF(A142=\"\",\"\",申込書!$AB$2)","v":""}]
[{"$f":"IF('個人種目(ジュニア)'!B45=\"\",\"\",'個人種目(ジュニア)'!AP45)","v":""},0,{"$f":"IF(A143=\"\",\"\",'個人種目(ジュニア)'!AR45)","v":""},{"$f":"IF(A143=\"\",\"\",'個人種目(ジュニア)'!AS45)","v":""},{"$f":"IF(A143=\"\",\"\",'個人種目(ジュニア)'!F45)","v":""},{"$f":"IF(A143=\"\",\"\",'個人種目(ジュニア)'!Q45)","v":""},{"$f":"IF(A143=\"\",\"\",'個人種目(ジュニア)'!AF45)","v":""},{"$f":"IF(A143=\"\",\"\",'個人種目(ジュニア)'!AG45)","v":""},{"$f":"IF(A143=\"\",\"\",'個人種目(ジュニア)'!AH45)","v":""},1,null,"",{"$f":"IF(A143=\"\",\"\",TRIM('個人種目(ジュニア)'!B45)&TRIM('個人種目(ジュニア)'!C45))","v":""},{"$f":"IF(A143=\"\",\"\",申込書!$AB$2)","v":""}]
[{"$f":"IF('個人種目(ジュニア)'!B46=\"\",\"\",'個人種目(ジュニア)'!AP46)","v":""},0,{"$f":"IF(A144=\"\",\"\",'個人種目(ジュニア)'!AR46)","v":""},{"$f":"IF(A144=\"\",\"\",'個人種目(ジュニア)'!AS46)","v":""},{"$f":"IF(A144=\"\",\"\",'個人種目(ジュニア)'!F46)","v":""},{"$f":"IF(A144=\"\",\"\",'個人種目(ジュニア)'!Q46)","v":""},{"$f":"IF(A144=\"\",\"\",'個人種目(ジュニア)'!AF46)","v":""},{"$f":"IF(A144=\"\",\"\",'個人種目(ジュニア)'!AG46)","v":""},{"$f":"IF(A144=\"\",\"\",'個人種目(ジュニア)'!AH46)","v":""},1,null,"",{"$f":"IF(A144=\"\",\"\",TRIM('個人種目(ジュニア)'!B46)&TRIM('個人種目(ジュニア)'!C46))","v":""},{"$f":"IF(A144=\"\",\"\",申込書!$AB$2)","v":""}]
[{"$f":"IF('個人種目(ジュニア)'!B47=\"\",\"\",'個人種目(ジュニア)'!AP47)","v":""},0,{"$f":"IF(A145=\"\",\"\",'個人種目(ジュニア)'!AR47)","v":""},{"$f":"IF(A145=\"\",\"\",'個人種目(ジュニア)'!AS47)","v":""},{"$f":"IF(A145=\"\",\"\",'個人種目(ジュニア)'!F47)","v":""},{"$f":"IF(A145=\"\",\"\",'個人種目(ジュニア)'!Q47)","v":""},{"$f":"IF(A145=\"\",\"\",'個人種目(ジュニア)'!AF47)","v":""},{"$f":"IF(A145=\"\",\"\",'個人種目(ジュニア)'!AG47)","v":""},{"$f":"IF(A145=\"\",\"\",'個人種目(ジュニア)'!AH47)","v":""},1,null,"",{"$f":"IF(A145=\"\",\"\",TRIM('個人種目(ジュニア)'!B47)&TRIM('個人種目(ジュニア)'!C47))","v":""},{"$f":"IF(A145=\"\",\"\",申込書!$AB$2)","v":""}]
[{"$f":"IF('個人種目(ジュニア)'!B48=\"\",\"\",'個人種目(ジュニア)'!AP48)","v":""},0,{"$f":"IF(A146=\"\",\"\",'個人種目(ジュニア)'!AR48)","v":""},{"$f":"IF(A146=\"\",\"\",'個人種目(ジュニア)'!AS48)","v":""},{"$f":"IF(A146=\"\",\"\",'個人種目(ジュニア)'!F48)","v":""},{"$f":"IF(A146=\"\",\"\",'個人種目(ジュニア)'!Q48)","v":""},{"$f":"IF(A146=\"\",\"\",'個人種目(ジュニア)'!AF48)","v":""},{"$f":"IF(A146=\"\",\"\",'個人種目(ジュニア)'!AG48)","v":""},{"$f":"IF(A146=\"\",\"\",'個人種目(ジュニア)'!AH48)","v":""},1,null,"",{"$f":"IF(A146=\"\",\"\",TRIM('個人種目(ジュニア)'!B48)&TRIM('個人種目(ジュニア)'!C48))","v":""},{"$f":"IF(A146=\"\",\"\",申込書!$AB$2)","v":""}]
[{"$f":"IF('個人種目(ジュニア)'!B49=\"\",\"\",'個人種目(ジュニア)'!AP49)","v":""},0,{"$f":"IF(A147=\"\",\"\",'個人種目(ジュニア)'!AR49)","v":""},{"$f":"IF(A147=\"\",\"\",'個人種目(ジュニア)'!AS49)","v":""},{"$f":"IF(A147=\"\",\"\",'個人種目(ジュニア)'!F49)","v":""},{"$f":"IF(A147=\"\",\"\",'個人種目(ジュニア)'!Q49)","v":""},{"$f":"IF(A147=\"\",\"\",'個人種目(ジュニア)'!AF49)","v":""},{"$f":"IF(A147=\"\",\"\",'個人種目(ジュニア)'!AG49)","v":""},{"$f":"IF(A147=\"\",\"\",'個人種目(ジュニア)'!AH49)","v":""},1,null,"",{"$f":"IF(A147=\"\",\"\",TRIM('個人種目(ジュニア)'!B49)&TRIM('個人種目(ジュニア)'!C49))","v":""},{"$f":"IF(A147=\"\",\"\",申込書!$AB$2)","v":""}]
[{"$f":"IF('個人種目(ジュニア)'!B50=\"\",\"\",'個人種目(ジュニア)'!AP50)","v":""},0,{"$f":"IF(A148=\"\",\"\",'個人種目(ジュニア)'!AR50)","v":""},{"$f":"IF(A148=\"\",\"\",'個人種目(ジュニア)'!AS50)","v":""},{"$f":"IF(A148=\"\",\"\",'個人種目(ジュニア)'!F50)","v":""},{"$f":"IF(A148=\"\",\"\",'個人種目(ジュニア)'!Q50)","v":""},{"$f":"IF(A148=\"\",\"\",'個人種目(ジュニア)'!AF50)","v":""},{"$f":"IF(A148=\"\",\"\",'個人種目(ジュニア)'!AG50)","v":""},{"$f":"IF(A148=\"\",\"\",'個人種目(ジュニア)'!AH50)","v":""},1,null,"",{"$f":"IF(A148=\"\",\"\",TRIM('個人種目(ジュニア)'!B50)&TRIM('個人種目(ジュニア)'!C50))","v":""},{"$f":"IF(A148=\"\",\"\",申込書!$AB$2)","v":""}]
[{"$f":"IF('個人種目(ジュニア)'!B51=\"\",\"\",'個人種目(ジュニア)'!AP51)","v":""},0,{"$f":"IF(A149=\"\",\"\",'個人種目(ジュニア)'!AR51)","v":""},{"$f":"IF(A149=\"\",\"\",'個人種目(ジュニア)'!AS51)","v":""},{"$f":"IF(A149=\"\",\"\",'個人種目(ジュニア)'!F51)","v":""},{"$f":"IF(A149=\"\",\"\",'個人種目(ジュニア)'!Q51)","v":""},{"$f":"IF(A149=\"\",\"\",'個人種目(ジュニア)'!AF51)","v":""},{"$f":"IF(A149=\"\",\"\",'個人種目(ジュニア)'!AG51)","v":""},{"$f":"IF(A149=\"\",\"\",'個人種目(ジュニア)'!AH51)","v":""},1,null,"",{"$f":"IF(A149=\"\",\"\",TRIM('個人種目(ジュニア)'!B51)&TRIM('個人種目(ジュニア)'!C51))","v":""},{"$f":"IF(A149=\"\",\"\",申込書!$AB$2)","v":""}]
[{"$f":"IF('個人種目(ジュニア)'!B52=\"\",\"\",'個人種目(ジュニア)'!AP52)","v":""},0,{"$f":"IF(A150=\"\",\"\",'個人種目(ジュニア)'!AR52)","v":""},{"$f":"IF(A150=\"\",\"\",'個人種目(ジュニア)'!AS52)","v":""},{"$f":"IF(A150=\"\",\"\",'個人種目(ジュニア)'!F52)","v":""},{"$f":"IF(A150=\"\",\"\",'個人種目(ジュニア)'!Q52)","v":""},{"$f":"IF(A150=\"\",\"\",'個人種目(ジュニア)'!AF52)","v":""},{"$f":"IF(A150=\"\",\"\",'個人種目(ジュニア)'!AG52)","v":""},{"$f":"IF(A150=\"\",\"\",'個人種目(ジュニア)'!AH52)","v":""},1,null,"",{"$f":"IF(A150=\"\",\"\",TRIM('個人種目(ジュニア)'!B52)&TRIM('個人種目(ジュニア)'!C52))","v":""},{"$f":"IF(A150=\"\",\"\",申込書!$AB$2)","v":""}]
[{"$f":"IF('個人種目(ジュニア)'!B53=\"\",\"\",'個人種目(ジュニア)'!AP53)","v":""},0,{"$f":"IF(A151=\"\",\"\",'個人種目(ジュニア)'!AR53)","v":""},{"$f":"IF(A151=\"\",\"\",'個人種目(ジュニア)'!AS53)","v":""},{"$f":"IF(A151=\"\",\"\",'個人種目(ジュニア)'!F53)","v":""},{"$f":"IF(A151=\"\",\"\",'個人種目(ジュニア)'!Q53)","v":""},{"$f":"IF(A151=\"\",\"\",'個人種目(ジュニア)'!AF53)","v":""},{"$f":"IF(A151=\"\",\"\",'個人種目(ジュニア)'!AG53)","v":""},{"$f":"IF(A151=\"\",\"\",'個人種目(ジュニア)'!AH53)","v":""},1,null,"",{"$f":"IF(A151=\"\",\"\",TRIM('個人種目(ジュニア)'!B53)&TRIM('個人種目(ジュニア)'!C53))","v":""},{"$f":"IF(A151=\"\",\"\",申込書!$AB$2)","v":""}]
[{"$f":"IF('個人種目(ジュニア)'!B54=\"\",\"\",'個人種目(ジュニア)'!AP54)","v":""},0,{"$f":"IF(A152=\"\",\"\",'個人種目(ジュニア)'!AR54)","v":""},{"$f":"IF(A152=\"\",\"\",'個人種目(ジュニア)'!AS54)","v":""},{"$f":"IF(A152=\"\",\"\",'個人種目(ジュニア)'!F54)","v":""},{"$f":"IF(A152=\"\",\"\",'個人種目(ジュニア)'!Q54)","v":""},{"$f":"IF(A152=\"\",\"\",'個人種目(ジュニア)'!AF54)","v":""},{"$f":"IF(A152=\"\",\"\",'個人種目(ジュニア)'!AG54)","v":""},{"$f":"IF(A152=\"\",\"\",'個人種目(ジュニア)'!AH54)","v":""},1,null,"",{"$f":"IF(A152=\"\",\"\",TRIM('個人種目(ジュニア)'!B54)&TRIM('個人種目(ジュニア)'!C54))","v":""},{"$f":"IF(A152=\"\",\"\",申込書!$AB$2)","v":""}]
[{"$f":"IF('個人種目(ジュニア)'!B55=\"\",\"\",'個人種目(ジュニア)'!AP55)","v":""},0,{"$f":"IF(A153=\"\",\"\",'個人種目(ジュニア)'!AR55)","v":""},{"$f":"IF(A153=\"\",\"\",'個人種目(ジュニア)'!AS55)","v":""},{"$f":"IF(A153=\"\",\"\",'個人種目(ジュニア)'!F55)","v":""},{"$f":"IF(A153=\"\",\"\",'個人種目(ジュニア)'!Q55)","v":""},{"$f":"IF(A153=\"\",\"\",'個人種目(ジュニア)'!AF55)","v":""},{"$f":"IF(A153=\"\",\"\",'個人種目(ジュニア)'!AG55)","v":""},{"$f":"IF(A153=\"\",\"\",'個人種目(ジュニア)'!AH55)","v":""},1,null,"",{"$f":"IF(A153=\"\",\"\",TRIM('個人種目(ジュニア)'!B55)&TRIM('個人種目(ジュニア)'!C55))","v":""},{"$f":"IF(A153=\"\",\"\",申込書!$AB$2)","v":""}]
[{"$nulls":13},{"$f":"IF(A154=\"\",\"\",申込書!$AB$2)","v":""}]
[{"$nulls":13},{"$f":"IF(A155=\"\",\"\",申込書!$AB$2)","v":""}]
[{"$f":"IF('個人種目(ジュニア)'!B58=\"\",\"\",'個人種目(ジュニア)'!AP58)","v":""},5,{"$f":"IF(A156=\"\",\"\",'個人種目(ジュニア)'!AR58)","v":""},{"$f":"IF(A156=\"\",\"\",'個人種目(ジュニア)'!AS58)","v":""},{"$f":"IF(A156=\"\",\"\",'個人種目(ジュニア)'!F58)","v":""},{"$f":"IF(A156=\"\",\"\",'個人種目(ジュニア)'!Q58)","v":""},{"$f":"IF(A156=\"\",\"\",'個人種目(ジュニア)'!AF58)","v":""},{"$f":"IF(A156=\"\",\"\",'個人種目(ジュニア)'!AG58)","v":""},{"$f":"IF(A156=\"\",\"\",'個人種目(ジュニア)'!AH58)","v":""},1,null,"",{"$f":"IF(A156=\"\",\"\",TRIM('個人種目(ジュニア)'!B58)&TRIM('個人種目(ジュニア)'!C58))","v":""},{"$f":"IF(A156=\"\",\"\",申込書!$AB$2)","v":""}]
[{"$f":"IF('個人種目(ジュニア)'!B59=\"\",\"\",'個人種目(ジュニア)'!AP59)","v":""},5,{"$f":"IF(A157=\"\",\"\",'個人種目(ジュニア)'!AR59)","v":""},{"$f":"IF(A157=\"\",\"\",'個人種目(ジュニア)'!AS59)","v":""},{"$f":"IF(A157=\"\",\"\",'個人種目(ジュニア)'!F59)","v":""},{"$f":"IF(A157=\"\",\"\",'個人種目(ジュニア)'!Q59)","v":""},{"$f":"IF(A157=\"\",\"\",'個人種目(ジュニア)'!AF59)","v":""},{"$f":"IF(A157=\"\",\"\",'個人種目(ジュニア)'!AG59)","v":""},{"$f":"IF(A157=\"\",\"\",'個人種目(ジュニア)'!AH59)","v":""},1,null,"",{"$f":"IF(A157=\"\",\"\",TRIM('個人種目(ジュニア)'!B59)&TRIM('個人種目(ジュニア)'!C59))","v":""},{"$f":"IF(A157=\"\",\"\",申込書!$AB$2)","v":""}]
[{"$f":"IF('個人種目(ジュニア)'!B60=\"\",\"\",'個人種目(ジュニア)'!AP60)","v":""},5,{"$f":"IF(A158=\"\",\"\",'個人種目(ジュニア)'!AR60)","v":""},{"$f":"IF(A158=\"\",\"\",'個人種目(ジュニア)'!AS60)","v":""},{"$f":"IF(A158=\"\",\"\",'個人種目(ジュニア)'!F60)","v":""},{"$f":"IF(A158=\"\",\"\",'個人種目(ジュニア)'!Q60)","v":""},{"$f":"IF(A158=\"\",\"\",'個人種目(ジュニア)'!AF60)","v":""},{"$f":"IF(A158=\"\",\"\",'個人種目(ジュニア)'!AG60)","v":""},{"$f":"IF(A158=\"\",\"\",'個人種目(ジュニア)'!AH60)","v":""},1,null,"",{"$f":"IF(A158=\"\",\"\",TRIM('個人種目(ジュニア)'!B60)&TRIM('個人種目(ジュニア)'!C60))","v":""},{"$f":"IF(A158=\"\",\"\",申込書!$AB$2)","v":""}]
[{"$f":"IF('個人種目(ジュニア)'!B61=\"\",\"\",'個人種目(ジュニア)'!AP61)","v":""},5,{"$f":"IF(A159=\"\",\"\",'個人種目(ジュニア)'!AR61)","v":""},{"$f":"IF(A159=\"\",\"\",'個人種目(ジュニア)'!AS61)","v":""},{"$f":"IF(A159=\"\",\"\",'個人種目(ジュニア)'!F61)","v":""},{"$f":"IF(A159=\"\",\"\",'個人種目(ジュニア)'!Q61)","v":""},{"$f":"IF(A159=\"\",\"\",'個人種目(ジュニア)'!AF61)","v":""},{"$f":"IF(A159=\"\",\"\",'個人種目(ジュニア)'!AG61)","v":""},{"$f":"IF(A159=\"\",\"\",'個人種目(ジュニア)'!AH61)","v":""},1,null,"",{"$f":"IF(A159=\"\",\"\",TRIM('個人種目(ジュニア)'!B61)&TRIM('個人種目(ジュニア)'!C61))","v":""},{"$f":"IF(A159=\"\",\"\",申込書!$AB$2)","v":""}]
[{"$f":"IF('個人種目(ジュニア)'!B62=\"\",\"\",'個人種目(ジュニア)'!AP62)","v":""},5,{"$f":"IF(A160=\"\",\"\",'個人種目(ジュニア)'!AR62)","v":""},{"$f":"IF(A160=\"\",\"\",'個人種目(ジュニア)'!AS62)","v":""},{"$f":"IF(A160=\"\",\"\",'個人種目(ジュニア)'!F62)","v":""},{"$f":"IF(A160=\"\",\"\",'個人種目(ジュニア)'!Q62)","v":""},{"$f":"IF(A160=\"\",\"\",'個人種目(ジュニア)'!AF62)","v":""},{"$f":"IF(A160=\"\",\"\",'個人種目(ジュニア)'!AG62)","v":""},{"$f":"IF(A160=\"\",\"\",'個人種目(ジュニア)'!AH62)","v":""},1,null,"",{"$f":"IF(A160=\"\",\"\",TRIM('個人種目(ジュニア)'!B62)&TRIM('個人種目(ジュニア)'!C62))","v":""},{"$f":"IF(A160=\"\",\"\",申込書!$AB$2)","v":""}]
[{"$f":"IF('個人種目(ジュニア)'!B63=\"\",\"\",'個人種目(ジュニア)'!AP63)","v":""},5,{"$f":"IF(A161=\"\",\"\",'個人種目(ジュニア)'!AR63)","v":""},{"$f":"IF(A161=\"\",\"\",'個人種目(ジュニア)'!AS63)","v":""},{"$f":"IF(A161=\"\",\"\",'個人種目(ジュニア)'!F63)","v":""},{"$f":"IF(A161=\"\",\"\",'個人種目(ジュニア)'!Q63)","v":""},{"$f":"IF(A161=\"\",\"\",'個人種目(ジュニア)'!AF63)","v":""},{"$f":"IF(A161=\"\",\"\",'個人種目(ジュニア)'!AG63)","v":""},{"$f":"IF(A161=\"\",\"\",'個人種目(ジュニア)'!AH63)","v":""},1,null,"",{"$f":"IF(A161=\"\",\"\",TRIM('個人種目(ジュニア)'!B63)&TRIM('個人種目(ジュニア)'!C63))","v":""},{"$f":"IF(A161=\"\",\"\",申込書!$AB$2)","v":""}]
[{"$f":"IF('個人種目(ジュニア)'!B64=\"\",\"\",'個人種目(ジュニア)'!AP64)","v":""},5,{"$f":"IF(A162=\"\",\"\",'個人種目(ジュニア)'!AR64)","v":""},{"$f":"IF(A162=\"\",\"\",'個人種目(ジュニア)'!AS64)","v":""},{"$f":"IF(A162=\"\",\"\",'個人種目(ジュニア)'!F64)","v":""},{"$f":"IF(A162=\"\",\"\",'個人種目(ジュニア)'!Q64)","v":""},{"$f":"IF(A162=\"\",\"\",'個人種目(ジュニア)'!AF64)","v":""},{"$f":"IF(A162=\"\",\"\",'個人種目(ジュニア)'!AG64)","v":""},{"$f":"IF(A162=\"\",\"\",'個人種目(ジュニア)'!AH64)","v":""},1,null,"",{"$f":"IF(A162=\"\",\"\",TRIM('個人種目(ジュニア)'!B64)&TRIM('個人種目(ジュニア)'!C64))","v":""},{"$f":"IF(A162=\"\",\"\",申込書!$AB$2)","v":""}]
[{"$f":"IF('個人種目(ジュニア)'!B65=\"\",\"\",'個人種目(ジュニア)'!AP65)","v":""},5,{"$f":"IF(A163=\"\",\"\",'個人種目(ジュニア)'!AR65)","v":""},{"$f":"IF(A163=\"\",\"\",'個人種目(ジュニア)'!AS65)","v":""},{"$f":"IF(A163=\"\",\"\",'個人種目(ジュニア)'!F65)","v":""},{"$f":"IF(A163=\"\",\"\",'個人種目(ジュニア)'!Q65)","v":""},{"$f":"IF(A163=\"\",\"\",'個人種目(ジュニア)'!AF65)","v":""},{"$f":"IF(A163=\"\",\"\",'個人種目(ジュニア)'!AG65)","v":""},{"$f":"IF(A163=\"\",\"\",'個人種目(ジュニア)'!AH65)","v":""},1,null,"",{"$f":"IF(A163=\"\",\"\",TRIM('個人種目(ジュニア)'!B65)&TRIM('個人種目(ジュニア)'!C65))","v":""},{"$f":"IF(A163=\"\",\"\",申込書!$AB$2)","v":""}]
[{"$f":"IF('個人種目(ジュニア)'!B66=\"\",\"\",'個人種目(ジュニア)'!AP66)","v":""},5,{"$f":"IF(A164=\"\",\"\",'個人種目(ジュニア)'!AR66)","v":""},{"$f":"IF(A164=\"\",\"\",'個人種目(ジュニア)'!AS66)","v":""},{"$f":"IF(A164=\"\",\"\",'個人種目(ジュニア)'!F66)","v":""},{"$f":"IF(A164=\"\",\"\",'個人種目(ジュニア)'!Q66)","v":""},{"$f":"IF(A164=\"\",\"\",'個人種目(ジュニア)'!AF66)","v":""},{"$f":"IF(A164=\"\",\"\",'個人種目(ジュニア)'!AG66)","v":""},{"$f":"IF(A164=\"\",\"\",'個人種目(ジュニア)'!AH66)","v":""},1,null,"",{"$f":"IF(A164=\"\",\"\",TRIM('個人種目(ジュニア)'!B66)&TRIM('個人種目(ジュニア)'!C66))","v":""},{"$f":"IF(A164=\"\",\"\",申込書!$AB$2)","v":""}]
[{"$f":"IF('個人種目(ジュニア)'!B67=\"\",\"\",'個人種目(ジュニア)'!AP67)","v":""},5,{"$f":"IF(A165=\"\",\"\",'個人種目(ジュニア)'!AR67)","v":""},{"$f":"IF(A165=\"\",\"\",'個人種目(ジュニア)'!AS67)","v":""},{"$f":"IF(A165=\"\",\"\",'個人種目(ジュニア)'!F67)","v":""},{"$f":"IF(A165=\"\",\"\",'個人種目(ジュニア)'!Q67)","v":""},{"$f":"IF(A165=\"\",\"\",'個人種目(ジュニア)'!AF67)","v":""},{"$f":"IF(A165=\"\",\"\",'個人種目(ジュニア)'!AG67)","v":""},{"$f":"IF(A165=\"\",\"\",'個人種目(ジュニア)'!AH67)","v":""},1,null,"",{"$f":"IF(A165=\"\",\"\",TRIM('個人種目(ジュニア)'!B67)&TRIM('個人種目(ジュニア)'!C67))","v":""},{"$f":"IF(A165=\"\",\"\",申込書!$AB$2)","v":""}]
[{"$f":"IF('個人種目(ジュニア)'!B68=\"\",\"\",'個人種目(ジュニア)'!AP68)","v":""},5,{"$f":"IF(A166=\"\",\"\",'個人種目(ジュニア)'!AR68)","v":""},{"$f":"IF(A166=\"\",\"\",'個人種目(ジュニア)'!AS68)","v":""},{"$f":"IF(A166=\"\",\"\",'個人種目(ジュニア)'!F68)","v":""},{"$f":"IF(A166=\"\",\"\",'個人種目(ジュニア)'!Q68)","v":""},{"$f":"IF(A166=\"\",\"\",'個人種目(ジュニア)'!AF68)","v":""},{"$f":"IF(A166=\"\",\"\",'個人種目(ジュニア)'!AG68)","v":""},{"$f":"IF(A166=\"\",\"\",'個人種目(ジュニア)'!AH68)","v":""},1,null,"",{"$f":"IF(A166=\"\",\"\",TRIM('個人種目(ジュニア)'!B68)&TRIM('個人種目(ジュニア)'!C68))","v":""},{"$f":"IF(A166=\"\",\"\",申込書!$AB$2)","v":""}]
[{"$f":"IF('個人種目(ジュニア)'!B69=\"\",\"\",'個人種目(ジュニア)'!AP69)","v":""},5,{"$f":"IF(A167=\"\",\"\",'個人種目(ジュニア)'!AR69)","v":""},{"$f":"IF(A167=\"\",\"\",'個人種目(ジュニア)'!AS69)","v":""},{"$f":"IF(A167=\"\",\"\",'個人種目(ジュニア)'!F69)","v":""},{"$f":"IF(A167=\"\",\"\",'個人種目(ジュニア)'!Q69)","v":""},{"$f":"IF(A167=\"\",\"\",'個人種目(ジュニア)'!AF69)","v":""},{"$f":"IF(A167=\"\",\"\",'個人種目(ジュニア)'!AG69)","v":""},{"$f":"IF(A167=\"\",\"\",'個人種目(ジュニア)'!AH69)","v":""},1,null,"",{"$f":"IF(A167=\"\",\"\",TRIM('個人種目(ジュニア)'!B69)&TRIM('個人種目(ジュニア)'!C69))","v":""},{"$f":"IF(A167=\"\",\"\",申込書!$AB$2)","v":""}]
[{"$f":"IF('個人種目(ジュニア)'!B70=\"\",\"\",'個人種目(ジュニア)'!AP70)","v":""},5,{"$f":"IF(A168=\"\",\"\",'個人種目(ジュニア)'!AR70)","v":""},{"$f":"IF(A168=\"\",\"\",'個人種目(ジュニア)'!AS70)","v":""},{"$f":"IF(A168=\"\",\"\",'個人種目(ジュニア)'!F70)","v":""},{"$f":"IF(A168=\"\",\"\",'個人種目(ジュニア)'!Q70)","v":""},{"$f":"IF(A168=\"\",\"\",'個人種目(ジュニア)'!AF70)","v":""},{"$f":"IF(A168=\"\",\"\",'個人種目(ジュニア)'!AG70)","v":""},{"$f":"IF(A168=\"\",\"\",'個人種目(ジュニア)'!AH70)","v":""},1,null,"",{"$f":"IF(A168=\"\",\"\",TRIM('個人種目(ジュニア)'!B70)&TRIM('個人種目(ジュニア)'!C70))","v":""},{"$f":"IF(A168=\"\",\"\",申込書!$AB$2)","v":""}]
[{"$f":"IF('個人種目(ジュニア)'!B71=\"\",\"\",'個人種目(ジュニア)'!AP71)","v":""},5,{"$f":"IF(A169=\"\",\"\",'個人種目(ジュニア)'!AR71)","v":""},{"$f":"IF(A169=\"\",\"\",'個人種目(ジュニア)'!AS71)","v":""},{"$f":"IF(A169=\"\",\"\",'個人種目(ジュニア)'!F71)","v":""},{"$f":"IF(A169=\"\",\"\",'個人種目(ジュニア)'!Q71)","v":""},{"$f":"IF(A169=\"\",\"\",'個人種目(ジュニア)'!AF71)","v":""},{"$f":"IF(A169=\"\",\"\",'個人種目(ジュニア)'!AG71)","v":""},{"$f":"IF(A169=\"\",\"\",'個人種目(ジュニア)'!AH71)","v":""},1,null,{"$f":"IF(A169=\"\",\"\",C169)","v":""},{"$f":"IF(A169=\"\",\"\",TRIM('個人種目(ジュニア)'!B71)&TRIM('個人種目(ジュニア)'!C71))","v":""},{"$f":"IF(A169=\"\",\"\",申込書!$AB$2)","v":""}]
[{"$f":"IF('個人種目(ジュニア)'!B72=\"\",\"\",'個人種目(ジュニア)'!AP72)","v":""},5,{"$f":"IF(A170=\"\",\"\",'個人種目(ジュニア)'!AR72)","v":""},{"$f":"IF(A170=\"\",\"\",'個人種目(ジュニア)'!AS72)","v":""},{"$f":"IF(A170=\"\",\"\",'個人種目(ジュニア)'!F72)","v":""},{"$f":"IF(A170=\"\",\"\",'個人種目(ジュニア)'!Q72)","v":""},{"$f":"IF(A170=\"\",\"\",'個人種目(ジュニア)'!AF72)","v":""},{"$f":"IF(A170=\"\",\"\",'個人種目(ジュニア)'!AG72)","v":""},{"$f":"IF(A170=\"\",\"\",'個人種目(ジュニア)'!AH72)","v":""},1,null,"",{"$f":"IF(A170=\"\",\"\",TRIM('個人種目(ジュニア)'!B72)&TRIM('個人種目(ジュニア)'!C72))","v":""},{"$f":"IF(A170=\"\",\"\",申込書!$AB$2)","v":""}]
[{"$f":"IF('個人種目(ジュニア)'!B73=\"\",\"\",'個人種目(ジュニア)'!AP73)","v":""},5,{"$f":"IF(A171=\"\",\"\",'個人種目(ジュニア)'!AR73)","v":""},{"$f":"IF(A171=\"\",\"\",'個人種目(ジュニア)'!AS73)","v":""},{"$f":"IF(A171=\"\",\"\",'個人種目(ジュニア)'!F73)","v":""},{"$f":"IF(A171=\"\",\"\",'個人種目(ジュニア)'!Q73)","v":""},{"$f":"IF(A171=\"\",\"\",'個人種目(ジュニア)'!AF73)","v":""},{"$f":"IF(A171=\"\",\"\",'個人種目(ジュニア)'!AG73)","v":""},{"$f":"IF(A171=\"\",\"\",'個人種目(ジュニア)'!AH73)","v":""},1,null,"",{"$f":"IF(A171=\"\",\"\",TRIM('個人種目(ジュニア)'!B73)&TRIM('個人種目(ジュニア)'!C73))","v":""},{"$f":"IF(A171=\"\",\"\",申込書!$AB$2)","v":""}]
[{"$f":"IF('個人種目(ジュニア)'!B74=\"\",\"\",'個人種目(ジュニア)'!AP74)","v":""},5,{"$f":"IF(A172=\"\",\"\",'個人種目(ジュニア)'!AR74)","v":""},{"$f":"IF(A172=\"\",\"\",'個人種目(ジュニア)'!AS74)","v":""},{"$f":"IF(A172=\"\",\"\",'個人種目(ジュニア)'!F74)","v":""},{"$f":"IF(A172=\"\",\"\",'個人種目(ジュニア)'!Q74)","v":""},{"$f":"IF(A172=\"\",\"\",'個人種目(ジュニア)'!AF74)","v":""},{"$f":"IF(A172=\"\",\"\",'個人種目(ジュニア)'!AG74)","v":""},{"$f":"IF(A172=\"\",\"\",'個人種目(ジュニア)'!AH74)","v":""},1,null,"",{"$f":"IF(A172=\"\",\"\",TRIM('個人種目(ジュニア)'!B74)&TRIM('個人種目(ジュニア)'!C74))","v":""},{"$f":"IF(A172=\"\",\"\",申込書!$AB$2)","v":""}]
[{"$f":"IF('個人種目(ジュニア)'!B75=\"\",\"\",'個人種目(ジュニア)'!AP75)","v":""},5,{"$f":"IF(A173=\"\",\"\",'個人種目(ジュニア)'!AR75)","v":""},{"$f":"IF(A173=\"\",\"\",'個人種目(ジュニア)'!AS75)","v":""},{"$f":"IF(A173=\"\",\"\",'個人種目(ジュニア)'!F75)","v":""},{"$f":"IF(A173=\"\",\"\",'個人種目(ジュニア)'!Q75)","v":""},{"$f":"IF(A173=\"\",\"\",'個人種目(ジュニア)'!AF75)","v":""},{"$f":"IF(A173=\"\",\"\",'個人種目(ジュニア)'!AG75)","v":""},{"$f":"IF(A173=\"\",\"\",'個人種目(ジュニア)'!AH75)","v":""},1,null,"",{"$f":"IF(A173=\"\",\"\",TRIM('個人種目(ジュニア)'!B75)&TRIM('個人種目(ジュニア)'!C75))","v":""},{"$f":"IF(A173=\"\",\"\",申込書!$AB$2)","v":""}]
[{"$f":"IF('個人種目(ジュニア)'!B76=\"\",\"\",'個人種目(ジュニア)'!AP76)","v":""},5,{"$f":"IF(A174=\"\",\"\",'個人種目(ジュニア)'!AR76)","v":""},{"$f":"IF(A174=\"\",\"\",'個人種目(ジュニア)'!AS76)","v":""},{"$f":"IF(A174=\"\",\"\",'個人種目(ジュニア)'!F76)","v":""},{"$f":"IF(A174=\"\",\"\",'個人種目(ジュニア)'!Q76)","v":""},{"$f":"IF(A174=\"\",\"\",'個人種目(ジュニア)'!AF76)","v":""},{"$f":"IF(A174=\"\",\"\",'個人種目(ジュニア)'!AG76)","v":""},{"$f":"IF(A174=\"\",\"\",'個人種目(ジュニア)'!AH76)","v":""},1,null,"",{"$f":"IF(A174=\"\",\"\",TRIM('個人種目(ジュニア)'!B76)&TRIM('個人種目(ジュニア)'!C76))","v":""},{"$f":"IF(A174=\"\",\"\",申込書!$AB$2)","v":""}]
[{"$f":"IF('個人種目(ジュニア)'!B77=\"\",\"\",'個人種目(ジュニア)'!AP77)","v":""},5,{"$f":"IF(A175=\"\",\"\",'個人種目(ジュニア)'!AR77)","v":""},{"$f":"IF(A175=\"\",\"\",'個人種目(ジュニア)'!AS77)","v":""},{"$f":"IF(A175=\"\",\"\",'個人種目(ジュニア)'!F77)","v":""},{"$f":"IF(A175=\"\",\"\",'個人種目(ジュニア)'!Q77)","v":""},{"$f":"IF(A175=\"\",\"\",'個人種目(ジュニア)'!AF77)","v":""},{"$f":"IF(A175=\"\",\"\",'個人種目(ジュニア)'!AG77)","v":""},{"$f":"IF(A175=\"\",\"\",'個人種目(ジュニア)'!AH77)","v":""},1,null,"",{"$f":"IF(A175=\"\",\"\",TRIM('個人種目(ジュニア)'!B77)&TRIM('個人種目(ジュニア)'!C77))","v":""},{"$f":"IF(A175=\"\",\"\",申込書!$AB$2)","v":""}]
[{"$f":"IF('個人種目(ジュニア)'!B78=\"\",\"\",'個人種目(ジュニア)'!AP78)","v":""},5,{"$f":"IF(A176=\"\",\"\",'個人種目(ジュニア)'!AR78)","v":""},{"$f":"IF(A176=\"\",\"\",'個人種目(ジュニア)'!AS78)","v":""},{"$f":"IF(A176=\"\",\"\",'個人種目(ジュニア)'!F78)","v":""},{"$f":"IF(A176=\"\",\"\",'個人種目(ジュニア)'!Q78)","v":""},{"$f":"IF(A176=\"\",\"\",'個人種目(ジュニア)'!AF78)","v":""},{"$f":"IF(A176=\"\",\"\",'個人種目(ジュニア)'!AG78)","v":""},{"$f":"IF(A176=\"\",\"\",'個人種目(ジュニア)'!AH78)","v":""},1,null,"",{"$f":"IF(A176=\"\",\"\",TRIM('個人種目(ジュニア)'!B78)&TRIM('個人種目(ジュニア)'!C78))","v":""},{"$f":"IF(A176=\"\",\"\",申込書!$AB$2)","v":""}]
[{"$f":"IF('個人種目(ジュニア)'!B79=\"\",\"\",'個人種目(ジュニア)'!AP79)","v":""},5,{"$f":"IF(A177=\"\",\"\",'個人種目(ジュニア)'!AR79)","v":""},{"$f":"IF(A177=\"\",\"\",'個人種目(ジュニア)'!AS79)","v":""},{"$f":"IF(A177=\"\",\"\",'個人種目(ジュニア)'!F79)","v":""},{"$f":"IF(A177=\"\",\"\",'個人種目(ジュニア)'!Q79)","v":""},{"$f":"IF(A177=\"\",\"\",'個人種目(ジュニア)'!AF79)","v":""},{"$f":"IF(A177=\"\",\"\",'個人種目(ジュニア)'!AG79)","v":""},{"$f":"IF(A177=\"\",\"\",'個人種目(ジュニア)'!AH79)","v":""},1,null,"",{"$f":"IF(A177=\"\",\"\",TRIM('個人種目(ジュニア)'!B79)&TRIM('個人種目(ジュニア)'!C79))","v":""},{"$f":"IF(A177=\"\",\"\",申込書!$AB$2)","v":""}]
[{"$f":"IF('個人種目(ジュニア)'!B80=\"\",\"\",'個人種目(ジュニア)'!AP80)","v":""},5,{"$f":"IF(A178=\"\",\"\",'個人種目(ジュニア)'!AR80)","v":""},{"$f":"IF(A178=\"\",\"\",'個人種目(ジュニア)'!AS80)","v":""},{"$f":"IF(A178=\"\",\"\",'個人種目(ジュニア)'!F80)","v":""},{"$f":"IF(A178=\"\",\"\",'個人種目(ジュニア)'!Q80)","v":""},{"$f":"IF(A178=\"\",\"\",'個人種目(ジュニア)'!AF80)","v":""},{"$f":"IF(A178=\"\",\"\",'個人種目(ジュニア)'!AG80)","v":""},{"$f":"IF(A178=\"\",\"\",'個人種目(ジュニア)'!AH80)","v":""},1,null,"",{"$f":"IF(A178=\"\",\"\",TRIM('個人種目(ジュニア)'!B80)&TRIM('個人種目(ジュニア)'!C80))","v":""},{"$f":"IF(A178=\"\",\"\",申込書!$AB$2)","v":""}]
[{"$f":"IF('個人種目(ジュニア)'!B81=\"\",\"\",'個人種目(ジュニア)'!AP81)","v":""},5,{"$f":"IF(A179=\"\",\"\",'個人種目(ジュニア)'!AR81)","v":""},{"$f":"IF(A179=\"\",\"\",'個人種目(ジュニア)'!AS81)","v":""},{"$f":"IF(A179=\"\",\"\",'個人種目(ジュニア)'!F81)","v":""},{"$f":"IF(A179=\"\",\"\",'個人種目(ジュニア)'!Q81)","v":""},{"$f":"IF(A179=\"\",\"\",'個人種目(ジュニア)'!AF81)","v":""},{"$f":"IF(A179=\"\",\"\",'個人種目(ジュニア)'!AG81)","v":""},{"$f":"IF(A179=\"\",\"\",'個人種目(ジュニア)'!AH81)","v":""},1,null,"",{"$f":"IF(A179=\"\",\"\",TRIM('個人種目(ジュニア)'!B81)&TRIM('個人種目(ジュニア)'!C81))","v":""},{"$f":"IF(A179=\"\",\"\",申込書!$AB$2)","v":""}]
[{"$f":"IF('個人種目(ジュニア)'!B82=\"\",\"\",'個人種目(ジュニア)'!AP82)","v":""},5,{"$f":"IF(A180=\"\",\"\",'個人種目(ジュニア)'!AR82)","v":""},{"$f":"IF(A180=\"\",\"\",'個人種目(ジュニア)'!AS82)","v":""},{"$f":"IF(A180=\"\",\"\",'個人種目(ジュニア)'!F82)","v":""},{"$f":"IF(A180=\"\",\"\",'個人種目(ジュニア)'!Q82)","v":""},{"$f":"IF(A180=\"\",\"\",'個人種目(ジュニア)'!AF82)","v":""},{"$f":"IF(A180=\"\",\"\",'個人種目(ジュニア)'!AG82)","v":""},{"$f":"IF(A180=\"\",\"\",'個人種目(ジュニア)'!AH82)","v":""},1,null,"",{"$f":"IF(A180=\"\",\"\",TRIM('個人種目(ジュニア)'!B82)&TRIM('個人種目(ジュニア)'!C82))","v":""},{"$f":"IF(A180=\"\",\"\",申込書!$AB$2)","v":""}]
[{"$f":"IF('個人種目(ジュニア)'!B83=\"\",\"\",'個人種目(ジュニア)'!AP83)","v":""},5,{"$f":"IF(A181=\"\",\"\",'個人種目(ジュニア)'!AR83)","v":""},{"$f":"IF(A181=\"\",\"\",'個人種目(ジュニア)'!AS83)","v":""},{"$f":"IF(A181=\"\",\"\",'個人種目(ジュニア)'!F83)","v":""},{"$f":"IF(A181=\"\",\"\",'個人種目(ジュニア)'!Q83)","v":""},{"$f":"IF(A181=\"\",\"\",'個人種目(ジュニア)'!AF83)","v":""},{"$f":"IF(A181=\"\",\"\",'個人種目(ジュニア)'!AG83)","v":""},{"$f":"IF(A181=\"\",\"\",'個人種目(ジュニア)'!AH83)","v":""},1,null,"",{"$f":"IF(A181=\"\",\"\",TRIM('個人種目(ジュニア)'!B83)&TRIM('個人種目(ジュニア)'!C83))","v":""},{"$f":"IF(A181=\"\",\"\",申込書!$AB$2)","v":""}]
[{"$f":"IF('個人種目(ジュニア)'!B84=\"\",\"\",'個人種目(ジュニア)'!AP84)","v":""},5,{"$f":"IF(A182=\"\",\"\",'個人種目(ジュニア)'!AR84)","v":""},{"$f":"IF(A182=\"\",\"\",'個人種目(ジュニア)'!AS84)","v":""},{"$f":"IF(A182=\"\",\"\",'個人種目(ジュニア)'!F84)","v":""},{"$f":"IF(A182=\"\",\"\",'個人種目(ジュニア)'!Q84)","v":""},{"$f":"IF(A182=\"\",\"\",'個人種目(ジュニア)'!AF84)","v":""},{"$f":"IF(A182=\"\",\"\",'個人種目(ジュニア)'!AG84)","v":""},{"$f":"IF(A182=\"\",\"\",'個人種目(ジュニア)'!AH84)","v":""},1,null,"",{"$f":"IF(A182=\"\",\"\",TRIM('個人種目(ジュニア)'!B84)&TRIM('個人種目(ジュニア)'!C84))","v":""},{"$f":"IF(A182=\"\",\"\",申込書!$AB$2)","v":""}]
[{"$f":"IF('個人種目(ジュニア)'!B85=\"\",\"\",'個人種目(ジュニア)'!AP85)","v":""},5,{"$f":"IF(A183=\"\",\"\",'個人種目(ジュニア)'!AR85)","v":""},{"$f":"IF(A183=\"\",\"\",'個人種目(ジュニア)'!AS85)","v":""},{"$f":"IF(A183=\"\",\"\",'個人種目(ジュニア)'!F85)","v":""},{"$f":"IF(A183=\"\",\"\",'個人種目(ジュニア)'!Q85)","v":""},{"$f":"IF(A183=\"\",\"\",'個人種目(ジュニア)'!AF85)","v":""},{"$f":"IF(A183=\"\",\"\",'個人種目(ジュニア)'!AG85)","v":""},{"$f":"IF(A183=\"\",\"\",'個人種目(ジュニア)'!AH85)","v":""},1,null,"",{"$f":"IF(A183=\"\",\"\",TRIM('個人種目(ジュニア)'!B85)&TRIM('個人種目(ジュニア)'!C85))","v":""},{"$f":"IF(A183=\"\",\"\",申込書!$AB$2)","v":""}]
[{"$f":"IF('個人種目(ジュニア)'!B86=\"\",\"\",'個人種目(ジュニア)'!AP86)","v":""},5,{"$f":"IF(A184=\"\",\"\",'個人種目(ジュニア)'!AR86)","v":""},{"$f":"IF(A184=\"\",\"\",'個人種目(ジュニア)'!AS86)","v":""},{"$f":"IF(A184=\"\",\"\",'個人種目(ジュニア)'!F86)","v":""},{"$f":"IF(A184=\"\",\"\",'個人種目(ジュニア)'!Q86)","v":""},{"$f":"IF(A184=\"\",\"\",'個人種目(ジュニア)'!AF86)","v":""},{"$f":"IF(A184=\"\",\"\",'個人種目(ジュニア)'!AG86)","v":""},{"$f":"IF(A184=\"\",\"\",'個人種目(ジュニア)'!AH86)","v":""},1,null,"",{"$f":"IF(A184=\"\",\"\",TRIM('個人種目(ジュニア)'!B86)&TRIM('個人種目(ジュニア)'!C86))","v":""},{"$f":"IF(A184=\"\",\"\",申込書!$AB$2)","v":""}]
[{"$f":"IF('個人種目(ジュニア)'!B87=\"\",\"\",'個人種目(ジュニア)'!AP87)","v":""},5,{"$f":"IF(A185=\"\",\"\",'個人種目(ジュニア)'!AR87)","v":""},{"$f":"IF(A185=\"\",\"\",'個人種目(ジュニア)'!AS87)","v":""},{"$f":"IF(A185=\"\",\"\",'個人種目(ジュニア)'!F87)","v":""},{"$f":"IF(A185=\"\",\"\",'個人種目(ジュニア)'!Q87)","v":""},{"$f":"IF(A185=\"\",\"\",'個人種目(ジュニア)'!AF87)","v":""},{"$f":"IF(A185=\"\",\"\",'個人種目(ジュニア)'!AG87)","v":""},{"$f":"IF(A185=\"\",\"\",'個人種目(ジュニア)'!AH87)","v":""},1,null,"",{"$f":"IF(A185=\"\",\"\",TRIM('個人種目(ジュニア)'!B87)&TRIM('個人種目(ジュニア)'!C87))","v":""},{"$f":"IF(A185=\"\",\"\",申込書!$AB$2)","v":""}]
[{"$f":"IF('個人種目(ジュニア)'!B88=\"\",\"\",'個人種目(ジュニア)'!AP88)","v":""},5,{"$f":"IF(A186=\"\",\"\",'個人種目(ジュニア)'!AR88)","v":""},{"$f":"IF(A186=\"\",\"\",'個人種目(ジュニア)'!AS88)","v":""},{"$f":"IF(A186=\"\",\"\",'個人種目(ジュニア)'!F88)","v":""},{"$f":"IF(A186=\"\",\"\",'個人種目(ジュニア)'!Q88)","v":""},{"$f":"IF(A186=\"\",\"\",'個人種目(ジュニア)'!AF88)","v":""},{"$f":"IF(A186=\"\",\"\",'個人種目(ジュニア)'!AG88)","v":""},{"$f":"IF(A186=\"\",\"\",'個人種目(ジュニア)'!AH88)","v":""},1,null,"",{"$f":"IF(A186=\"\",\"\",TRIM('個人種目(ジュニア)'!B88)&TRIM('個人種目(ジュニア)'!C88))","v":""},{"$f":"IF(A186=\"\",\"\",申込書!$AB$2)","v":""}]
[{"$f":"IF('個人種目(ジュニア)'!B89=\"\",\"\",'個人種目(ジュニア)'!AP89)","v":""},5,{"$f":"IF(A187=\"\",\"\",'個人種目(ジュニア)'!AR89)","v":""},{"$f":"IF(A187=\"\",\"\",'個人種目(ジュニア)'!AS89)","v":""},{"$f":"IF(A187=\"\",\"\",'個人種目(ジュニア)'!F89)","v":""},{"$f":"IF(A187=\"\",\"\",'個人種目(ジュニア)'!Q89)","v":""},{"$f":"IF(A187=\"\",\"\",'個人種目(ジュニア)'!AF89)","v":""},{"$f":"IF(A187=\"\",\"\",'個人種目(ジュニア)'!AG89)","v":""},{"$f":"IF(A187=\"\",\"\",'個人種目(ジュニア)'!AH89)","v":""},1,null,"",{"$f":"IF(A187=\"\",\"\",TRIM('個人種目(ジュニア)'!B89)&TRIM('個人種目(ジュニア)'!C89))","v":""},{"$f":"IF(A187=\"\",\"\",申込書!$AB$2)","v":""}]
[{"$f":"IF('個人種目(ジュニア)'!B90=\"\",\"\",'個人種目(ジュニア)'!AP90)","v":""},5,{"$f":"IF(A188=\"\",\"\",'個人種目(ジュニア)'!AR90)","v":""},{"$f":"IF(A188=\"\",\"\",'個人種目(ジュニア)'!AS90)","v":""},{"$f":"IF(A188=\"\",\"\",'個人種目(ジュニア)'!F90)","v":""},{"$f":"IF(A188=\"\",\"\",'個人種目(ジュニア)'!Q90)","v":""},{"$f":"IF(A188=\"\",\"\",'個人種目(ジュニア)'!AF90)","v":""},{"$f":"IF(A188=\"\",\"\",'個人種目(ジュニア)'!AG90)","v":""},{"$f":"IF(A188=\"\",\"\",'個人種目(ジュニア)'!AH90)","v":""},1,null,"",{"$f":"IF(A188=\"\",\"\",TRIM('個人種目(ジュニア)'!B90)&TRIM('個人種目(ジュニア)'!C90))","v":""},{"$f":"IF(A188=\"\",\"\",申込書!$AB$2)","v":""}]
[{"$f":"IF('個人種目(ジュニア)'!B91=\"\",\"\",'個人種目(ジュニア)'!AP91)","v":""},5,{"$f":"IF(A189=\"\",\"\",'個人種目(ジュニア)'!AR91)","v":""},{"$f":"IF(A189=\"\",\"\",'個人種目(ジュニア)'!AS91)","v":""},{"$f":"IF(A189=\"\",\"\",'個人種目(ジュニア)'!F91)","v":""},{"$f":"IF(A189=\"\",\"\",'個人種目(ジュニア)'!Q91)","v":""},{"$f":"IF(A189=\"\",\"\",'個人種目(ジュニア)'!AF91)","v":""},{"$f":"IF(A189=\"\",\"\",'個人種目(ジュニア)'!AG91)","v":""},{"$f":"IF(A189=\"\",\"\",'個人種目(ジュニア)'!AH91)","v":""},1,null,"",{"$f":"IF(A189=\"\",\"\",TRIM('個人種目(ジュニア)'!B91)&TRIM('個人種目(ジュニア)'!C91))","v":""},{"$f":"IF(A189=\"\",\"\",申込書!$AB$2)","v":""}]
[{"$f":"IF('個人種目(ジュニア)'!B92=\"\",\"\",'個人種目(ジュニア)'!AP92)","v":""},5,{"$f":"IF(A190=\"\",\"\",'個人種目(ジュニア)'!AR92)","v":""},{"$f":"IF(A190=\"\",\"\",'個人種目(ジュニア)'!AS92)","v":""},{"$f":"IF(A190=\"\",\"\",'個人種目(ジュニア)'!F92)","v":""},{"$f":"IF(A190=\"\",\"\",'個人種目(ジュニア)'!Q92)","v":""},{"$f":"IF(A190=\"\",\"\",'個人種目(ジュニア)'!AF92)","v":""},{"$f":"IF(A190=\"\",\"\",'個人種目(ジュニア)'!AG92)","v":""},{"$f":"IF(A190=\"\",\"\",'個人種目(ジュニア)'!AH92)","v":""},1,null,"",{"$f":"IF(A190=\"\",\"\",TRIM('個人種目(ジュニア)'!B92)&TRIM('個人種目(ジュニア)'!C92))","v":""},{"$f":"IF(A190=\"\",\"\",申込書!$AB$2)","v":""}]
[{"$f":"IF('個人種目(ジュニア)'!B93=\"\",\"\",'個人種目(ジュニア)'!AP93)","v":""},5,{"$f":"IF(A191=\"\",\"\",'個人種目(ジュニア)'!AR93)","v":""},{"$f":"IF(A191=\"\",\"\",'個人種目(ジュニア)'!AS93)","v":""},{"$f":"IF(A191=\"\",\"\",'個人種目(ジュニア)'!F93)","v":""},{"$f":"IF(A191=\"\",\"\",'個人種目(ジュニア)'!Q93)","v":""},{"$f":"IF(A191=\"\",\"\",'個人種目(ジュニア)'!AF93)","v":""},{"$f":"IF(A191=\"\",\"\",'個人種目(ジュニア)'!AG93)","v":""},{"$f":"IF(A191=\"\",\"\",'個人種目(ジュニア)'!AH93)","v":""},1,null,"",{"$f":"IF(A191=\"\",\"\",TRIM('個人種目(ジュニア)'!B93)&TRIM('個人種目(ジュニア)'!C93))","v":""},{"$f":"IF(A191=\"\",\"\",申込書!$AB$2)","v":""}]
[{"$f":"IF('個人種目(ジュニア)'!B94=\"\",\"\",'個人種目(ジュニア)'!AP94)","v":""},5,{"$f":"IF(A192=\"\",\"\",'個人種目(ジュニア)'!AR94)","v":""},{"$f":"IF(A192=\"\",\"\",'個人種目(ジュニア)'!AS94)","v":""},{"$f":"IF(A192=\"\",\"\",'個人種目(ジュニア)'!F94)","v":""},{"$f":"IF(A192=\"\",\"\",'個人種目(ジュニア)'!Q94)","v":""},{"$f":"IF(A192=\"\",\"\",'個人種目(ジュニア)'!AF94)","v":""},{"$f":"IF(A192=\"\",\"\",'個人種目(ジュニア)'!AG94)","v":""},{"$f":"IF(A192=\"\",\"\",'個人種目(ジュニア)'!AH94)","v":""},1,null,"",{"$f":"IF(A192=\"\",\"\",TRIM('個人種目(ジュニア)'!B94)&TRIM('個人種目(ジュニア)'!C94))","v":""},{"$f":"IF(A192=\"\",\"\",申込書!$AB$2)","v":""}]
[{"$f":"IF('個人種目(ジュニア)'!B95=\"\",\"\",'個人種目(ジュニア)'!AP95)","v":""},5,{"$f":"IF(A193=\"\",\"\",'個人種目(ジュニア)'!AR95)","v":""},{"$f":"IF(A193=\"\",\"\",'個人種目(ジュニア)'!AS95)","v":""},{"$f":"IF(A193=\"\",\"\",'個人種目(ジュニア)'!F95)","v":""},{"$f":"IF(A193=\"\",\"\",'個人種目(ジュニア)'!Q95)","v":""},{"$f":"IF(A193=\"\",\"\",'個人種目(ジュニア)'!AF95)","v":""},{"$f":"IF(A193=\"\",\"\",'個人種目(ジュニア)'!AG95)","v":""},{"$f":"IF(A193=\"\",\"\",'個人種目(ジュニア)'!AH95)","v":""},1,null,"",{"$f":"IF(A193=\"\",\"\",TRIM('個人種目(ジュニア)'!B95)&TRIM('個人種目(ジュニア)'!C95))","v":""},{"$f":"IF(A193=\"\",\"\",申込書!$AB$2)","v":""}]
[{"$f":"IF('個人種目(ジュニア)'!B96=\"\",\"\",'個人種目(ジュニア)'!AP96)","v":""},5,{"$f":"IF(A194=\"\",\"\",'個人種目(ジュニア)'!AR96)","v":""},{"$f":"IF(A194=\"\",\"\",'個人種目(ジュニア)'!AS96)","v":""},{"$f":"IF(A194=\"\",\"\",'個人種目(ジュニア)'!F96)","v":""},{"$f":"IF(A194=\"\",\"\",'個人種目(ジュニア)'!Q96)","v":""},{"$f":"IF(A194=\"\",\"\",'個人種目(ジュニア)'!AF96)","v":""},{"$f":"IF(A194=\"\",\"\",'個人種目(ジュニア)'!AG96)","v":""},{"$f":"IF(A194=\"\",\"\",'個人種目(ジュニア)'!AH96)","v":""},1,null,"",{"$f":"IF(A194=\"\",\"\",TRIM('個人種目(ジュニア)'!B96)&TRIM('個人種目(ジュニア)'!C96))","v":""},{"$f":"IF(A194=\"\",\"\",申込書!$AB$2)","v":""}]
[{"$f":"IF('個人種目(ジュニア)'!B97=\"\",\"\",'個人種目(ジュニア)'!AP97)","v":""},5,{"$f":"IF(A195=\"\",\"\",'個人種目(ジュニア)'!AR97)","v":""},{"$f":"IF(A195=\"\",\"\",'個人種目(ジュニア)'!AS97)","v":""},{"$f":"IF(A195=\"\",\"\",'個人種目(ジュニア)'!F97)","v":""},{"$f":"IF(A195=\"\",\"\",'個人種目(ジュニア)'!Q97)","v":""},{"$f":"IF(A195=\"\",\"\",'個人種目(ジュニア)'!AF97)","v":""},{"$f":"IF(A195=\"\",\"\",'個人種目(ジュニア)'!AG97)","v":""},{"$f":"IF(A195=\"\",\"\",'個人種目(ジュニア)'!AH97)","v":""},1,null,"",{"$f":"IF(A195=\"\",\"\",TRIM('個人種目(ジュニア)'!B97)&TRIM('個人種目(ジュニア)'!C97))","v":""},{"$f":"IF(A195=\"\",\"\",申込書!$AB$2)","v":""}]
[{"$f":"IF('個人種目(ジュニア)'!B98=\"\",\"\",'個人種目(ジュニア)'!AP98)","v":""},5,{"$f":"IF(A196=\"\",\"\",'個人種目(ジュニア)'!AR98)","v":""},{"$f":"IF(A196=\"\",\"\",'個人種目(ジュニア)'!AS98)","v":""},{"$f":"IF(A196=\"\",\"\",'個人種目(ジュニア)'!F98)","v":""},{"$f":"IF(A196=\"\",\"\",'個人種目(ジュニア)'!Q98)","v":""},{"$f":"IF(A196=\"\",\"\",'個人種目(ジュニア)'!AF98)","v":""},{"$f":"IF(A196=\"\",\"\",'個人種目(ジュニア)'!AG98)","v":""},{"$f":"IF(A196=\"\",\"\",'個人種目(ジュニア)'!AH98)","v":""},1,null,"",{"$f":"IF(A196=\"\",\"\",TRIM('個人種目(ジュニア)'!B98)&TRIM('個人種目(ジュニア)'!C98))","v":""},{"$f":"IF(A196=\"\",\"\",申込書!$AB$2)","v":""}]
[{"$f":"IF('個人種目(ジュニア)'!B99=\"\",\"\",'個人種目(ジュニア)'!AP99)","v":""},5,{"$f":"IF(A197=\"\",\"\",'個人種目(ジュニア)'!AR99)","v":""},{"$f":"IF(A197=\"\",\"\",'個人種目(ジュニア)'!AS99)","v":""},{"$f":"IF(A197=\"\",\"\",'個人種目(ジュニア)'!F99)","v":""},{"$f":"IF(A197=\"\",\"\",'個人種目(ジュニア)'!Q99)","v":""},{"$f":"IF(A197=\"\",\"\",'個人種目(ジュニア)'!AF99)","v":""},{"$f":"IF(A197=\"\",\"\",'個人種目(ジュニア)'!AG99)","v":""},{"$f":"IF(A197=\"\",\"\",'個人種目(ジュニア)'!AH99)","v":""},1,null,"",{"$f":"IF(A197=\"\",\"\",TRIM('個人種目(ジュニア)'!B99)&TRIM('個人種目(ジュニア)'!C99))","v":""},{"$f":"IF(A197=\"\",\"\",申込書!$AB$2)","v":""}]
[{"$f":"IF('個人種目(ジュニア)'!B100=\"\",\"\",'個人種目(ジュニア)'!AP100)","v":""},5,{"$f":"IF(A198=\"\",\"\",'個人種目(ジュニア)'!AR100)","v":""},{"$f":"IF(A198=\"\",\"\",'個人種目(ジュニア)'!AS100)","v":""},{"$f":"IF(A198=\"\",\"\",'個人種目(ジュニア)'!F100)","v":""},{"$f":"IF(A198=\"\",\"\",'個人種目(ジュニア)'!Q100)","v":""},{"$f":"IF(A198=\"\",\"\",'個人種目(ジュニア)'!AF100)","v":""},{"$f":"IF(A198=\"\",\"\",'個人種目(ジュニア)'!AG100)","v":""},{"$f":"IF(A198=\"\",\"\",'個人種目(ジュニア)'!AH100)","v":""},1,null,"",{"$f":"IF(A198=\"\",\"\",TRIM('個人種目(ジュニア)'!B100)&TRIM('個人種目(ジュニア)'!C100))","v":""},{"$f":"IF(A198=\"\",\"\",申込書!$AB$2)","v":""}]
[{"$f":"IF('個人種目(ジュニア)'!B101=\"\",\"\",'個人種目(ジュニア)'!AP101)","v":""},5,{"$f":"IF(A199=\"\",\"\",'個人種目(ジュニア)'!AR101)","v":""},{"$f":"IF(A199=\"\",\"\",'個人種目(ジュニア)'!AS101)","v":""},{"$f":"IF(A199=\"\",\"\",'個人種目(ジュニア)'!F101)","v":""},{"$f":"IF(A199=\"\",\"\",'個人種目(ジュニア)'!Q101)","v":""},{"$f":"IF(A199=\"\",\"\",'個人種目(ジュニア)'!AF101)","v":""},{"$f":"IF(A199=\"\",\"\",'個人種目(ジュニア)'!AG101)","v":""},{"$f":"IF(A199=\"\",\"\",'個人種目(ジュニア)'!AH101)","v":""},1,null,"",{"$f":"IF(A199=\"\",\"\",TRIM('個人種目(ジュニア)'!B101)&TRIM('個人種目(ジュニア)'!C101))","v":""},{"$f":"IF(A199=\"\",\"\",申込書!$AB$2)","v":""}]
[{"$f":"IF('個人種目(ジュニア)'!B102=\"\",\"\",'個人種目(ジュニア)'!AP102)","v":""},5,{"$f":"IF(A200=\"\",\"\",'個人種目(ジュニア)'!AR102)","v":""},{"$f":"IF(A200=\"\",\"\",'個人種目(ジュニア)'!AS102)","v":""},{"$f":"IF(A200=\"\",\"\",'個人種目(ジュニア)'!F102)","v":""},{"$f":"IF(A200=\"\",\"\",'個人種目(ジュニア)'!Q102)","v":""},{"$f":"IF(A200=\"\",\"\",'個人種目(ジュニア)'!AF102)","v":""},{"$f":"IF(A200=\"\",\"\",'個人種目(ジュニア)'!AG102)","v":""},{"$f":"IF(A200=\"\",\"\",'個人種目(ジュニア)'!AH102)","v":""},1,null,"",{"$f":"IF(A200=\"\",\"\",TRIM('個人種目(ジュニア)'!B102)&TRIM('個人種目(ジュニア)'!C102))","v":""},{"$f":"IF(A200=\"\",\"\",申込書!$AB$2)","v":""}]
[{"$f":"IF('個人種目(ジュニア)'!B103=\"\",\"\",'個人種目(ジュニア)'!AP103)","v":""},5,{"$f":"IF(A201=\"\",\"\",'個人種目(ジュニア)'!AR103)","v":""},{"$f":"IF(A201=\"\",\"\",'個人種目(ジュニア)'!AS103)","v":""},{"$f":"IF(A201=\"\",\"\",'個人種目(ジュニア)'!F103)","v":""},{"$f":"IF(A201=\"\",\"\",'個人種目(ジュニア)'!Q103)","v":""},{"$f":"IF(A201=\"\",\"\",'個人種目(ジュニア)'!AF103)","v":""},{"$f":"IF(A201=\"\",\"\",'個人種目(ジュニア)'!AG103)","v":""},{"$f":"IF(A201=\"\",\"\",'個人種目(ジュニア)'!AH103)","v":""},1,null,"",{"$f":"IF(A201=\"\",\"\",TRIM('個人種目(ジュニア)'!B103)&TRIM('個人種目(ジュニア)'!C103))","v":""},{"$f":"IF(A201=\"\",\"\",申込書!$AB$2)","v":""}]
[{"$f":"IF('個人種目(ジュニア)'!B104=\"\",\"\",'個人種目(ジュニア)'!AP104)","v":""},5,{"$f":"IF(A202=\"\",\"\",'個人種目(ジュニア)'!AR104)","v":""},{"$f":"IF(A202=\"\",\"\",'個人種目(ジュニア)'!AS104)","v":""},{"$f":"IF(A202=\"\",\"\",'個人種目(ジュニア)'!F104)","v":""},{"$f":"IF(A202=\"\",\"\",'個人種目(ジュニア)'!Q104)","v":""},{"$f":"IF(A202=\"\",\"\",'個人種目(ジュニア)'!AF104)","v":""},{"$f":"IF(A202=\"\",\"\",'個人種目(ジュニア)'!AG104)","v":""},{"$f":"IF(A202=\"\",\"\",'個人種目(ジュニア)'!AH104)","v":""},1,null,"",{"$f":"IF(A202=\"\",\"\",TRIM('個人種目(ジュニア)'!B104)&TRIM('個人種目(ジュニア)'!C104))","v":""},{"$f":"IF(A202=\"\",\"\",申込書!$AB$2)","v":""}]
[{"$f":"IF('個人種目(ジュニア)'!B105=\"\",\"\",'個人種目(ジュニア)'!AP105)","v":""},5,{"$f":"IF(A203=\"\",\"\",'個人種目(ジュニア)'!AR105)","v":""},{"$f":"IF(A203=\"\",\"\",'個人種目(ジュニア)'!AS105)","v":""},{"$f":"IF(A203=\"\",\"\",'個人種目(ジュニア)'!F105)","v":""},{"$f":"IF(A203=\"\",\"\",'個人種目(ジュニア)'!Q105)","v":""},{"$f":"IF(A203=\"\",\"\",'個人種目(ジュニア)'!AF105)","v":""},{"$f":"IF(A203=\"\",\"\",'個人種目(ジュニア)'!AG105)","v":""},{"$f":"IF(A203=\"\",\"\",'個人種目(ジュニア)'!AH105)","v":""},1,null,"",{"$f":"IF(A203=\"\",\"\",TRIM('個人種目(ジュニア)'!B105)&TRIM('個人種目(ジュニア)'!C105))","v":""},{"$f":"IF(A203=\"\",\"\",申込書!$AB$2)","v":""}]
[{"$f":"IF('個人種目(ジュニア)'!B106=\"\",\"\",'個人種目(ジュニア)'!AP106)","v":""},5,{"$f":"IF(A204=\"\",\"\",'個人種目(ジュニア)'!AR106)","v":""},{"$f":"IF(A204=\"\",\"\",'個人種目(ジュニア)'!AS106)","v":""},{"$f":"IF(A204=\"\",\"\",'個人種目(ジュニア)'!F106)","v":""},{"$f":"IF(A204=\"\",\"\",'個人種目(ジュニア)'!Q106)","v":""},{"$f":"IF(A204=\"\",\"\",'個人種目(ジュニア)'!AF106)","v":""},{"$f":"IF(A204=\"\",\"\",'個人種目(ジュニア)'!AG106)","v":""},{"$f":"IF(A204=\"\",\"\",'個人種目(ジュニア)'!AH106)","v":""},1,null,"",{"$f":"IF(A204=\"\",\"\",TRIM('個人種目(ジュニア)'!B106)&TRIM('個人種目(ジュニア)'!C106))","v":""},{"$f":"IF(A204=\"\",\"\",申込書!$AB$2)","v":""}]
[{"$f":"IF('個人種目(ジュニア)'!B107=\"\",\"\",'個人種目(ジュニア)'!AP107)","v":""},5,{"$f":"IF(A205=\"\",\"\",'個人種目(ジュニア)'!AR107)","v":""},{"$f":"IF(A205=\"\",\"\",'個人種目(ジュニア)'!AS107)","v":""},{"$f":"IF(A205=\"\",\"\",'個人種目(ジュニア)'!F107)","v":""},{"$f":"IF(A205=\"\",\"\",'個人種目(ジュニア)'!Q107)","v":""},{"$f":"IF(A205=\"\",\"\",'個人種目(ジュニア)'!AF107)","v":""},{"$f":"IF(A205=\"\",\"\",'個人種目(ジュニア)'!AG107)","v":""},{"$f":"IF(A205=\"\",\"\",'個人種目(ジュニア)'!AH107)","v":""},1,null,"",{"$f":"IF(A205=\"\",\"\",TRIM('個人種目(ジュニア)'!B107)&TRIM('個人種目(ジュニア)'!C107))","v":""},{"$f":"IF(A205=\"\",\"\",申込書!$AB$2)","v":""}]

{"sheet":"エントリー","index":8,"n_rows":1021,"n_cols":8,"rows_kept":1021,"cut":false,"hidden":true,"merged":[]}
["選手No","種目No","距離","区分No","オープン","性別","ｴﾝﾄﾘｰﾀｲﾑ","入力順"]
[{"$f":"IF('個人種目(マスターズ)'!G6=\"\",\"\",'個人種目(マスターズ)'!AP6)","v":""},{"$f":"IF(A2=\"\",\"\",'個人種目(マスターズ)'!AT6)","v":""},{"$f":"IF(A2=\"\",\"\",'個人種目(マスターズ)'!AY6)","v":""},{"$f":"IF(B2=\"\",\"\",'個人種目(マスターズ)'!AF6)","v":""},0,0,{"$f":"IF(A2=\"\",\"\",'個人種目(マスターズ)'!BD6)","v":""},1]
[{"$f":"IF('個人種目(マスターズ)'!G7=\"\",\"\",'個人種目(マスターズ)'!AP7)","v":""},{"$f":"IF(A3=\"\",\"\",'個人種目(マスターズ)'!AT7)","v":""},{"$f":"IF(A3=\"\",\"\",'個人種目(マスターズ)'!AY7)","v":""},{"$f":"IF(B3=\"\",\"\",'個人種目(マスターズ)'!AF7)","v":""},0,0,{"$f":"IF(A3=\"\",\"\",'個人種目(マスターズ)'!BD7)","v":""},1]
[{"$f":"IF('個人種目(マスターズ)'!G8=\"\",\"\",'個人種目(マスターズ)'!AP8)","v":""},{"$f":"IF(A4=\"\",\"\",'個人種目(マスターズ)'!AT8)","v":""},{"$f":"IF(A4=\"\",\"\",'個人種目(マスターズ)'!AY8)","v":""},{"$f":"IF(B4=\"\",\"\",'個人種目(マスターズ)'!AF8)","v":""},0,0,{"$f":"IF(A4=\"\",\"\",'個人種目(マスターズ)'!BD8)","v":""},1]
[{"$f":"IF('個人種目(マスターズ)'!G9=\"\",\"\",'個人種目(マスターズ)'!AP9)","v":""},{"$f":"IF(A5=\"\",\"\",'個人種目(マスターズ)'!AT9)","v":""},{"$f":"IF(A5=\"\",\"\",'個人種目(マスターズ)'!AY9)","v":""},{"$f":"IF(B5=\"\",\"\",'個人種目(マスターズ)'!AF9)","v":""},0,0,{"$f":"IF(A5=\"\",\"\",'個人種目(マスターズ)'!BD9)","v":""},1]
[{"$f":"IF('個人種目(マスターズ)'!G10=\"\",\"\",'個人種目(マスターズ)'!AP10)","v":""},{"$f":"IF(A6=\"\",\"\",'個人種目(マスターズ)'!AT10)","v":""},{"$f":"IF(A6=\"\",\"\",'個人種目(マスターズ)'!AY10)","v":""},{"$f":"IF(B6=\"\",\"\",'個人種目(マスターズ)'!AF10)","v":""},0,0,{"$f":"IF(A6=\"\",\"\",'個人種目(マスターズ)'!BD10)","v":""},1]
[{"$f":"IF('個人種目(マスターズ)'!G11=\"\",\"\",'個人種目(マスターズ)'!AP11)","v":""},{"$f":"IF(A7=\"\",\"\",'個人種目(マスターズ)'!AT11)","v":""},{"$f":"IF(A7=\"\",\"\",'個人種目(マスターズ)'!AY11)","v":""},{"$f":"IF(B7=\"\",\"\",'個人種目(マスターズ)'!AF11)","v":""},0,0,{"$f":"IF(A7=\"\",\"\",'個人種目(マスターズ)'!BD11)","v":""},1]
[{"$f":"IF('個人種目(マスターズ)'!G12=\"\",\"\",'個人種目(マスターズ)'!AP12)","v":""},{"$f":"IF(A8=\"\",\"\",'個人種目(マスターズ)'!AT12)","v":""},{"$f":"IF(A8=\"\",\"\",'個人種目(マスターズ)'!AY12)","v":""},{"$f":"IF(B8=\"\",\"\",'個人種目(マスターズ)'!AF12)","v":""},0,0,{"$f":"IF(A8=\"\",\"\",'個人種目(マスターズ)'!BD12)","v":""},1]
[{"$f":"IF('個人種目(マスターズ)'!G13=\"\",\"\",'個人種目(マスターズ)'!AP13)","v":""},{"$f":"IF(A9=\"\",\"\",'個人種目(マスターズ)'!AT13)","v":""},{"$f":"IF(A9=\"\",\"\",'個人種目(マスターズ)'!AY13)","v":""},{"$f":"IF(B9=\"\",\"\",'個人種目(マスターズ)'!AF13)","v":""},0,0,{"$f":"IF(A9=\"\",\"\",'個人種目(マスターズ)'!BD13)","v":""},1]
[{"$f":"IF('個人種目(マスターズ)'!G14=\"\",\"\",'個人種目(マスターズ)'!AP14)","v":""},{"$f":"IF(A10=\"\",\"\",'個人種目(マスターズ)'!AT14)","v":""},{"$f":"IF(A10=\"\",\"\",'個人種目(マスターズ)'!AY14)","v":""},{"$f":"IF(B10=\"\",\"\",'個人種目(マスターズ)'!AF14)","v":""},0,0,{"$f":"IF(A10=\"\",\"\",'個人種目(マスターズ)'!BD14)","v":""},1]
[{"$f":"IF('個人種目(マスターズ)'!G15=\"\",\"\",'個人種目(マスターズ)'!AP15)","v":""},{"$f":"IF(A11=\"\",\"\",'個人種目(マスターズ)'!AT15)","v":""},{"$f":"IF(A11=\"\",\"\",'個人種目(マスターズ)'!AY15)","v":""},{"$f":"IF(B11=\"\",\"\",'個人種目(マスターズ)'!AF15)","v":""},0,0,{"$f":"IF(A11=\"\",\"\",'個人種目(マスターズ)'!BD15)","v":""},1]
[{"$f":"IF('個人種目(マスターズ)'!G16=\"\",\"\",'個人種目(マスターズ)'!AP16)","v":""},{"$f":"IF(A12=\"\",\"\",'個人種目(マスターズ)'!AT16)","v":""},{"$f":"IF(A12=\"\",\"\",'個人種目(マスターズ)'!AY16)","v":""},{"$f":"IF(B12=\"\",\"\",'個人種目(マスターズ)'!AF16)","v":""},0,0,{"$f":"IF(A12=\"\",\"\",'個人種目(マスターズ)'!BD16)","v":""},1]
[{"$f":"IF('個人種目(マスターズ)'!G17=\"\",\"\",'個人種目(マスターズ)'!AP17)","v":""},{"$f":"IF(A13=\"\",\"\",'個人種目(マスターズ)'!AT17)","v":""},{"$f":"IF(A13=\"\",\"\",'個人種目(マスターズ)'!AY17)","v":""},{"$f":"IF(B13=\"\",\"\",'個人種目(マスターズ)'!AF17)","v":""},0,0,{"$f":"IF(A13=\"\",\"\",'個人種目(マスターズ)'!BD17)","v":""},1]
[{"$f":"IF('個人種目(マスターズ)'!G18=\"\",\"\",'個人種目(マスターズ)'!AP18)","v":""},{"$f":"IF(A14=\"\",\"\",'個人種目(マスターズ)'!AT18)","v":""},{"$f":"IF(A14=\"\",\"\",'個人種目(マスターズ)'!AY18)","v":""},{"$f":"IF(B14=\"\",\"\",'個人種目(マスターズ)'!AF18)","v":""},0,0,{"$f":"IF(A14=\"\",\"\",'個人種目(マスターズ)'!BD18)","v":""},1]
[{"$f":"IF('個人種目(マスターズ)'!G19=\"\",\"\",'個人種目(マスターズ)'!AP19)","v":""},{"$f":"IF(A15=\"\",\"\",'個人種目(マスターズ)'!AT19)","v":""},{"$f":"IF(A15=\"\",\"\",'個人種目(マスターズ)'!AY19)","v":""},{"$f":"IF(B15=\"\",\"\",'個人種目(マスターズ)'!AF19)","v":""},0,0,{"$f":"IF(A15=\"\",\"\",'個人種目(マスターズ)'!BD19)","v":""},1]
[{"$f":"IF('個人種目(マスターズ)'!G20=\"\",\"\",'個人種目(マスターズ)'!AP20)","v":""},{"$f":"IF(A16=\"\",\"\",'個人種目(マスターズ)'!AT20)","v":""},{"$f":"IF(A16=\"\",\"\",'個人種目(マスターズ)'!AY20)","v":""},{"$f":"IF(B16=\"\",\"\",'個人種目(マスターズ)'!AF20)","v":""},0,0,{"$f":"IF(A16=\"\",\"\",'個人種目(マスターズ)'!BD20)","v":""},1]
[{"$f":"IF('個人種目(マスターズ)'!G21=\"\",\"\",'個人種目(マスターズ)'!AP21)","v":""},{"$f":"IF(A17=\"\",\"\",'個人種目(マスターズ)'!AT21)","v":""},{"$f":"IF(A17=\"\",\"\",'個人種目(マスターズ)'!AY21)","v":""},{"$f":"IF(B17=\"\",\"\",'個人種目(マスターズ)'!AF21)","v":""},0,0,{"$f":"IF(A17=\"\",\"\",'個人種目(マスターズ)'!BD21)","v":""},1]
[{"$f":"IF('個人種目(マスターズ)'!G22=\"\",\"\",'個人種目(マスターズ)'!AP22)","v":""},{"$f":"IF(A18=\"\",\"\",'個人種目(マスターズ)'!AT22)","v":""},{"$f":"IF(A18=\"\",\"\",'個人種目(マスターズ)'!AY22)","v":""},{"$f":"IF(B18=\"\",\"\",'個人種目(マスターズ)'!AF22)","v":""},0,0,{"$f":"IF(A18=\"\",\"\",'個人種目(マスターズ)'!BD22)","v":""},1]
[{"$f":"IF('個人種目(マスターズ)'!G23=\"\",\"\",'個人種目(マスターズ)'!AP23)","v":""},{"$f":"IF(A19=\"\",\"\",'個人種目(マスターズ)'!AT23)","v":""},{"$f":"IF(A19=\"\",\"\",'個人種目(マスターズ)'!AY23)","v":""},{"$f":"IF(B19=\"\",\"\",'個人種目(マスターズ)'!AF23)","v":""},0,0,{"$f":"IF(A19=\"\",\"\",'個人種目(マスターズ)'!BD23)","v":""},1]
[{"$f":"IF('個人種目(マスターズ)'!G24=\"\",\"\",'個人種目(マスターズ)'!AP24)","v":""},{"$f":"IF(A20=\"\",\"\",'個人種目(マスターズ)'!AT24)","v":""},{"$f":"IF(A20=\"\",\"\",'個人種目(マスターズ)'!AY24)","v":""},{"$f":"IF(B20=\"\",\"\",'個人種目(マスターズ)'!AF24)","v":""},0,0,{"$f":"IF(A20=\"\",\"\",'個人種目(マスターズ)'!BD24)","v":""},1]
[{"$f":"IF('個人種目(マスターズ)'!G25=\"\",\"\",'個人種目(マスターズ)'!AP25)","v":""},{"$f":"IF(A21=\"\",\"\",'個人種目(マスターズ)'!AT25)","v":""},{"$f":"IF(A21=\"\",\"\",'個人種目(マスターズ)'!AY25)","v":""},{"$f":"IF(B21=\"\",\"\",'個人種目(マスターズ)'!AF25)","v":""},0,0,{"$f":"IF(A21=\"\",\"\",'個人種目(マスターズ)'!BD25)","v":""},1]
[{"$f":"IF('個人種目(マスターズ)'!G26=\"\",\"\",'個人種目(マスターズ)'!AP26)","v":""},{"$f":"IF(A22=\"\",\"\",'個人種目(マスターズ)'!AT26)","v":""},{"$f":"IF(A22=\"\",\"\",'個人種目(マスターズ)'!AY26)","v":""},{"$f":"IF(B22=\"\",\"\",'個人種目(マスターズ)'!AF26)","v":""},0,0,{"$f":"IF(A22=\"\",\"\",'個人種目(マスターズ)'!BD26)","v":""},1]
[{"$f":"IF('個人種目(マスターズ)'!G27=\"\",\"\",'個人種目(マスターズ)'!AP27)","v":""},{"$f":"IF(A23=\"\",\"\",'個人種目(マスターズ)'!AT27)","v":""},{"$f":"IF(A23=\"\",\"\",'個人種目(マスターズ)'!AY27)","v":""},{"$f":"IF(B23=\"\",\"\",'個人種目(マスターズ)'!AF27)","v":""},0,0,{"$f":"IF(A23=\"\",\"\",'個人種目(マスターズ)'!BD27)","v":""},1]
[{"$f":"IF('個人種目(マスターズ)'!G28=\"\",\"\",'個人種目(マスターズ)'!AP28)","v":""},{"$f":"IF(A24=\"\",\"\",'個人種目(マスターズ)'!AT28)","v":""},{"$f":"IF(A24=\"\",\"\",'個人種目(マスターズ)'!AY28)","v":""},{"$f":"IF(B24=\"\",\"\",'個人種目(マスターズ)'!AF28)","v":""},0,0,{"$f":"IF(A24=\"\",\"\",'個人種目(マスターズ)'!BD28)","v":""},1]
[{"$f":"IF('個人種目(マスターズ)'!G29=\"\",\"\",'個人種目(マスターズ)'!AP29)","v":""},{"$f":"IF(A25=\"\",\"\",'個人種目(マスターズ)'!AT29)","v":""},{"$f":"IF(A25=\"\",\"\",'個人種目(マスターズ)'!AY29)","v":""},{"$f":"IF(B25=\"\",\"\",'個人種目(マスターズ)'!AF29)","v":""},0,0,{"$f":"IF(A25=\"\",\"\",'個人種目(マスターズ)'!BD29)","v":""},1]
[{"$f":"IF('個人種目(マスターズ)'!G30=\"\",\"\",'個人種目(マスターズ)'!AP30)","v":""},{"$f":"IF(A26=\"\",\"\",'個人種目(マスターズ)'!AT30)","v":""},{"$f":"IF(A26=\"\",\"\",'個人種目(マスターズ)'!AY30)","v":""},{"$f":"IF(B26=\"\",\"\",'個人種目(マスターズ)'!AF30)","v":""},0,0,{"$f":"IF(A26=\"\",\"\",'個人種目(マスターズ)'!BD30)","v":""},1]
[{"$f":"IF('個人種目(マスターズ)'!G31=\"\",\"\",'個人種目(マスターズ)'!AP31)","v":""},{"$f":"IF(A27=\"\",\"\",'個人種目(マスターズ)'!AT31)","v":""},{"$f":"IF(A27=\"\",\"\",'個人種目(マスターズ)'!AY31)","v":""},{"$f":"IF(B27=\"\",\"\",'個人種目(マスターズ)'!AF31)","v":""},0,0,{"$f":"IF(A27=\"\",\"\",'個人種目(マスターズ)'!BD31)","v":""},1]
[{"$f":"IF('個人種目(マスターズ)'!G32=\"\",\"\",'個人種目(マスターズ)'!AP32)","v":""},{"$f":"IF(A28=\"\",\"\",'個人種目(マスターズ)'!AT32)","v":""},{"$f":"IF(A28=\"\",\"\",'個人種目(マスターズ)'!AY32)","v":""},{"$f":"IF(B28=\"\",\"\",'個人種目(マスターズ)'!AF32)","v":""},0,0,{"$f":"IF(A28=\"\",\"\",'個人種目(マスターズ)'!BD32)","v":""},1]
[{"$f":"IF('個人種目(マスターズ)'!G33=\"\",\"\",'個人種目(マスターズ)'!AP33)","v":""},{"$f":"IF(A29=\"\",\"\",'個人種目(マスターズ)'!AT33)","v":""},{"$f":"IF(A29=\"\",\"\",'個人種目(マスターズ)'!AY33)","v":""},{"$f":"IF(B29=\"\",\"\",'個人種目(マスターズ)'!AF33)","v":""},0,0,{"$f":"IF(A29=\"\",\"\",'個人種目(マスターズ)'!BD33)","v":""},1]
[{"$f":"IF('個人種目(マスターズ)'!G34=\"\",\"\",'個人種目(マスターズ)'!AP34)","v":""},{"$f":"IF(A30=\"\",\"\",'個人種目(マスターズ)'!AT34)","v":""},{"$f":"IF(A30=\"\",\"\",'個人種目(マスターズ)'!AY34)","v":""},{"$f":"IF(B30=\"\",\"\",'個人種目(マスターズ)'!AF34)","v":""},0,0,{"$f":"IF(A30=\"\",\"\",'個人種目(マスターズ)'!BD34)","v":""},1]
[{"$f":"IF('個人種目(マスターズ)'!G35=\"\",\"\",'個人種目(マスターズ)'!AP35)","v":""},{"$f":"IF(A31=\"\",\"\",'個人種目(マスターズ)'!AT35)","v":""},{"$f":"IF(A31=\"\",\"\",'個人種目(マスターズ)'!AY35)","v":""},{"$f":"IF(B31=\"\",\"\",'個人種目(マスターズ)'!AF35)","v":""},0,0,{"$f":"IF(A31=\"\",\"\",'個人種目(マスターズ)'!BD35)","v":""},1]
[{"$f":"IF('個人種目(マスターズ)'!G36=\"\",\"\",'個人種目(マスターズ)'!AP36)","v":""},{"$f":"IF(A32=\"\",\"\",'個人種目(マスターズ)'!AT36)","v":""},{"$f":"IF(A32=\"\",\"\",'個人種目(マスターズ)'!AY36)","v":""},{"$f":"IF(B32=\"\",\"\",'個人種目(マスターズ)'!AF36)","v":""},0,0,{"$f":"IF(A32=\"\",\"\",'個人種目(マスターズ)'!BD36)","v":""},1]
[{"$f":"IF('個人種目(マスターズ)'!G37=\"\",\"\",'個人種目(マスターズ)'!AP37)","v":""},{"$f":"IF(A33=\"\",\"\",'個人種目(マスターズ)'!AT37)","v":""},{"$f":"IF(A33=\"\",\"\",'個人種目(マスターズ)'!AY37)","v":""},{"$f":"IF(B33=\"\",\"\",'個人種目(マスターズ)'!AF37)","v":""},0,0,{"$f":"IF(A33=\"\",\"\",'個人種目(マスターズ)'!BD37)","v":""},1]
[{"$f":"IF('個人種目(マスターズ)'!G38=\"\",\"\",'個人種目(マスターズ)'!AP38)","v":""},{"$f":"IF(A34=\"\",\"\",'個人種目(マスターズ)'!AT38)","v":""},{"$f":"IF(A34=\"\",\"\",'個人種目(マスターズ)'!AY38)","v":""},{"$f":"IF(B34=\"\",\"\",'個人種目(マスターズ)'!AF38)","v":""},0,0,{"$f":"IF(A34=\"\",\"\",'個人種目(マスターズ)'!BD38)","v":""},1]
[{"$f":"IF('個人種目(マスターズ)'!G39=\"\",\"\",'個人種目(マスターズ)'!AP39)","v":""},{"$f":"IF(A35=\"\",\"\",'個人種目(マスターズ)'!AT39)","v":""},{"$f":"IF(A35=\"\",\"\",'個人種目(マスターズ)'!AY39)","v":""},{"$f":"IF(B35=\"\",\"\",'個人種目(マスターズ)'!AF39)","v":""},0,0,{"$f":"IF(A35=\"\",\"\",'個人種目(マスターズ)'!BD39)","v":""},1]
[{"$f":"IF('個人種目(マスターズ)'!G40=\"\",\"\",'個人種目(マスターズ)'!AP40)","v":""},{"$f":"IF(A36=\"\",\"\",'個人種目(マスターズ)'!AT40)","v":""},{"$f":"IF(A36=\"\",\"\",'個人種目(マスターズ)'!AY40)","v":""},{"$f":"IF(B36=\"\",\"\",'個人種目(マスターズ)'!AF40)","v":""},0,0,{"$f":"IF(A36=\"\",\"\",'個人種目(マスターズ)'!BD40)","v":""},1]
[{"$f":"IF('個人種目(マスターズ)'!G41=\"\",\"\",'個人種目(マスターズ)'!AP41)","v":""},{"$f":"IF(A37=\"\",\"\",'個人種目(マスターズ)'!AT41)","v":""},{"$f":"IF(A37=\"\",\"\",'個人種目(マスターズ)'!AY41)","v":""},{"$f":"IF(B37=\"\",\"\",'個人種目(マスターズ)'!AF41)","v":""},0,0,{"$f":"IF(A37=\"\",\"\",'個人種目(マスターズ)'!BD41)","v":""},1]
[{"$f":"IF('個人種目(マスターズ)'!G42=\"\",\"\",'個人種目(マスターズ)'!AP42)","v":""},{"$f":"IF(A38=\"\",\"\",'個人種目(マスターズ)'!AT42)","v":""},{"$f":"IF(A38=\"\",\"\",'個人種目(マスターズ)'!AY42)","v":""},{"$f":"IF(B38=\"\",\"\",'個人種目(マスターズ)'!AF42)","v":""},0,0,{"$f":"IF(A38=\"\",\"\",'個人種目(マスターズ)'!BD42)","v":""},1]
[{"$f":"IF('個人種目(マスターズ)'!G43=\"\",\"\",'個人種目(マスターズ)'!AP43)","v":""},{"$f":"IF(A39=\"\",\"\",'個人種目(マスターズ)'!AT43)","v":""},{"$f":"IF(A39=\"\",\"\",'個人種目(マスターズ)'!AY43)","v":""},{"$f":"IF(B39=\"\",\"\",'個人種目(マスターズ)'!AF43)","v":""},0,0,{"$f":"IF(A39=\"\",\"\",'個人種目(マスターズ)'!BD43)","v":""},1]
[{"$f":"IF('個人種目(マスターズ)'!G44=\"\",\"\",'個人種目(マスターズ)'!AP44)","v":""},{"$f":"IF(A40=\"\",\"\",'個人種目(マスターズ)'!AT44)","v":""},{"$f":"IF(A40=\"\",\"\",'個人種目(マスターズ)'!AY44)","v":""},{"$f":"IF(B40=\"\",\"\",'個人種目(マスターズ)'!AF44)","v":""},0,0,{"$f":"IF(A40=\"\",\"\",'個人種目(マスターズ)'!BD44)","v":""},1]
[{"$f":"IF('個人種目(マスターズ)'!G45=\"\",\"\",'個人種目(マスターズ)'!AP45)","v":""},{"$f":"IF(A41=\"\",\"\",'個人種目(マスターズ)'!AT45)","v":""},{"$f":"IF(A41=\"\",\"\",'個人種目(マスターズ)'!AY45)","v":""},{"$f":"IF(B41=\"\",\"\",'個人種目(マスターズ)'!AF45)","v":""},0,0,{"$f":"IF(A41=\"\",\"\",'個人種目(マスターズ)'!BD45)","v":""},1]
[{"$f":"IF('個人種目(マスターズ)'!G46=\"\",\"\",'個人種目(マスターズ)'!AP46)","v":""},{"$f":"IF(A42=\"\",\"\",'個人種目(マスターズ)'!AT46)","v":""},{"$f":"IF(A42=\"\",\"\",'個人種目(マスターズ)'!AY46)","v":""},{"$f":"IF(B42=\"\",\"\",'個人種目(マスターズ)'!AF46)","v":""},0,0,{"$f":"IF(A42=\"\",\"\",'個人種目(マスターズ)'!BD46)","v":""},1]
[{"$f":"IF('個人種目(マスターズ)'!G47=\"\",\"\",'個人種目(マスターズ)'!AP47)","v":""},{"$f":"IF(A43=\"\",\"\",'個人種目(マスターズ)'!AT47)","v":""},{"$f":"IF(A43=\"\",\"\",'個人種目(マスターズ)'!AY47)","v":""},{"$f":"IF(B43=\"\",\"\",'個人種目(マスターズ)'!AF47)","v":""},0,0,{"$f":"IF(A43=\"\",\"\",'個人種目(マスターズ)'!BD47)","v":""},1]
[{"$f":"IF('個人種目(マスターズ)'!G48=\"\",\"\",'個人種目(マスターズ)'!AP48)","v":""},{"$f":"IF(A44=\"\",\"\",'個人種目(マスターズ)'!AT48)","v":""},{"$f":"IF(A44=\"\",\"\",'個人種目(マスターズ)'!AY48)","v":""},{"$f":"IF(B44=\"\",\"\",'個人種目(マスターズ)'!AF48)","v":""},0,0,{"$f":"IF(A44=\"\",\"\",'個人種目(マスターズ)'!BD48)","v":""},1]
[{"$f":"IF('個人種目(マスターズ)'!G49=\"\",\"\",'個人種目(マスターズ)'!AP49)","v":""},{"$f":"IF(A45=\"\",\"\",'個人種目(マスターズ)'!AT49)","v":""},{"$f":"IF(A45=\"\",\"\",'個人種目(マスターズ)'!AY49)","v":""},{"$f":"IF(B45=\"\",\"\",'個人種目(マスターズ)'!AF49)","v":""},0,0,{"$f":"IF(A45=\"\",\"\",'個人種目(マスターズ)'!BD49)","v":""},1]
[{"$f":"IF('個人種目(マスターズ)'!G50=\"\",\"\",'個人種目(マスターズ)'!AP50)","v":""},{"$f":"IF(A46=\"\",\"\",'個人種目(マスターズ)'!AT50)","v":""},{"$f":"IF(A46=\"\",\"\",'個人種目(マスターズ)'!AY50)","v":""},{"$f":"IF(B46=\"\",\"\",'個人種目(マスターズ)'!AF50)","v":""},0,0,{"$f":"IF(A46=\"\",\"\",'個人種目(マスターズ)'!BD50)","v":""},1]
[{"$f":"IF('個人種目(マスターズ)'!G51=\"\",\"\",'個人種目(マスターズ)'!AP51)","v":""},{"$f":"IF(A47=\"\",\"\",'個人種目(マスターズ)'!AT51)","v":""},{"$f":"IF(A47=\"\",\"\",'個人種目(マスターズ)'!AY51)","v":""},{"$f":"IF(B47=\"\",\"\",'個人種目(マスターズ)'!AF51)","v":""},0,0,{"$f":"IF(A47=\"\",\"\",'個人種目(マスターズ)'!BD51)","v":""},1]
[{"$f":"IF('個人種目(マスターズ)'!G52=\"\",\"\",'個人種目(マスターズ)'!AP52)","v":""},{"$f":"IF(A48=\"\",\"\",'個人種目(マスターズ)'!AT52)","v":""},{"$f":"IF(A48=\"\",\"\",'個人種目(マスターズ)'!AY52)","v":""},{"$f":"IF(B48=\"\",\"\",'個人種目(マスターズ)'!AF52)","v":""},0,0,{"$f":"IF(A48=\"\",\"\",'個人種目(マスターズ)'!BD52)","v":""},1]
[{"$f":"IF('個人種目(マスターズ)'!G53=\"\",\"\",'個人種目(マスターズ)'!AP53)","v":""},{"$f":"IF(A49=\"\",\"\",'個人種目(マスターズ)'!AT53)","v":""},{"$f":"IF(A49=\"\",\"\",'個人種目(マスターズ)'!AY53)","v":""},{"$f":"IF(B49=\"\",\"\",'個人種目(マスターズ)'!AF53)","v":""},0,0,{"$f":"IF(A49=\"\",\"\",'個人種目(マスターズ)'!BD53)","v":""},1]
[{"$f":"IF('個人種目(マスターズ)'!G54=\"\",\"\",'個人種目(マスターズ)'!AP54)","v":""},{"$f":"IF(A50=\"\",\"\",'個人種目(マスターズ)'!AT54)","v":""},{"$f":"IF(A50=\"\",\"\",'個人種目(マスターズ)'!AY54)","v":""},{"$f":"IF(B50=\"\",\"\",'個人種目(マスターズ)'!AF54)","v":""},0,0,{"$f":"IF(A50=\"\",\"\",'個人種目(マスターズ)'!BD54)","v":""},1]
[{"$f":"IF('個人種目(マスターズ)'!G55=\"\",\"\",'個人種目(マスターズ)'!AP55)","v":""},{"$f":"IF(A51=\"\",\"\",'個人種目(マスターズ)'!AT55)","v":""},{"$f":"IF(A51=\"\",\"\",'個人種目(マスターズ)'!AY55)","v":""},{"$f":"IF(B51=\"\",\"\",'個人種目(マスターズ)'!AF55)","v":""},0,0,{"$f":"IF(A51=\"\",\"\",'個人種目(マスターズ)'!BD55)","v":""},1]
[]
[]
[{"$f":"IF('個人種目(マスターズ)'!G58=\"\",\"\",'個人種目(マスターズ)'!AP58)","v":""},{"$f":"IF(A54=\"\",\"\",'個人種目(マスターズ)'!AT58)","v":""},{"$f":"IF(A54=\"\",\"\",'個人種目(マスターズ)'!AY58)","v":""},{"$f":"IF(B54=\"\",\"\",'個人種目(マスターズ)'!AF58)","v":""},0,5,{"$f":"IF(A54=\"\",\"\",'個人種目(マスターズ)'!BD58)","v":""},1]
[{"$f":"IF('個人種目(マスターズ)'!G59=\"\",\"\",'個人種目(マスターズ)'!AP59)","v":""},{"$f":"IF(A55=\"\",\"\",'個人種目(マスターズ)'!AT59)","v":""},{"$f":"IF(A55=\"\",\"\",'個人種目(マスターズ)'!AY59)","v":""},{"$f":"IF(B55=\"\",\"\",'個人種目(マスターズ)'!AF59)","v":""},0,5,{"$f":"IF(A55=\"\",\"\",'個人種目(マスターズ)'!BD59)","v":""},1]
[{"$f":"IF('個人種目(マスターズ)'!G60=\"\",\"\",'個人種目(マスターズ)'!AP60)","v":""},{"$f":"IF(A56=\"\",\"\",'個人種目(マスターズ)'!AT60)","v":""},{"$f":"IF(A56=\"\",\"\",'個人種目(マスターズ)'!AY60)","v":""},{"$f":"IF(B56=\"\",\"\",'個人種目(マスターズ)'!AF60)","v":""},0,5,{"$f":"IF(A56=\"\",\"\",'個人種目(マスターズ)'!BD60)","v":""},1]
[{"$f":"IF('個人種目(マスターズ)'!G61=\"\",\"\",'個人種目(マスターズ)'!AP61)","v":""},{"$f":"IF(A57=\"\",\"\",'個人種目(マスターズ)'!AT61)","v":""},{"$f":"IF(A57=\"\",\"\",'個人種目(マスターズ)'!AY61)","v":""},{"$f":"IF(B57=\"\",\"\",'個人種目(マスターズ)'!AF61)","v":""},0,5,{"$f":"IF(A57=\"\",\"\",'個人種目(マスターズ)'!BD61)","v":""},1]
[{"$f":"IF('個人種目(マスターズ)'!G62=\"\",\"\",'個人種目(マスターズ)'!AP62)","v":""},{"$f":"IF(A58=\"\",\"\",'個人種目(マスターズ)'!AT62)","v":""},{"$f":"IF(A58=\"\",\"\",'個人種目(マスターズ)'!AY62)","v":""},{"$f":"IF(B58=\"\",\"\",'個人種目(マスターズ)'!AF62)","v":""},0,5,{"$f":"IF(A58=\"\",\"\",'個人種目(マスターズ)'!BD62)","v":""},1]
[{"$f":"IF('個人種目(マスターズ)'!G63=\"\",\"\",'個人種目(マスターズ)'!AP63)","v":""},{"$f":"IF(A59=\"\",\"\",'個人種目(マスターズ)'!AT63)","v":""},{"$f":"IF(A59=\"\",\"\",'個人種目(マスターズ)'!AY63)","v":""},{"$f":"IF(B59=\"\",\"\",'個人種目(マスターズ)'!AF63)","v":""},0,5,{"$f":"IF(A59=\"\",\"\",'個人種目(マスターズ)'!BD63)","v":""},1]
[{"$f":"IF('個人種目(マスターズ)'!G64=\"\",\"\",'個人種目(マスターズ)'!AP64)","v":""},{"$f":"IF(A60=\"\",\"\",'個人種目(マスターズ)'!AT64)","v":""},{"$f":"IF(A60=\"\",\"\",'個人種目(マスターズ)'!AY64)","v":""},{"$f":"IF(B60=\"\",\"\",'個人種目(マスターズ)'!AF64)","v":""},0,5,{"$f":"IF(A60=\"\",\"\",'個人種目(マスターズ)'!BD64)","v":""},1]
[{"$f":"IF('個人種目(マスターズ)'!G65=\"\",\"\",'個人種目(マスターズ)'!AP65)","v":""},{"$f":"IF(A61=\"\",\"\",'個人種目(マスターズ)'!AT65)","v":""},{"$f":"IF(A61=\"\",\"\",'個人種目(マスターズ)'!AY65)","v":""},{"$f":"IF(B61=\"\",\"\",'個人種目(マスターズ)'!AF65)","v":""},0,5,{"$f":"IF(A61=\"\",\"\",'個人種目(マスターズ)'!BD65)","v":""},1]
[{"$f":"IF('個人種目(マスターズ)'!G66=\"\",\"\",'個人種目(マスターズ)'!AP66)","v":""},{"$f":"IF(A62=\"\",\"\",'個人種目(マスターズ)'!AT66)","v":""},{"$f":"IF(A62=\"\",\"\",'個人種目(マスターズ)'!AY66)","v":""},{"$f":"IF(B62=\"\",\"\",'個人種目(マスターズ)'!AF66)","v":""},0,5,{"$f":"IF(A62=\"\",\"\",'個人種目(マスターズ)'!BD66)","v":""},1]
[{"$f":"IF('個人種目(マスターズ)'!G67=\"\",\"\",'個人種目(マスターズ)'!AP67)","v":""},{"$f":"IF(A63=\"\",\"\",'個人種目(マスターズ)'!AT67)","v":""},{"$f":"IF(A63=\"\",\"\",'個人種目(マスターズ)'!AY67)","v":""},{"$f":"IF(B63=\"\",\"\",'個人種目(マスターズ)'!AF67)","v":""},0,5,{"$f":"IF(A63=\"\",\"\",'個人種目(マスターズ)'!BD67)","v":""},1]
[{"$f":"IF('個人種目(マスターズ)'!G68=\"\",\"\",'個人種目(マスターズ)'!AP68)","v":""},{"$f":"IF(A64=\"\",\"\",'個人種目(マスターズ)'!AT68)","v":""},{"$f":"IF(A64=\"\",\"\",'個人種目(マスターズ)'!AY68)","v":""},{"$f":"IF(B64=\"\",\"\",'個人種目(マスターズ)'!AF68)","v":""},0,5,{"$f":"IF(A64=\"\",\"\",'個人種目(マスターズ)'!BD68)","v":""},1]
[{"$f":"IF('個人種目(マスターズ)'!G69=\"\",\"\",'個人種目(マスターズ)'!AP69)","v":""},{"$f":"IF(A65=\"\",\"\",'個人種目(マスターズ)'!AT69)","v":""},{"$f":"IF(A65=\"\",\"\",'個人種目(マスターズ)'!AY69)","v":""},{"$f":"IF(B65=\"\",\"\",'個人種目(マスターズ)'!AF69)","v":""},0,5,{"$f":"IF(A65=\"\",\"\",'個人種目(マスターズ)'!BD69)","v":""},1]
[{"$f":"IF('個人種目(マスターズ)'!G70=\"\",\"\",'個人種目(マスターズ)'!AP70)","v":""},{"$f":"IF(A66=\"\",\"\",'個人種目(マスターズ)'!AT70)","v":""},{"$f":"IF(A66=\"\",\"\",'個人種目(マスターズ)'!AY70)","v":""},{"$f":"IF(B66=\"\",\"\",'個人種目(マスターズ)'!AF70)","v":""},0,5,{"$f":"IF(A66=\"\",\"\",'個人種目(マスターズ)'!BD70)","v":""},1]
[{"$f":"IF('個人種目(マスターズ)'!G71=\"\",\"\",'個人種目(マスターズ)'!AP71)","v":""},{"$f":"IF(A67=\"\",\"\",'個人種目(マスターズ)'!AT71)","v":""},{"$f":"IF(A67=\"\",\"\",'個人種目(マスターズ)'!AY71)","v":""},{"$f":"IF(B67=\"\",\"\",'個人種目(マスターズ)'!AF71)","v":""},0,5,{"$f":"IF(A67=\"\",\"\",'個人種目(マスターズ)'!BD71)","v":""},1]
[{"$f":"IF('個人種目(マスターズ)'!G72=\"\",\"\",'個人種目(マスターズ)'!AP72)","v":""},{"$f":"IF(A68=\"\",\"\",'個人種目(マスターズ)'!AT72)","v":""},{"$f":"IF(A68=\"\",\"\",'個人種目(マスターズ)'!AY72)","v":""},{"$f":"IF(B68=\"\",\"\",'個人種目(マスターズ)'!AF72)","v":""},0,5,{"$f":"IF(A68=\"\",\"\",'個人種目(マスターズ)'!BD72)","v":""},1]
[{"$f":"IF('個人種目(マスターズ)'!G73=\"\",\"\",'個人種目(マスターズ)'!AP73)","v":""},{"$f":"IF(A69=\"\",\"\",'個人種目(マスターズ)'!AT73)","v":""},{"$f":"IF(A69=\"\",\"\",'個人種目(マスターズ)'!AY73)","v":""},{"$f":"IF(B69=\"\",\"\",'個人種目(マスターズ)'!AF73)","v":""},0,5,{"$f":"IF(A69=\"\",\"\",'個人種目(マスターズ)'!BD73)","v":""},1]
[{"$f":"IF('個人種目(マスターズ)'!G74=\"\",\"\",'個人種目(マスターズ)'!AP74)","v":""},{"$f":"IF(A70=\"\",\"\",'個人種目(マスターズ)'!AT74)","v":""},{"$f":"IF(A70=\"\",\"\",'個人種目(マスターズ)'!AY74)","v":""},{"$f":"IF(B70=\"\",\"\",'個人種目(マスターズ)'!AF74)","v":""},0,5,{"$f":"IF(A70=\"\",\"\",'個人種目(マスターズ)'!BD74)","v":""},1]
[{"$f":"IF('個人種目(マスターズ)'!G75=\"\",\"\",'個人種目(マスターズ)'!AP75)","v":""},{"$f":"IF(A71=\"\",\"\",'個人種目(マスターズ)'!AT75)","v":""},{"$f":"IF(A71=\"\",\"\",'個人種目(マスターズ)'!AY75)","v":""},{"$f":"IF(B71=\"\",\"\",'個人種目(マスターズ)'!AF75)","v":""},0,5,{"$f":"IF(A71=\"\",\"\",'個人種目(マスターズ)'!BD75)","v":""},1]
[{"$f":"IF('個人種目(マスターズ)'!G76=\"\",\"\",'個人種目(マスターズ)'!AP76)","v":""},{"$f":"IF(A72=\"\",\"\",'個人種目(マスターズ)'!AT76)","v":""},{"$f":"IF(A72=\"\",\"\",'個人種目(マスターズ)'!AY76)","v":""},{"$f":"IF(B72=\"\",\"\",'個人種目(マスターズ)'!AF76)","v":""},0,5,{"$f":"IF(A72=\"\",\"\",'個人種目(マスターズ)'!BD76)","v":""},1]
[{"$f":"IF('個人種目(マスターズ)'!G77=\"\",\"\",'個人種目(マスターズ)'!AP77)","v":""},{"$f":"IF(A73=\"\",\"\",'個人種目(マスターズ)'!AT77)","v":""},{"$f":"IF(A73=\"\",\"\",'個人種目(マスターズ)'!AY77)","v":""},{"$f":"IF(B73=\"\",\"\",'個人種目(マスターズ)'!AF77)","v":""},0,5,{"$f":"IF(A73=\"\",\"\",'個人種目(マスターズ)'!BD77)","v":""},1]
[{"$f":"IF('個人種目(マスターズ)'!G78=\"\",\"\",'個人種目(マスターズ)'!AP78)","v":""},{"$f":"IF(A74=\"\",\"\",'個人種目(マスターズ)'!AT78)","v":""},{"$f":"IF(A74=\"\",\"\",'個人種目(マスターズ)'!AY78)","v":""},{"$f":"IF(B74=\"\",\"\",'個人種目(マスターズ)'!AF78)","v":""},0,5,{"$f":"IF(A74=\"\",\"\",'個人種目(マスターズ)'!BD78)","v":""},1]
[{"$f":"IF('個人種目(マスターズ)'!G79=\"\",\"\",'個人種目(マスターズ)'!AP79)","v":""},{"$f":"IF(A75=\"\",\"\",'個人種目(マスターズ)'!AT79)","v":""},{"$f":"IF(A75=\"\",\"\",'個人種目(マスターズ)'!AY79)","v":""},{"$f":"IF(B75=\"\",\"\",'個人種目(マスターズ)'!AF79)","v":""},0,5,{"$f":"IF(A75=\"\",\"\",'個人種目(マスターズ)'!BD79)","v":""},1]
[{"$f":"IF('個人種目(マスターズ)'!G80=\"\",\"\",'個人種目(マスターズ)'!AP80)","v":""},{"$f":"IF(A76=\"\",\"\",'個人種目(マスターズ)'!AT80)","v":""},{"$f":"IF(A76=\"\",\"\",'個人種目(マスターズ)'!AY80)","v":""},{"$f":"IF(B76=\"\",\"\",'個人種目(マスターズ)'!AF80)","v":""},0,5,{"$f":"IF(A76=\"\",\"\",'個人種目(マスターズ)'!BD80)","v":""},1]
[{"$f":"IF('個人種目(マスターズ)'!G81=\"\",\"\",'個人種目(マスターズ)'!AP81)","v":""},{"$f":"IF(A77=\"\",\"\",'個人種目(マスターズ)'!AT81)","v":""},{"$f":"IF(A77=\"\",\"\",'個人種目(マスターズ)'!AY81)","v":""},{"$f":"IF(B77=\"\",\"\",'個人種目(マスターズ)'!AF81)","v":""},0,5,{"$f":"IF(A77=\"\",\"\",'個人種目(マスターズ)'!BD81)","v":""},1]
[{"$f":"IF('個人種目(マスターズ)'!G82=\"\",\"\",'個人種目(マスターズ)'!AP82)","v":""},{"$f":"IF(A78=\"\",\"\",'個人種目(マスターズ)'!AT82)","v":""},{"$f":"IF(A78=\"\",\"\",'個人種目(マスターズ)'!AY82)","v":""},{"$f":"IF(B78=\"\",\"\",'個人種目(マスターズ)'!AF82)","v":""},0,5,{"$f":"IF(A78=\"\",\"\",'個人種目(マスターズ)'!BD82)","v":""},1]
[{"$f":"IF('個人種目(マスターズ)'!G83=\"\",\"\",'個人種目(マスターズ)'!AP83)","v":""},{"$f":"IF(A79=\"\",\"\",'個人種目(マスターズ)'!AT83)","v":""},{"$f":"IF(A79=\"\",\"\",'個人種目(マスターズ)'!AY83)","v":""},{"$f":"IF(B79=\"\",\"\",'個人種目(マスターズ)'!AF83)","v":""},0,5,{"$f":"IF(A79=\"\",\"\",'個人種目(マスターズ)'!BD83)","v":""},1]
[{"$f":"IF('個人種目(マスターズ)'!G84=\"\",\"\",'個人種目(マスターズ)'!AP84)","v":""},{"$f":"IF(A80=\"\",\"\",'個人種目(マスターズ)'!AT84)","v":""},{"$f":"IF(A80=\"\",\"\",'個人種目(マスターズ)'!AY84)","v":""},{"$f":"IF(B80=\"\",\"\",'個人種目(マスターズ)'!AF84)","v":""},0,5,{"$f":"IF(A80=\"\",\"\",'個人種目(マスターズ)'!BD84)","v":""},1]
[{"$f":"IF('個人種目(マスターズ)'!G85=\"\",\"\",'個人種目(マスターズ)'!AP85)","v":""},{"$f":"IF(A81=\"\",\"\",'個人種目(マスターズ)'!AT85)","v":""},{"$f":"IF(A81=\"\",\"\",'個人種目(マスターズ)'!AY85)","v":""},{"$f":"IF(B81=\"\",\"\",'個人種目(マスターズ)'!AF85)","v":""},0,5,{"$f":"IF(A81=\"\",\"\",'個人種目(マスターズ)'!BD85)","v":""},1]
[{"$f":"IF('個人種目(マスターズ)'!G86=\"\",\"\",'個人種目(マスターズ)'!AP86)","v":""},{"$f":"IF(A82=\"\",\"\",'個人種目(マスターズ)'!AT86)","v":""},{"$f":"IF(A82=\"\",\"\",'個人種目(マスターズ)'!AY86)","v":""},{"$f":"IF(B82=\"\",\"\",'個人種目(マスターズ)'!AF86)","v":""},0,5,{"$f":"IF(A82=\"\",\"\",'個人種目(マスターズ)'!BD86)","v":""},1]
[{"$f":"IF('個人種目(マスターズ)'!G87=\"\",\"\",'個人種目(マスターズ)'!AP87)","v":""},{"$f":"IF(A83=\"\",\"\",'個人種目(マスターズ)'!AT87)","v":""},{"$f":"IF(A83=\"\",\"\",'個人種目(マスターズ)'!AY87)","v":""},{"$f":"IF(B83=\"\",\"\",'個人種目(マスターズ)'!AF87)","v":""},0,5,{"$f":"IF(A83=\"\",\"\",'個人種目(マスターズ)'!BD87)","v":""},1]
[{"$f":"IF('個人種目(マスターズ)'!G88=\"\",\"\",'個人種目(マスターズ)'!AP88)","v":""},{"$f":"IF(A84=\"\",\"\",'個人種目(マスターズ)'!AT88)","v":""},{"$f":"IF(A84=\"\",\"\",'個人種目(マスターズ)'!AY88)","v":""},{"$f":"IF(B84=\"\",\"\",'個人種目(マスターズ)'!AF88)","v":""},0,5,{"$f":"IF(A84=\"\",\"\",'個人種目(マスターズ)'!BD88)","v":""},1]
[{"$f":"IF('個人種目(マスターズ)'!G89=\"\",\"\",'個人種目(マスターズ)'!AP89)","v":""},{"$f":"IF(A85=\"\",\"\",'個人種目(マスターズ)'!AT89)","v":""},{"$f":"IF(A85=\"\",\"\",'個人種目(マスターズ)'!AY89)","v":""},{"$f":"IF(B85=\"\",\"\",'個人種目(マスターズ)'!AF89)","v":""},0,5,{"$f":"IF(A85=\"\",\"\",'個人種目(マスターズ)'!BD89)","v":""},1]
[{"$f":"IF('個人種目(マスターズ)'!G90=\"\",\"\",'個人種目(マスターズ)'!AP90)","v":""},{"$f":"IF(A86=\"\",\"\",'個人種目(マスターズ)'!AT90)","v":""},{"$f":"IF(A86=\"\",\"\",'個人種目(マスターズ)'!AY90)","v":""},{"$f":"IF(B86=\"\",\"\",'個人種目(マスターズ)'!AF90)","v":""},0,5,{"$f":"IF(A86=\"\",\"\",'個人種目(マスターズ)'!BD90)","v":""},1]
[{"$f":"IF('個人種目(マスターズ)'!G91=\"\",\"\",'個人種目(マスターズ)'!AP91)","v":""},{"$f":"IF(A87=\"\",\"\",'個人種目(マスターズ)'!AT91)","v":""},{"$f":"IF(A87=\"\",\"\",'個人種目(マスターズ)'!AY91)","v":""},{"$f":"IF(B87=\"\",\"\",'個人種目(マスターズ)'!AF91)","v":""},0,5,{"$f":"IF(A87=\"\",\"\",'個人種目(マスターズ)'!BD91)","v":""},1]
[{"$f":"IF('個人種目(マスターズ)'!G92=\"\",\"\",'個人種目(マスターズ)'!AP92)","v":""},{"$f":"IF(A88=\"\",\"\",'個人種目(マスターズ)'!AT92)","v":""},{"$f":"IF(A88=\"\",\"\",'個人種目(マスターズ)'!AY92)","v":""},{"$f":"IF(B88=\"\",\"\",'個人種目(マスターズ)'!AF92)","v":""},0,5,{"$f":"IF(A88=\"\",\"\",'個人種目(マスターズ)'!BD92)","v":""},1]
[{"$f":"IF('個人種目(マスターズ)'!G93=\"\",\"\",'個人種目(マスターズ)'!AP93)","v":""},{"$f":"IF(A89=\"\",\"\",'個人種目(マスターズ)'!AT93)","v":""},{"$f":"IF(A89=\"\",\"\",'個人種目(マスターズ)'!AY93)","v":""},{"$f":"IF(B89=\"\",\"\",'個人種目(マスターズ)'!AF93)","v":""},0,5,{"$f":"IF(A89=\"\",\"\",'個人種目(マスターズ)'!BD93)","v":""},1]
[{"$f":"IF('個人種目(マスターズ)'!G94=\"\",\"\",'個人種目(マスターズ)'!AP94)","v":""},{"$f":"IF(A90=\"\",\"\",'個人種目(マスターズ)'!AT94)","v":""},{"$f":"IF(A90=\"\",\"\",'個人種目(マスターズ)'!AY94)","v":""},{"$f":"IF(B90=\"\",\"\",'個人種目(マスターズ)'!AF94)","v":""},0,5,{"$f":"IF(A90=\"\",\"\",'個人種目(マスターズ)'!BD94)","v":""},1]
[{"$f":"IF('個人種目(マスターズ)'!G95=\"\",\"\",'個人種目(マスターズ)'!AP95)","v":""},{"$f":"IF(A91=\"\",\"\",'個人種目(マスターズ)'!AT95)","v":""},{"$f":"IF(A91=\"\",\"\",'個人種目(マスターズ)'!AY95)","v":""},{"$f":"IF(B91=\"\",\"\",'個人種目(マスターズ)'!AF95)","v":""},0,5,{"$f":"IF(A91=\"\",\"\",'個人種目(マスターズ)'!BD95)","v":""},1]
[{"$f":"IF('個人種目(マスターズ)'!G96=\"\",\"\",'個人種目(マスターズ)'!AP96)","v":""},{"$f":"IF(A92=\"\",\"\",'個人種目(マスターズ)'!AT96)","v":""},{"$f":"IF(A92=\"\",\"\",'個人種目(マスターズ)'!AY96)","v":""},{"$f":"IF(B92=\"\",\"\",'個人種目(マスターズ)'!AF96)","v":""},0,5,{"$f":"IF(A92=\"\",\"\",'個人種目(マスターズ)'!BD96)","v":""},1]
[{"$f":"IF('個人種目(マスターズ)'!G97=\"\",\"\",'個人種目(マスターズ)'!AP97)","v":""},{"$f":"IF(A93=\"\",\"\",'個人種目(マスターズ)'!AT97)","v":""},{"$f":"IF(A93=\"\",\"\",'個人種目(マスターズ)'!AY97)","v":""},{"$f":"IF(B93=\"\",\"\",'個人種目(マスターズ)'!AF97)","v":""},0,5,{"$f":"IF(A93=\"\",\"\",'個人種目(マスターズ)'!BD97)","v":""},1]
[{"$f":"IF('個人種目(マスターズ)'!G98=\"\",\"\",'個人種目(マスターズ)'!AP98)","v":""},{"$f":"IF(A94=\"\",\"\",'個人種目(マスターズ)'!AT98)","v":""},{"$f":"IF(A94=\"\",\"\",'個人種目(マスターズ)'!AY98)","v":""},{"$f":"IF(B94=\"\",\"\",'個人種目(マスターズ)'!AF98)","v":""},0,5,{"$f":"IF(A94=\"\",\"\",'個人種目(マスターズ)'!BD98)","v":""},1]
[{"$f":"IF('個人種目(マスターズ)'!G99=\"\",\"\",'個人種目(マスターズ)'!AP99)","v":""},{"$f":"IF(A95=\"\",\"\",'個人種目(マスターズ)'!AT99)","v":""},{"$f":"IF(A95=\"\",\"\",'個人種目(マスターズ)'!AY99)","v":""},{"$f":"IF(B95=\"\",\"\",'個人種目(マスターズ)'!AF99)","v":""},0,5,{"$f":"IF(A95=\"\",\"\",'個人種目(マスターズ)'!BD99)","v":""},1]
[{"$f":"IF('個人種目(マスターズ)'!G100=\"\",\"\",'個人種目(マスターズ)'!AP100)","v":""},{"$f":"IF(A96=\"\",\"\",'個人種目(マスターズ)'!AT100)","v":""},{"$f":"IF(A96=\"\",\"\",'個人種目(マスターズ)'!AY100)","v":""},{"$f":"IF(B96=\"\",\"\",'個人種目(マスターズ)'!AF100)","v":""},0,5,{"$f":"IF(A96=\"\",\"\",'個人種目(マスターズ)'!BD100)","v":""},1]
[{"$f":"IF('個人種目(マスターズ)'!G101=\"\",\"\",'個人種目(マスターズ)'!AP101)","v":""},{"$f":"IF(A97=\"\",\"\",'個人種目(マスターズ)'!AT101)","v":""},{"$f":"IF(A97=\"\",\"\",'個人種目(マスターズ)'!AY101)","v":""},{"$f":"IF(B97=\"\",\"\",'個人種目(マスターズ)'!AF101)","v":""},0,5,{"$f":"IF(A97=\"\",\"\",'個人種目(マスターズ)'!BD101)","v":""},1]
[{"$f":"IF('個人種目(マスターズ)'!G102=\"\",\"\",'個人種目(マスターズ)'!AP102)","v":""},{"$f":"IF(A98=\"\",\"\",'個人種目(マスターズ)'!AT102)","v":""},{"$f":"IF(A98=\"\",\"\",'個人種目(マスターズ)'!AY102)","v":""},{"$f":"IF(B98=\"\",\"\",'個人種目(マスターズ)'!AF102)","v":""},0,5,{"$f":"IF(A98=\"\",\"\",'個人種目(マスターズ)'!BD102)","v":""},1]
[{"$f":"IF('個人種目(マスターズ)'!G103=\"\",\"\",'個人種目(マスターズ)'!AP103)","v":""},{"$f":"IF(A99=\"\",\"\",'個人種目(マスターズ)'!AT103)","v":""},{"$f":"IF(A99=\"\",\"\",'個人種目(マスターズ)'!AY103)","v":""},{"$f":"IF(B99=\"\",\"\",'個人種目(マスターズ)'!AF103)","v":""},0,5,{"$f":"IF(A99=\"\",\"\",'個人種目(マスターズ)'!BD103)","v":""},1]
[{"$f":"IF('個人種目(マスターズ)'!G104=\"\",\"\",'個人種目(マスターズ)'!AP104)","v":""},{"$f":"IF(A100=\"\",\"\",'個人種目(マスターズ)'!AT104)","v":""},{"$f":"IF(A100=\"\",\"\",'個人種目(マスターズ)'!AY104)","v":""},{"$f":"IF(B100=\"\",\"\",'個人種目(マスターズ)'!AF104)","v":""},0,5,{"$f":"IF(A100=\"\",\"\",'個人種目(マスターズ)'!BD104)","v":""},1]
[{"$f":"IF('個人種目(マスターズ)'!G105=\"\",\"\",'個人種目(マスターズ)'!AP105)","v":""},{"$f":"IF(A101=\"\",\"\",'個人種目(マスターズ)'!AT105)","v":""},{"$f":"IF(A101=\"\",\"\",'個人種目(マスターズ)'!AY105)","v":""},{"$f":"IF(B101=\"\",\"\",'個人種目(マスターズ)'!AF105)","v":""},0,5,{"$f":"IF(A101=\"\",\"\",'個人種目(マスターズ)'!BD105)","v":""},1]
[{"$f":"IF('個人種目(マスターズ)'!G106=\"\",\"\",'個人種目(マスターズ)'!AP106)","v":""},{"$f":"IF(A102=\"\",\"\",'個人種目(マスターズ)'!AT106)","v":""},{"$f":"IF(A102=\"\",\"\",'個人種目(マスターズ)'!AY106)","v":""},{"$f":"IF(B102=\"\",\"\",'個人種目(マスターズ)'!AF106)","v":""},0,5,{"$f":"IF(A102=\"\",\"\",'個人種目(マスターズ)'!BD106)","v":""},1]
[{"$f":"IF('個人種目(マスターズ)'!G107=\"\",\"\",'個人種目(マスターズ)'!AP107)","v":""},{"$f":"IF(A103=\"\",\"\",'個人種目(マスターズ)'!AT107)","v":""},{"$f":"IF(A103=\"\",\"\",'個人種目(マスターズ)'!AY107)","v":""},{"$f":"IF(B103=\"\",\"\",'個人種目(マスターズ)'!AF107)","v":""},0,5,{"$f":"IF(A103=\"\",\"\",'個人種目(マスターズ)'!BD107)","v":""},1]
[{"$f":"IF('個人種目(マスターズ)'!I6=\"\",\"\",'個人種目(マスターズ)'!AP6)","v":""},{"$f":"IF(A104=\"\",\"\",'個人種目(マスターズ)'!AU6)","v":""},{"$f":"IF(A104=\"\",\"\",'個人種目(マスターズ)'!AZ6)","v":""},{"$f":"IF(A104=\"\",\"\",'個人種目(マスターズ)'!AF6)","v":""},0,0,{"$f":"IF(A104=\"\",\"\",'個人種目(マスターズ)'!BE6)","v":""},2]
[{"$f":"IF('個人種目(マスターズ)'!I7=\"\",\"\",'個人種目(マスターズ)'!AP7)","v":""},{"$f":"IF(A105=\"\",\"\",'個人種目(マスターズ)'!AU7)","v":""},{"$f":"IF(A105=\"\",\"\",'個人種目(マスターズ)'!AZ7)","v":""},{"$f":"IF(A105=\"\",\"\",'個人種目(マスターズ)'!AF7)","v":""},0,0,{"$f":"IF(A105=\"\",\"\",'個人種目(マスターズ)'!BE7)","v":""},2]
[{"$f":"IF('個人種目(マスターズ)'!I8=\"\",\"\",'個人種目(マスターズ)'!AP8)","v":""},{"$f":"IF(A106=\"\",\"\",'個人種目(マスターズ)'!AU8)","v":""},{"$f":"IF(A106=\"\",\"\",'個人種目(マスターズ)'!AZ8)","v":""},{"$f":"IF(A106=\"\",\"\",'個人種目(マスターズ)'!AF8)","v":""},0,0,{"$f":"IF(A106=\"\",\"\",'個人種目(マスターズ)'!BE8)","v":""},2]
[{"$f":"IF('個人種目(マスターズ)'!I9=\"\",\"\",'個人種目(マスターズ)'!AP9)","v":""},{"$f":"IF(A107=\"\",\"\",'個人種目(マスターズ)'!AU9)","v":""},{"$f":"IF(A107=\"\",\"\",'個人種目(マスターズ)'!AZ9)","v":""},{"$f":"IF(A107=\"\",\"\",'個人種目(マスターズ)'!AF9)","v":""},0,0,{"$f":"IF(A107=\"\",\"\",'個人種目(マスターズ)'!BE9)","v":""},2]
[{"$f":"IF('個人種目(マスターズ)'!I10=\"\",\"\",'個人種目(マスターズ)'!AP10)","v":""},{"$f":"IF(A108=\"\",\"\",'個人種目(マスターズ)'!AU10)","v":""},{"$f":"IF(A108=\"\",\"\",'個人種目(マスターズ)'!AZ10)","v":""},{"$f":"IF(A108=\"\",\"\",'個人種目(マスターズ)'!AF10)","v":""},0,0,{"$f":"IF(A108=\"\",\"\",'個人種目(マスターズ)'!BE10)","v":""},2]
[{"$f":"IF('個人種目(マスターズ)'!I11=\"\",\"\",'個人種目(マスターズ)'!AP11)","v":""},{"$f":"IF(A109=\"\",\"\",'個人種目(マスターズ)'!AU11)","v":""},{"$f":"IF(A109=\"\",\"\",'個人種目(マスターズ)'!AZ11)","v":""},{"$f":"IF(A109=\"\",\"\",'個人種目(マスターズ)'!AF11)","v":""},0,0,{"$f":"IF(A109=\"\",\"\",'個人種目(マスターズ)'!BE11)","v":""},2]
[{"$f":"IF('個人種目(マスターズ)'!I12=\"\",\"\",'個人種目(マスターズ)'!AP12)","v":""},{"$f":"IF(A110=\"\",\"\",'個人種目(マスターズ)'!AU12)","v":""},{"$f":"IF(A110=\"\",\"\",'個人種目(マスターズ)'!AZ12)","v":""},{"$f":"IF(A110=\"\",\"\",'個人種目(マスターズ)'!AF12)","v":""},0,0,{"$f":"IF(A110=\"\",\"\",'個人種目(マスターズ)'!BE12)","v":""},2]
[{"$f":"IF('個人種目(マスターズ)'!I13=\"\",\"\",'個人種目(マスターズ)'!AP13)","v":""},{"$f":"IF(A111=\"\",\"\",'個人種目(マスターズ)'!AU13)","v":""},{"$f":"IF(A111=\"\",\"\",'個人種目(マスターズ)'!AZ13)","v":""},{"$f":"IF(A111=\"\",\"\",'個人種目(マスターズ)'!AF13)","v":""},0,0,{"$f":"IF(A111=\"\",\"\",'個人種目(マスターズ)'!BE13)","v":""},2]
[{"$f":"IF('個人種目(マスターズ)'!I14=\"\",\"\",'個人種目(マスターズ)'!AP14)","v":""},{"$f":"IF(A112=\"\",\"\",'個人種目(マスターズ)'!AU14)","v":""},{"$f":"IF(A112=\"\",\"\",'個人種目(マスターズ)'!AZ14)","v":""},{"$f":"IF(A112=\"\",\"\",'個人種目(マスターズ)'!AF14)","v":""},0,0,{"$f":"IF(A112=\"\",\"\",'個人種目(マスターズ)'!BE14)","v":""},2]
[{"$f":"IF('個人種目(マスターズ)'!I15=\"\",\"\",'個人種目(マスターズ)'!AP15)","v":""},{"$f":"IF(A113=\"\",\"\",'個人種目(マスターズ)'!AU15)","v":""},{"$f":"IF(A113=\"\",\"\",'個人種目(マスターズ)'!AZ15)","v":""},{"$f":"IF(A113=\"\",\"\",'個人種目(マスターズ)'!AF15)","v":""},0,0,{"$f":"IF(A113=\"\",\"\",'個人種目(マスターズ)'!BE15)","v":""},2]
[{"$f":"IF('個人種目(マスターズ)'!I16=\"\",\"\",'個人種目(マスターズ)'!AP16)","v":""},{"$f":"IF(A114=\"\",\"\",'個人種目(マスターズ)'!AU16)","v":""},{"$f":"IF(A114=\"\",\"\",'個人種目(マスターズ)'!AZ16)","v":""},{"$f":"IF(A114=\"\",\"\",'個人種目(マスターズ)'!AF16)","v":""},0,0,{"$f":"IF(A114=\"\",\"\",'個人種目(マスターズ)'!BE16)","v":""},2]
[{"$f":"IF('個人種目(マスターズ)'!I17=\"\",\"\",'個人種目(マスターズ)'!AP17)","v":""},{"$f":"IF(A115=\"\",\"\",'個人種目(マスターズ)'!AU17)","v":""},{"$f":"IF(A115=\"\",\"\",'個人種目(マスターズ)'!AZ17)","v":""},{"$f":"IF(A115=\"\",\"\",'個人種目(マスターズ)'!AF17)","v":""},0,0,{"$f":"IF(A115=\"\",\"\",'個人種目(マスターズ)'!BE17)","v":""},2]
[{"$f":"IF('個人種目(マスターズ)'!I18=\"\",\"\",'個人種目(マスターズ)'!AP18)","v":""},{"$f":"IF(A116=\"\",\"\",'個人種目(マスターズ)'!AU18)","v":""},{"$f":"IF(A116=\"\",\"\",'個人種目(マスターズ)'!AZ18)","v":""},{"$f":"IF(A116=\"\",\"\",'個人種目(マスターズ)'!AF18)","v":""},0,0,{"$f":"IF(A116=\"\",\"\",'個人種目(マスターズ)'!BE18)","v":""},2]
[{"$f":"IF('個人種目(マスターズ)'!I19=\"\",\"\",'個人種目(マスターズ)'!AP19)","v":""},{"$f":"IF(A117=\"\",\"\",'個人種目(マスターズ)'!AU19)","v":""},{"$f":"IF(A117=\"\",\"\",'個人種目(マスターズ)'!AZ19)","v":""},{"$f":"IF(A117=\"\",\"\",'個人種目(マスターズ)'!AF19)","v":""},0,0,{"$f":"IF(A117=\"\",\"\",'個人種目(マスターズ)'!BE19)","v":""},2]
[{"$f":"IF('個人種目(マスターズ)'!I20=\"\",\"\",'個人種目(マスターズ)'!AP20)","v":""},{"$f":"IF(A118=\"\",\"\",'個人種目(マスターズ)'!AU20)","v":""},{"$f":"IF(A118=\"\",\"\",'個人種目(マスターズ)'!AZ20)","v":""},{"$f":"IF(A118=\"\",\"\",'個人種目(マスターズ)'!AF20)","v":""},0,0,{"$f":"IF(A118=\"\",\"\",'個人種目(マスターズ)'!BE20)","v":""},2]
[{"$f":"IF('個人種目(マスターズ)'!I21=\"\",\"\",'個人種目(マスターズ)'!AP21)","v":""},{"$f":"IF(A119=\"\",\"\",'個人種目(マスターズ)'!AU21)","v":""},{"$f":"IF(A119=\"\",\"\",'個人種目(マスターズ)'!AZ21)","v":""},{"$f":"IF(A119=\"\",\"\",'個人種目(マスターズ)'!AF21)","v":""},0,0,{"$f":"IF(A119=\"\",\"\",'個人種目(マスターズ)'!BE21)","v":""},2]
[{"$f":"IF('個人種目(マスターズ)'!I22=\"\",\"\",'個人種目(マスターズ)'!AP22)","v":""},{"$f":"IF(A120=\"\",\"\",'個人種目(マスターズ)'!AU22)","v":""},{"$f":"IF(A120=\"\",\"\",'個人種目(マスターズ)'!AZ22)","v":""},{"$f":"IF(A120=\"\",\"\",'個人種目(マスターズ)'!AF22)","v":""},0,0,{"$f":"IF(A120=\"\",\"\",'個人種目(マスターズ)'!BE22)","v":""},2]
[{"$f":"IF('個人種目(マスターズ)'!I23=\"\",\"\",'個人種目(マスターズ)'!AP23)","v":""},{"$f":"IF(A121=\"\",\"\",'個人種目(マスターズ)'!AU23)","v":""},{"$f":"IF(A121=\"\",\"\",'個人種目(マスターズ)'!AZ23)","v":""},{"$f":"IF(A121=\"\",\"\",'個人種目(マスターズ)'!AF23)","v":""},0,0,{"$f":"IF(A121=\"\",\"\",'個人種目(マスターズ)'!BE23)","v":""},2]
[{"$f":"IF('個人種目(マスターズ)'!I24=\"\",\"\",'個人種目(マスターズ)'!AP24)","v":""},{"$f":"IF(A122=\"\",\"\",'個人種目(マスターズ)'!AU24)","v":""},{"$f":"IF(A122=\"\",\"\",'個人種目(マスターズ)'!AZ24)","v":""},{"$f":"IF(A122=\"\",\"\",'個人種目(マスターズ)'!AF24)","v":""},0,0,{"$f":"IF(A122=\"\",\"\",'個人種目(マスターズ)'!BE24)","v":""},2]
[{"$f":"IF('個人種目(マスターズ)'!I25=\"\",\"\",'個人種目(マスターズ)'!AP25)","v":""},{"$f":"IF(A123=\"\",\"\",'個人種目(マスターズ)'!AU25)","v":""},{"$f":"IF(A123=\"\",\"\",'個人種目(マスターズ)'!AZ25)","v":""},{"$f":"IF(A123=\"\",\"\",'個人種目(マスターズ)'!AF25)","v":""},0,0,{"$f":"IF(A123=\"\",\"\",'個人種目(マスターズ)'!BE25)","v":""},2]
[{"$f":"IF('個人種目(マスターズ)'!I26=\"\",\"\",'個人種目(マスターズ)'!AP26)","v":""},{"$f":"IF(A124=\"\",\"\",'個人種目(マスターズ)'!AU26)","v":""},{"$f":"IF(A124=\"\",\"\",'個人種目(マスターズ)'!AZ26)","v":""},{"$f":"IF(A124=\"\",\"\",'個人種目(マスターズ)'!AF26)","v":""},0,0,{"$f":"IF(A124=\"\",\"\",'個人種目(マスターズ)'!BE26)","v":""},2]
[{"$f":"IF('個人種目(マスターズ)'!I27=\"\",\"\",'個人種目(マスターズ)'!AP27)","v":""},{"$f":"IF(A125=\"\",\"\",'個人種目(マスターズ)'!AU27)","v":""},{"$f":"IF(A125=\"\",\"\",'個人種目(マスターズ)'!AZ27)","v":""},{"$f":"IF(A125=\"\",\"\",'個人種目(マスターズ)'!AF27)","v":""},0,0,{"$f":"IF(A125=\"\",\"\",'個人種目(マスターズ)'!BE27)","v":""},2]
[{"$f":"IF('個人種目(マスターズ)'!I28=\"\",\"\",'個人種目(マスターズ)'!AP28)","v":""},{"$f":"IF(A126=\"\",\"\",'個人種目(マスターズ)'!AU28)","v":""},{"$f":"IF(A126=\"\",\"\",'個人種目(マスターズ)'!AZ28)","v":""},{"$f":"IF(A126=\"\",\"\",'個人種目(マスターズ)'!AF28)","v":""},0,0,{"$f":"IF(A126=\"\",\"\",'個人種目(マスターズ)'!BE28)","v":""},2]
[{"$f":"IF('個人種目(マスターズ)'!I29=\"\",\"\",'個人種目(マスターズ)'!AP29)","v":""},{"$f":"IF(A127=\"\",\"\",'個人種目(マスターズ)'!AU29)","v":""},{"$f":"IF(A127=\"\",\"\",'個人種目(マスターズ)'!AZ29)","v":""},{"$f":"IF(A127=\"\",\"\",'個人種目(マスターズ)'!AF29)","v":""},0,0,{"$f":"IF(A127=\"\",\"\",'個人種目(マスターズ)'!BE29)","v":""},2]
[{"$f":"IF('個人種目(マスターズ)'!I30=\"\",\"\",'個人種目(マスターズ)'!AP30)","v":""},{"$f":"IF(A128=\"\",\"\",'個人種目(マスターズ)'!AU30)","v":""},{"$f":"IF(A128=\"\",\"\",'個人種目(マスターズ)'!AZ30)","v":""},{"$f":"IF(A128=\"\",\"\",'個人種目(マスターズ)'!AF30)","v":""},0,0,{"$f":"IF(A128=\"\",\"\",'個人種目(マスターズ)'!BE30)","v":""},2]
[{"$f":"IF('個人種目(マスターズ)'!I31=\"\",\"\",'個人種目(マスターズ)'!AP31)","v":""},{"$f":"IF(A129=\"\",\"\",'個人種目(マスターズ)'!AU31)","v":""},{"$f":"IF(A129=\"\",\"\",'個人種目(マスターズ)'!AZ31)","v":""},{"$f":"IF(A129=\"\",\"\",'個人種目(マスターズ)'!AF31)","v":""},0,0,{"$f":"IF(A129=\"\",\"\",'個人種目(マスターズ)'!BE31)","v":""},2]
[{"$f":"IF('個人種目(マスターズ)'!I32=\"\",\"\",'個人種目(マスターズ)'!AP32)","v":""},{"$f":"IF(A130=\"\",\"\",'個人種目(マスターズ)'!AU32)","v":""},{"$f":"IF(A130=\"\",\"\",'個人種目(マスターズ)'!AZ32)","v":""},{"$f":"IF(A130=\"\",\"\",'個人種目(マスターズ)'!AF32)","v":""},0,0,{"$f":"IF(A130=\"\",\"\",'個人種目(マスターズ)'!BE32)","v":""},2]
[{"$f":"IF('個人種目(マスターズ)'!I33=\"\",\"\",'個人種目(マスターズ)'!AP33)","v":""},{"$f":"IF(A131=\"\",\"\",'個人種目(マスターズ)'!AU33)","v":""},{"$f":"IF(A131=\"\",\"\",'個人種目(マスターズ)'!AZ33)","v":""},{"$f":"IF(A131=\"\",\"\",'個人種目(マスターズ)'!AF33)","v":""},0,0,{"$f":"IF(A131=\"\",\"\",'個人種目(マスターズ)'!BE33)","v":""},2]
[{"$f":"IF('個人種目(マスターズ)'!I34=\"\",\"\",'個人種目(マスターズ)'!AP34)","v":""},{"$f":"IF(A132=\"\",\"\",'個人種目(マスターズ)'!AU34)","v":""},{"$f":"IF(A132=\"\",\"\",'個人種目(マスターズ)'!AZ34)","v":""},{"$f":"IF(A132=\"\",\"\",'個人種目(マスターズ)'!AF34)","v":""},0,0,{"$f":"IF(A132=\"\",\"\",'個人種目(マスターズ)'!BE34)","v":""},2]
[{"$f":"IF('個人種目(マスターズ)'!I35=\"\",\"\",'個人種目(マスターズ)'!AP35)","v":""},{"$f":"IF(A133=\"\",\"\",'個人種目(マスターズ)'!AU35)","v":""},{"$f":"IF(A133=\"\",\"\",'個人種目(マスターズ)'!AZ35)","v":""},{"$f":"IF(A133=\"\",\"\",'個人種目(マスターズ)'!AF35)","v":""},0,0,{"$f":"IF(A133=\"\",\"\",'個人種目(マスターズ)'!BE35)","v":""},2]
[{"$f":"IF('個人種目(マスターズ)'!I36=\"\",\"\",'個人種目(マスターズ)'!AP36)","v":""},{"$f":"IF(A134=\"\",\"\",'個人種目(マスターズ)'!AU36)","v":""},{"$f":"IF(A134=\"\",\"\",'個人種目(マスターズ)'!AZ36)","v":""},{"$f":"IF(A134=\"\",\"\",'個人種目(マスターズ)'!AF36)","v":""},0,0,{"$f":"IF(A134=\"\",\"\",'個人種目(マスターズ)'!BE36)","v":""},2]
[{"$f":"IF('個人種目(マスターズ)'!I37=\"\",\"\",'個人種目(マスターズ)'!AP37)","v":""},{"$f":"IF(A135=\"\",\"\",'個人種目(マスターズ)'!AU37)","v":""},{"$f":"IF(A135=\"\",\"\",'個人種目(マスターズ)'!AZ37)","v":""},{"$f":"IF(A135=\"\",\"\",'個人種目(マスターズ)'!AF37)","v":""},0,0,{"$f":"IF(A135=\"\",\"\",'個人種目(マスターズ)'!BE37)","v":""},2]
[{"$f":"IF('個人種目(マスターズ)'!I38=\"\",\"\",'個人種目(マスターズ)'!AP38)","v":""},{"$f":"IF(A136=\"\",\"\",'個人種目(マスターズ)'!AU38)","v":""},{"$f":"IF(A136=\"\",\"\",'個人種目(マスターズ)'!AZ38)","v":""},{"$f":"IF(A136=\"\",\"\",'個人種目(マスターズ)'!AF38)","v":""},0,0,{"$f":"IF(A136=\"\",\"\",'個人種目(マスターズ)'!BE38)","v":""},2]
[{"$f":"IF('個人種目(マスターズ)'!I39=\"\",\"\",'個人種目(マスターズ)'!AP39)","v":""},{"$f":"IF(A137=\"\",\"\",'個人種目(マスターズ)'!AU39)","v":""},{"$f":"IF(A137=\"\",\"\",'個人種目(マスターズ)'!AZ39)","v":""},{"$f":"IF(A137=\"\",\"\",'個人種目(マスターズ)'!AF39)","v":""},0,0,{"$f":"IF(A137=\"\",\"\",'個人種目(マスターズ)'!BE39)","v":""},2]
[{"$f":"IF('個人種目(マスターズ)'!I40=\"\",\"\",'個人種目(マスターズ)'!AP40)","v":""},{"$f":"IF(A138=\"\",\"\",'個人種目(マスターズ)'!AU40)","v":""},{"$f":"IF(A138=\"\",\"\",'個人種目(マスターズ)'!AZ40)","v":""},{"$f":"IF(A138=\"\",\"\",'個人種目(マスターズ)'!AF40)","v":""},0,0,{"$f":"IF(A138=\"\",\"\",'個人種目(マスターズ)'!BE40)","v":""},2]
[{"$f":"IF('個人種目(マスターズ)'!I41=\"\",\"\",'個人種目(マスターズ)'!AP41)","v":""},{"$f":"IF(A139=\"\",\"\",'個人種目(マスターズ)'!AU41)","v":""},{"$f":"IF(A139=\"\",\"\",'個人種目(マスターズ)'!AZ41)","v":""},{"$f":"IF(A139=\"\",\"\",'個人種目(マスターズ)'!AF41)","v":""},0,0,{"$f":"IF(A139=\"\",\"\",'個人種目(マスターズ)'!BE41)","v":""},2]
[{"$f":"IF('個人種目(マスターズ)'!I42=\"\",\"\",'個人種目(マスターズ)'!AP42)","v":""},{"$f":"IF(A140=\"\",\"\",'個人種目(マスターズ)'!AU42)","v":""},{"$f":"IF(A140=\"\",\"\",'個人種目(マスターズ)'!AZ42)","v":""},{"$f":"IF(A140=\"\",\"\",'個人種目(マスターズ)'!AF42)","v":""},0,0,{"$f":"IF(A140=\"\",\"\",'個人種目(マスターズ)'!BE42)","v":""},2]
[{"$f":"IF('個人種目(マスターズ)'!I43=\"\",\"\",'個人種目(マスターズ)'!AP43)","v":""},{"$f":"IF(A141=\"\",\"\",'個人種目(マスターズ)'!AU43)","v":""},{"$f":"IF(A141=\"\",\"\",'個人種目(マスターズ)'!AZ43)","v":""},{"$f":"IF(A141=\"\",\"\",'個人種目(マスターズ)'!AF43)","v":""},0,0,{"$f":"IF(A141=\"\",\"\",'個人種目(マスターズ)'!BE43)","v":""},2]
[{"$f":"IF('個人種目(マスターズ)'!I44=\"\",\"\",'個人種目(マスターズ)'!AP44)","v":""},{"$f":"IF(A142=\"\",\"\",'個人種目(マスターズ)'!AU44)","v":""},{"$f":"IF(A142=\"\",\"\",'個人種目(マスターズ)'!AZ44)","v":""},{"$f":"IF(A142=\"\",\"\",'個人種目(マスターズ)'!AF44)","v":""},0,0,{"$f":"IF(A142=\"\",\"\",'個人種目(マスターズ)'!BE44)","v":""},2]
[{"$f":"IF('個人種目(マスターズ)'!I45=\"\",\"\",'個人種目(マスターズ)'!AP45)","v":""},{"$f":"IF(A143=\"\",\"\",'個人種目(マスターズ)'!AU45)","v":""},{"$f":"IF(A143=\"\",\"\",'個人種目(マスターズ)'!AZ45)","v":""},{"$f":"IF(A143=\"\",\"\",'個人種目(マスターズ)'!AF45)","v":""},0,0,{"$f":"IF(A143=\"\",\"\",'個人種目(マスターズ)'!BE45)","v":""},2]
[{"$f":"IF('個人種目(マスターズ)'!I46=\"\",\"\",'個人種目(マスターズ)'!AP46)","v":""},{"$f":"IF(A144=\"\",\"\",'個人種目(マスターズ)'!AU46)","v":""},{"$f":"IF(A144=\"\",\"\",'個人種目(マスターズ)'!AZ46)","v":""},{"$f":"IF(A144=\"\",\"\",'個人種目(マスターズ)'!AF46)","v":""},0,0,{"$f":"IF(A144=\"\",\"\",'個人種目(マスターズ)'!BE46)","v":""},2]
[{"$f":"IF('個人種目(マスターズ)'!I47=\"\",\"\",'個人種目(マスターズ)'!AP47)","v":""},{"$f":"IF(A145=\"\",\"\",'個人種目(マスターズ)'!AU47)","v":""},{"$f":"IF(A145=\"\",\"\",'個人種目(マスターズ)'!AZ47)","v":""},{"$f":"IF(A145=\"\",\"\",'個人種目(マスターズ)'!AF47)","v":""},0,0,{"$f":"IF(A145=\"\",\"\",'個人種目(マスターズ)'!BE47)","v":""},2]
[{"$f":"IF('個人種目(マスターズ)'!I48=\"\",\"\",'個人種目(マスターズ)'!AP48)","v":""},{"$f":"IF(A146=\"\",\"\",'個人種目(マスターズ)'!AU48)","v":""},{"$f":"IF(A146=\"\",\"\",'個人種目(マスターズ)'!AZ48)","v":""},{"$f":"IF(A146=\"\",\"\",'個人種目(マスターズ)'!AF48)","v":""},0,0,{"$f":"IF(A146=\"\",\"\",'個人種目(マスターズ)'!BE48)","v":""},2]
[{"$f":"IF('個人種目(マスターズ)'!I49=\"\",\"\",'個人種目(マスターズ)'!AP49)","v":""},{"$f":"IF(A147=\"\",\"\",'個人種目(マスターズ)'!AU49)","v":""},{"$f":"IF(A147=\"\",\"\",'個人種目(マスターズ)'!AZ49)","v":""},{"$f":"IF(A147=\"\",\"\",'個人種目(マスターズ)'!AF49)","v":""},0,0,{"$f":"IF(A147=\"\",\"\",'個人種目(マスターズ)'!BE49)","v":""},2]
[{"$f":"IF('個人種目(マスターズ)'!I50=\"\",\"\",'個人種目(マスターズ)'!AP50)","v":""},{"$f":"IF(A148=\"\",\"\",'個人種目(マスターズ)'!AU50)","v":""},{"$f":"IF(A148=\"\",\"\",'個人種目(マスターズ)'!AZ50)","v":""},{"$f":"IF(A148=\"\",\"\",'個人種目(マスターズ)'!AF50)","v":""},0,0,{"$f":"IF(A148=\"\",\"\",'個人種目(マスターズ)'!BE50)","v":""},2]
[{"$f":"IF('個人種目(マスターズ)'!I51=\"\",\"\",'個人種目(マスターズ)'!AP51)","v":""},{"$f":"IF(A149=\"\",\"\",'個人種目(マスターズ)'!AU51)","v":""},{"$f":"IF(A149=\"\",\"\",'個人種目(マスターズ)'!AZ51)","v":""},{"$f":"IF(A149=\"\",\"\",'個人種目(マスターズ)'!AF51)","v":""},0,0,{"$f":"IF(A149=\"\",\"\",'個人種目(マスターズ)'!BE51)","v":""},2]
[{"$f":"IF('個人種目(マスターズ)'!I52=\"\",\"\",'個人種目(マスターズ)'!AP52)","v":""},{"$f":"IF(A150=\"\",\"\",'個人種目(マスターズ)'!AU52)","v":""},{"$f":"IF(A150=\"\",\"\",'個人種目(マスターズ)'!AZ52)","v":""},{"$f":"IF(A150=\"\",\"\",'個人種目(マスターズ)'!AF52)","v":""},0,0,{"$f":"IF(A150=\"\",\"\",'個人種目(マスターズ)'!BE52)","v":""},2]
[{"$f":"IF('個人種目(マスターズ)'!I53=\"\",\"\",'個人種目(マスターズ)'!AP53)","v":""},{"$f":"IF(A151=\"\",\"\",'個人種目(マスターズ)'!AU53)","v":""},{"$f":"IF(A151=\"\",\"\",'個人種目(マスターズ)'!AZ53)","v":""},{"$f":"IF(A151=\"\",\"\",'個人種目(マスターズ)'!AF53)","v":""},0,0,{"$f":"IF(A151=\"\",\"\",'個人種目(マスターズ)'!BE53)","v":""},2]
[{"$f":"IF('個人種目(マスターズ)'!I54=\"\",\"\",'個人種目(マスターズ)'!AP54)","v":""},{"$f":"IF(A152=\"\",\"\",'個人種目(マスターズ)'!AU54)","v":""},{"$f":"IF(A152=\"\",\"\",'個人種目(マスターズ)'!AZ54)","v":""},{"$f":"IF(A152=\"\",\"\",'個人種目(マスターズ)'!AF54)","v":""},0,0,{"$f":"IF(A152=\"\",\"\",'個人種目(マスターズ)'!BE54)","v":""},2]
[{"$f":"IF('個人種目(マスターズ)'!I55=\"\",\"\",'個人種目(マスターズ)'!AP55)","v":""},{"$f":"IF(A153=\"\",\"\",'個人種目(マスターズ)'!AU55)","v":""},{"$f":"IF(A153=\"\",\"\",'個人種目(マスターズ)'!AZ55)","v":""},{"$f":"IF(A153=\"\",\"\",'個人種目(マスターズ)'!AF55)","v":""},0,0,{"$f":"IF(A153=\"\",\"\",'個人種目(マスターズ)'!BE55)","v":""},2]
[]
[]
[{"$f":"IF('個人種目(マスターズ)'!I58=\"\",\"\",'個人種目(マスターズ)'!AP58)","v":""},{"$f":"IF(A156=\"\",\"\",'個人種目(マスターズ)'!AU58)","v":""},{"$f":"IF(A156=\"\",\"\",'個人種目(マスターズ)'!AZ58)","v":""},{"$f":"IF(A156=\"\",\"\",'個人種目(マスターズ)'!AF58)","v":""},0,5,{"$f":"IF(A156=\"\",\"\",'個人種目(マスターズ)'!BE58)","v":""},2]
[{"$f":"IF('個人種目(マスターズ)'!I59=\"\",\"\",'個人種目(マスターズ)'!AP59)","v":""},{"$f":"IF(A157=\"\",\"\",'個人種目(マスターズ)'!AU59)","v":""},{"$f":"IF(A157=\"\",\"\",'個人種目(マスターズ)'!AZ59)","v":""},{"$f":"IF(A157=\"\",\"\",'個人種目(マスターズ)'!AF59)","v":""},0,5,{"$f":"IF(A157=\"\",\"\",'個人種目(マスターズ)'!BE59)","v":""},2]
[{"$f":"IF('個人種目(マスターズ)'!I60=\"\",\"\",'個人種目(マスターズ)'!AP60)","v":""},{"$f":"IF(A158=\"\",\"\",'個人種目(マスターズ)'!AU60)","v":""},{"$f":"IF(A158=\"\",\"\",'個人種目(マスターズ)'!AZ60)","v":""},{"$f":"IF(A158=\"\",\"\",'個人種目(マスターズ)'!AF60)","v":""},0,5,{"$f":"IF(A158=\"\",\"\",'個人種目(マスターズ)'!BE60)","v":""},2]
[{"$f":"IF('個人種目(マスターズ)'!I61=\"\",\"\",'個人種目(マスターズ)'!AP61)","v":""},{"$f":"IF(A159=\"\",\"\",'個人種目(マスターズ)'!AU61)","v":""},{"$f":"IF(A159=\"\",\"\",'個人種目(マスターズ)'!AZ61)","v":""},{"$f":"IF(A159=\"\",\"\",'個人種目(マスターズ)'!AF61)","v":""},0,5,{"$f":"IF(A159=\"\",\"\",'個人種目(マスターズ)'!BE61)","v":""},2]
[{"$f":"IF('個人種目(マスターズ)'!I62=\"\",\"\",'個人種目(マスターズ)'!AP62)","v":""},{"$f":"IF(A160=\"\",\"\",'個人種目(マスターズ)'!AU62)","v":""},{"$f":"IF(A160=\"\",\"\",'個人種目(マスターズ)'!AZ62)","v":""},{"$f":"IF(A160=\"\",\"\",'個人種目(マスターズ)'!AF62)","v":""},0,5,{"$f":"IF(A160=\"\",\"\",'個人種目(マスターズ)'!BE62)","v":""},2]
[{"$f":"IF('個人種目(マスターズ)'!I63=\"\",\"\",'個人種目(マスターズ)'!AP63)","v":""},{"$f":"IF(A161=\"\",\"\",'個人種目(マスターズ)'!AU63)","v":""},{"$f":"IF(A161=\"\",\"\",'個人種目(マスターズ)'!AZ63)","v":""},{"$f":"IF(A161=\"\",\"\",'個人種目(マスターズ)'!AF63)","v":""},0,5,{"$f":"IF(A161=\"\",\"\",'個人種目(マスターズ)'!BE63)","v":""},2]
[{"$f":"IF('個人種目(マスターズ)'!I64=\"\",\"\",'個人種目(マスターズ)'!AP64)","v":""},{"$f":"IF(A162=\"\",\"\",'個人種目(マスターズ)'!AU64)","v":""},{"$f":"IF(A162=\"\",\"\",'個人種目(マスターズ)'!AZ64)","v":""},{"$f":"IF(A162=\"\",\"\",'個人種目(マスターズ)'!AF64)","v":""},0,5,{"$f":"IF(A162=\"\",\"\",'個人種目(マスターズ)'!BE64)","v":""},2]
[{"$f":"IF('個人種目(マスターズ)'!I65=\"\",\"\",'個人種目(マスターズ)'!AP65)","v":""},{"$f":"IF(A163=\"\",\"\",'個人種目(マスターズ)'!AU65)","v":""},{"$f":"IF(A163=\"\",\"\",'個人種目(マスターズ)'!AZ65)","v":""},{"$f":"IF(A163=\"\",\"\",'個人種目(マスターズ)'!AF65)","v":""},0,5,{"$f":"IF(A163=\"\",\"\",'個人種目(マスターズ)'!BE65)","v":""},2]
[{"$f":"IF('個人種目(マスターズ)'!I66=\"\",\"\",'個人種目(マスターズ)'!AP66)","v":""},{"$f":"IF(A164=\"\",\"\",'個人種目(マスターズ)'!AU66)","v":""},{"$f":"IF(A164=\"\",\"\",'個人種目(マスターズ)'!AZ66)","v":""},{"$f":"IF(A164=\"\",\"\",'個人種目(マスターズ)'!AF66)","v":""},0,5,{"$f":"IF(A164=\"\",\"\",'個人種目(マスターズ)'!BE66)","v":""},2]
[{"$f":"IF('個人種目(マスターズ)'!I67=\"\",\"\",'個人種目(マスターズ)'!AP67)","v":""},{"$f":"IF(A165=\"\",\"\",'個人種目(マスターズ)'!AU67)","v":""},{"$f":"IF(A165=\"\",\"\",'個人種目(マスターズ)'!AZ67)","v":""},{"$f":"IF(A165=\"\",\"\",'個人種目(マスターズ)'!AF67)","v":""},0,5,{"$f":"IF(A165=\"\",\"\",'個人種目(マスターズ)'!BE67)","v":""},2]
[{"$f":"IF('個人種目(マスターズ)'!I68=\"\",\"\",'個人種目(マスターズ)'!AP68)","v":""},{"$f":"IF(A166=\"\",\"\",'個人種目(マスターズ)'!AU68)","v":""},{"$f":"IF(A166=\"\",\"\",'個人種目(マスターズ)'!AZ68)","v":""},{"$f":"IF(A166=\"\",\"\",'個人種目(マスターズ)'!AF68)","v":""},0,5,{"$f":"IF(A166=\"\",\"\",'個人種目(マスターズ)'!BE68)","v":""},2]
[{"$f":"IF('個人種目(マスターズ)'!I69=\"\",\"\",'個人種目(マスターズ)'!AP69)","v":""},{"$f":"IF(A167=\"\",\"\",'個人種目(マスターズ)'!AU69)","v":""},{"$f":"IF(A167=\"\",\"\",'個人種目(マスターズ)'!AZ69)","v":""},{"$f":"IF(A167=\"\",\"\",'個人種目(マスターズ)'!AF69)","v":""},0,5,{"$f":"IF(A167=\"\",\"\",'個人種目(マスターズ)'!BE69)","v":""},2]
[{"$f":"IF('個人種目(マスターズ)'!I70=\"\",\"\",'個人種目(マスターズ)'!AP70)","v":""},{"$f":"IF(A168=\"\",\"\",'個人種目(マスターズ)'!AU70)","v":""},{"$f":"IF(A168=\"\",\"\",'個人種目(マスターズ)'!AZ70)","v":""},{"$f":"IF(A168=\"\",\"\",'個人種目(マスターズ)'!AF70)","v":""},0,5,{"$f":"IF(A168=\"\",\"\",'個人種目(マスターズ)'!BE70)","v":""},2]
[{"$f":"IF('個人種目(マスターズ)'!I71=\"\",\"\",'個人種目(マスターズ)'!AP71)","v":""},{"$f":"IF(A169=\"\",\"\",'個人種目(マスターズ)'!AU71)","v":""},{"$f":"IF(A169=\"\",\"\",'個人種目(マスターズ)'!AZ71)","v":""},{"$f":"IF(A169=\"\",\"\",'個人種目(マスターズ)'!AF71)","v":""},0,5,{"$f":"IF(A169=\"\",\"\",'個人種目(マスターズ)'!BE71)","v":""},2]
[{"$f":"IF('個人種目(マスターズ)'!I72=\"\",\"\",'個人種目(マスターズ)'!AP72)","v":""},{"$f":"IF(A170=\"\",\"\",'個人種目(マスターズ)'!AU72)","v":""},{"$f":"IF(A170=\"\",\"\",'個人種目(マスターズ)'!AZ72)","v":""},{"$f":"IF(A170=\"\",\"\",'個人種目(マスターズ)'!AF72)","v":""},0,5,{"$f":"IF(A170=\"\",\"\",'個人種目(マスターズ)'!BE72)","v":""},2]
[{"$f":"IF('個人種目(マスターズ)'!I73=\"\",\"\",'個人種目(マスターズ)'!AP73)","v":""},{"$f":"IF(A171=\"\",\"\",'個人種目(マスターズ)'!AU73)","v":""},{"$f":"IF(A171=\"\",\"\",'個人種目(マスターズ)'!AZ73)","v":""},{"$f":"IF(A171=\"\",\"\",'個人種目(マスターズ)'!AF73)","v":""},0,5,{"$f":"IF(A171=\"\",\"\",'個人種目(マスターズ)'!BE73)","v":""},2]
[{"$f":"IF('個人種目(マスターズ)'!I74=\"\",\"\",'個人種目(マスターズ)'!AP74)","v":""},{"$f":"IF(A172=\"\",\"\",'個人種目(マスターズ)'!AU74)","v":""},{"$f":"IF(A172=\"\",\"\",'個人種目(マスターズ)'!AZ74)","v":""},{"$f":"IF(A172=\"\",\"\",'個人種目(マスターズ)'!AF74)","v":""},0,5,{"$f":"IF(A172=\"\",\"\",'個人種目(マスターズ)'!BE74)","v":""},2]
[{"$f":"IF('個人種目(マスターズ)'!I75=\"\",\"\",'個人種目(マスターズ)'!AP75)","v":""},{"$f":"IF(A173=\"\",\"\",'個人種目(マスターズ)'!AU75)","v":""},{"$f":"IF(A173=\"\",\"\",'個人種目(マスターズ)'!AZ75)","v":""},{"$f":"IF(A173=\"\",\"\",'個人種目(マスターズ)'!AF75)","v":""},0,5,{"$f":"IF(A173=\"\",\"\",'個人種目(マスターズ)'!BE75)","v":""},2]
[{"$f":"IF('個人種目(マスターズ)'!I76=\"\",\"\",'個人種目(マスターズ)'!AP76)","v":""},{"$f":"IF(A174=\"\",\"\",'個人種目(マスターズ)'!AU76)","v":""},{"$f":"IF(A174=\"\",\"\",'個人種目(マスターズ)'!AZ76)","v":""},{"$f":"IF(A174=\"\",\"\",'個人種目(マスターズ)'!AF76)","v":""},0,5,{"$f":"IF(A174=\"\",\"\",'個人種目(マスターズ)'!BE76)","v":""},2]
[{"$f":"IF('個人種目(マスターズ)'!I77=\"\",\"\",'個人種目(マスターズ)'!AP77)","v":""},{"$f":"IF(A175=\"\",\"\",'個人種目(マスターズ)'!AU77)","v":""},{"$f":"IF(A175=\"\",\"\",'個人種目(マスターズ)'!AZ77)","v":""},{"$f":"IF(A175=\"\",\"\",'個人種目(マスターズ)'!AF77)","v":""},0,5,{"$f":"IF(A175=\"\",\"\",'個人種目(マスターズ)'!BE77)","v":""},2]
[{"$f":"IF('個人種目(マスターズ)'!I78=\"\",\"\",'個人種目(マスターズ)'!AP78)","v":""},{"$f":"IF(A176=\"\",\"\",'個人種目(マスターズ)'!AU78)","v":""},{"$f":"IF(A176=\"\",\"\",'個人種目(マスターズ)'!AZ78)","v":""},{"$f":"IF(A176=\"\",\"\",'個人種目(マスターズ)'!AF78)","v":""},0,5,{"$f":"IF(A176=\"\",\"\",'個人種目(マスターズ)'!BE78)","v":""},2]
[{"$f":"IF('個人種目(マスターズ)'!I79=\"\",\"\",'個人種目(マスターズ)'!AP79)","v":""},{"$f":"IF(A177=\"\",\"\",'個人種目(マスターズ)'!AU79)","v":""},{"$f":"IF(A177=\"\",\"\",'個人種目(マスターズ)'!AZ79)","v":""},{"$f":"IF(A177=\"\",\"\",'個人種目(マスターズ)'!AF79)","v":""},0,5,{"$f":"IF(A177=\"\",\"\",'個人種目(マスターズ)'!BE79)","v":""},2]
[{"$f":"IF('個人種目(マスターズ)'!I80=\"\",\"\",'個人種目(マスターズ)'!AP80)","v":""},{"$f":"IF(A178=\"\",\"\",'個人種目(マスターズ)'!AU80)","v":""},{"$f":"IF(A178=\"\",\"\",'個人種目(マスターズ)'!AZ80)","v":""},{"$f":"IF(A178=\"\",\"\",'個人種目(マスターズ)'!AF80)","v":""},0,5,{"$f":"IF(A178=\"\",\"\",'個人種目(マスターズ)'!BE80)","v":""},2]
[{"$f":"IF('個人種目(マスターズ)'!I81=\"\",\"\",'個人種目(マスターズ)'!AP81)","v":""},{"$f":"IF(A179=\"\",\"\",'個人種目(マスターズ)'!AU81)","v":""},{"$f":"IF(A179=\"\",\"\",'個人種目(マスターズ)'!AZ81)","v":""},{"$f":"IF(A179=\"\",\"\",'個人種目(マスターズ)'!AF81)","v":""},0,5,{"$f":"IF(A179=\"\",\"\",'個人種目(マスターズ)'!BE81)","v":""},2]
[{"$f":"IF('個人種目(マスターズ)'!I82=\"\",\"\",'個人種目(マスターズ)'!AP82)","v":""},{"$f":"IF(A180=\"\",\"\",'個人種目(マスターズ)'!AU82)","v":""},{"$f":"IF(A180=\"\",\"\",'個人種目(マスターズ)'!AZ82)","v":""},{"$f":"IF(A180=\"\",\"\",'個人種目(マスターズ)'!AF82)","v":""},0,5,{"$f":"IF(A180=\"\",\"\",'個人種目(マスターズ)'!BE82)","v":""},2]
[{"$f":"IF('個人種目(マスターズ)'!I83=\"\",\"\",'個人種目(マスターズ)'!AP83)","v":""},{"$f":"IF(A181=\"\",\"\",'個人種目(マスターズ)'!AU83)","v":""},{"$f":"IF(A181=\"\",\"\",'個人種目(マスターズ)'!AZ83)","v":""},{"$f":"IF(A181=\"\",\"\",'個人種目(マスターズ)'!AF83)","v":""},0,5,{"$f":"IF(A181=\"\",\"\",'個人種目(マスターズ)'!BE83)","v":""},2]
[{"$f":"IF('個人種目(マスターズ)'!I84=\"\",\"\",'個人種目(マスターズ)'!AP84)","v":""},{"$f":"IF(A182=\"\",\"\",'個人種目(マスターズ)'!AU84)","v":""},{"$f":"IF(A182=\"\",\"\",'個人種目(マスターズ)'!AZ84)","v":""},{"$f":"IF(A182=\"\",\"\",'個人種目(マスターズ)'!AF84)","v":""},0,5,{"$f":"IF(A182=\"\",\"\",'個人種目(マスターズ)'!BE84)","v":""},2]
[{"$f":"IF('個人種目(マスターズ)'!I85=\"\",\"\",'個人種目(マスターズ)'!AP85)","v":""},{"$f":"IF(A183=\"\",\"\",'個人種目(マスターズ)'!AU85)","v":""},{"$f":"IF(A183=\"\",\"\",'個人種目(マスターズ)'!AZ85)","v":""},{"$f":"IF(A183=\"\",\"\",'個人種目(マスターズ)'!AF85)","v":""},0,5,{"$f":"IF(A183=\"\",\"\",'個人種目(マスターズ)'!BE85)","v":""},2]
[{"$f":"IF('個人種目(マスターズ)'!I86=\"\",\"\",'個人種目(マスターズ)'!AP86)","v":""},{"$f":"IF(A184=\"\",\"\",'個人種目(マスターズ)'!AU86)","v":""},{"$f":"IF(A184=\"\",\"\",'個人種目(マスターズ)'!AZ86)","v":""},{"$f":"IF(A184=\"\",\"\",'個人種目(マスターズ)'!AF86)","v":""},0,5,{"$f":"IF(A184=\"\",\"\",'個人種目(マスターズ)'!BE86)","v":""},2]
[{"$f":"IF('個人種目(マスターズ)'!I87=\"\",\"\",'個人種目(マスターズ)'!AP87)","v":""},{"$f":"IF(A185=\"\",\"\",'個人種目(マスターズ)'!AU87)","v":""},{"$f":"IF(A185=\"\",\"\",'個人種目(マスターズ)'!AZ87)","v":""},{"$f":"IF(A185=\"\",\"\",'個人種目(マスターズ)'!AF87)","v":""},0,5,{"$f":"IF(A185=\"\",\"\",'個人種目(マスターズ)'!BE87)","v":""},2]
[{"$f":"IF('個人種目(マスターズ)'!I88=\"\",\"\",'個人種目(マスターズ)'!AP88)","v":""},{"$f":"IF(A186=\"\",\"\",'個人種目(マスターズ)'!AU88)","v":""},{"$f":"IF(A186=\"\",\"\",'個人種目(マスターズ)'!AZ88)","v":""},{"$f":"IF(A186=\"\",\"\",'個人種目(マスターズ)'!AF88)","v":""},0,5,{"$f":"IF(A186=\"\",\"\",'個人種目(マスターズ)'!BE88)","v":""},2]
[{"$f":"IF('個人種目(マスターズ)'!I89=\"\",\"\",'個人種目(マスターズ)'!AP89)","v":""},{"$f":"IF(A187=\"\",\"\",'個人種目(マスターズ)'!AU89)","v":""},{"$f":"IF(A187=\"\",\"\",'個人種目(マスターズ)'!AZ89)","v":""},{"$f":"IF(A187=\"\",\"\",'個人種目(マスターズ)'!AF89)","v":""},0,5,{"$f":"IF(A187=\"\",\"\",'個人種目(マスターズ)'!BE89)","v":""},2]
[{"$f":"IF('個人種目(マスターズ)'!I90=\"\",\"\",'個人種目(マスターズ)'!AP90)","v":""},{"$f":"IF(A188=\"\",\"\",'個人種目(マスターズ)'!AU90)","v":""},{"$f":"IF(A188=\"\",\"\",'個人種目(マスターズ)'!AZ90)","v":""},{"$f":"IF(A188=\"\",\"\",'個人種目(マスターズ)'!AF90)","v":""},0,5,{"$f":"IF(A188=\"\",\"\",'個人種目(マスターズ)'!BE90)","v":""},2]
[{"$f":"IF('個人種目(マスターズ)'!I91=\"\",\"\",'個人種目(マスターズ)'!AP91)","v":""},{"$f":"IF(A189=\"\",\"\",'個人種目(マスターズ)'!AU91)","v":""},{"$f":"IF(A189=\"\",\"\",'個人種目(マスターズ)'!AZ91)","v":""},{"$f":"IF(A189=\"\",\"\",'個人種目(マスターズ)'!AF91)","v":""},0,5,{"$f":"IF(A189=\"\",\"\",'個人種目(マスターズ)'!BE91)","v":""},2]
[{"$f":"IF('個人種目(マスターズ)'!I92=\"\",\"\",'個人種目(マスターズ)'!AP92)","v":""},{"$f":"IF(A190=\"\",\"\",'個人種目(マスターズ)'!AU92)","v":""},{"$f":"IF(A190=\"\",\"\",'個人種目(マスターズ)'!AZ92)","v":""},{"$f":"IF(A190=\"\",\"\",'個人種目(マスターズ)'!AF92)","v":""},0,5,{"$f":"IF(A190=\"\",\"\",'個人種目(マスターズ)'!BE92)","v":""},2]
[{"$f":"IF('個人種目(マスターズ)'!I93=\"\",\"\",'個人種目(マスターズ)'!AP93)","v":""},{"$f":"IF(A191=\"\",\"\",'個人種目(マスターズ)'!AU93)","v":""},{"$f":"IF(A191=\"\",\"\",'個人種目(マスターズ)'!AZ93)","v":""},{"$f":"IF(A191=\"\",\"\",'個人種目(マスターズ)'!AF93)","v":""},0,5,{"$f":"IF(A191=\"\",\"\",'個人種目(マスターズ)'!BE93)","v":""},2]
[{"$f":"IF('個人種目(マスターズ)'!I94=\"\",\"\",'個人種目(マスターズ)'!AP94)","v":""},{"$f":"IF(A192=\"\",\"\",'個人種目(マスターズ)'!AU94)","v":""},{"$f":"IF(A192=\"\",\"\",'個人種目(マスターズ)'!AZ94)","v":""},{"$f":"IF(A192=\"\",\"\",'個人種目(マスターズ)'!AF94)","v":""},0,5,{"$f":"IF(A192=\"\",\"\",'個人種目(マスターズ)'!BE94)","v":""},2]
[{"$f":"IF('個人種目(マスターズ)'!I95=\"\",\"\",'個人種目(マスターズ)'!AP95)","v":""},{"$f":"IF(A193=\"\",\"\",'個人種目(マスターズ)'!AU95)","v":""},{"$f":"IF(A193=\"\",\"\",'個人種目(マスターズ)'!AZ95)","v":""},{"$f":"IF(A193=\"\",\"\",'個人種目(マスターズ)'!AF95)","v":""},0,5,{"$f":"IF(A193=\"\",\"\",'個人種目(マスターズ)'!BE95)","v":""},2]
[{"$f":"IF('個人種目(マスターズ)'!I96=\"\",\"\",'個人種目(マスターズ)'!AP96)","v":""},{"$f":"IF(A194=\"\",\"\",'個人種目(マスターズ)'!AU96)","v":""},{"$f":"IF(A194=\"\",\"\",'個人種目(マスターズ)'!AZ96)","v":""},{"$f":"IF(A194=\"\",\"\",'個人種目(マスターズ)'!AF96)","v":""},0,5,{"$f":"IF(A194=\"\",\"\",'個人種目(マスターズ)'!BE96)","v":""},2]
[{"$f":"IF('個人種目(マスターズ)'!I97=\"\",\"\",'個人種目(マスターズ)'!AP97)","v":""},{"$f":"IF(A195=\"\",\"\",'個人種目(マスターズ)'!AU97)","v":""},{"$f":"IF(A195=\"\",\"\",'個人種目(マスターズ)'!AZ97)","v":""},{"$f":"IF(A195=\"\",\"\",'個人種目(マスターズ)'!AF97)","v":""},0,5,{"$f":"IF(A195=\"\",\"\",'個人種目(マスターズ)'!BE97)","v":""},2]
[{"$f":"IF('個人種目(マスターズ)'!I98=\"\",\"\",'個人種目(マスターズ)'!AP98)","v":""},{"$f":"IF(A196=\"\",\"\",'個人種目(マスターズ)'!AU98)","v":""},{"$f":"IF(A196=\"\",\"\",'個人種目(マスターズ)'!AZ98)","v":""},{"$f":"IF(A196=\"\",\"\",'個人種目(マスターズ)'!AF98)","v":""},0,5,{"$f":"IF(A196=\"\",\"\",'個人種目(マスターズ)'!BE98)","v":""},2]
[{"$f":"IF('個人種目(マスターズ)'!I99=\"\",\"\",'個人種目(マスターズ)'!AP99)","v":""},{"$f":"IF(A197=\"\",\"\",'個人種目(マスターズ)'!AU99)","v":""},{"$f":"IF(A197=\"\",\"\",'個人種目(マスターズ)'!AZ99)","v":""},{"$f":"IF(A197=\"\",\"\",'個人種目(マスターズ)'!AF99)","v":""},0,5,{"$f":"IF(A197=\"\",\"\",'個人種目(マスターズ)'!BE99)","v":""},2]
[{"$f":"IF('個人種目(マスターズ)'!I100=\"\",\"\",'個人種目(マスターズ)'!AP100)","v":""},{"$f":"IF(A198=\"\",\"\",'個人種目(マスターズ)'!AU100)","v":""},{"$f":"IF(A198=\"\",\"\",'個人種目(マスターズ)'!AZ100)","v":""},{"$f":"IF(A198=\"\",\"\",'個人種目(マスターズ)'!AF100)","v":""},0,5,{"$f":"IF(A198=\"\",\"\",'個人種目(マスターズ)'!BE100)","v":""},2]
[{"$f":"IF('個人種目(マスターズ)'!I101=\"\",\"\",'個人種目(マスターズ)'!AP101)","v":""},{"$f":"IF(A199=\"\",\"\",'個人種目(マスターズ)'!AU101)","v":""},{"$f":"IF(A199=\"\",\"\",'個人種目(マスターズ)'!AZ101)","v":""},{"$f":"IF(A199=\"\",\"\",'個人種目(マスターズ)'!AF101)","v":""},0,5,{"$f":"IF(A199=\"\",\"\",'個人種目(マスターズ)'!BE101)","v":""},2]
[{"$f":"IF('個人種目(マスターズ)'!I102=\"\",\"\",'個人種目(マスターズ)'!AP102)","v":""},{"$f":"IF(A200=\"\",\"\",'個人種目(マスターズ)'!AU102)","v":""},{"$f":"IF(A200=\"\",\"\",'個人種目(マスターズ)'!AZ102)","v":""},{"$f":"IF(A200=\"\",\"\",'個人種目(マスターズ)'!AF102)","v":""},0,5,{"$f":"IF(A200=\"\",\"\",'個人種目(マスターズ)'!BE102)","v":""},2]
[{"$f":"IF('個人種目(マスターズ)'!I103=\"\",\"\",'個人種目(マスターズ)'!AP103)","v":""},{"$f":"IF(A201=\"\",\"\",'個人種目(マスターズ)'!AU103)","v":""},{"$f":"IF(A201=\"\",\"\",'個人種目(マスターズ)'!AZ103)","v":""},{"$f":"IF(A201=\"\",\"\",'個人種目(マスターズ)'!AF103)","v":""},0,5,{"$f":"IF(A201=\"\",\"\",'個人種目(マスターズ)'!BE103)","v":""},2]
[{"$f":"IF('個人種目(マスターズ)'!I104=\"\",\"\",'個人種目(マスターズ)'!AP104)","v":""},{"$f":"IF(A202=\"\",\"\",'個人種目(マスターズ)'!AU104)","v":""},{"$f":"IF(A202=\"\",\"\",'個人種目(マスターズ)'!AZ104)","v":""},{"$f":"IF(A202=\"\",\"\",'個人種目(マスターズ)'!AF104)","v":""},0,5,{"$f":"IF(A202=\"\",\"\",'個人種目(マスターズ)'!BE104)","v":""},2]
[{"$f":"IF('個人種目(マスターズ)'!I105=\"\",\"\",'個人種目(マスターズ)'!AP105)","v":""},{"$f":"IF(A203=\"\",\"\",'個人種目(マスターズ)'!AU105)","v":""},{"$f":"IF(A203=\"\",\"\",'個人種目(マスターズ)'!AZ105)","v":""},{"$f":"IF(A203=\"\",\"\",'個人種目(マスターズ)'!AF105)","v":""},0,5,{"$f":"IF(A203=\"\",\"\",'個人種目(マスターズ)'!BE105)","v":""},2]
[{"$f":"IF('個人種目(マスターズ)'!I106=\"\",\"\",'個人種目(マスターズ)'!AP106)","v":""},{"$f":"IF(A204=\"\",\"\",'個人種目(マスターズ)'!AU106)","v":""},{"$f":"IF(A204=\"\",\"\",'個人種目(マスターズ)'!AZ106)","v":""},{"$f":"IF(A204=\"\",\"\",'個人種目(マスターズ)'!AF106)","v":""},0,5,{"$f":"IF(A204=\"\",\"\",'個人種目(マスターズ)'!BE106)","v":""},2]
[{"$f":"IF('個人種目(マスターズ)'!I107=\"\",\"\",'個人種目(マスターズ)'!AP107)","v":""},{"$f":"IF(A205=\"\",\"\",'個人種目(マスターズ)'!AU107)","v":""},{"$f":"IF(A205=\"\",\"\",'個人種目(マスターズ)'!AZ107)","v":""},{"$f":"IF(A205=\"\",\"\",'個人種目(マスターズ)'!AF107)","v":""},0,5,{"$f":"IF(A205=\"\",\"\",'個人種目(マスターズ)'!BE107)","v":""},2]
[{"$f":"IF('個人種目(マスターズ)'!K6=\"\",\"\",'個人種目(マスターズ)'!AP6)","v":""},{"$f":"IF(A206=\"\",\"\",'個人種目(マスターズ)'!AV6)","v":""},{"$f":"IF(A206=\"\",\"\",'個人種目(マスターズ)'!BA6)","v":""},{"$f":"IF(A206=\"\",\"\",'個人種目(マスターズ)'!AF6)","v":""},0,0,{"$f":"IF(A206=\"\",\"\",'個人種目(マスターズ)'!BF6)","v":""},3]
[{"$f":"IF('個人種目(マスターズ)'!K7=\"\",\"\",'個人種目(マスターズ)'!AP7)","v":""},{"$f":"IF(A207=\"\",\"\",'個人種目(マスターズ)'!AV7)","v":""},{"$f":"IF(A207=\"\",\"\",'個人種目(マスターズ)'!BA7)","v":""},{"$f":"IF(A207=\"\",\"\",'個人種目(マスターズ)'!AF7)","v":""},0,0,{"$f":"IF(A207=\"\",\"\",'個人種目(マスターズ)'!BF7)","v":""},3]
[{"$f":"IF('個人種目(マスターズ)'!K8=\"\",\"\",'個人種目(マスターズ)'!AP8)","v":""},{"$f":"IF(A208=\"\",\"\",'個人種目(マスターズ)'!AV8)","v":""},{"$f":"IF(A208=\"\",\"\",'個人種目(マスターズ)'!BA8)","v":""},{"$f":"IF(A208=\"\",\"\",'個人種目(マスターズ)'!AF8)","v":""},0,0,{"$f":"IF(A208=\"\",\"\",'個人種目(マスターズ)'!BF8)","v":""},3]
[{"$f":"IF('個人種目(マスターズ)'!K9=\"\",\"\",'個人種目(マスターズ)'!AP9)","v":""},{"$f":"IF(A209=\"\",\"\",'個人種目(マスターズ)'!AV9)","v":""},{"$f":"IF(A209=\"\",\"\",'個人種目(マスターズ)'!BA9)","v":""},{"$f":"IF(A209=\"\",\"\",'個人種目(マスターズ)'!AF9)","v":""},0,0,{"$f":"IF(A209=\"\",\"\",'個人種目(マスターズ)'!BF9)","v":""},3]
[{"$f":"IF('個人種目(マスターズ)'!K10=\"\",\"\",'個人種目(マスターズ)'!AP10)","v":""},{"$f":"IF(A210=\"\",\"\",'個人種目(マスターズ)'!AV10)","v":""},{"$f":"IF(A210=\"\",\"\",'個人種目(マスターズ)'!BA10)","v":""},{"$f":"IF(A210=\"\",\"\",'個人種目(マスターズ)'!AF10)","v":""},0,0,{"$f":"IF(A210=\"\",\"\",'個人種目(マスターズ)'!BF10)","v":""},3]
[{"$f":"IF('個人種目(マスターズ)'!K11=\"\",\"\",'個人種目(マスターズ)'!AP11)","v":""},{"$f":"IF(A211=\"\",\"\",'個人種目(マスターズ)'!AV11)","v":""},{"$f":"IF(A211=\"\",\"\",'個人種目(マスターズ)'!BA11)","v":""},{"$f":"IF(A211=\"\",\"\",'個人種目(マスターズ)'!AF11)","v":""},0,0,{"$f":"IF(A211=\"\",\"\",'個人種目(マスターズ)'!BF11)","v":""},3]
[{"$f":"IF('個人種目(マスターズ)'!K12=\"\",\"\",'個人種目(マスターズ)'!AP12)","v":""},{"$f":"IF(A212=\"\",\"\",'個人種目(マスターズ)'!AV12)","v":""},{"$f":"IF(A212=\"\",\"\",'個人種目(マスターズ)'!BA12)","v":""},{"$f":"IF(A212=\"\",\"\",'個人種目(マスターズ)'!AF12)","v":""},0,0,{"$f":"IF(A212=\"\",\"\",'個人種目(マスターズ)'!BF12)","v":""},3]
[{"$f":"IF('個人種目(マスターズ)'!K13=\"\",\"\",'個人種目(マスターズ)'!AP13)","v":""},{"$f":"IF(A213=\"\",\"\",'個人種目(マスターズ)'!AV13)","v":""},{"$f":"IF(A213=\"\",\"\",'個人種目(マスターズ)'!BA13)","v":""},{"$f":"IF(A213=\"\",\"\",'個人種目(マスターズ)'!AF13)","v":""},0,0,{"$f":"IF(A213=\"\",\"\",'個人種目(マスターズ)'!BF13)","v":""},3]
[{"$f":"IF('個人種目(マスターズ)'!K14=\"\",\"\",'個人種目(マスターズ)'!AP14)","v":""},{"$f":"IF(A214=\"\",\"\",'個人種目(マスターズ)'!AV14)","v":""},{"$f":"IF(A214=\"\",\"\",'個人種目(マスターズ)'!BA14)","v":""},{"$f":"IF(A214=\"\",\"\",'個人種目(マスターズ)'!AF14)","v":""},0,0,{"$f":"IF(A214=\"\",\"\",'個人種目(マスターズ)'!BF14)","v":""},3]
[{"$f":"IF('個人種目(マスターズ)'!K15=\"\",\"\",'個人種目(マスターズ)'!AP15)","v":""},{"$f":"IF(A215=\"\",\"\",'個人種目(マスターズ)'!AV15)","v":""},{"$f":"IF(A215=\"\",\"\",'個人種目(マスターズ)'!BA15)","v":""},{"$f":"IF(A215=\"\",\"\",'個人種目(マスターズ)'!AF15)","v":""},0,0,{"$f":"IF(A215=\"\",\"\",'個人種目(マスターズ)'!BF15)","v":""},3]
[{"$f":"IF('個人種目(マスターズ)'!K16=\"\",\"\",'個人種目(マスターズ)'!AP16)","v":""},{"$f":"IF(A216=\"\",\"\",'個人種目(マスターズ)'!AV16)","v":""},{"$f":"IF(A216=\"\",\"\",'個人種目(マスターズ)'!BA16)","v":""},{"$f":"IF(A216=\"\",\"\",'個人種目(マスターズ)'!AF16)","v":""},0,0,{"$f":"IF(A216=\"\",\"\",'個人種目(マスターズ)'!BF16)","v":""},3]
[{"$f":"IF('個人種目(マスターズ)'!K17=\"\",\"\",'個人種目(マスターズ)'!AP17)","v":""},{"$f":"IF(A217=\"\",\"\",'個人種目(マスターズ)'!AV17)","v":""},{"$f":"IF(A217=\"\",\"\",'個人種目(マスターズ)'!BA17)","v":""},{"$f":"IF(A217=\"\",\"\",'個人種目(マスターズ)'!AF17)","v":""},0,0,{"$f":"IF(A217=\"\",\"\",'個人種目(マスターズ)'!BF17)","v":""},3]
[{"$f":"IF('個人種目(マスターズ)'!K18=\"\",\"\",'個人種目(マスターズ)'!AP18)","v":""},{"$f":"IF(A218=\"\",\"\",'個人種目(マスターズ)'!AV18)","v":""},{"$f":"IF(A218=\"\",\"\",'個人種目(マスターズ)'!BA18)","v":""},{"$f":"IF(A218=\"\",\"\",'個人種目(マスターズ)'!AF18)","v":""},0,0,{"$f":"IF(A218=\"\",\"\",'個人種目(マスターズ)'!BF18)","v":""},3]
[{"$f":"IF('個人種目(マスターズ)'!K19=\"\",\"\",'個人種目(マスターズ)'!AP19)","v":""},{"$f":"IF(A219=\"\",\"\",'個人種目(マスターズ)'!AV19)","v":""},{"$f":"IF(A219=\"\",\"\",'個人種目(マスターズ)'!BA19)","v":""},{"$f":"IF(A219=\"\",\"\",'個人種目(マスターズ)'!AF19)","v":""},0,0,{"$f":"IF(A219=\"\",\"\",'個人種目(マスターズ)'!BF19)","v":""},3]
[{"$f":"IF('個人種目(マスターズ)'!K20=\"\",\"\",'個人種目(マスターズ)'!AP20)","v":""},{"$f":"IF(A220=\"\",\"\",'個人種目(マスターズ)'!AV20)","v":""},{"$f":"IF(A220=\"\",\"\",'個人種目(マスターズ)'!BA20)","v":""},{"$f":"IF(A220=\"\",\"\",'個人種目(マスターズ)'!AF20)","v":""},0,0,{"$f":"IF(A220=\"\",\"\",'個人種目(マスターズ)'!BF20)","v":""},3]
[{"$f":"IF('個人種目(マスターズ)'!K21=\"\",\"\",'個人種目(マスターズ)'!AP21)","v":""},{"$f":"IF(A221=\"\",\"\",'個人種目(マスターズ)'!AV21)","v":""},{"$f":"IF(A221=\"\",\"\",'個人種目(マスターズ)'!BA21)","v":""},{"$f":"IF(A221=\"\",\"\",'個人種目(マスターズ)'!AF21)","v":""},0,0,{"$f":"IF(A221=\"\",\"\",'個人種目(マスターズ)'!BF21)","v":""},3]
[{"$f":"IF('個人種目(マスターズ)'!K22=\"\",\"\",'個人種目(マスターズ)'!AP22)","v":""},{"$f":"IF(A222=\"\",\"\",'個人種目(マスターズ)'!AV22)","v":""},{"$f":"IF(A222=\"\",\"\",'個人種目(マスターズ)'!BA22)","v":""},{"$f":"IF(A222=\"\",\"\",'個人種目(マスターズ)'!AF22)","v":""},0,0,{"$f":"IF(A222=\"\",\"\",'個人種目(マスターズ)'!BF22)","v":""},3]
[{"$f":"IF('個人種目(マスターズ)'!K23=\"\",\"\",'個人種目(マスターズ)'!AP23)","v":""},{"$f":"IF(A223=\"\",\"\",'個人種目(マスターズ)'!AV23)","v":""},{"$f":"IF(A223=\"\",\"\",'個人種目(マスターズ)'!BA23)","v":""},{"$f":"IF(A223=\"\",\"\",'個人種目(マスターズ)'!AF23)","v":""},0,0,{"$f":"IF(A223=\"\",\"\",'個人種目(マスターズ)'!BF23)","v":""},3]
[{"$f":"IF('個人種目(マスターズ)'!K24=\"\",\"\",'個人種目(マスターズ)'!AP24)","v":""},{"$f":"IF(A224=\"\",\"\",'個人種目(マスターズ)'!AV24)","v":""},{"$f":"IF(A224=\"\",\"\",'個人種目(マスターズ)'!BA24)","v":""},{"$f":"IF(A224=\"\",\"\",'個人種目(マスターズ)'!AF24)","v":""},0,0,{"$f":"IF(A224=\"\",\"\",'個人種目(マスターズ)'!BF24)","v":""},3]
[{"$f":"IF('個人種目(マスターズ)'!K25=\"\",\"\",'個人種目(マスターズ)'!AP25)","v":""},{"$f":"IF(A225=\"\",\"\",'個人種目(マスターズ)'!AV25)","v":""},{"$f":"IF(A225=\"\",\"\",'個人種目(マスターズ)'!BA25)","v":""},{"$f":"IF(A225=\"\",\"\",'個人種目(マスターズ)'!AF25)","v":""},0,0,{"$f":"IF(A225=\"\",\"\",'個人種目(マスターズ)'!BF25)","v":""},3]
[{"$f":"IF('個人種目(マスターズ)'!K26=\"\",\"\",'個人種目(マスターズ)'!AP26)","v":""},{"$f":"IF(A226=\"\",\"\",'個人種目(マスターズ)'!AV26)","v":""},{"$f":"IF(A226=\"\",\"\",'個人種目(マスターズ)'!BA26)","v":""},{"$f":"IF(A226=\"\",\"\",'個人種目(マスターズ)'!AF26)","v":""},0,0,{"$f":"IF(A226=\"\",\"\",'個人種目(マスターズ)'!BF26)","v":""},3]
[{"$f":"IF('個人種目(マスターズ)'!K27=\"\",\"\",'個人種目(マスターズ)'!AP27)","v":""},{"$f":"IF(A227=\"\",\"\",'個人種目(マスターズ)'!AV27)","v":""},{"$f":"IF(A227=\"\",\"\",'個人種目(マスターズ)'!BA27)","v":""},{"$f":"IF(A227=\"\",\"\",'個人種目(マスターズ)'!AF27)","v":""},0,0,{"$f":"IF(A227=\"\",\"\",'個人種目(マスターズ)'!BF27)","v":""},3]
[{"$f":"IF('個人種目(マスターズ)'!K28=\"\",\"\",'個人種目(マスターズ)'!AP28)","v":""},{"$f":"IF(A228=\"\",\"\",'個人種目(マスターズ)'!AV28)","v":""},{"$f":"IF(A228=\"\",\"\",'個人種目(マスターズ)'!BA28)","v":""},{"$f":"IF(A228=\"\",\"\",'個人種目(マスターズ)'!AF28)","v":""},0,0,{"$f":"IF(A228=\"\",\"\",'個人種目(マスターズ)'!BF28)","v":""},3]
[{"$f":"IF('個人種目(マスターズ)'!K29=\"\",\"\",'個人種目(マスターズ)'!AP29)","v":""},{"$f":"IF(A229=\"\",\"\",'個人種目(マスターズ)'!AV29)","v":""},{"$f":"IF(A229=\"\",\"\",'個人種目(マスターズ)'!BA29)","v":""},{"$f":"IF(A229=\"\",\"\",'個人種目(マスターズ)'!AF29)","v":""},0,0,{"$f":"IF(A229=\"\",\"\",'個人種目(マスターズ)'!BF29)","v":""},3]
[{"$f":"IF('個人種目(マスターズ)'!K30=\"\",\"\",'個人種目(マスターズ)'!AP30)","v":""},{"$f":"IF(A230=\"\",\"\",'個人種目(マスターズ)'!AV30)","v":""},{"$f":"IF(A230=\"\",\"\",'個人種目(マスターズ)'!BA30)","v":""},{"$f":"IF(A230=\"\",\"\",'個人種目(マスターズ)'!AF30)","v":""},0,0,{"$f":"IF(A230=\"\",\"\",'個人種目(マスターズ)'!BF30)","v":""},3]
[{"$f":"IF('個人種目(マスターズ)'!K31=\"\",\"\",'個人種目(マスターズ)'!AP31)","v":""},{"$f":"IF(A231=\"\",\"\",'個人種目(マスターズ)'!AV31)","v":""},{"$f":"IF(A231=\"\",\"\",'個人種目(マスターズ)'!BA31)","v":""},{"$f":"IF(A231=\"\",\"\",'個人種目(マスターズ)'!AF31)","v":""},0,0,{"$f":"IF(A231=\"\",\"\",'個人種目(マスターズ)'!BF31)","v":""},3]
[{"$f":"IF('個人種目(マスターズ)'!K32=\"\",\"\",'個人種目(マスターズ)'!AP32)","v":""},{"$f":"IF(A232=\"\",\"\",'個人種目(マスターズ)'!AV32)","v":""},{"$f":"IF(A232=\"\",\"\",'個人種目(マスターズ)'!BA32)","v":""},{"$f":"IF(A232=\"\",\"\",'個人種目(マスターズ)'!AF32)","v":""},0,0,{"$f":"IF(A232=\"\",\"\",'個人種目(マスターズ)'!BF32)","v":""},3]
[{"$f":"IF('個人種目(マスターズ)'!K33=\"\",\"\",'個人種目(マスターズ)'!AP33)","v":""},{"$f":"IF(A233=\"\",\"\",'個人種目(マスターズ)'!AV33)","v":""},{"$f":"IF(A233=\"\",\"\",'個人種目(マスターズ)'!BA33)","v":""},{"$f":"IF(A233=\"\",\"\",'個人種目(マスターズ)'!AF33)","v":""},0,0,{"$f":"IF(A233=\"\",\"\",'個人種目(マスターズ)'!BF33)","v":""},3]
[{"$f":"IF('個人種目(マスターズ)'!K34=\"\",\"\",'個人種目(マスターズ)'!AP34)","v":""},{"$f":"IF(A234=\"\",\"\",'個人種目(マスターズ)'!AV34)","v":""},{"$f":"IF(A234=\"\",\"\",'個人種目(マスターズ)'!BA34)","v":""},{"$f":"IF(A234=\"\",\"\",'個人種目(マスターズ)'!AF34)","v":""},0,0,{"$f":"IF(A234=\"\",\"\",'個人種目(マスターズ)'!BF34)","v":""},3]
[{"$f":"IF('個人種目(マスターズ)'!K35=\"\",\"\",'個人種目(マスターズ)'!AP35)","v":""},{"$f":"IF(A235=\"\",\"\",'個人種目(マスターズ)'!AV35)","v":""},{"$f":"IF(A235=\"\",\"\",'個人種目(マスターズ)'!BA35)","v":""},{"$f":"IF(A235=\"\",\"\",'個人種目(マスターズ)'!AF35)","v":""},0,0,{"$f":"IF(A235=\"\",\"\",'個人種目(マスターズ)'!BF35)","v":""},3]
[{"$f":"IF('個人種目(マスターズ)'!K36=\"\",\"\",'個人種目(マスターズ)'!AP36)","v":""},{"$f":"IF(A236=\"\",\"\",'個人種目(マスターズ)'!AV36)","v":""},{"$f":"IF(A236=\"\",\"\",'個人種目(マスターズ)'!BA36)","v":""},{"$f":"IF(A236=\"\",\"\",'個人種目(マスターズ)'!AF36)","v":""},0,0,{"$f":"IF(A236=\"\",\"\",'個人種目(マスターズ)'!BF36)","v":""},3]
[{"$f":"IF('個人種目(マスターズ)'!K37=\"\",\"\",'個人種目(マスターズ)'!AP37)","v":""},{"$f":"IF(A237=\"\",\"\",'個人種目(マスターズ)'!AV37)","v":""},{"$f":"IF(A237=\"\",\"\",'個人種目(マスターズ)'!BA37)","v":""},{"$f":"IF(A237=\"\",\"\",'個人種目(マスターズ)'!AF37)","v":""},0,0,{"$f":"IF(A237=\"\",\"\",'個人種目(マスターズ)'!BF37)","v":""},3]
[{"$f":"IF('個人種目(マスターズ)'!K38=\"\",\"\",'個人種目(マスターズ)'!AP38)","v":""},{"$f":"IF(A238=\"\",\"\",'個人種目(マスターズ)'!AV38)","v":""},{"$f":"IF(A238=\"\",\"\",'個人種目(マスターズ)'!BA38)","v":""},{"$f":"IF(A238=\"\",\"\",'個人種目(マスターズ)'!AF38)","v":""},0,0,{"$f":"IF(A238=\"\",\"\",'個人種目(マスターズ)'!BF38)","v":""},3]
[{"$f":"IF('個人種目(マスターズ)'!K39=\"\",\"\",'個人種目(マスターズ)'!AP39)","v":""},{"$f":"IF(A239=\"\",\"\",'個人種目(マスターズ)'!AV39)","v":""},{"$f":"IF(A239=\"\",\"\",'個人種目(マスターズ)'!BA39)","v":""},{"$f":"IF(A239=\"\",\"\",'個人種目(マスターズ)'!AF39)","v":""},0,0,{"$f":"IF(A239=\"\",\"\",'個人種目(マスターズ)'!BF39)","v":""},3]
[{"$f":"IF('個人種目(マスターズ)'!K40=\"\",\"\",'個人種目(マスターズ)'!AP40)","v":""},{"$f":"IF(A240=\"\",\"\",'個人種目(マスターズ)'!AV40)","v":""},{"$f":"IF(A240=\"\",\"\",'個人種目(マスターズ)'!BA40)","v":""},{"$f":"IF(A240=\"\",\"\",'個人種目(マスターズ)'!AF40)","v":""},0,0,{"$f":"IF(A240=\"\",\"\",'個人種目(マスターズ)'!BF40)","v":""},3]
[{"$f":"IF('個人種目(マスターズ)'!K41=\"\",\"\",'個人種目(マスターズ)'!AP41)","v":""},{"$f":"IF(A241=\"\",\"\",'個人種目(マスターズ)'!AV41)","v":""},{"$f":"IF(A241=\"\",\"\",'個人種目(マスターズ)'!BA41)","v":""},{"$f":"IF(A241=\"\",\"\",'個人種目(マスターズ)'!AF41)","v":""},0,0,{"$f":"IF(A241=\"\",\"\",'個人種目(マスターズ)'!BF41)","v":""},3]
[{"$f":"IF('個人種目(マスターズ)'!K42=\"\",\"\",'個人種目(マスターズ)'!AP42)","v":""},{"$f":"IF(A242=\"\",\"\",'個人種目(マスターズ)'!AV42)","v":""},{"$f":"IF(A242=\"\",\"\",'個人種目(マスターズ)'!BA42)","v":""},{"$f":"IF(A242=\"\",\"\",'個人種目(マスターズ)'!AF42)","v":""},0,0,{"$f":"IF(A242=\"\",\"\",'個人種目(マスターズ)'!BF42)","v":""},3]
[{"$f":"IF('個人種目(マスターズ)'!K43=\"\",\"\",'個人種目(マスターズ)'!AP43)","v":""},{"$f":"IF(A243=\"\",\"\",'個人種目(マスターズ)'!AV43)","v":""},{"$f":"IF(A243=\"\",\"\",'個人種目(マスターズ)'!BA43)","v":""},{"$f":"IF(A243=\"\",\"\",'個人種目(マスターズ)'!AF43)","v":""},0,0,{"$f":"IF(A243=\"\",\"\",'個人種目(マスターズ)'!BF43)","v":""},3]
[{"$f":"IF('個人種目(マスターズ)'!K44=\"\",\"\",'個人種目(マスターズ)'!AP44)","v":""},{"$f":"IF(A244=\"\",\"\",'個人種目(マスターズ)'!AV44)","v":""},{"$f":"IF(A244=\"\",\"\",'個人種目(マスターズ)'!BA44)","v":""},{"$f":"IF(A244=\"\",\"\",'個人種目(マスターズ)'!AF44)","v":""},0,0,{"$f":"IF(A244=\"\",\"\",'個人種目(マスターズ)'!BF44)","v":""},3]
[{"$f":"IF('個人種目(マスターズ)'!K45=\"\",\"\",'個人種目(マスターズ)'!AP45)","v":""},{"$f":"IF(A245=\"\",\"\",'個人種目(マスターズ)'!AV45)","v":""},{"$f":"IF(A245=\"\",\"\",'個人種目(マスターズ)'!BA45)","v":""},{"$f":"IF(A245=\"\",\"\",'個人種目(マスターズ)'!AF45)","v":""},0,0,{"$f":"IF(A245=\"\",\"\",'個人種目(マスターズ)'!BF45)","v":""},3]
[{"$f":"IF('個人種目(マスターズ)'!K46=\"\",\"\",'個人種目(マスターズ)'!AP46)","v":""},{"$f":"IF(A246=\"\",\"\",'個人種目(マスターズ)'!AV46)","v":""},{"$f":"IF(A246=\"\",\"\",'個人種目(マスターズ)'!BA46)","v":""},{"$f":"IF(A246=\"\",\"\",'個人種目(マスターズ)'!AF46)","v":""},0,0,{"$f":"IF(A246=\"\",\"\",'個人種目(マスターズ)'!BF46)","v":""},3]
[{"$f":"IF('個人種目(マスターズ)'!K47=\"\",\"\",'個人種目(マスターズ)'!AP47)","v":""},{"$f":"IF(A247=\"\",\"\",'個人種目(マスターズ)'!AV47)","v":""},{"$f":"IF(A247=\"\",\"\",'個人種目(マスターズ)'!BA47)","v":""},{"$f":"IF(A247=\"\",\"\",'個人種目(マスターズ)'!AF47)","v":""},0,0,{"$f":"IF(A247=\"\",\"\",'個人種目(マスターズ)'!BF47)","v":""},3]
[{"$f":"IF('個人種目(マスターズ)'!K48=\"\",\"\",'個人種目(マスターズ)'!AP48)","v":""},{"$f":"IF(A248=\"\",\"\",'個人種目(マスターズ)'!AV48)","v":""},{"$f":"IF(A248=\"\",\"\",'個人種目(マスターズ)'!BA48)","v":""},{"$f":"IF(A248=\"\",\"\",'個人種目(マスターズ)'!AF48)","v":""},0,0,{"$f":"IF(A248=\"\",\"\",'個人種目(マスターズ)'!BF48)","v":""},3]
[{"$f":"IF('個人種目(マスターズ)'!K49=\"\",\"\",'個人種目(マスターズ)'!AP49)","v":""},{"$f":"IF(A249=\"\",\"\",'個人種目(マスターズ)'!AV49)","v":""},{"$f":"IF(A249=\"\",\"\",'個人種目(マスターズ)'!BA49)","v":""},{"$f":"IF(A249=\"\",\"\",'個人種目(マスターズ)'!AF49)","v":""},0,0,{"$f":"IF(A249=\"\",\"\",'個人種目(マスターズ)'!BF49)","v":""},3]
[{"$f":"IF('個人種目(マスターズ)'!K50=\"\",\"\",'個人種目(マスターズ)'!AP50)","v":""},{"$f":"IF(A250=\"\",\"\",'個人種目(マスターズ)'!AV50)","v":""},{"$f":"IF(A250=\"\",\"\",'個人種目(マスターズ)'!BA50)","v":""},{"$f":"IF(A250=\"\",\"\",'個人種目(マスターズ)'!AF50)","v":""},0,0,{"$f":"IF(A250=\"\",\"\",'個人種目(マスターズ)'!BF50)","v":""},3]
[{"$f":"IF('個人種目(マスターズ)'!K51=\"\",\"\",'個人種目(マスターズ)'!AP51)","v":""},{"$f":"IF(A251=\"\",\"\",'個人種目(マスターズ)'!AV51)","v":""},{"$f":"IF(A251=\"\",\"\",'個人種目(マスターズ)'!BA51)","v":""},{"$f":"IF(A251=\"\",\"\",'個人種目(マスターズ)'!AF51)","v":""},0,0,{"$f":"IF(A251=\"\",\"\",'個人種目(マスターズ)'!BF51)","v":""},3]
[{"$f":"IF('個人種目(マスターズ)'!K52=\"\",\"\",'個人種目(マスターズ)'!AP52)","v":""},{"$f":"IF(A252=\"\",\"\",'個人種目(マスターズ)'!AV52)","v":""},{"$f":"IF(A252=\"\",\"\",'個人種目(マスターズ)'!BA52)","v":""},{"$f":"IF(A252=\"\",\"\",'個人種目(マスターズ)'!AF52)","v":""},0,0,{"$f":"IF(A252=\"\",\"\",'個人種目(マスターズ)'!BF52)","v":""},3]
[{"$f":"IF('個人種目(マスターズ)'!K53=\"\",\"\",'個人種目(マスターズ)'!AP53)","v":""},{"$f":"IF(A253=\"\",\"\",'個人種目(マスターズ)'!AV53)","v":""},{"$f":"IF(A253=\"\",\"\",'個人種目(マスターズ)'!BA53)","v":""},{"$f":"IF(A253=\"\",\"\",'個人種目(マスターズ)'!AF53)","v":""},0,0,{"$f":"IF(A253=\"\",\"\",'個人種目(マスターズ)'!BF53)","v":""},3]
[{"$f":"IF('個人種目(マスターズ)'!K54=\"\",\"\",'個人種目(マスターズ)'!AP54)","v":""},{"$f":"IF(A254=\"\",\"\",'個人種目(マスターズ)'!AV54)","v":""},{"$f":"IF(A254=\"\",\"\",'個人種目(マスターズ)'!BA54)","v":""},{"$f":"IF(A254=\"\",\"\",'個人種目(マスターズ)'!AF54)","v":""},0,0,{"$f":"IF(A254=\"\",\"\",'個人種目(マスターズ)'!BF54)","v":""},3]
[{"$f":"IF('個人種目(マスターズ)'!K55=\"\",\"\",'個人種目(マスターズ)'!AP55)","v":""},{"$f":"IF(A255=\"\",\"\",'個人種目(マスターズ)'!AV55)","v":""},{"$f":"IF(A255=\"\",\"\",'個人種目(マスターズ)'!BA55)","v":""},{"$f":"IF(A255=\"\",\"\",'個人種目(マスターズ)'!AF55)","v":""},0,0,{"$f":"IF(A255=\"\",\"\",'個人種目(マスターズ)'!BF55)","v":""},3]
[]
[]
[{"$f":"IF('個人種目(マスターズ)'!K58=\"\",\"\",'個人種目(マスターズ)'!AP58)","v":""},{"$f":"IF(A258=\"\",\"\",'個人種目(マスターズ)'!AV58)","v":""},{"$f":"IF(A258=\"\",\"\",'個人種目(マスターズ)'!BA58)","v":""},{"$f":"IF(A258=\"\",\"\",'個人種目(マスターズ)'!AF58)","v":""},0,5,{"$f":"IF(A258=\"\",\"\",'個人種目(マスターズ)'!BF58)","v":""},3]
[{"$f":"IF('個人種目(マスターズ)'!K59=\"\",\"\",'個人種目(マスターズ)'!AP59)","v":""},{"$f":"IF(A259=\"\",\"\",'個人種目(マスターズ)'!AV59)","v":""},{"$f":"IF(A259=\"\",\"\",'個人種目(マスターズ)'!BA59)","v":""},{"$f":"IF(A259=\"\",\"\",'個人種目(マスターズ)'!AF59)","v":""},0,5,{"$f":"IF(A259=\"\",\"\",'個人種目(マスターズ)'!BF59)","v":""},3]
[{"$f":"IF('個人種目(マスターズ)'!K60=\"\",\"\",'個人種目(マスターズ)'!AP60)","v":""},{"$f":"IF(A260=\"\",\"\",'個人種目(マスターズ)'!AV60)","v":""},{"$f":"IF(A260=\"\",\"\",'個人種目(マスターズ)'!BA60)","v":""},{"$f":"IF(A260=\"\",\"\",'個人種目(マスターズ)'!AF60)","v":""},0,5,{"$f":"IF(A260=\"\",\"\",'個人種目(マスターズ)'!BF60)","v":""},3]
[{"$f":"IF('個人種目(マスターズ)'!K61=\"\",\"\",'個人種目(マスターズ)'!AP61)","v":""},{"$f":"IF(A261=\"\",\"\",'個人種目(マスターズ)'!AV61)","v":""},{"$f":"IF(A261=\"\",\"\",'個人種目(マスターズ)'!BA61)","v":""},{"$f":"IF(A261=\"\",\"\",'個人種目(マスターズ)'!AF61)","v":""},0,5,{"$f":"IF(A261=\"\",\"\",'個人種目(マスターズ)'!BF61)","v":""},3]
[{"$f":"IF('個人種目(マスターズ)'!K62=\"\",\"\",'個人種目(マスターズ)'!AP62)","v":""},{"$f":"IF(A262=\"\",\"\",'個人種目(マスターズ)'!AV62)","v":""},{"$f":"IF(A262=\"\",\"\",'個人種目(マスターズ)'!BA62)","v":""},{"$f":"IF(A262=\"\",\"\",'個人種目(マスターズ)'!AF62)","v":""},0,5,{"$f":"IF(A262=\"\",\"\",'個人種目(マスターズ)'!BF62)","v":""},3]
[{"$f":"IF('個人種目(マスターズ)'!K63=\"\",\"\",'個人種目(マスターズ)'!AP63)","v":""},{"$f":"IF(A263=\"\",\"\",'個人種目(マスターズ)'!AV63)","v":""},{"$f":"IF(A263=\"\",\"\",'個人種目(マスターズ)'!BA63)","v":""},{"$f":"IF(A263=\"\",\"\",'個人種目(マスターズ)'!AF63)","v":""},0,5,{"$f":"IF(A263=\"\",\"\",'個人種目(マスターズ)'!BF63)","v":""},3]
[{"$f":"IF('個人種目(マスターズ)'!K64=\"\",\"\",'個人種目(マスターズ)'!AP64)","v":""},{"$f":"IF(A264=\"\",\"\",'個人種目(マスターズ)'!AV64)","v":""},{"$f":"IF(A264=\"\",\"\",'個人種目(マスターズ)'!BA64)","v":""},{"$f":"IF(A264=\"\",\"\",'個人種目(マスターズ)'!AF64)","v":""},0,5,{"$f":"IF(A264=\"\",\"\",'個人種目(マスターズ)'!BF64)","v":""},3]
[{"$f":"IF('個人種目(マスターズ)'!K65=\"\",\"\",'個人種目(マスターズ)'!AP65)","v":""},{"$f":"IF(A265=\"\",\"\",'個人種目(マスターズ)'!AV65)","v":""},{"$f":"IF(A265=\"\",\"\",'個人種目(マスターズ)'!BA65)","v":""},{"$f":"IF(A265=\"\",\"\",'個人種目(マスターズ)'!AF65)","v":""},0,5,{"$f":"IF(A265=\"\",\"\",'個人種目(マスターズ)'!BF65)","v":""},3]
[{"$f":"IF('個人種目(マスターズ)'!K66=\"\",\"\",'個人種目(マスターズ)'!AP66)","v":""},{"$f":"IF(A266=\"\",\"\",'個人種目(マスターズ)'!AV66)","v":""},{"$f":"IF(A266=\"\",\"\",'個人種目(マスターズ)'!BA66)","v":""},{"$f":"IF(A266=\"\",\"\",'個人種目(マスターズ)'!AF66)","v":""},0,5,{"$f":"IF(A266=\"\",\"\",'個人種目(マスターズ)'!BF66)","v":""},3]
[{"$f":"IF('個人種目(マスターズ)'!K67=\"\",\"\",'個人種目(マスターズ)'!AP67)","v":""},{"$f":"IF(A267=\"\",\"\",'個人種目(マスターズ)'!AV67)","v":""},{"$f":"IF(A267=\"\",\"\",'個人種目(マスターズ)'!BA67)","v":""},{"$f":"IF(A267=\"\",\"\",'個人種目(マスターズ)'!AF67)","v":""},0,5,{"$f":"IF(A267=\"\",\"\",'個人種目(マスターズ)'!BF67)","v":""},3]
[{"$f":"IF('個人種目(マスターズ)'!K68=\"\",\"\",'個人種目(マスターズ)'!AP68)","v":""},{"$f":"IF(A268=\"\",\"\",'個人種目(マスターズ)'!AV68)","v":""},{"$f":"IF(A268=\"\",\"\",'個人種目(マスターズ)'!BA68)","v":""},{"$f":"IF(A268=\"\",\"\",'個人種目(マスターズ)'!AF68)","v":""},0,5,{"$f":"IF(A268=\"\",\"\",'個人種目(マスターズ)'!BF68)","v":""},3]
[{"$f":"IF('個人種目(マスターズ)'!K69=\"\",\"\",'個人種目(マスターズ)'!AP69)","v":""},{"$f":"IF(A269=\"\",\"\",'個人種目(マスターズ)'!AV69)","v":""},{"$f":"IF(A269=\"\",\"\",'個人種目(マスターズ)'!BA69)","v":""},{"$f":"IF(A269=\"\",\"\",'個人種目(マスターズ)'!AF69)","v":""},0,5,{"$f":"IF(A269=\"\",\"\",'個人種目(マスターズ)'!BF69)","v":""},3]
[{"$f":"IF('個人種目(マスターズ)'!K70=\"\",\"\",'個人種目(マスターズ)'!AP70)","v":""},{"$f":"IF(A270=\"\",\"\",'個人種目(マスターズ)'!AV70)","v":""},{"$f":"IF(A270=\"\",\"\",'個人種目(マスターズ)'!BA70)","v":""},{"$f":"IF(A270=\"\",\"\",'個人種目(マスターズ)'!AF70)","v":""},0,5,{"$f":"IF(A270=\"\",\"\",'個人種目(マスターズ)'!BF70)","v":""},3]
[{"$f":"IF('個人種目(マスターズ)'!K71=\"\",\"\",'個人種目(マスターズ)'!AP71)","v":""},{"$f":"IF(A271=\"\",\"\",'個人種目(マスターズ)'!AV71)","v":""},{"$f":"IF(A271=\"\",\"\",'個人種目(マスターズ)'!BA71)","v":""},{"$f":"IF(A271=\"\",\"\",'個人種目(マスターズ)'!AF71)","v":""},0,5,{"$f":"IF(A271=\"\",\"\",'個人種目(マスターズ)'!BF71)","v":""},3]
[{"$f":"IF('個人種目(マスターズ)'!K72=\"\",\"\",'個人種目(マスターズ)'!AP72)","v":""},{"$f":"IF(A272=\"\",\"\",'個人種目(マスターズ)'!AV72)","v":""},{"$f":"IF(A272=\"\",\"\",'個人種目(マスターズ)'!BA72)","v":""},{"$f":"IF(A272=\"\",\"\",'個人種目(マスターズ)'!AF72)","v":""},0,5,{"$f":"IF(A272=\"\",\"\",'個人種目(マスターズ)'!BF72)","v":""},3]
[{"$f":"IF('個人種目(マスターズ)'!K73=\"\",\"\",'個人種目(マスターズ)'!AP73)","v":""},{"$f":"IF(A273=\"\",\"\",'個人種目(マスターズ)'!AV73)","v":""},{"$f":"IF(A273=\"\",\"\",'個人種目(マスターズ)'!BA73)","v":""},{"$f":"IF(A273=\"\",\"\",'個人種目(マスターズ)'!AF73)","v":""},0,5,{"$f":"IF(A273=\"\",\"\",'個人種目(マスターズ)'!BF73)","v":""},3]
[{"$f":"IF('個人種目(マスターズ)'!K74=\"\",\"\",'個人種目(マスターズ)'!AP74)","v":""},{"$f":"IF(A274=\"\",\"\",'個人種目(マスターズ)'!AV74)","v":""},{"$f":"IF(A274=\"\",\"\",'個人種目(マスターズ)'!BA74)","v":""},{"$f":"IF(A274=\"\",\"\",'個人種目(マスターズ)'!AF74)","v":""},0,5,{"$f":"IF(A274=\"\",\"\",'個人種目(マスターズ)'!BF74)","v":""},3]
[{"$f":"IF('個人種目(マスターズ)'!K75=\"\",\"\",'個人種目(マスターズ)'!AP75)","v":""},{"$f":"IF(A275=\"\",\"\",'個人種目(マスターズ)'!AV75)","v":""},{"$f":"IF(A275=\"\",\"\",'個人種目(マスターズ)'!BA75)","v":""},{"$f":"IF(A275=\"\",\"\",'個人種目(マスターズ)'!AF75)","v":""},0,5,{"$f":"IF(A275=\"\",\"\",'個人種目(マスターズ)'!BF75)","v":""},3]
[{"$f":"IF('個人種目(マスターズ)'!K76=\"\",\"\",'個人種目(マスターズ)'!AP76)","v":""},{"$f":"IF(A276=\"\",\"\",'個人種目(マスターズ)'!AV76)","v":""},{"$f":"IF(A276=\"\",\"\",'個人種目(マスターズ)'!BA76)","v":""},{"$f":"IF(A276=\"\",\"\",'個人種目(マスターズ)'!AF76)","v":""},0,5,{"$f":"IF(A276=\"\",\"\",'個人種目(マスターズ)'!BF76)","v":""},3]
[{"$f":"IF('個人種目(マスターズ)'!K77=\"\",\"\",'個人種目(マスターズ)'!AP77)","v":""},{"$f":"IF(A277=\"\",\"\",'個人種目(マスターズ)'!AV77)","v":""},{"$f":"IF(A277=\"\",\"\",'個人種目(マスターズ)'!BA77)","v":""},{"$f":"IF(A277=\"\",\"\",'個人種目(マスターズ)'!AF77)","v":""},0,5,{"$f":"IF(A277=\"\",\"\",'個人種目(マスターズ)'!BF77)","v":""},3]
[{"$f":"IF('個人種目(マスターズ)'!K78=\"\",\"\",'個人種目(マスターズ)'!AP78)","v":""},{"$f":"IF(A278=\"\",\"\",'個人種目(マスターズ)'!AV78)","v":""},{"$f":"IF(A278=\"\",\"\",'個人種目(マスターズ)'!BA78)","v":""},{"$f":"IF(A278=\"\",\"\",'個人種目(マスターズ)'!AF78)","v":""},0,5,{"$f":"IF(A278=\"\",\"\",'個人種目(マスターズ)'!BF78)","v":""},3]
[{"$f":"IF('個人種目(マスターズ)'!K79=\"\",\"\",'個人種目(マスターズ)'!AP79)","v":""},{"$f":"IF(A279=\"\",\"\",'個人種目(マスターズ)'!AV79)","v":""},{"$f":"IF(A279=\"\",\"\",'個人種目(マスターズ)'!BA79)","v":""},{"$f":"IF(A279=\"\",\"\",'個人種目(マスターズ)'!AF79)","v":""},0,5,{"$f":"IF(A279=\"\",\"\",'個人種目(マスターズ)'!BF79)","v":""},3]
[{"$f":"IF('個人種目(マスターズ)'!K80=\"\",\"\",'個人種目(マスターズ)'!AP80)","v":""},{"$f":"IF(A280=\"\",\"\",'個人種目(マスターズ)'!AV80)","v":""},{"$f":"IF(A280=\"\",\"\",'個人種目(マスターズ)'!BA80)","v":""},{"$f":"IF(A280=\"\",\"\",'個人種目(マスターズ)'!AF80)","v":""},0,5,{"$f":"IF(A280=\"\",\"\",'個人種目(マスターズ)'!BF80)","v":""},3]
[{"$f":"IF('個人種目(マスターズ)'!K81=\"\",\"\",'個人種目(マスターズ)'!AP81)","v":""},{"$f":"IF(A281=\"\",\"\",'個人種目(マスターズ)'!AV81)","v":""},{"$f":"IF(A281=\"\",\"\",'個人種目(マスターズ)'!BA81)","v":""},{"$f":"IF(A281=\"\",\"\",'個人種目(マスターズ)'!AF81)","v":""},0,5,{"$f":"IF(A281=\"\",\"\",'個人種目(マスターズ)'!BF81)","v":""},3]
[{"$f":"IF('個人種目(マスターズ)'!K82=\"\",\"\",'個人種目(マスターズ)'!AP82)","v":""},{"$f":"IF(A282=\"\",\"\",'個人種目(マスターズ)'!AV82)","v":""},{"$f":"IF(A282=\"\",\"\",'個人種目(マスターズ)'!BA82)","v":""},{"$f":"IF(A282=\"\",\"\",'個人種目(マスターズ)'!AF82)","v":""},0,5,{"$f":"IF(A282=\"\",\"\",'個人種目(マスターズ)'!BF82)","v":""},3]
[{"$f":"IF('個人種目(マスターズ)'!K83=\"\",\"\",'個人種目(マスターズ)'!AP83)","v":""},{"$f":"IF(A283=\"\",\"\",'個人種目(マスターズ)'!AV83)","v":""},{"$f":"IF(A283=\"\",\"\",'個人種目(マスターズ)'!BA83)","v":""},{"$f":"IF(A283=\"\",\"\",'個人種目(マスターズ)'!AF83)","v":""},0,5,{"$f":"IF(A283=\"\",\"\",'個人種目(マスターズ)'!BF83)","v":""},3]
[{"$f":"IF('個人種目(マスターズ)'!K84=\"\",\"\",'個人種目(マスターズ)'!AP84)","v":""},{"$f":"IF(A284=\"\",\"\",'個人種目(マスターズ)'!AV84)","v":""},{"$f":"IF(A284=\"\",\"\",'個人種目(マスターズ)'!BA84)","v":""},{"$f":"IF(A284=\"\",\"\",'個人種目(マスターズ)'!AF84)","v":""},0,5,{"$f":"IF(A284=\"\",\"\",'個人種目(マスターズ)'!BF84)","v":""},3]
[{"$f":"IF('個人種目(マスターズ)'!K85=\"\",\"\",'個人種目(マスターズ)'!AP85)","v":""},{"$f":"IF(A285=\"\",\"\",'個人種目(マスターズ)'!AV85)","v":""},{"$f":"IF(A285=\"\",\"\",'個人種目(マスターズ)'!BA85)","v":""},{"$f":"IF(A285=\"\",\"\",'個人種目(マスターズ)'!AF85)","v":""},0,5,{"$f":"IF(A285=\"\",\"\",'個人種目(マスターズ)'!BF85)","v":""},3]
[{"$f":"IF('個人種目(マスターズ)'!K86=\"\",\"\",'個人種目(マスターズ)'!AP86)","v":""},{"$f":"IF(A286=\"\",\"\",'個人種目(マスターズ)'!AV86)","v":""},{"$f":"IF(A286=\"\",\"\",'個人種目(マスターズ)'!BA86)","v":""},{"$f":"IF(A286=\"\",\"\",'個人種目(マスターズ)'!AF86)","v":""},0,5,{"$f":"IF(A286=\"\",\"\",'個人種目(マスターズ)'!BF86)","v":""},3]
[{"$f":"IF('個人種目(マスターズ)'!K87=\"\",\"\",'個人種目(マスターズ)'!AP87)","v":""},{"$f":"IF(A287=\"\",\"\",'個人種目(マスターズ)'!AV87)","v":""},{"$f":"IF(A287=\"\",\"\",'個人種目(マスターズ)'!BA87)","v":""},{"$f":"IF(A287=\"\",\"\",'個人種目(マスターズ)'!AF87)","v":""},0,5,{"$f":"IF(A287=\"\",\"\",'個人種目(マスターズ)'!BF87)","v":""},3]
[{"$f":"IF('個人種目(マスターズ)'!K88=\"\",\"\",'個人種目(マスターズ)'!AP88)","v":""},{"$f":"IF(A288=\"\",\"\",'個人種目(マスターズ)'!AV88)","v":""},{"$f":"IF(A288=\"\",\"\",'個人種目(マスターズ)'!BA88)","v":""},{"$f":"IF(A288=\"\",\"\",'個人種目(マスターズ)'!AF88)","v":""},0,5,{"$f":"IF(A288=\"\",\"\",'個人種目(マスターズ)'!BF88)","v":""},3]
[{"$f":"IF('個人種目(マスターズ)'!K89=\"\",\"\",'個人種目(マスターズ)'!AP89)","v":""},{"$f":"IF(A289=\"\",\"\",'個人種目(マスターズ)'!AV89)","v":""},{"$f":"IF(A289=\"\",\"\",'個人種目(マスターズ)'!BA89)","v":""},{"$f":"IF(A289=\"\",\"\",'個人種目(マスターズ)'!AF89)","v":""},0,5,{"$f":"IF(A289=\"\",\"\",'個人種目(マスターズ)'!BF89)","v":""},3]
[{"$f":"IF('個人種目(マスターズ)'!K90=\"\",\"\",'個人種目(マスターズ)'!AP90)","v":""},{"$f":"IF(A290=\"\",\"\",'個人種目(マスターズ)'!AV90)","v":""},{"$f":"IF(A290=\"\",\"\",'個人種目(マスターズ)'!BA90)","v":""},{"$f":"IF(A290=\"\",\"\",'個人種目(マスターズ)'!AF90)","v":""},0,5,{"$f":"IF(A290=\"\",\"\",'個人種目(マスターズ)'!BF90)","v":""},3]
[{"$f":"IF('個人種目(マスターズ)'!K91=\"\",\"\",'個人種目(マスターズ)'!AP91)","v":""},{"$f":"IF(A291=\"\",\"\",'個人種目(マスターズ)'!AV91)","v":""},{"$f":"IF(A291=\"\",\"\",'個人種目(マスターズ)'!BA91)","v":""},{"$f":"IF(A291=\"\",\"\",'個人種目(マスターズ)'!AF91)","v":""},0,5,{"$f":"IF(A291=\"\",\"\",'個人種目(マスターズ)'!BF91)","v":""},3]
[{"$f":"IF('個人種目(マスターズ)'!K92=\"\",\"\",'個人種目(マスターズ)'!AP92)","v":""},{"$f":"IF(A292=\"\",\"\",'個人種目(マスターズ)'!AV92)","v":""},{"$f":"IF(A292=\"\",\"\",'個人種目(マスターズ)'!BA92)","v":""},{"$f":"IF(A292=\"\",\"\",'個人種目(マスターズ)'!AF92)","v":""},0,5,{"$f":"IF(A292=\"\",\"\",'個人種目(マスターズ)'!BF92)","v":""},3]
[{"$f":"IF('個人種目(マスターズ)'!K93=\"\",\"\",'個人種目(マスターズ)'!AP93)","v":""},{"$f":"IF(A293=\"\",\"\",'個人種目(マスターズ)'!AV93)","v":""},{"$f":"IF(A293=\"\",\"\",'個人種目(マスターズ)'!BA93)","v":""},{"$f":"IF(A293=\"\",\"\",'個人種目(マスターズ)'!AF93)","v":""},0,5,{"$f":"IF(A293=\"\",\"\",'個人種目(マスターズ)'!BF93)","v":""},3]
[{"$f":"IF('個人種目(マスターズ)'!K94=\"\",\"\",'個人種目(マスターズ)'!AP94)","v":""},{"$f":"IF(A294=\"\",\"\",'個人種目(マスターズ)'!AV94)","v":""},{"$f":"IF(A294=\"\",\"\",'個人種目(マスターズ)'!BA94)","v":""},{"$f":"IF(A294=\"\",\"\",'個人種目(マスターズ)'!AF94)","v":""},0,5,{"$f":"IF(A294=\"\",\"\",'個人種目(マスターズ)'!BF94)","v":""},3]
[{"$f":"IF('個人種目(マスターズ)'!K95=\"\",\"\",'個人種目(マスターズ)'!AP95)","v":""},{"$f":"IF(A295=\"\",\"\",'個人種目(マスターズ)'!AV95)","v":""},{"$f":"IF(A295=\"\",\"\",'個人種目(マスターズ)'!BA95)","v":""},{"$f":"IF(A295=\"\",\"\",'個人種目(マスターズ)'!AF95)","v":""},0,5,{"$f":"IF(A295=\"\",\"\",'個人種目(マスターズ)'!BF95)","v":""},3]
[{"$f":"IF('個人種目(マスターズ)'!K96=\"\",\"\",'個人種目(マスターズ)'!AP96)","v":""},{"$f":"IF(A296=\"\",\"\",'個人種目(マスターズ)'!AV96)","v":""},{"$f":"IF(A296=\"\",\"\",'個人種目(マスターズ)'!BA96)","v":""},{"$f":"IF(A296=\"\",\"\",'個人種目(マスターズ)'!AF96)","v":""},0,5,{"$f":"IF(A296=\"\",\"\",'個人種目(マスターズ)'!BF96)","v":""},3]
[{"$f":"IF('個人種目(マスターズ)'!K97=\"\",\"\",'個人種目(マスターズ)'!AP97)","v":""},{"$f":"IF(A297=\"\",\"\",'個人種目(マスターズ)'!AV97)","v":""},{"$f":"IF(A297=\"\",\"\",'個人種目(マスターズ)'!BA97)","v":""},{"$f":"IF(A297=\"\",\"\",'個人種目(マスターズ)'!AF97)","v":""},0,5,{"$f":"IF(A297=\"\",\"\",'個人種目(マスターズ)'!BF97)","v":""},3]
[{"$f":"IF('個人種目(マスターズ)'!K98=\"\",\"\",'個人種目(マスターズ)'!AP98)","v":""},{"$f":"IF(A298=\"\",\"\",'個人種目(マスターズ)'!AV98)","v":""},{"$f":"IF(A298=\"\",\"\",'個人種目(マスターズ)'!BA98)","v":""},{"$f":"IF(A298=\"\",\"\",'個人種目(マスターズ)'!AF98)","v":""},0,5,{"$f":"IF(A298=\"\",\"\",'個人種目(マスターズ)'!BF98)","v":""},3]
[{"$f":"IF('個人種目(マスターズ)'!K99=\"\",\"\",'個人種目(マスターズ)'!AP99)","v":""},{"$f":"IF(A299=\"\",\"\",'個人種目(マスターズ)'!AV99)","v":""},{"$f":"IF(A299=\"\",\"\",'個人種目(マスターズ)'!BA99)","v":""},{"$f":"IF(A299=\"\",\"\",'個人種目(マスターズ)'!AF99)","v":""},0,5,{"$f":"IF(A299=\"\",\"\",'個人種目(マスターズ)'!BF99)","v":""},3]
[{"$f":"IF('個人種目(マスターズ)'!K100=\"\",\"\",'個人種目(マスターズ)'!AP100)","v":""},{"$f":"IF(A300=\"\",\"\",'個人種目(マスターズ)'!AV100)","v":""},{"$f":"IF(A300=\"\",\"\",'個人種目(マスターズ)'!BA100)","v":""},{"$f":"IF(A300=\"\",\"\",'個人種目(マスターズ)'!AF100)","v":""},0,5,{"$f":"IF(A300=\"\",\"\",'個人種目(マスターズ)'!BF100)","v":""},3]
[{"$f":"IF('個人種目(マスターズ)'!K101=\"\",\"\",'個人種目(マスターズ)'!AP101)","v":""},{"$f":"IF(A301=\"\",\"\",'個人種目(マスターズ)'!AV101)","v":""},{"$f":"IF(A301=\"\",\"\",'個人種目(マスターズ)'!BA101)","v":""},{"$f":"IF(A301=\"\",\"\",'個人種目(マスターズ)'!AF101)","v":""},0,5,{"$f":"IF(A301=\"\",\"\",'個人種目(マスターズ)'!BF101)","v":""},3]
[{"$f":"IF('個人種目(マスターズ)'!K102=\"\",\"\",'個人種目(マスターズ)'!AP102)","v":""},{"$f":"IF(A302=\"\",\"\",'個人種目(マスターズ)'!AV102)","v":""},{"$f":"IF(A302=\"\",\"\",'個人種目(マスターズ)'!BA102)","v":""},{"$f":"IF(A302=\"\",\"\",'個人種目(マスターズ)'!AF102)","v":""},0,5,{"$f":"IF(A302=\"\",\"\",'個人種目(マスターズ)'!BF102)","v":""},3]
[{"$f":"IF('個人種目(マスターズ)'!K103=\"\",\"\",'個人種目(マスターズ)'!AP103)","v":""},{"$f":"IF(A303=\"\",\"\",'個人種目(マスターズ)'!AV103)","v":""},{"$f":"IF(A303=\"\",\"\",'個人種目(マスターズ)'!BA103)","v":""},{"$f":"IF(A303=\"\",\"\",'個人種目(マスターズ)'!AF103)","v":""},0,5,{"$f":"IF(A303=\"\",\"\",'個人種目(マスターズ)'!BF103)","v":""},3]
[{"$f":"IF('個人種目(マスターズ)'!K104=\"\",\"\",'個人種目(マスターズ)'!AP104)","v":""},{"$f":"IF(A304=\"\",\"\",'個人種目(マスターズ)'!AV104)","v":""},{"$f":"IF(A304=\"\",\"\",'個人種目(マスターズ)'!BA104)","v":""},{"$f":"IF(A304=\"\",\"\",'個人種目(マスターズ)'!AF104)","v":""},0,5,{"$f":"IF(A304=\"\",\"\",'個人種目(マスターズ)'!BF104)","v":""},3]
[{"$f":"IF('個人種目(マスターズ)'!K105=\"\",\"\",'個人種目(マスターズ)'!AP105)","v":""},{"$f":"IF(A305=\"\",\"\",'個人種目(マスターズ)'!AV105)","v":""},{"$f":"IF(A305=\"\",\"\",'個人種目(マスターズ)'!BA105)","v":""},{"$f":"IF(A305=\"\",\"\",'個人種目(マスターズ)'!AF105)","v":""},0,5,{"$f":"IF(A305=\"\",\"\",'個人種目(マスターズ)'!BF105)","v":""},3]
[{"$f":"IF('個人種目(マスターズ)'!K106=\"\",\"\",'個人種目(マスターズ)'!AP106)","v":""},{"$f":"IF(A306=\"\",\"\",'個人種目(マスターズ)'!AV106)","v":""},{"$f":"IF(A306=\"\",\"\",'個人種目(マスターズ)'!BA106)","v":""},{"$f":"IF(A306=\"\",\"\",'個人種目(マスターズ)'!AF106)","v":""},0,5,{"$f":"IF(A306=\"\",\"\",'個人種目(マスターズ)'!BF106)","v":""},3]
[{"$f":"IF('個人種目(マスターズ)'!K107=\"\",\"\",'個人種目(マスターズ)'!AP107)","v":""},{"$f":"IF(A307=\"\",\"\",'個人種目(マスターズ)'!AV107)","v":""},{"$f":"IF(A307=\"\",\"\",'個人種目(マスターズ)'!BA107)","v":""},{"$f":"IF(A307=\"\",\"\",'個人種目(マスターズ)'!AF107)","v":""},0,5,{"$f":"IF(A307=\"\",\"\",'個人種目(マスターズ)'!BF107)","v":""},3]
[{"$f":"IF('個人種目(マスターズ)'!M6=\"\",\"\",'個人種目(マスターズ)'!AP6)","v":""},{"$f":"IF(A308=\"\",\"\",'個人種目(マスターズ)'!AW6)","v":""},{"$f":"IF(A308=\"\",\"\",'個人種目(マスターズ)'!BB6)","v":""},{"$f":"IF(A308=\"\",\"\",'個人種目(マスターズ)'!AF6)","v":""},0,0,{"$f":"IF(A308=\"\",\"\",'個人種目(マスターズ)'!BG6)","v":""},4]
[{"$f":"IF('個人種目(マスターズ)'!M7=\"\",\"\",'個人種目(マスターズ)'!AP7)","v":""},{"$f":"IF(A309=\"\",\"\",'個人種目(マスターズ)'!AW7)","v":""},{"$f":"IF(A309=\"\",\"\",'個人種目(マスターズ)'!BB7)","v":""},{"$f":"IF(A309=\"\",\"\",'個人種目(マスターズ)'!AF7)","v":""},0,0,{"$f":"IF(A309=\"\",\"\",'個人種目(マスターズ)'!BG7)","v":""},4]
[{"$f":"IF('個人種目(マスターズ)'!M8=\"\",\"\",'個人種目(マスターズ)'!AP8)","v":""},{"$f":"IF(A310=\"\",\"\",'個人種目(マスターズ)'!AW8)","v":""},{"$f":"IF(A310=\"\",\"\",'個人種目(マスターズ)'!BB8)","v":""},{"$f":"IF(A310=\"\",\"\",'個人種目(マスターズ)'!AF8)","v":""},0,0,{"$f":"IF(A310=\"\",\"\",'個人種目(マスターズ)'!BG8)","v":""},4]
[{"$f":"IF('個人種目(マスターズ)'!M9=\"\",\"\",'個人種目(マスターズ)'!AP9)","v":""},{"$f":"IF(A311=\"\",\"\",'個人種目(マスターズ)'!AW9)","v":""},{"$f":"IF(A311=\"\",\"\",'個人種目(マスターズ)'!BB9)","v":""},{"$f":"IF(A311=\"\",\"\",'個人種目(マスターズ)'!AF9)","v":""},0,0,{"$f":"IF(A311=\"\",\"\",'個人種目(マスターズ)'!BG9)","v":""},4]
[{"$f":"IF('個人種目(マスターズ)'!M10=\"\",\"\",'個人種目(マスターズ)'!AP10)","v":""},{"$f":"IF(A312=\"\",\"\",'個人種目(マスターズ)'!AW10)","v":""},{"$f":"IF(A312=\"\",\"\",'個人種目(マスターズ)'!BB10)","v":""},{"$f":"IF(A312=\"\",\"\",'個人種目(マスターズ)'!AF10)","v":""},0,0,{"$f":"IF(A312=\"\",\"\",'個人種目(マスターズ)'!BG10)","v":""},4]
[{"$f":"IF('個人種目(マスターズ)'!M11=\"\",\"\",'個人種目(マスターズ)'!AP11)","v":""},{"$f":"IF(A313=\"\",\"\",'個人種目(マスターズ)'!AW11)","v":""},{"$f":"IF(A313=\"\",\"\",'個人種目(マスターズ)'!BB11)","v":""},{"$f":"IF(A313=\"\",\"\",'個人種目(マスターズ)'!AF11)","v":""},0,0,{"$f":"IF(A313=\"\",\"\",'個人種目(マスターズ)'!BG11)","v":""},4]
[{"$f":"IF('個人種目(マスターズ)'!M12=\"\",\"\",'個人種目(マスターズ)'!AP12)","v":""},{"$f":"IF(A314=\"\",\"\",'個人種目(マスターズ)'!AW12)","v":""},{"$f":"IF(A314=\"\",\"\",'個人種目(マスターズ)'!BB12)","v":""},{"$f":"IF(A314=\"\",\"\",'個人種目(マスターズ)'!AF12)","v":""},0,0,{"$f":"IF(A314=\"\",\"\",'個人種目(マスターズ)'!BG12)","v":""},4]
[{"$f":"IF('個人種目(マスターズ)'!M13=\"\",\"\",'個人種目(マスターズ)'!AP13)","v":""},{"$f":"IF(A315=\"\",\"\",'個人種目(マスターズ)'!AW13)","v":""},{"$f":"IF(A315=\"\",\"\",'個人種目(マスターズ)'!BB13)","v":""},{"$f":"IF(A315=\"\",\"\",'個人種目(マスターズ)'!AF13)","v":""},0,0,{"$f":"IF(A315=\"\",\"\",'個人種目(マスターズ)'!BG13)","v":""},4]
[{"$f":"IF('個人種目(マスターズ)'!M14=\"\",\"\",'個人種目(マスターズ)'!AP14)","v":""},{"$f":"IF(A316=\"\",\"\",'個人種目(マスターズ)'!AW14)","v":""},{"$f":"IF(A316=\"\",\"\",'個人種目(マスターズ)'!BB14)","v":""},{"$f":"IF(A316=\"\",\"\",'個人種目(マスターズ)'!AF14)","v":""},0,0,{"$f":"IF(A316=\"\",\"\",'個人種目(マスターズ)'!BG14)","v":""},4]
[{"$f":"IF('個人種目(マスターズ)'!M15=\"\",\"\",'個人種目(マスターズ)'!AP15)","v":""},{"$f":"IF(A317=\"\",\"\",'個人種目(マスターズ)'!AW15)","v":""},{"$f":"IF(A317=\"\",\"\",'個人種目(マスターズ)'!BB15)","v":""},{"$f":"IF(A317=\"\",\"\",'個人種目(マスターズ)'!AF15)","v":""},0,0,{"$f":"IF(A317=\"\",\"\",'個人種目(マスターズ)'!BG15)","v":""},4]
[{"$f":"IF('個人種目(マスターズ)'!M16=\"\",\"\",'個人種目(マスターズ)'!AP16)","v":""},{"$f":"IF(A318=\"\",\"\",'個人種目(マスターズ)'!AW16)","v":""},{"$f":"IF(A318=\"\",\"\",'個人種目(マスターズ)'!BB16)","v":""},{"$f":"IF(A318=\"\",\"\",'個人種目(マスターズ)'!AF16)","v":""},0,0,{"$f":"IF(A318=\"\",\"\",'個人種目(マスターズ)'!BG16)","v":""},4]
[{"$f":"IF('個人種目(マスターズ)'!M17=\"\",\"\",'個人種目(マスターズ)'!AP17)","v":""},{"$f":"IF(A319=\"\",\"\",'個人種目(マスターズ)'!AW17)","v":""},{"$f":"IF(A319=\"\",\"\",'個人種目(マスターズ)'!BB17)","v":""},{"$f":"IF(A319=\"\",\"\",'個人種目(マスターズ)'!AF17)","v":""},0,0,{"$f":"IF(A319=\"\",\"\",'個人種目(マスターズ)'!BG17)","v":""},4]
[{"$f":"IF('個人種目(マスターズ)'!M18=\"\",\"\",'個人種目(マスターズ)'!AP18)","v":""},{"$f":"IF(A320=\"\",\"\",'個人種目(マスターズ)'!AW18)","v":""},{"$f":"IF(A320=\"\",\"\",'個人種目(マスターズ)'!BB18)","v":""},{"$f":"IF(A320=\"\",\"\",'個人種目(マスターズ)'!AF18)","v":""},0,0,{"$f":"IF(A320=\"\",\"\",'個人種目(マスターズ)'!BG18)","v":""},4]
[{"$f":"IF('個人種目(マスターズ)'!M19=\"\",\"\",'個人種目(マスターズ)'!AP19)","v":""},{"$f":"IF(A321=\"\",\"\",'個人種目(マスターズ)'!AW19)","v":""},{"$f":"IF(A321=\"\",\"\",'個人種目(マスターズ)'!BB19)","v":""},{"$f":"IF(A321=\"\",\"\",'個人種目(マスターズ)'!AF19)","v":""},0,0,{"$f":"IF(A321=\"\",\"\",'個人種目(マスターズ)'!BG19)","v":""},4]
[{"$f":"IF('個人種目(マスターズ)'!M20=\"\",\"\",'個人種目(マスターズ)'!AP20)","v":""},{"$f":"IF(A322=\"\",\"\",'個人種目(マスターズ)'!AW20)","v":""},{"$f":"IF(A322=\"\",\"\",'個人種目(マスターズ)'!BB20)","v":""},{"$f":"IF(A322=\"\",\"\",'個人種目(マスターズ)'!AF20)","v":""},0,0,{"$f":"IF(A322=\"\",\"\",'個人種目(マスターズ)'!BG20)","v":""},4]
[{"$f":"IF('個人種目(マスターズ)'!M21=\"\",\"\",'個人種目(マスターズ)'!AP21)","v":""},{"$f":"IF(A323=\"\",\"\",'個人種目(マスターズ)'!AW21)","v":""},{"$f":"IF(A323=\"\",\"\",'個人種目(マスターズ)'!BB21)","v":""},{"$f":"IF(A323=\"\",\"\",'個人種目(マスターズ)'!AF21)","v":""},0,0,{"$f":"IF(A323=\"\",\"\",'個人種目(マスターズ)'!BG21)","v":""},4]
[{"$f":"IF('個人種目(マスターズ)'!M22=\"\",\"\",'個人種目(マスターズ)'!AP22)","v":""},{"$f":"IF(A324=\"\",\"\",'個人種目(マスターズ)'!AW22)","v":""},{"$f":"IF(A324=\"\",\"\",'個人種目(マスターズ)'!BB22)","v":""},{"$f":"IF(A324=\"\",\"\",'個人種目(マスターズ)'!AF22)","v":""},0,0,{"$f":"IF(A324=\"\",\"\",'個人種目(マスターズ)'!BG22)","v":""},4]
[{"$f":"IF('個人種目(マスターズ)'!M23=\"\",\"\",'個人種目(マスターズ)'!AP23)","v":""},{"$f":"IF(A325=\"\",\"\",'個人種目(マスターズ)'!AW23)","v":""},{"$f":"IF(A325=\"\",\"\",'個人種目(マスターズ)'!BB23)","v":""},{"$f":"IF(A325=\"\",\"\",'個人種目(マスターズ)'!AF23)","v":""},0,0,{"$f":"IF(A325=\"\",\"\",'個人種目(マスターズ)'!BG23)","v":""},4]
[{"$f":"IF('個人種目(マスターズ)'!M24=\"\",\"\",'個人種目(マスターズ)'!AP24)","v":""},{"$f":"IF(A326=\"\",\"\",'個人種目(マスターズ)'!AW24)","v":""},{"$f":"IF(A326=\"\",\"\",'個人種目(マスターズ)'!BB24)","v":""},{"$f":"IF(A326=\"\",\"\",'個人種目(マスターズ)'!AF24)","v":""},0,0,{"$f":"IF(A326=\"\",\"\",'個人種目(マスターズ)'!BG24)","v":""},4]
[{"$f":"IF('個人種目(マスターズ)'!M25=\"\",\"\",'個人種目(マスターズ)'!AP25)","v":""},{"$f":"IF(A327=\"\",\"\",'個人種目(マスターズ)'!AW25)","v":""},{"$f":"IF(A327=\"\",\"\",'個人種目(マスターズ)'!BB25)","v":""},{"$f":"IF(A327=\"\",\"\",'個人種目(マスターズ)'!AF25)","v":""},0,0,{"$f":"IF(A327=\"\",\"\",'個人種目(マスターズ)'!BG25)","v":""},4]
[{"$f":"IF('個人種目(マスターズ)'!M26=\"\",\"\",'個人種目(マスターズ)'!AP26)","v":""},{"$f":"IF(A328=\"\",\"\",'個人種目(マスターズ)'!AW26)","v":""},{"$f":"IF(A328=\"\",\"\",'個人種目(マスターズ)'!BB26)","v":""},{"$f":"IF(A328=\"\",\"\",'個人種目(マスターズ)'!AF26)","v":""},0,0,{"$f":"IF(A328=\"\",\"\",'個人種目(マスターズ)'!BG26)","v":""},4]
[{"$f":"IF('個人種目(マスターズ)'!M27=\"\",\"\",'個人種目(マスターズ)'!AP27)","v":""},{"$f":"IF(A329=\"\",\"\",'個人種目(マスターズ)'!AW27)","v":""},{"$f":"IF(A329=\"\",\"\",'個人種目(マスターズ)'!BB27)","v":""},{"$f":"IF(A329=\"\",\"\",'個人種目(マスターズ)'!AF27)","v":""},0,0,{"$f":"IF(A329=\"\",\"\",'個人種目(マスターズ)'!BG27)","v":""},4]
[{"$f":"IF('個人種目(マスターズ)'!M28=\"\",\"\",'個人種目(マスターズ)'!AP28)","v":""},{"$f":"IF(A330=\"\",\"\",'個人種目(マスターズ)'!AW28)","v":""},{"$f":"IF(A330=\"\",\"\",'個人種目(マスターズ)'!BB28)","v":""},{"$f":"IF(A330=\"\",\"\",'個人種目(マスターズ)'!AF28)","v":""},0,0,{"$f":"IF(A330=\"\",\"\",'個人種目(マスターズ)'!BG28)","v":""},4]
[{"$f":"IF('個人種目(マスターズ)'!M29=\"\",\"\",'個人種目(マスターズ)'!AP29)","v":""},{"$f":"IF(A331=\"\",\"\",'個人種目(マスターズ)'!AW29)","v":""},{"$f":"IF(A331=\"\",\"\",'個人種目(マスターズ)'!BB29)","v":""},{"$f":"IF(A331=\"\",\"\",'個人種目(マスターズ)'!AF29)","v":""},0,0,{"$f":"IF(A331=\"\",\"\",'個人種目(マスターズ)'!BG29)","v":""},4]
[{"$f":"IF('個人種目(マスターズ)'!M30=\"\",\"\",'個人種目(マスターズ)'!AP30)","v":""},{"$f":"IF(A332=\"\",\"\",'個人種目(マスターズ)'!AW30)","v":""},{"$f":"IF(A332=\"\",\"\",'個人種目(マスターズ)'!BB30)","v":""},{"$f":"IF(A332=\"\",\"\",'個人種目(マスターズ)'!AF30)","v":""},0,0,{"$f":"IF(A332=\"\",\"\",'個人種目(マスターズ)'!BG30)","v":""},4]
[{"$f":"IF('個人種目(マスターズ)'!M31=\"\",\"\",'個人種目(マスターズ)'!AP31)","v":""},{"$f":"IF(A333=\"\",\"\",'個人種目(マスターズ)'!AW31)","v":""},{"$f":"IF(A333=\"\",\"\",'個人種目(マスターズ)'!BB31)","v":""},{"$f":"IF(A333=\"\",\"\",'個人種目(マスターズ)'!AF31)","v":""},0,0,{"$f":"IF(A333=\"\",\"\",'個人種目(マスターズ)'!BG31)","v":""},4]
[{"$f":"IF('個人種目(マスターズ)'!M32=\"\",\"\",'個人種目(マスターズ)'!AP32)","v":""},{"$f":"IF(A334=\"\",\"\",'個人種目(マスターズ)'!AW32)","v":""},{"$f":"IF(A334=\"\",\"\",'個人種目(マスターズ)'!BB32)","v":""},{"$f":"IF(A334=\"\",\"\",'個人種目(マスターズ)'!AF32)","v":""},0,0,{"$f":"IF(A334=\"\",\"\",'個人種目(マスターズ)'!BG32)","v":""},4]
[{"$f":"IF('個人種目(マスターズ)'!M33=\"\",\"\",'個人種目(マスターズ)'!AP33)","v":""},{"$f":"IF(A335=\"\",\"\",'個人種目(マスターズ)'!AW33)","v":""},{"$f":"IF(A335=\"\",\"\",'個人種目(マスターズ)'!BB33)","v":""},{"$f":"IF(A335=\"\",\"\",'個人種目(マスターズ)'!AF33)","v":""},0,0,{"$f":"IF(A335=\"\",\"\",'個人種目(マスターズ)'!BG33)","v":""},4]
[{"$f":"IF('個人種目(マスターズ)'!M34=\"\",\"\",'個人種目(マスターズ)'!AP34)","v":""},{"$f":"IF(A336=\"\",\"\",'個人種目(マスターズ)'!AW34)","v":""},{"$f":"IF(A336=\"\",\"\",'個人種目(マスターズ)'!BB34)","v":""},{"$f":"IF(A336=\"\",\"\",'個人種目(マスターズ)'!AF34)","v":""},0,0,{"$f":"IF(A336=\"\",\"\",'個人種目(マスターズ)'!BG34)","v":""},4]
[{"$f":"IF('個人種目(マスターズ)'!M35=\"\",\"\",'個人種目(マスターズ)'!AP35)","v":""},{"$f":"IF(A337=\"\",\"\",'個人種目(マスターズ)'!AW35)","v":""},{"$f":"IF(A337=\"\",\"\",'個人種目(マスターズ)'!BB35)","v":""},{"$f":"IF(A337=\"\",\"\",'個人種目(マスターズ)'!AF35)","v":""},0,0,{"$f":"IF(A337=\"\",\"\",'個人種目(マスターズ)'!BG35)","v":""},4]
[{"$f":"IF('個人種目(マスターズ)'!M36=\"\",\"\",'個人種目(マスターズ)'!AP36)","v":""},{"$f":"IF(A338=\"\",\"\",'個人種目(マスターズ)'!AW36)","v":""},{"$f":"IF(A338=\"\",\"\",'個人種目(マスターズ)'!BB36)","v":""},{"$f":"IF(A338=\"\",\"\",'個人種目(マスターズ)'!AF36)","v":""},0,0,{"$f":"IF(A338=\"\",\"\",'個人種目(マスターズ)'!BG36)","v":""},4]
[{"$f":"IF('個人種目(マスターズ)'!M37=\"\",\"\",'個人種目(マスターズ)'!AP37)","v":""},{"$f":"IF(A339=\"\",\"\",'個人種目(マスターズ)'!AW37)","v":""},{"$f":"IF(A339=\"\",\"\",'個人種目(マスターズ)'!BB37)","v":""},{"$f":"IF(A339=\"\",\"\",'個人種目(マスターズ)'!AF37)","v":""},0,0,{"$f":"IF(A339=\"\",\"\",'個人種目(マスターズ)'!BG37)","v":""},4]
[{"$f":"IF('個人種目(マスターズ)'!M38=\"\",\"\",'個人種目(マスターズ)'!AP38)","v":""},{"$f":"IF(A340=\"\",\"\",'個人種目(マスターズ)'!AW38)","v":""},{"$f":"IF(A340=\"\",\"\",'個人種目(マスターズ)'!BB38)","v":""},{"$f":"IF(A340=\"\",\"\",'個人種目(マスターズ)'!AF38)","v":""},0,0,{"$f":"IF(A340=\"\",\"\",'個人種目(マスターズ)'!BG38)","v":""},4]
[{"$f":"IF('個人種目(マスターズ)'!M39=\"\",\"\",'個人種目(マスターズ)'!AP39)","v":""},{"$f":"IF(A341=\"\",\"\",'個人種目(マスターズ)'!AW39)","v":""},{"$f":"IF(A341=\"\",\"\",'個人種目(マスターズ)'!BB39)","v":""},{"$f":"IF(A341=\"\",\"\",'個人種目(マスターズ)'!AF39)","v":""},0,0,{"$f":"IF(A341=\"\",\"\",'個人種目(マスターズ)'!BG39)","v":""},4]
[{"$f":"IF('個人種目(マスターズ)'!M40=\"\",\"\",'個人種目(マスターズ)'!AP40)","v":""},{"$f":"IF(A342=\"\",\"\",'個人種目(マスターズ)'!AW40)","v":""},{"$f":"IF(A342=\"\",\"\",'個人種目(マスターズ)'!BB40)","v":""},{"$f":"IF(A342=\"\",\"\",'個人種目(マスターズ)'!AF40)","v":""},0,0,{"$f":"IF(A342=\"\",\"\",'個人種目(マスターズ)'!BG40)","v":""},4]
[{"$f":"IF('個人種目(マスターズ)'!M41=\"\",\"\",'個人種目(マスターズ)'!AP41)","v":""},{"$f":"IF(A343=\"\",\"\",'個人種目(マスターズ)'!AW41)","v":""},{"$f":"IF(A343=\"\",\"\",'個人種目(マスターズ)'!BB41)","v":""},{"$f":"IF(A343=\"\",\"\",'個人種目(マスターズ)'!AF41)","v":""},0,0,{"$f":"IF(A343=\"\",\"\",'個人種目(マスターズ)'!BG41)","v":""},4]
[{"$f":"IF('個人種目(マスターズ)'!M42=\"\",\"\",'個人種目(マスターズ)'!AP42)","v":""},{"$f":"IF(A344=\"\",\"\",'個人種目(マスターズ)'!AW42)","v":""},{"$f":"IF(A344=\"\",\"\",'個人種目(マスターズ)'!BB42)","v":""},{"$f":"IF(A344=\"\",\"\",'個人種目(マスターズ)'!AF42)","v":""},0,0,{"$f":"IF(A344=\"\",\"\",'個人種目(マスターズ)'!BG42)","v":""},4]
[{"$f":"IF('個人種目(マスターズ)'!M43=\"\",\"\",'個人種目(マスターズ)'!AP43)","v":""},{"$f":"IF(A345=\"\",\"\",'個人種目(マスターズ)'!AW43)","v":""},{"$f":"IF(A345=\"\",\"\",'個人種目(マスターズ)'!BB43)","v":""},{"$f":"IF(A345=\"\",\"\",'個人種目(マスターズ)'!AF43)","v":""},0,0,{"$f":"IF(A345=\"\",\"\",'個人種目(マスターズ)'!BG43)","v":""},4]
[{"$f":"IF('個人種目(マスターズ)'!M44=\"\",\"\",'個人種目(マスターズ)'!AP44)","v":""},{"$f":"IF(A346=\"\",\"\",'個人種目(マスターズ)'!AW44)","v":""},{"$f":"IF(A346=\"\",\"\",'個人種目(マスターズ)'!BB44)","v":""},{"$f":"IF(A346=\"\",\"\",'個人種目(マスターズ)'!AF44)","v":""},0,0,{"$f":"IF(A346=\"\",\"\",'個人種目(マスターズ)'!BG44)","v":""},4]
[{"$f":"IF('個人種目(マスターズ)'!M45=\"\",\"\",'個人種目(マスターズ)'!AP45)","v":""},{"$f":"IF(A347=\"\",\"\",'個人種目(マスターズ)'!AW45)","v":""},{"$f":"IF(A347=\"\",\"\",'個人種目(マスターズ)'!BB45)","v":""},{"$f":"IF(A347=\"\",\"\",'個人種目(マスターズ)'!AF45)","v":""},0,0,{"$f":"IF(A347=\"\",\"\",'個人種目(マスターズ)'!BG45)","v":""},4]
[{"$f":"IF('個人種目(マスターズ)'!M46=\"\",\"\",'個人種目(マスターズ)'!AP46)","v":""},{"$f":"IF(A348=\"\",\"\",'個人種目(マスターズ)'!AW46)","v":""},{"$f":"IF(A348=\"\",\"\",'個人種目(マスターズ)'!BB46)","v":""},{"$f":"IF(A348=\"\",\"\",'個人種目(マスターズ)'!AF46)","v":""},0,0,{"$f":"IF(A348=\"\",\"\",'個人種目(マスターズ)'!BG46)","v":""},4]
[{"$f":"IF('個人種目(マスターズ)'!M47=\"\",\"\",'個人種目(マスターズ)'!AP47)","v":""},{"$f":"IF(A349=\"\",\"\",'個人種目(マスターズ)'!AW47)","v":""},{"$f":"IF(A349=\"\",\"\",'個人種目(マスターズ)'!BB47)","v":""},{"$f":"IF(A349=\"\",\"\",'個人種目(マスターズ)'!AF47)","v":""},0,0,{"$f":"IF(A349=\"\",\"\",'個人種目(マスターズ)'!BG47)","v":""},4]
[{"$f":"IF('個人種目(マスターズ)'!M48=\"\",\"\",'個人種目(マスターズ)'!AP48)","v":""},{"$f":"IF(A350=\"\",\"\",'個人種目(マスターズ)'!AW48)","v":""},{"$f":"IF(A350=\"\",\"\",'個人種目(マスターズ)'!BB48)","v":""},{"$f":"IF(A350=\"\",\"\",'個人種目(マスターズ)'!AF48)","v":""},0,0,{"$f":"IF(A350=\"\",\"\",'個人種目(マスターズ)'!BG48)","v":""},4]
[{"$f":"IF('個人種目(マスターズ)'!M49=\"\",\"\",'個人種目(マスターズ)'!AP49)","v":""},{"$f":"IF(A351=\"\",\"\",'個人種目(マスターズ)'!AW49)","v":""},{"$f":"IF(A351=\"\",\"\",'個人種目(マスターズ)'!BB49)","v":""},{"$f":"IF(A351=\"\",\"\",'個人種目(マスターズ)'!AF49)","v":""},0,0,{"$f":"IF(A351=\"\",\"\",'個人種目(マスターズ)'!BG49)","v":""},4]
[{"$f":"IF('個人種目(マスターズ)'!M50=\"\",\"\",'個人種目(マスターズ)'!AP50)","v":""},{"$f":"IF(A352=\"\",\"\",'個人種目(マスターズ)'!AW50)","v":""},{"$f":"IF(A352=\"\",\"\",'個人種目(マスターズ)'!BB50)","v":""},{"$f":"IF(A352=\"\",\"\",'個人種目(マスターズ)'!AF50)","v":""},0,0,{"$f":"IF(A352=\"\",\"\",'個人種目(マスターズ)'!BG50)","v":""},4]
[{"$f":"IF('個人種目(マスターズ)'!M51=\"\",\"\",'個人種目(マスターズ)'!AP51)","v":""},{"$f":"IF(A353=\"\",\"\",'個人種目(マスターズ)'!AW51)","v":""},{"$f":"IF(A353=\"\",\"\",'個人種目(マスターズ)'!BB51)","v":""},{"$f":"IF(A353=\"\",\"\",'個人種目(マスターズ)'!AF51)","v":""},0,0,{"$f":"IF(A353=\"\",\"\",'個人種目(マスターズ)'!BG51)","v":""},4]
[{"$f":"IF('個人種目(マスターズ)'!M52=\"\",\"\",'個人種目(マスターズ)'!AP52)","v":""},{"$f":"IF(A354=\"\",\"\",'個人種目(マスターズ)'!AW52)","v":""},{"$f":"IF(A354=\"\",\"\",'個人種目(マスターズ)'!BB52)","v":""},{"$f":"IF(A354=\"\",\"\",'個人種目(マスターズ)'!AF52)","v":""},0,0,{"$f":"IF(A354=\"\",\"\",'個人種目(マスターズ)'!BG52)","v":""},4]
[{"$f":"IF('個人種目(マスターズ)'!M53=\"\",\"\",'個人種目(マスターズ)'!AP53)","v":""},{"$f":"IF(A355=\"\",\"\",'個人種目(マスターズ)'!AW53)","v":""},{"$f":"IF(A355=\"\",\"\",'個人種目(マスターズ)'!BB53)","v":""},{"$f":"IF(A355=\"\",\"\",'個人種目(マスターズ)'!AF53)","v":""},0,0,{"$f":"IF(A355=\"\",\"\",'個人種目(マスターズ)'!BG53)","v":""},4]
[{"$f":"IF('個人種目(マスターズ)'!M54=\"\",\"\",'個人種目(マスターズ)'!AP54)","v":""},{"$f":"IF(A356=\"\",\"\",'個人種目(マスターズ)'!AW54)","v":""},{"$f":"IF(A356=\"\",\"\",'個人種目(マスターズ)'!BB54)","v":""},{"$f":"IF(A356=\"\",\"\",'個人種目(マスターズ)'!AF54)","v":""},0,0,{"$f":"IF(A356=\"\",\"\",'個人種目(マスターズ)'!BG54)","v":""},4]
[{"$f":"IF('個人種目(マスターズ)'!M55=\"\",\"\",'個人種目(マスターズ)'!AP55)","v":""},{"$f":"IF(A357=\"\",\"\",'個人種目(マスターズ)'!AW55)","v":""},{"$f":"IF(A357=\"\",\"\",'個人種目(マスターズ)'!BB55)","v":""},{"$f":"IF(A357=\"\",\"\",'個人種目(マスターズ)'!AF55)","v":""},0,0,{"$f":"IF(A357=\"\",\"\",'個人種目(マスターズ)'!BG55)","v":""},4]
[{"$f":"IF('個人種目(マスターズ)'!M56=\"\",\"\",'個人種目(マスターズ)'!AP56)","v":""},{"$f":"IF(A358=\"\",\"\",'個人種目(マスターズ)'!AW56)","v":""},{"$f":"IF(A358=\"\",\"\",'個人種目(マスターズ)'!BB56)","v":""},{"$f":"IF(A358=\"\",\"\",'個人種目(マスターズ)'!AF56)","v":""},0,0,{"$f":"IF(A358=\"\",\"\",'個人種目(マスターズ)'!BG56)","v":""}]
[null,{"$f":"IF(A359=\"\",\"\",'個人種目(マスターズ)'!AW57)","v":""},{"$f":"IF(A359=\"\",\"\",'個人種目(マスターズ)'!BB57)","v":""},{"$f":"IF(A359=\"\",\"\",'個人種目(マスターズ)'!AF57)","v":""},0,0,{"$f":"IF(A359=\"\",\"\",'個人種目(マスターズ)'!BG57)","v":""}]
[{"$f":"IF('個人種目(マスターズ)'!M58=\"\",\"\",'個人種目(マスターズ)'!AP58)","v":""},{"$f":"IF(A360=\"\",\"\",'個人種目(マスターズ)'!AW58)","v":""},{"$f":"IF(A360=\"\",\"\",'個人種目(マスターズ)'!BB58)","v":""},{"$f":"IF(A360=\"\",\"\",'個人種目(マスターズ)'!AF58)","v":""},0,5,{"$f":"IF(A360=\"\",\"\",'個人種目(マスターズ)'!BG58)","v":""},4]
[{"$f":"IF('個人種目(マスターズ)'!M59=\"\",\"\",'個人種目(マスターズ)'!AP59)","v":""},{"$f":"IF(A361=\"\",\"\",'個人種目(マスターズ)'!AW59)","v":""},{"$f":"IF(A361=\"\",\"\",'個人種目(マスターズ)'!BB59)","v":""},{"$f":"IF(A361=\"\",\"\",'個人種目(マスターズ)'!AF59)","v":""},0,5,{"$f":"IF(A361=\"\",\"\",'個人種目(マスターズ)'!BG59)","v":""},4]
[{"$f":"IF('個人種目(マスターズ)'!M60=\"\",\"\",'個人種目(マスターズ)'!AP60)","v":""},{"$f":"IF(A362=\"\",\"\",'個人種目(マスターズ)'!AW60)","v":""},{"$f":"IF(A362=\"\",\"\",'個人種目(マスターズ)'!BB60)","v":""},{"$f":"IF(A362=\"\",\"\",'個人種目(マスターズ)'!AF60)","v":""},0,5,{"$f":"IF(A362=\"\",\"\",'個人種目(マスターズ)'!BG60)","v":""},4]
[{"$f":"IF('個人種目(マスターズ)'!M61=\"\",\"\",'個人種目(マスターズ)'!AP61)","v":""},{"$f":"IF(A363=\"\",\"\",'個人種目(マスターズ)'!AW61)","v":""},{"$f":"IF(A363=\"\",\"\",'個人種目(マスターズ)'!BB61)","v":""},{"$f":"IF(A363=\"\",\"\",'個人種目(マスターズ)'!AF61)","v":""},0,5,{"$f":"IF(A363=\"\",\"\",'個人種目(マスターズ)'!BG61)","v":""},4]
[{"$f":"IF('個人種目(マスターズ)'!M62=\"\",\"\",'個人種目(マスターズ)'!AP62)","v":""},{"$f":"IF(A364=\"\",\"\",'個人種目(マスターズ)'!AW62)","v":""},{"$f":"IF(A364=\"\",\"\",'個人種目(マスターズ)'!BB62)","v":""},{"$f":"IF(A364=\"\",\"\",'個人種目(マスターズ)'!AF62)","v":""},0,5,{"$f":"IF(A364=\"\",\"\",'個人種目(マスターズ)'!BG62)","v":""},4]
[{"$f":"IF('個人種目(マスターズ)'!M63=\"\",\"\",'個人種目(マスターズ)'!AP63)","v":""},{"$f":"IF(A365=\"\",\"\",'個人種目(マスターズ)'!AW63)","v":""},{"$f":"IF(A365=\"\",\"\",'個人種目(マスターズ)'!BB63)","v":""},{"$f":"IF(A365=\"\",\"\",'個人種目(マスターズ)'!AF63)","v":""},0,5,{"$f":"IF(A365=\"\",\"\",'個人種目(マスターズ)'!BG63)","v":""},4]
[{"$f":"IF('個人種目(マスターズ)'!M64=\"\",\"\",'個人種目(マスターズ)'!AP64)","v":""},{"$f":"IF(A366=\"\",\"\",'個人種目(マスターズ)'!AW64)","v":""},{"$f":"IF(A366=\"\",\"\",'個人種目(マスターズ)'!BB64)","v":""},{"$f":"IF(A366=\"\",\"\",'個人種目(マスターズ)'!AF64)","v":""},0,5,{"$f":"IF(A366=\"\",\"\",'個人種目(マスターズ)'!BG64)","v":""},4]
[{"$f":"IF('個人種目(マスターズ)'!M65=\"\",\"\",'個人種目(マスターズ)'!AP65)","v":""},{"$f":"IF(A367=\"\",\"\",'個人種目(マスターズ)'!AW65)","v":""},{"$f":"IF(A367=\"\",\"\",'個人種目(マスターズ)'!BB65)","v":""},{"$f":"IF(A367=\"\",\"\",'個人種目(マスターズ)'!AF65)","v":""},0,5,{"$f":"IF(A367=\"\",\"\",'個人種目(マスターズ)'!BG65)","v":""},4]
[{"$f":"IF('個人種目(マスターズ)'!M66=\"\",\"\",'個人種目(マスターズ)'!AP66)","v":""},{"$f":"IF(A368=\"\",\"\",'個人種目(マスターズ)'!AW66)","v":""},{"$f":"IF(A368=\"\",\"\",'個人種目(マスターズ)'!BB66)","v":""},{"$f":"IF(A368=\"\",\"\",'個人種目(マスターズ)'!AF66)","v":""},0,5,{"$f":"IF(A368=\"\",\"\",'個人種目(マスターズ)'!BG66)","v":""},4]
[{"$f":"IF('個人種目(マスターズ)'!M67=\"\",\"\",'個人種目(マスターズ)'!AP67)","v":""},{"$f":"IF(A369=\"\",\"\",'個人種目(マスターズ)'!AW67)","v":""},{"$f":"IF(A369=\"\",\"\",'個人種目(マスターズ)'!BB67)","v":""},{"$f":"IF(A369=\"\",\"\",'個人種目(マスターズ)'!AF67)","v":""},0,5,{"$f":"IF(A369=\"\",\"\",'個人種目(マスターズ)'!BG67)","v":""},4]
[{"$f":"IF('個人種目(マスターズ)'!M68=\"\",\"\",'個人種目(マスターズ)'!AP68)","v":""},{"$f":"IF(A370=\"\",\"\",'個人種目(マスターズ)'!AW68)","v":""},{"$f":"IF(A370=\"\",\"\",'個人種目(マスターズ)'!BB68)","v":""},{"$f":"IF(A370=\"\",\"\",'個人種目(マスターズ)'!AF68)","v":""},0,5,{"$f":"IF(A370=\"\",\"\",'個人種目(マスターズ)'!BG68)","v":""},4]
[{"$f":"IF('個人種目(マスターズ)'!M69=\"\",\"\",'個人種目(マスターズ)'!AP69)","v":""},{"$f":"IF(A371=\"\",\"\",'個人種目(マスターズ)'!AW69)","v":""},{"$f":"IF(A371=\"\",\"\",'個人種目(マスターズ)'!BB69)","v":""},{"$f":"IF(A371=\"\",\"\",'個人種目(マスターズ)'!AF69)","v":""},0,5,{"$f":"IF(A371=\"\",\"\",'個人種目(マスターズ)'!BG69)","v":""},4]
[{"$f":"IF('個人種目(マスターズ)'!M70=\"\",\"\",'個人種目(マスターズ)'!AP70)","v":""},{"$f":"IF(A372=\"\",\"\",'個人種目(マスターズ)'!AW70)","v":""},{"$f":"IF(A372=\"\",\"\",'個人種目(マスターズ)'!BB70)","v":""},{"$f":"IF(A372=\"\",\"\",'個人種目(マスターズ)'!AF70)","v":""},0,5,{"$f":"IF(A372=\"\",\"\",'個人種目(マスターズ)'!BG70)","v":""},4]
[{"$f":"IF('個人種目(マスターズ)'!M71=\"\",\"\",'個人種目(マスターズ)'!AP71)","v":""},{"$f":"IF(A373=\"\",\"\",'個人種目(マスターズ)'!AW71)","v":""},{"$f":"IF(A373=\"\",\"\",'個人種目(マスターズ)'!BB71)","v":""},{"$f":"IF(A373=\"\",\"\",'個人種目(マスターズ)'!AF71)","v":""},0,5,{"$f":"IF(A373=\"\",\"\",'個人種目(マスターズ)'!BG71)","v":""},4]
[{"$f":"IF('個人種目(マスターズ)'!M72=\"\",\"\",'個人種目(マスターズ)'!AP72)","v":""},{"$f":"IF(A374=\"\",\"\",'個人種目(マスターズ)'!AW72)","v":""},{"$f":"IF(A374=\"\",\"\",'個人種目(マスターズ)'!BB72)","v":""},{"$f":"IF(A374=\"\",\"\",'個人種目(マスターズ)'!AF72)","v":""},0,5,{"$f":"IF(A374=\"\",\"\",'個人種目(マスターズ)'!BG72)","v":""},4]
[{"$f":"IF('個人種目(マスターズ)'!M73=\"\",\"\",'個人種目(マスターズ)'!AP73)","v":""},{"$f":"IF(A375=\"\",\"\",'個人種目(マスターズ)'!AW73)","v":""},{"$f":"IF(A375=\"\",\"\",'個人種目(マスターズ)'!BB73)","v":""},{"$f":"IF(A375=\"\",\"\",'個人種目(マスターズ)'!AF73)","v":""},0,5,{"$f":"IF(A375=\"\",\"\",'個人種目(マスターズ)'!BG73)","v":""},4]
[{"$f":"IF('個人種目(マスターズ)'!M74=\"\",\"\",'個人種目(マスターズ)'!AP74)","v":""},{"$f":"IF(A376=\"\",\"\",'個人種目(マスターズ)'!AW74)","v":""},{"$f":"IF(A376=\"\",\"\",'個人種目(マスターズ)'!BB74)","v":""},{"$f":"IF(A376=\"\",\"\",'個人種目(マスターズ)'!AF74)","v":""},0,5,{"$f":"IF(A376=\"\",\"\",'個人種目(マスターズ)'!BG74)","v":""},4]
[{"$f":"IF('個人種目(マスターズ)'!M75=\"\",\"\",'個人種目(マスターズ)'!AP75)","v":""},{"$f":"IF(A377=\"\",\"\",'個人種目(マスターズ)'!AW75)","v":""},{"$f":"IF(A377=\"\",\"\",'個人種目(マスターズ)'!BB75)","v":""},{"$f":"IF(A377=\"\",\"\",'個人種目(マスターズ)'!AF75)","v":""},0,5,{"$f":"IF(A377=\"\",\"\",'個人種目(マスターズ)'!BG75)","v":""},4]
[{"$f":"IF('個人種目(マスターズ)'!M76=\"\",\"\",'個人種目(マスターズ)'!AP76)","v":""},{"$f":"IF(A378=\"\",\"\",'個人種目(マスターズ)'!AW76)","v":""},{"$f":"IF(A378=\"\",\"\",'個人種目(マスターズ)'!BB76)","v":""},{"$f":"IF(A378=\"\",\"\",'個人種目(マスターズ)'!AF76)","v":""},0,5,{"$f":"IF(A378=\"\",\"\",'個人種目(マスターズ)'!BG76)","v":""},4]
[{"$f":"IF('個人種目(マスターズ)'!M77=\"\",\"\",'個人種目(マスターズ)'!AP77)","v":""},{"$f":"IF(A379=\"\",\"\",'個人種目(マスターズ)'!AW77)","v":""},{"$f":"IF(A379=\"\",\"\",'個人種目(マスターズ)'!BB77)","v":""},{"$f":"IF(A379=\"\",\"\",'個人種目(マスターズ)'!AF77)","v":""},0,5,{"$f":"IF(A379=\"\",\"\",'個人種目(マスターズ)'!BG77)","v":""},4]
[{"$f":"IF('個人種目(マスターズ)'!M78=\"\",\"\",'個人種目(マスターズ)'!AP78)","v":""},{"$f":"IF(A380=\"\",\"\",'個人種目(マスターズ)'!AW78)","v":""},{"$f":"IF(A380=\"\",\"\",'個人種目(マスターズ)'!BB78)","v":""},{"$f":"IF(A380=\"\",\"\",'個人種目(マスターズ)'!AF78)","v":""},0,5,{"$f":"IF(A380=\"\",\"\",'個人種目(マスターズ)'!BG78)","v":""},4]
[{"$f":"IF('個人種目(マスターズ)'!M79=\"\",\"\",'個人種目(マスターズ)'!AP79)","v":""},{"$f":"IF(A381=\"\",\"\",'個人種目(マスターズ)'!AW79)","v":""},{"$f":"IF(A381=\"\",\"\",'個人種目(マスターズ)'!BB79)","v":""},{"$f":"IF(A381=\"\",\"\",'個人種目(マスターズ)'!AF79)","v":""},0,5,{"$f":"IF(A381=\"\",\"\",'個人種目(マスターズ)'!BG79)","v":""},4]
[{"$f":"IF('個人種目(マスターズ)'!M80=\"\",\"\",'個人種目(マスターズ)'!AP80)","v":""},{"$f":"IF(A382=\"\",\"\",'個人種目(マスターズ)'!AW80)","v":""},{"$f":"IF(A382=\"\",\"\",'個人種目(マスターズ)'!BB80)","v":""},{"$f":"IF(A382=\"\",\"\",'個人種目(マスターズ)'!AF80)","v":""},0,5,{"$f":"IF(A382=\"\",\"\",'個人種目(マスターズ)'!BG80)","v":""},4]
[{"$f":"IF('個人種目(マスターズ)'!M81=\"\",\"\",'個人種目(マスターズ)'!AP81)","v":""},{"$f":"IF(A383=\"\",\"\",'個人種目(マスターズ)'!AW81)","v":""},{"$f":"IF(A383=\"\",\"\",'個人種目(マスターズ)'!BB81)","v":""},{"$f":"IF(A383=\"\",\"\",'個人種目(マスターズ)'!AF81)","v":""},0,5,{"$f":"IF(A383=\"\",\"\",'個人種目(マスターズ)'!BG81)","v":""},4]
[{"$f":"IF('個人種目(マスターズ)'!M82=\"\",\"\",'個人種目(マスターズ)'!AP82)","v":""},{"$f":"IF(A384=\"\",\"\",'個人種目(マスターズ)'!AW82)","v":""},{"$f":"IF(A384=\"\",\"\",'個人種目(マスターズ)'!BB82)","v":""},{"$f":"IF(A384=\"\",\"\",'個人種目(マスターズ)'!AF82)","v":""},0,5,{"$f":"IF(A384=\"\",\"\",'個人種目(マスターズ)'!BG82)","v":""},4]
[{"$f":"IF('個人種目(マスターズ)'!M83=\"\",\"\",'個人種目(マスターズ)'!AP83)","v":""},{"$f":"IF(A385=\"\",\"\",'個人種目(マスターズ)'!AW83)","v":""},{"$f":"IF(A385=\"\",\"\",'個人種目(マスターズ)'!BB83)","v":""},{"$f":"IF(A385=\"\",\"\",'個人種目(マスターズ)'!AF83)","v":""},0,5,{"$f":"IF(A385=\"\",\"\",'個人種目(マスターズ)'!BG83)","v":""},4]
[{"$f":"IF('個人種目(マスターズ)'!M84=\"\",\"\",'個人種目(マスターズ)'!AP84)","v":""},{"$f":"IF(A386=\"\",\"\",'個人種目(マスターズ)'!AW84)","v":""},{"$f":"IF(A386=\"\",\"\",'個人種目(マスターズ)'!BB84)","v":""},{"$f":"IF(A386=\"\",\"\",'個人種目(マスターズ)'!AF84)","v":""},0,5,{"$f":"IF(A386=\"\",\"\",'個人種目(マスターズ)'!BG84)","v":""},4]
[{"$f":"IF('個人種目(マスターズ)'!M85=\"\",\"\",'個人種目(マスターズ)'!AP85)","v":""},{"$f":"IF(A387=\"\",\"\",'個人種目(マスターズ)'!AW85)","v":""},{"$f":"IF(A387=\"\",\"\",'個人種目(マスターズ)'!BB85)","v":""},{"$f":"IF(A387=\"\",\"\",'個人種目(マスターズ)'!AF85)","v":""},0,5,{"$f":"IF(A387=\"\",\"\",'個人種目(マスターズ)'!BG85)","v":""},4]
[{"$f":"IF('個人種目(マスターズ)'!M86=\"\",\"\",'個人種目(マスターズ)'!AP86)","v":""},{"$f":"IF(A388=\"\",\"\",'個人種目(マスターズ)'!AW86)","v":""},{"$f":"IF(A388=\"\",\"\",'個人種目(マスターズ)'!BB86)","v":""},{"$f":"IF(A388=\"\",\"\",'個人種目(マスターズ)'!AF86)","v":""},0,5,{"$f":"IF(A388=\"\",\"\",'個人種目(マスターズ)'!BG86)","v":""},4]
[{"$f":"IF('個人種目(マスターズ)'!M87=\"\",\"\",'個人種目(マスターズ)'!AP87)","v":""},{"$f":"IF(A389=\"\",\"\",'個人種目(マスターズ)'!AW87)","v":""},{"$f":"IF(A389=\"\",\"\",'個人種目(マスターズ)'!BB87)","v":""},{"$f":"IF(A389=\"\",\"\",'個人種目(マスターズ)'!AF87)","v":""},0,5,{"$f":"IF(A389=\"\",\"\",'個人種目(マスターズ)'!BG87)","v":""},4]
[{"$f":"IF('個人種目(マスターズ)'!M88=\"\",\"\",'個人種目(マスターズ)'!AP88)","v":""},{"$f":"IF(A390=\"\",\"\",'個人種目(マスターズ)'!AW88)","v":""},{"$f":"IF(A390=\"\",\"\",'個人種目(マスターズ)'!BB88)","v":""},{"$f":"IF(A390=\"\",\"\",'個人種目(マスターズ)'!AF88)","v":""},0,5,{"$f":"IF(A390=\"\",\"\",'個人種目(マスターズ)'!BG88)","v":""},4]
[{"$f":"IF('個人種目(マスターズ)'!M89=\"\",\"\",'個人種目(マスターズ)'!AP89)","v":""},{"$f":"IF(A391=\"\",\"\",'個人種目(マスターズ)'!AW89)","v":""},{"$f":"IF(A391=\"\",\"\",'個人種目(マスターズ)'!BB89)","v":""},{"$f":"IF(A391=\"\",\"\",'個人種目(マスターズ)'!AF89)","v":""},0,5,{"$f":"IF(A391=\"\",\"\",'個人種目(マスターズ)'!BG89)","v":""},4]
[{"$f":"IF('個人種目(マスターズ)'!M90=\"\",\"\",'個人種目(マスターズ)'!AP90)","v":""},{"$f":"IF(A392=\"\",\"\",'個人種目(マスターズ)'!AW90)","v":""},{"$f":"IF(A392=\"\",\"\",'個人種目(マスターズ)'!BB90)","v":""},{"$f":"IF(A392=\"\",\"\",'個人種目(マスターズ)'!AF90)","v":""},0,5,{"$f":"IF(A392=\"\",\"\",'個人種目(マスターズ)'!BG90)","v":""},4]
[{"$f":"IF('個人種目(マスターズ)'!M91=\"\",\"\",'個人種目(マスターズ)'!AP91)","v":""},{"$f":"IF(A393=\"\",\"\",'個人種目(マスターズ)'!AW91)","v":""},{"$f":"IF(A393=\"\",\"\",'個人種目(マスターズ)'!BB91)","v":""},{"$f":"IF(A393=\"\",\"\",'個人種目(マスターズ)'!AF91)","v":""},0,5,{"$f":"IF(A393=\"\",\"\",'個人種目(マスターズ)'!BG91)","v":""},4]
[{"$f":"IF('個人種目(マスターズ)'!M92=\"\",\"\",'個人種目(マスターズ)'!AP92)","v":""},{"$f":"IF(A394=\"\",\"\",'個人種目(マスターズ)'!AW92)","v":""},{"$f":"IF(A394=\"\",\"\",'個人種目(マスターズ)'!BB92)","v":""},{"$f":"IF(A394=\"\",\"\",'個人種目(マスターズ)'!AF92)","v":""},0,5,{"$f":"IF(A394=\"\",\"\",'個人種目(マスターズ)'!BG92)","v":""},4]
[{"$f":"IF('個人種目(マスターズ)'!M93=\"\",\"\",'個人種目(マスターズ)'!AP93)","v":""},{"$f":"IF(A395=\"\",\"\",'個人種目(マスターズ)'!AW93)","v":""},{"$f":"IF(A395=\"\",\"\",'個人種目(マスターズ)'!BB93)","v":""},{"$f":"IF(A395=\"\",\"\",'個人種目(マスターズ)'!AF93)","v":""},0,5,{"$f":"IF(A395=\"\",\"\",'個人種目(マスターズ)'!BG93)","v":""},4]
[{"$f":"IF('個人種目(マスターズ)'!M94=\"\",\"\",'個人種目(マスターズ)'!AP94)","v":""},{"$f":"IF(A396=\"\",\"\",'個人種目(マスターズ)'!AW94)","v":""},{"$f":"IF(A396=\"\",\"\",'個人種目(マスターズ)'!BB94)","v":""},{"$f":"IF(A396=\"\",\"\",'個人種目(マスターズ)'!AF94)","v":""},0,5,{"$f":"IF(A396=\"\",\"\",'個人種目(マスターズ)'!BG94)","v":""},4]
[{"$f":"IF('個人種目(マスターズ)'!M95=\"\",\"\",'個人種目(マスターズ)'!AP95)","v":""},{"$f":"IF(A397=\"\",\"\",'個人種目(マスターズ)'!AW95)","v":""},{"$f":"IF(A397=\"\",\"\",'個人種目(マスターズ)'!BB95)","v":""},{"$f":"IF(A397=\"\",\"\",'個人種目(マスターズ)'!AF95)","v":""},0,5,{"$f":"IF(A397=\"\",\"\",'個人種目(マスターズ)'!BG95)","v":""},4]
[{"$f":"IF('個人種目(マスターズ)'!M96=\"\",\"\",'個人種目(マスターズ)'!AP96)","v":""},{"$f":"IF(A398=\"\",\"\",'個人種目(マスターズ)'!AW96)","v":""},{"$f":"IF(A398=\"\",\"\",'個人種目(マスターズ)'!BB96)","v":""},{"$f":"IF(A398=\"\",\"\",'個人種目(マスターズ)'!AF96)","v":""},0,5,{"$f":"IF(A398=\"\",\"\",'個人種目(マスターズ)'!BG96)","v":""},4]
[{"$f":"IF('個人種目(マスターズ)'!M97=\"\",\"\",'個人種目(マスターズ)'!AP97)","v":""},{"$f":"IF(A399=\"\",\"\",'個人種目(マスターズ)'!AW97)","v":""},{"$f":"IF(A399=\"\",\"\",'個人種目(マスターズ)'!BB97)","v":""},{"$f":"IF(A399=\"\",\"\",'個人種目(マスターズ)'!AF97)","v":""},0,5,{"$f":"IF(A399=\"\",\"\",'個人種目(マスターズ)'!BG97)","v":""},4]
[{"$f":"IF('個人種目(マスターズ)'!M98=\"\",\"\",'個人種目(マスターズ)'!AP98)","v":""},{"$f":"IF(A400=\"\",\"\",'個人種目(マスターズ)'!AW98)","v":""},{"$f":"IF(A400=\"\",\"\",'個人種目(マスターズ)'!BB98)","v":""},{"$f":"IF(A400=\"\",\"\",'個人種目(マスターズ)'!AF98)","v":""},0,5,{"$f":"IF(A400=\"\",\"\",'個人種目(マスターズ)'!BG98)","v":""},4]
[{"$f":"IF('個人種目(マスターズ)'!M99=\"\",\"\",'個人種目(マスターズ)'!AP99)","v":""},{"$f":"IF(A401=\"\",\"\",'個人種目(マスターズ)'!AW99)","v":""},{"$f":"IF(A401=\"\",\"\",'個人種目(マスターズ)'!BB99)","v":""},{"$f":"IF(A401=\"\",\"\",'個人種目(マスターズ)'!AF99)","v":""},0,5,{"$f":"IF(A401=\"\",\"\",'個人種目(マスターズ)'!BG99)","v":""},4]
[{"$f":"IF('個人種目(マスターズ)'!M100=\"\",\"\",'個人種目(マスターズ)'!AP100)","v":""},{"$f":"IF(A402=\"\",\"\",'個人種目(マスターズ)'!AW100)","v":""},{"$f":"IF(A402=\"\",\"\",'個人種目(マスターズ)'!BB100)","v":""},{"$f":"IF(A402=\"\",\"\",'個人種目(マスターズ)'!AF100)","v":""},0,5,{"$f":"IF(A402=\"\",\"\",'個人種目(マスターズ)'!BG100)","v":""},4]
[{"$f":"IF('個人種目(マスターズ)'!M101=\"\",\"\",'個人種目(マスターズ)'!AP101)","v":""},{"$f":"IF(A403=\"\",\"\",'個人種目(マスターズ)'!AW101)","v":""},{"$f":"IF(A403=\"\",\"\",'個人種目(マスターズ)'!BB101)","v":""},{"$f":"IF(A403=\"\",\"\",'個人種目(マスターズ)'!AF101)","v":""},0,5,{"$f":"IF(A403=\"\",\"\",'個人種目(マスターズ)'!BG101)","v":""},4]
[{"$f":"IF('個人種目(マスターズ)'!M102=\"\",\"\",'個人種目(マスターズ)'!AP102)","v":""},{"$f":"IF(A404=\"\",\"\",'個人種目(マスターズ)'!AW102)","v":""},{"$f":"IF(A404=\"\",\"\",'個人種目(マスターズ)'!BB102)","v":""},{"$f":"IF(A404=\"\",\"\",'個人種目(マスターズ)'!AF102)","v":""},0,5,{"$f":"IF(A404=\"\",\"\",'個人種目(マスターズ)'!BG102)","v":""},4]
[{"$f":"IF('個人種目(マスターズ)'!M103=\"\",\"\",'個人種目(マスターズ)'!AP103)","v":""},{"$f":"IF(A405=\"\",\"\",'個人種目(マスターズ)'!AW103)","v":""},{"$f":"IF(A405=\"\",\"\",'個人種目(マスターズ)'!BB103)","v":""},{"$f":"IF(A405=\"\",\"\",'個人種目(マスターズ)'!AF103)","v":""},0,5,{"$f":"IF(A405=\"\",\"\",'個人種目(マスターズ)'!BG103)","v":""},4]
[{"$f":"IF('個人種目(マスターズ)'!M104=\"\",\"\",'個人種目(マスターズ)'!AP104)","v":""},{"$f":"IF(A406=\"\",\"\",'個人種目(マスターズ)'!AW104)","v":""},{"$f":"IF(A406=\"\",\"\",'個人種目(マスターズ)'!BB104)","v":""},{"$f":"IF(A406=\"\",\"\",'個人種目(マスターズ)'!AF104)","v":""},0,5,{"$f":"IF(A406=\"\",\"\",'個人種目(マスターズ)'!BG104)","v":""},4]
[{"$f":"IF('個人種目(マスターズ)'!M105=\"\",\"\",'個人種目(マスターズ)'!AP105)","v":""},{"$f":"IF(A407=\"\",\"\",'個人種目(マスターズ)'!AW105)","v":""},{"$f":"IF(A407=\"\",\"\",'個人種目(マスターズ)'!BB105)","v":""},{"$f":"IF(A407=\"\",\"\",'個人種目(マスターズ)'!AF105)","v":""},0,5,{"$f":"IF(A407=\"\",\"\",'個人種目(マスターズ)'!BG105)","v":""},4]
[{"$f":"IF('個人種目(マスターズ)'!M106=\"\",\"\",'個人種目(マスターズ)'!AP106)","v":""},{"$f":"IF(A408=\"\",\"\",'個人種目(マスターズ)'!AW106)","v":""},{"$f":"IF(A408=\"\",\"\",'個人種目(マスターズ)'!BB106)","v":""},{"$f":"IF(A408=\"\",\"\",'個人種目(マスターズ)'!AF106)","v":""},0,5,{"$f":"IF(A408=\"\",\"\",'個人種目(マスターズ)'!BG106)","v":""},4]
[{"$f":"IF('個人種目(マスターズ)'!M107=\"\",\"\",'個人種目(マスターズ)'!AP107)","v":""},{"$f":"IF(A409=\"\",\"\",'個人種目(マスターズ)'!AW107)","v":""},{"$f":"IF(A409=\"\",\"\",'個人種目(マスターズ)'!BB107)","v":""},{"$f":"IF(A409=\"\",\"\",'個人種目(マスターズ)'!AF107)","v":""},0,5,{"$f":"IF(A409=\"\",\"\",'個人種目(マスターズ)'!BG107)","v":""},4]
[{"$f":"IF('個人種目(マスターズ)'!O6=\"\",\"\",'個人種目(マスターズ)'!AP6)","v":""},{"$f":"IF(A410=\"\",\"\",'個人種目(マスターズ)'!AX6)","v":""},{"$f":"IF(A410=\"\",\"\",'個人種目(マスターズ)'!BC6)","v":""},{"$f":"IF(A410=\"\",\"\",'個人種目(マスターズ)'!AF6)","v":""},0,0,{"$f":"IF(A410=\"\",\"\",'個人種目(マスターズ)'!BH6)","v":""},5]
[{"$f":"IF('個人種目(マスターズ)'!O7=\"\",\"\",'個人種目(マスターズ)'!AP7)","v":""},{"$f":"IF(A411=\"\",\"\",'個人種目(マスターズ)'!AX7)","v":""},{"$f":"IF(A411=\"\",\"\",'個人種目(マスターズ)'!BC7)","v":""},{"$f":"IF(A411=\"\",\"\",'個人種目(マスターズ)'!AF7)","v":""},0,0,{"$f":"IF(A411=\"\",\"\",'個人種目(マスターズ)'!BH7)","v":""},5]
[{"$f":"IF('個人種目(マスターズ)'!O8=\"\",\"\",'個人種目(マスターズ)'!AP8)","v":""},{"$f":"IF(A412=\"\",\"\",'個人種目(マスターズ)'!AX8)","v":""},{"$f":"IF(A412=\"\",\"\",'個人種目(マスターズ)'!BC8)","v":""},{"$f":"IF(A412=\"\",\"\",'個人種目(マスターズ)'!AF8)","v":""},0,0,{"$f":"IF(A412=\"\",\"\",'個人種目(マスターズ)'!BH8)","v":""},5]
[{"$f":"IF('個人種目(マスターズ)'!O9=\"\",\"\",'個人種目(マスターズ)'!AP9)","v":""},{"$f":"IF(A413=\"\",\"\",'個人種目(マスターズ)'!AX9)","v":""},{"$f":"IF(A413=\"\",\"\",'個人種目(マスターズ)'!BC9)","v":""},{"$f":"IF(A413=\"\",\"\",'個人種目(マスターズ)'!AF9)","v":""},0,0,{"$f":"IF(A413=\"\",\"\",'個人種目(マスターズ)'!BH9)","v":""},5]
[{"$f":"IF('個人種目(マスターズ)'!O10=\"\",\"\",'個人種目(マスターズ)'!AP10)","v":""},{"$f":"IF(A414=\"\",\"\",'個人種目(マスターズ)'!AX10)","v":""},{"$f":"IF(A414=\"\",\"\",'個人種目(マスターズ)'!BC10)","v":""},{"$f":"IF(A414=\"\",\"\",'個人種目(マスターズ)'!AF10)","v":""},0,0,{"$f":"IF(A414=\"\",\"\",'個人種目(マスターズ)'!BH10)","v":""},5]
[{"$f":"IF('個人種目(マスターズ)'!O11=\"\",\"\",'個人種目(マスターズ)'!AP11)","v":""},{"$f":"IF(A415=\"\",\"\",'個人種目(マスターズ)'!AX11)","v":""},{"$f":"IF(A415=\"\",\"\",'個人種目(マスターズ)'!BC11)","v":""},{"$f":"IF(A415=\"\",\"\",'個人種目(マスターズ)'!AF11)","v":""},0,0,{"$f":"IF(A415=\"\",\"\",'個人種目(マスターズ)'!BH11)","v":""},5]
[{"$f":"IF('個人種目(マスターズ)'!O12=\"\",\"\",'個人種目(マスターズ)'!AP12)","v":""},{"$f":"IF(A416=\"\",\"\",'個人種目(マスターズ)'!AX12)","v":""},{"$f":"IF(A416=\"\",\"\",'個人種目(マスターズ)'!BC12)","v":""},{"$f":"IF(A416=\"\",\"\",'個人種目(マスターズ)'!AF12)","v":""},0,0,{"$f":"IF(A416=\"\",\"\",'個人種目(マスターズ)'!BH12)","v":""},5]
[{"$f":"IF('個人種目(マスターズ)'!O13=\"\",\"\",'個人種目(マスターズ)'!AP13)","v":""},{"$f":"IF(A417=\"\",\"\",'個人種目(マスターズ)'!AX13)","v":""},{"$f":"IF(A417=\"\",\"\",'個人種目(マスターズ)'!BC13)","v":""},{"$f":"IF(A417=\"\",\"\",'個人種目(マスターズ)'!AF13)","v":""},0,0,{"$f":"IF(A417=\"\",\"\",'個人種目(マスターズ)'!BH13)","v":""},5]
[{"$f":"IF('個人種目(マスターズ)'!O14=\"\",\"\",'個人種目(マスターズ)'!AP14)","v":""},{"$f":"IF(A418=\"\",\"\",'個人種目(マスターズ)'!AX14)","v":""},{"$f":"IF(A418=\"\",\"\",'個人種目(マスターズ)'!BC14)","v":""},{"$f":"IF(A418=\"\",\"\",'個人種目(マスターズ)'!AF14)","v":""},0,0,{"$f":"IF(A418=\"\",\"\",'個人種目(マスターズ)'!BH14)","v":""},5]
[{"$f":"IF('個人種目(マスターズ)'!O15=\"\",\"\",'個人種目(マスターズ)'!AP15)","v":""},{"$f":"IF(A419=\"\",\"\",'個人種目(マスターズ)'!AX15)","v":""},{"$f":"IF(A419=\"\",\"\",'個人種目(マスターズ)'!BC15)","v":""},{"$f":"IF(A419=\"\",\"\",'個人種目(マスターズ)'!AF15)","v":""},0,0,{"$f":"IF(A419=\"\",\"\",'個人種目(マスターズ)'!BH15)","v":""},5]
[{"$f":"IF('個人種目(マスターズ)'!O16=\"\",\"\",'個人種目(マスターズ)'!AP16)","v":""},{"$f":"IF(A420=\"\",\"\",'個人種目(マスターズ)'!AX16)","v":""},{"$f":"IF(A420=\"\",\"\",'個人種目(マスターズ)'!BC16)","v":""},{"$f":"IF(A420=\"\",\"\",'個人種目(マスターズ)'!AF16)","v":""},0,0,{"$f":"IF(A420=\"\",\"\",'個人種目(マスターズ)'!BH16)","v":""},5]
[{"$f":"IF('個人種目(マスターズ)'!O17=\"\",\"\",'個人種目(マスターズ)'!AP17)","v":""},{"$f":"IF(A421=\"\",\"\",'個人種目(マスターズ)'!AX17)","v":""},{"$f":"IF(A421=\"\",\"\",'個人種目(マスターズ)'!BC17)","v":""},{"$f":"IF(A421=\"\",\"\",'個人種目(マスターズ)'!AF17)","v":""},0,0,{"$f":"IF(A421=\"\",\"\",'個人種目(マスターズ)'!BH17)","v":""},5]
[{"$f":"IF('個人種目(マスターズ)'!O18=\"\",\"\",'個人種目(マスターズ)'!AP18)","v":""},{"$f":"IF(A422=\"\",\"\",'個人種目(マスターズ)'!AX18)","v":""},{"$f":"IF(A422=\"\",\"\",'個人種目(マスターズ)'!BC18)","v":""},{"$f":"IF(A422=\"\",\"\",'個人種目(マスターズ)'!AF18)","v":""},0,0,{"$f":"IF(A422=\"\",\"\",'個人種目(マスターズ)'!BH18)","v":""},5]
[{"$f":"IF('個人種目(マスターズ)'!O19=\"\",\"\",'個人種目(マスターズ)'!AP19)","v":""},{"$f":"IF(A423=\"\",\"\",'個人種目(マスターズ)'!AX19)","v":""},{"$f":"IF(A423=\"\",\"\",'個人種目(マスターズ)'!BC19)","v":""},{"$f":"IF(A423=\"\",\"\",'個人種目(マスターズ)'!AF19)","v":""},0,0,{"$f":"IF(A423=\"\",\"\",'個人種目(マスターズ)'!BH19)","v":""},5]
[{"$f":"IF('個人種目(マスターズ)'!O20=\"\",\"\",'個人種目(マスターズ)'!AP20)","v":""},{"$f":"IF(A424=\"\",\"\",'個人種目(マスターズ)'!AX20)","v":""},{"$f":"IF(A424=\"\",\"\",'個人種目(マスターズ)'!BC20)","v":""},{"$f":"IF(A424=\"\",\"\",'個人種目(マスターズ)'!AF20)","v":""},0,0,{"$f":"IF(A424=\"\",\"\",'個人種目(マスターズ)'!BH20)","v":""},5]
[{"$f":"IF('個人種目(マスターズ)'!O21=\"\",\"\",'個人種目(マスターズ)'!AP21)","v":""},{"$f":"IF(A425=\"\",\"\",'個人種目(マスターズ)'!AX21)","v":""},{"$f":"IF(A425=\"\",\"\",'個人種目(マスターズ)'!BC21)","v":""},{"$f":"IF(A425=\"\",\"\",'個人種目(マスターズ)'!AF21)","v":""},0,0,{"$f":"IF(A425=\"\",\"\",'個人種目(マスターズ)'!BH21)","v":""},5]
[{"$f":"IF('個人種目(マスターズ)'!O22=\"\",\"\",'個人種目(マスターズ)'!AP22)","v":""},{"$f":"IF(A426=\"\",\"\",'個人種目(マスターズ)'!AX22)","v":""},{"$f":"IF(A426=\"\",\"\",'個人種目(マスターズ)'!BC22)","v":""},{"$f":"IF(A426=\"\",\"\",'個人種目(マスターズ)'!AF22)","v":""},0,0,{"$f":"IF(A426=\"\",\"\",'個人種目(マスターズ)'!BH22)","v":""},5]
[{"$f":"IF('個人種目(マスターズ)'!O23=\"\",\"\",'個人種目(マスターズ)'!AP23)","v":""},{"$f":"IF(A427=\"\",\"\",'個人種目(マスターズ)'!AX23)","v":""},{"$f":"IF(A427=\"\",\"\",'個人種目(マスターズ)'!BC23)","v":""},{"$f":"IF(A427=\"\",\"\",'個人種目(マスターズ)'!AF23)","v":""},0,0,{"$f":"IF(A427=\"\",\"\",'個人種目(マスターズ)'!BH23)","v":""},5]
[{"$f":"IF('個人種目(マスターズ)'!O24=\"\",\"\",'個人種目(マスターズ)'!AP24)","v":""},{"$f":"IF(A428=\"\",\"\",'個人種目(マスターズ)'!AX24)","v":""},{"$f":"IF(A428=\"\",\"\",'個人種目(マスターズ)'!BC24)","v":""},{"$f":"IF(A428=\"\",\"\",'個人種目(マスターズ)'!AF24)","v":""},0,0,{"$f":"IF(A428=\"\",\"\",'個人種目(マスターズ)'!BH24)","v":""},5]
[{"$f":"IF('個人種目(マスターズ)'!O25=\"\",\"\",'個人種目(マスターズ)'!AP25)","v":""},{"$f":"IF(A429=\"\",\"\",'個人種目(マスターズ)'!AX25)","v":""},{"$f":"IF(A429=\"\",\"\",'個人種目(マスターズ)'!BC25)","v":""},{"$f":"IF(A429=\"\",\"\",'個人種目(マスターズ)'!AF25)","v":""},0,0,{"$f":"IF(A429=\"\",\"\",'個人種目(マスターズ)'!BH25)","v":""},5]
[{"$f":"IF('個人種目(マスターズ)'!O26=\"\",\"\",'個人種目(マスターズ)'!AP26)","v":""},{"$f":"IF(A430=\"\",\"\",'個人種目(マスターズ)'!AX26)","v":""},{"$f":"IF(A430=\"\",\"\",'個人種目(マスターズ)'!BC26)","v":""},{"$f":"IF(A430=\"\",\"\",'個人種目(マスターズ)'!AF26)","v":""},0,0,{"$f":"IF(A430=\"\",\"\",'個人種目(マスターズ)'!BH26)","v":""},5]
[{"$f":"IF('個人種目(マスターズ)'!O27=\"\",\"\",'個人種目(マスターズ)'!AP27)","v":""},{"$f":"IF(A431=\"\",\"\",'個人種目(マスターズ)'!AX27)","v":""},{"$f":"IF(A431=\"\",\"\",'個人種目(マスターズ)'!BC27)","v":""},{"$f":"IF(A431=\"\",\"\",'個人種目(マスターズ)'!AF27)","v":""},0,0,{"$f":"IF(A431=\"\",\"\",'個人種目(マスターズ)'!BH27)","v":""},5]
[{"$f":"IF('個人種目(マスターズ)'!O28=\"\",\"\",'個人種目(マスターズ)'!AP28)","v":""},{"$f":"IF(A432=\"\",\"\",'個人種目(マスターズ)'!AX28)","v":""},{"$f":"IF(A432=\"\",\"\",'個人種目(マスターズ)'!BC28)","v":""},{"$f":"IF(A432=\"\",\"\",'個人種目(マスターズ)'!AF28)","v":""},0,0,{"$f":"IF(A432=\"\",\"\",'個人種目(マスターズ)'!BH28)","v":""},5]
[{"$f":"IF('個人種目(マスターズ)'!O29=\"\",\"\",'個人種目(マスターズ)'!AP29)","v":""},{"$f":"IF(A433=\"\",\"\",'個人種目(マスターズ)'!AX29)","v":""},{"$f":"IF(A433=\"\",\"\",'個人種目(マスターズ)'!BC29)","v":""},{"$f":"IF(A433=\"\",\"\",'個人種目(マスターズ)'!AF29)","v":""},0,0,{"$f":"IF(A433=\"\",\"\",'個人種目(マスターズ)'!BH29)","v":""},5]
[{"$f":"IF('個人種目(マスターズ)'!O30=\"\",\"\",'個人種目(マスターズ)'!AP30)","v":""},{"$f":"IF(A434=\"\",\"\",'個人種目(マスターズ)'!AX30)","v":""},{"$f":"IF(A434=\"\",\"\",'個人種目(マスターズ)'!BC30)","v":""},{"$f":"IF(A434=\"\",\"\",'個人種目(マスターズ)'!AF30)","v":""},0,0,{"$f":"IF(A434=\"\",\"\",'個人種目(マスターズ)'!BH30)","v":""},5]
[{"$f":"IF('個人種目(マスターズ)'!O31=\"\",\"\",'個人種目(マスターズ)'!AP31)","v":""},{"$f":"IF(A435=\"\",\"\",'個人種目(マスターズ)'!AX31)","v":""},{"$f":"IF(A435=\"\",\"\",'個人種目(マスターズ)'!BC31)","v":""},{"$f":"IF(A435=\"\",\"\",'個人種目(マスターズ)'!AF31)","v":""},0,0,{"$f":"IF(A435=\"\",\"\",'個人種目(マスターズ)'!BH31)","v":""},5]
[{"$f":"IF('個人種目(マスターズ)'!O32=\"\",\"\",'個人種目(マスターズ)'!AP32)","v":""},{"$f":"IF(A436=\"\",\"\",'個人種目(マスターズ)'!AX32)","v":""},{"$f":"IF(A436=\"\",\"\",'個人種目(マスターズ)'!BC32)","v":""},{"$f":"IF(A436=\"\",\"\",'個人種目(マスターズ)'!AF32)","v":""},0,0,{"$f":"IF(A436=\"\",\"\",'個人種目(マスターズ)'!BH32)","v":""},5]
[{"$f":"IF('個人種目(マスターズ)'!O33=\"\",\"\",'個人種目(マスターズ)'!AP33)","v":""},{"$f":"IF(A437=\"\",\"\",'個人種目(マスターズ)'!AX33)","v":""},{"$f":"IF(A437=\"\",\"\",'個人種目(マスターズ)'!BC33)","v":""},{"$f":"IF(A437=\"\",\"\",'個人種目(マスターズ)'!AF33)","v":""},0,0,{"$f":"IF(A437=\"\",\"\",'個人種目(マスターズ)'!BH33)","v":""},5]
[{"$f":"IF('個人種目(マスターズ)'!O34=\"\",\"\",'個人種目(マスターズ)'!AP34)","v":""},{"$f":"IF(A438=\"\",\"\",'個人種目(マスターズ)'!AX34)","v":""},{"$f":"IF(A438=\"\",\"\",'個人種目(マスターズ)'!BC34)","v":""},{"$f":"IF(A438=\"\",\"\",'個人種目(マスターズ)'!AF34)","v":""},0,0,{"$f":"IF(A438=\"\",\"\",'個人種目(マスターズ)'!BH34)","v":""},5]
[{"$f":"IF('個人種目(マスターズ)'!O35=\"\",\"\",'個人種目(マスターズ)'!AP35)","v":""},{"$f":"IF(A439=\"\",\"\",'個人種目(マスターズ)'!AX35)","v":""},{"$f":"IF(A439=\"\",\"\",'個人種目(マスターズ)'!BC35)","v":""},{"$f":"IF(A439=\"\",\"\",'個人種目(マスターズ)'!AF35)","v":""},0,0,{"$f":"IF(A439=\"\",\"\",'個人種目(マスターズ)'!BH35)","v":""},5]
[{"$f":"IF('個人種目(マスターズ)'!O36=\"\",\"\",'個人種目(マスターズ)'!AP36)","v":""},{"$f":"IF(A440=\"\",\"\",'個人種目(マスターズ)'!AX36)","v":""},{"$f":"IF(A440=\"\",\"\",'個人種目(マスターズ)'!BC36)","v":""},{"$f":"IF(A440=\"\",\"\",'個人種目(マスターズ)'!AF36)","v":""},0,0,{"$f":"IF(A440=\"\",\"\",'個人種目(マスターズ)'!BH36)","v":""},5]
[{"$f":"IF('個人種目(マスターズ)'!O37=\"\",\"\",'個人種目(マスターズ)'!AP37)","v":""},{"$f":"IF(A441=\"\",\"\",'個人種目(マスターズ)'!AX37)","v":""},{"$f":"IF(A441=\"\",\"\",'個人種目(マスターズ)'!BC37)","v":""},{"$f":"IF(A441=\"\",\"\",'個人種目(マスターズ)'!AF37)","v":""},0,0,{"$f":"IF(A441=\"\",\"\",'個人種目(マスターズ)'!BH37)","v":""},5]
[{"$f":"IF('個人種目(マスターズ)'!O38=\"\",\"\",'個人種目(マスターズ)'!AP38)","v":""},{"$f":"IF(A442=\"\",\"\",'個人種目(マスターズ)'!AX38)","v":""},{"$f":"IF(A442=\"\",\"\",'個人種目(マスターズ)'!BC38)","v":""},{"$f":"IF(A442=\"\",\"\",'個人種目(マスターズ)'!AF38)","v":""},0,0,{"$f":"IF(A442=\"\",\"\",'個人種目(マスターズ)'!BH38)","v":""},5]
[{"$f":"IF('個人種目(マスターズ)'!O39=\"\",\"\",'個人種目(マスターズ)'!AP39)","v":""},{"$f":"IF(A443=\"\",\"\",'個人種目(マスターズ)'!AX39)","v":""},{"$f":"IF(A443=\"\",\"\",'個人種目(マスターズ)'!BC39)","v":""},{"$f":"IF(A443=\"\",\"\",'個人種目(マスターズ)'!AF39)","v":""},0,0,{"$f":"IF(A443=\"\",\"\",'個人種目(マスターズ)'!BH39)","v":""},5]
[{"$f":"IF('個人種目(マスターズ)'!O40=\"\",\"\",'個人種目(マスターズ)'!AP40)","v":""},{"$f":"IF(A444=\"\",\"\",'個人種目(マスターズ)'!AX40)","v":""},{"$f":"IF(A444=\"\",\"\",'個人種目(マスターズ)'!BC40)","v":""},{"$f":"IF(A444=\"\",\"\",'個人種目(マスターズ)'!AF40)","v":""},0,0,{"$f":"IF(A444=\"\",\"\",'個人種目(マスターズ)'!BH40)","v":""},5]
[{"$f":"IF('個人種目(マスターズ)'!O41=\"\",\"\",'個人種目(マスターズ)'!AP41)","v":""},{"$f":"IF(A445=\"\",\"\",'個人種目(マスターズ)'!AX41)","v":""},{"$f":"IF(A445=\"\",\"\",'個人種目(マスターズ)'!BC41)","v":""},{"$f":"IF(A445=\"\",\"\",'個人種目(マスターズ)'!AF41)","v":""},0,0,{"$f":"IF(A445=\"\",\"\",'個人種目(マスターズ)'!BH41)","v":""},5]
[{"$f":"IF('個人種目(マスターズ)'!O42=\"\",\"\",'個人種目(マスターズ)'!AP42)","v":""},{"$f":"IF(A446=\"\",\"\",'個人種目(マスターズ)'!AX42)","v":""},{"$f":"IF(A446=\"\",\"\",'個人種目(マスターズ)'!BC42)","v":""},{"$f":"IF(A446=\"\",\"\",'個人種目(マスターズ)'!AF42)","v":""},0,0,{"$f":"IF(A446=\"\",\"\",'個人種目(マスターズ)'!BH42)","v":""},5]
[{"$f":"IF('個人種目(マスターズ)'!O43=\"\",\"\",'個人種目(マスターズ)'!AP43)","v":""},{"$f":"IF(A447=\"\",\"\",'個人種目(マスターズ)'!AX43)","v":""},{"$f":"IF(A447=\"\",\"\",'個人種目(マスターズ)'!BC43)","v":""},{"$f":"IF(A447=\"\",\"\",'個人種目(マスターズ)'!AF43)","v":""},0,0,{"$f":"IF(A447=\"\",\"\",'個人種目(マスターズ)'!BH43)","v":""},5]
[{"$f":"IF('個人種目(マスターズ)'!O44=\"\",\"\",'個人種目(マスターズ)'!AP44)","v":""},{"$f":"IF(A448=\"\",\"\",'個人種目(マスターズ)'!AX44)","v":""},{"$f":"IF(A448=\"\",\"\",'個人種目(マスターズ)'!BC44)","v":""},{"$f":"IF(A448=\"\",\"\",'個人種目(マスターズ)'!AF44)","v":""},0,0,{"$f":"IF(A448=\"\",\"\",'個人種目(マスターズ)'!BH44)","v":""},5]
[{"$f":"IF('個人種目(マスターズ)'!O45=\"\",\"\",'個人種目(マスターズ)'!AP45)","v":""},{"$f":"IF(A449=\"\",\"\",'個人種目(マスターズ)'!AX45)","v":""},{"$f":"IF(A449=\"\",\"\",'個人種目(マスターズ)'!BC45)","v":""},{"$f":"IF(A449=\"\",\"\",'個人種目(マスターズ)'!AF45)","v":""},0,0,{"$f":"IF(A449=\"\",\"\",'個人種目(マスターズ)'!BH45)","v":""},5]
[{"$f":"IF('個人種目(マスターズ)'!O46=\"\",\"\",'個人種目(マスターズ)'!AP46)","v":""},{"$f":"IF(A450=\"\",\"\",'個人種目(マスターズ)'!AX46)","v":""},{"$f":"IF(A450=\"\",\"\",'個人種目(マスターズ)'!BC46)","v":""},{"$f":"IF(A450=\"\",\"\",'個人種目(マスターズ)'!AF46)","v":""},0,0,{"$f":"IF(A450=\"\",\"\",'個人種目(マスターズ)'!BH46)","v":""},5]
[{"$f":"IF('個人種目(マスターズ)'!O47=\"\",\"\",'個人種目(マスターズ)'!AP47)","v":""},{"$f":"IF(A451=\"\",\"\",'個人種目(マスターズ)'!AX47)","v":""},{"$f":"IF(A451=\"\",\"\",'個人種目(マスターズ)'!BC47)","v":""},{"$f":"IF(A451=\"\",\"\",'個人種目(マスターズ)'!AF47)","v":""},0,0,{"$f":"IF(A451=\"\",\"\",'個人種目(マスターズ)'!BH47)","v":""},5]
[{"$f":"IF('個人種目(マスターズ)'!O48=\"\",\"\",'個人種目(マスターズ)'!AP48)","v":""},{"$f":"IF(A452=\"\",\"\",'個人種目(マスターズ)'!AX48)","v":""},{"$f":"IF(A452=\"\",\"\",'個人種目(マスターズ)'!BC48)","v":""},{"$f":"IF(A452=\"\",\"\",'個人種目(マスターズ)'!AF48)","v":""},0,0,{"$f":"IF(A452=\"\",\"\",'個人種目(マスターズ)'!BH48)","v":""},5]
[{"$f":"IF('個人種目(マスターズ)'!O49=\"\",\"\",'個人種目(マスターズ)'!AP49)","v":""},{"$f":"IF(A453=\"\",\"\",'個人種目(マスターズ)'!AX49)","v":""},{"$f":"IF(A453=\"\",\"\",'個人種目(マスターズ)'!BC49)","v":""},{"$f":"IF(A453=\"\",\"\",'個人種目(マスターズ)'!AF49)","v":""},0,0,{"$f":"IF(A453=\"\",\"\",'個人種目(マスターズ)'!BH49)","v":""},5]
[{"$f":"IF('個人種目(マスターズ)'!O50=\"\",\"\",'個人種目(マスターズ)'!AP50)","v":""},{"$f":"IF(A454=\"\",\"\",'個人種目(マスターズ)'!AX50)","v":""},{"$f":"IF(A454=\"\",\"\",'個人種目(マスターズ)'!BC50)","v":""},{"$f":"IF(A454=\"\",\"\",'個人種目(マスターズ)'!AF50)","v":""},0,0,{"$f":"IF(A454=\"\",\"\",'個人種目(マスターズ)'!BH50)","v":""},5]
[{"$f":"IF('個人種目(マスターズ)'!O51=\"\",\"\",'個人種目(マスターズ)'!AP51)","v":""},{"$f":"IF(A455=\"\",\"\",'個人種目(マスターズ)'!AX51)","v":""},{"$f":"IF(A455=\"\",\"\",'個人種目(マスターズ)'!BC51)","v":""},{"$f":"IF(A455=\"\",\"\",'個人種目(マスターズ)'!AF51)","v":""},0,0,{"$f":"IF(A455=\"\",\"\",'個人種目(マスターズ)'!BH51)","v":""},5]
[{"$f":"IF('個人種目(マスターズ)'!O52=\"\",\"\",'個人種目(マスターズ)'!AP52)","v":""},{"$f":"IF(A456=\"\",\"\",'個人種目(マスターズ)'!AX52)","v":""},{"$f":"IF(A456=\"\",\"\",'個人種目(マスターズ)'!BC52)","v":""},{"$f":"IF(A456=\"\",\"\",'個人種目(マスターズ)'!AF52)","v":""},0,0,{"$f":"IF(A456=\"\",\"\",'個人種目(マスターズ)'!BH52)","v":""},5]
[{"$f":"IF('個人種目(マスターズ)'!O53=\"\",\"\",'個人種目(マスターズ)'!AP53)","v":""},{"$f":"IF(A457=\"\",\"\",'個人種目(マスターズ)'!AX53)","v":""},{"$f":"IF(A457=\"\",\"\",'個人種目(マスターズ)'!BC53)","v":""},{"$f":"IF(A457=\"\",\"\",'個人種目(マスターズ)'!AF53)","v":""},0,0,{"$f":"IF(A457=\"\",\"\",'個人種目(マスターズ)'!BH53)","v":""},5]
[{"$f":"IF('個人種目(マスターズ)'!O54=\"\",\"\",'個人種目(マスターズ)'!AP54)","v":""},{"$f":"IF(A458=\"\",\"\",'個人種目(マスターズ)'!AX54)","v":""},{"$f":"IF(A458=\"\",\"\",'個人種目(マスターズ)'!BC54)","v":""},{"$f":"IF(A458=\"\",\"\",'個人種目(マスターズ)'!AF54)","v":""},0,0,{"$f":"IF(A458=\"\",\"\",'個人種目(マスターズ)'!BH54)","v":""},5]
[{"$f":"IF('個人種目(マスターズ)'!O55=\"\",\"\",'個人種目(マスターズ)'!AP55)","v":""},{"$f":"IF(A459=\"\",\"\",'個人種目(マスターズ)'!AX55)","v":""},{"$f":"IF(A459=\"\",\"\",'個人種目(マスターズ)'!BC55)","v":""},{"$f":"IF(A459=\"\",\"\",'個人種目(マスターズ)'!AF55)","v":""},0,0,{"$f":"IF(A459=\"\",\"\",'個人種目(マスターズ)'!BH55)","v":""},5]
[]
[]
[{"$f":"IF('個人種目(マスターズ)'!O58=\"\",\"\",'個人種目(マスターズ)'!AP58)","v":""},{"$f":"IF(A462=\"\",\"\",'個人種目(マスターズ)'!AX58)","v":""},{"$f":"IF(A462=\"\",\"\",'個人種目(マスターズ)'!BC58)","v":""},{"$f":"IF(A462=\"\",\"\",'個人種目(マスターズ)'!AF58)","v":""},0,5,{"$f":"IF(A462=\"\",\"\",'個人種目(マスターズ)'!BH58)","v":""},5]
[{"$f":"IF('個人種目(マスターズ)'!O59=\"\",\"\",'個人種目(マスターズ)'!AP59)","v":""},{"$f":"IF(A463=\"\",\"\",'個人種目(マスターズ)'!AX59)","v":""},{"$f":"IF(A463=\"\",\"\",'個人種目(マスターズ)'!BC59)","v":""},{"$f":"IF(A463=\"\",\"\",'個人種目(マスターズ)'!AF59)","v":""},0,5,{"$f":"IF(A463=\"\",\"\",'個人種目(マスターズ)'!BH59)","v":""},5]
[{"$f":"IF('個人種目(マスターズ)'!O60=\"\",\"\",'個人種目(マスターズ)'!AP60)","v":""},{"$f":"IF(A464=\"\",\"\",'個人種目(マスターズ)'!AX60)","v":""},{"$f":"IF(A464=\"\",\"\",'個人種目(マスターズ)'!BC60)","v":""},{"$f":"IF(A464=\"\",\"\",'個人種目(マスターズ)'!AF60)","v":""},0,5,{"$f":"IF(A464=\"\",\"\",'個人種目(マスターズ)'!BH60)","v":""},5]
[{"$f":"IF('個人種目(マスターズ)'!O61=\"\",\"\",'個人種目(マスターズ)'!AP61)","v":""},{"$f":"IF(A465=\"\",\"\",'個人種目(マスターズ)'!AX61)","v":""},{"$f":"IF(A465=\"\",\"\",'個人種目(マスターズ)'!BC61)","v":""},{"$f":"IF(A465=\"\",\"\",'個人種目(マスターズ)'!AF61)","v":""},0,5,{"$f":"IF(A465=\"\",\"\",'個人種目(マスターズ)'!BH61)","v":""},5]
[{"$f":"IF('個人種目(マスターズ)'!O62=\"\",\"\",'個人種目(マスターズ)'!AP62)","v":""},{"$f":"IF(A466=\"\",\"\",'個人種目(マスターズ)'!AX62)","v":""},{"$f":"IF(A466=\"\",\"\",'個人種目(マスターズ)'!BC62)","v":""},{"$f":"IF(A466=\"\",\"\",'個人種目(マスターズ)'!AF62)","v":""},0,5,{"$f":"IF(A466=\"\",\"\",'個人種目(マスターズ)'!BH62)","v":""},5]
[{"$f":"IF('個人種目(マスターズ)'!O63=\"\",\"\",'個人種目(マスターズ)'!AP63)","v":""},{"$f":"IF(A467=\"\",\"\",'個人種目(マスターズ)'!AX63)","v":""},{"$f":"IF(A467=\"\",\"\",'個人種目(マスターズ)'!BC63)","v":""},{"$f":"IF(A467=\"\",\"\",'個人種目(マスターズ)'!AF63)","v":""},0,5,{"$f":"IF(A467=\"\",\"\",'個人種目(マスターズ)'!BH63)","v":""},5]
[{"$f":"IF('個人種目(マスターズ)'!O64=\"\",\"\",'個人種目(マスターズ)'!AP64)","v":""},{"$f":"IF(A468=\"\",\"\",'個人種目(マスターズ)'!AX64)","v":""},{"$f":"IF(A468=\"\",\"\",'個人種目(マスターズ)'!BC64)","v":""},{"$f":"IF(A468=\"\",\"\",'個人種目(マスターズ)'!AF64)","v":""},0,5,{"$f":"IF(A468=\"\",\"\",'個人種目(マスターズ)'!BH64)","v":""},5]
[{"$f":"IF('個人種目(マスターズ)'!O65=\"\",\"\",'個人種目(マスターズ)'!AP65)","v":""},{"$f":"IF(A469=\"\",\"\",'個人種目(マスターズ)'!AX65)","v":""},{"$f":"IF(A469=\"\",\"\",'個人種目(マスターズ)'!BC65)","v":""},{"$f":"IF(A469=\"\",\"\",'個人種目(マスターズ)'!AF65)","v":""},0,5,{"$f":"IF(A469=\"\",\"\",'個人種目(マスターズ)'!BH65)","v":""},5]
[{"$f":"IF('個人種目(マスターズ)'!O66=\"\",\"\",'個人種目(マスターズ)'!AP66)","v":""},{"$f":"IF(A470=\"\",\"\",'個人種目(マスターズ)'!AX66)","v":""},{"$f":"IF(A470=\"\",\"\",'個人種目(マスターズ)'!BC66)","v":""},{"$f":"IF(A470=\"\",\"\",'個人種目(マスターズ)'!AF66)","v":""},0,5,{"$f":"IF(A470=\"\",\"\",'個人種目(マスターズ)'!BH66)","v":""},5]
[{"$f":"IF('個人種目(マスターズ)'!O67=\"\",\"\",'個人種目(マスターズ)'!AP67)","v":""},{"$f":"IF(A471=\"\",\"\",'個人種目(マスターズ)'!AX67)","v":""},{"$f":"IF(A471=\"\",\"\",'個人種目(マスターズ)'!BC67)","v":""},{"$f":"IF(A471=\"\",\"\",'個人種目(マスターズ)'!AF67)","v":""},0,5,{"$f":"IF(A471=\"\",\"\",'個人種目(マスターズ)'!BH67)","v":""},5]
[{"$f":"IF('個人種目(マスターズ)'!O68=\"\",\"\",'個人種目(マスターズ)'!AP68)","v":""},{"$f":"IF(A472=\"\",\"\",'個人種目(マスターズ)'!AX68)","v":""},{"$f":"IF(A472=\"\",\"\",'個人種目(マスターズ)'!BC68)","v":""},{"$f":"IF(A472=\"\",\"\",'個人種目(マスターズ)'!AF68)","v":""},0,5,{"$f":"IF(A472=\"\",\"\",'個人種目(マスターズ)'!BH68)","v":""},5]
[{"$f":"IF('個人種目(マスターズ)'!O69=\"\",\"\",'個人種目(マスターズ)'!AP69)","v":""},{"$f":"IF(A473=\"\",\"\",'個人種目(マスターズ)'!AX69)","v":""},{"$f":"IF(A473=\"\",\"\",'個人種目(マスターズ)'!BC69)","v":""},{"$f":"IF(A473=\"\",\"\",'個人種目(マスターズ)'!AF69)","v":""},0,5,{"$f":"IF(A473=\"\",\"\",'個人種目(マスターズ)'!BH69)","v":""},5]
[{"$f":"IF('個人種目(マスターズ)'!O70=\"\",\"\",'個人種目(マスターズ)'!AP70)","v":""},{"$f":"IF(A474=\"\",\"\",'個人種目(マスターズ)'!AX70)","v":""},{"$f":"IF(A474=\"\",\"\",'個人種目(マスターズ)'!BC70)","v":""},{"$f":"IF(A474=\"\",\"\",'個人種目(マスターズ)'!AF70)","v":""},0,5,{"$f":"IF(A474=\"\",\"\",'個人種目(マスターズ)'!BH70)","v":""},5]
[{"$f":"IF('個人種目(マスターズ)'!O71=\"\",\"\",'個人種目(マスターズ)'!AP71)","v":""},{"$f":"IF(A475=\"\",\"\",'個人種目(マスターズ)'!AX71)","v":""},{"$f":"IF(A475=\"\",\"\",'個人種目(マスターズ)'!BC71)","v":""},{"$f":"IF(A475=\"\",\"\",'個人種目(マスターズ)'!AF71)","v":""},0,5,{"$f":"IF(A475=\"\",\"\",'個人種目(マスターズ)'!BH71)","v":""},5]
[{"$f":"IF('個人種目(マスターズ)'!O72=\"\",\"\",'個人種目(マスターズ)'!AP72)","v":""},{"$f":"IF(A476=\"\",\"\",'個人種目(マスターズ)'!AX72)","v":""},{"$f":"IF(A476=\"\",\"\",'個人種目(マスターズ)'!BC72)","v":""},{"$f":"IF(A476=\"\",\"\",'個人種目(マスターズ)'!AF72)","v":""},0,5,{"$f":"IF(A476=\"\",\"\",'個人種目(マスターズ)'!BH72)","v":""},5]
[{"$f":"IF('個人種目(マスターズ)'!O73=\"\",\"\",'個人種目(マスターズ)'!AP73)","v":""},{"$f":"IF(A477=\"\",\"\",'個人種目(マスターズ)'!AX73)","v":""},{"$f":"IF(A477=\"\",\"\",'個人種目(マスターズ)'!BC73)","v":""},{"$f":"IF(A477=\"\",\"\",'個人種目(マスターズ)'!AF73)","v":""},0,5,{"$f":"IF(A477=\"\",\"\",'個人種目(マスターズ)'!BH73)","v":""},5]
[{"$f":"IF('個人種目(マスターズ)'!O74=\"\",\"\",'個人種目(マスターズ)'!AP74)","v":""},{"$f":"IF(A478=\"\",\"\",'個人種目(マスターズ)'!AX74)","v":""},{"$f":"IF(A478=\"\",\"\",'個人種目(マスターズ)'!BC74)","v":""},{"$f":"IF(A478=\"\",\"\",'個人種目(マスターズ)'!AF74)","v":""},0,5,{"$f":"IF(A478=\"\",\"\",'個人種目(マスターズ)'!BH74)","v":""},5]
[{"$f":"IF('個人種目(マスターズ)'!O75=\"\",\"\",'個人種目(マスターズ)'!AP75)","v":""},{"$f":"IF(A479=\"\",\"\",'個人種目(マスターズ)'!AX75)","v":""},{"$f":"IF(A479=\"\",\"\",'個人種目(マスターズ)'!BC75)","v":""},{"$f":"IF(A479=\"\",\"\",'個人種目(マスターズ)'!AF75)","v":""},0,5,{"$f":"IF(A479=\"\",\"\",'個人種目(マスターズ)'!BH75)","v":""},5]
[{"$f":"IF('個人種目(マスターズ)'!O76=\"\",\"\",'個人種目(マスターズ)'!AP76)","v":""},{"$f":"IF(A480=\"\",\"\",'個人種目(マスターズ)'!AX76)","v":""},{"$f":"IF(A480=\"\",\"\",'個人種目(マスターズ)'!BC76)","v":""},{"$f":"IF(A480=\"\",\"\",'個人種目(マスターズ)'!AF76)","v":""},0,5,{"$f":"IF(A480=\"\",\"\",'個人種目(マスターズ)'!BH76)","v":""},5]
[{"$f":"IF('個人種目(マスターズ)'!O77=\"\",\"\",'個人種目(マスターズ)'!AP77)","v":""},{"$f":"IF(A481=\"\",\"\",'個人種目(マスターズ)'!AX77)","v":""},{"$f":"IF(A481=\"\",\"\",'個人種目(マスターズ)'!BC77)","v":""},{"$f":"IF(A481=\"\",\"\",'個人種目(マスターズ)'!AF77)","v":""},0,5,{"$f":"IF(A481=\"\",\"\",'個人種目(マスターズ)'!BH77)","v":""},5]
[{"$f":"IF('個人種目(マスターズ)'!O78=\"\",\"\",'個人種目(マスターズ)'!AP78)","v":""},{"$f":"IF(A482=\"\",\"\",'個人種目(マスターズ)'!AX78)","v":""},{"$f":"IF(A482=\"\",\"\",'個人種目(マスターズ)'!BC78)","v":""},{"$f":"IF(A482=\"\",\"\",'個人種目(マスターズ)'!AF78)","v":""},0,5,{"$f":"IF(A482=\"\",\"\",'個人種目(マスターズ)'!BH78)","v":""},5]
[{"$f":"IF('個人種目(マスターズ)'!O79=\"\",\"\",'個人種目(マスターズ)'!AP79)","v":""},{"$f":"IF(A483=\"\",\"\",'個人種目(マスターズ)'!AX79)","v":""},{"$f":"IF(A483=\"\",\"\",'個人種目(マスターズ)'!BC79)","v":""},{"$f":"IF(A483=\"\",\"\",'個人種目(マスターズ)'!AF79)","v":""},0,5,{"$f":"IF(A483=\"\",\"\",'個人種目(マスターズ)'!BH79)","v":""},5]
[{"$f":"IF('個人種目(マスターズ)'!O80=\"\",\"\",'個人種目(マスターズ)'!AP80)","v":""},{"$f":"IF(A484=\"\",\"\",'個人種目(マスターズ)'!AX80)","v":""},{"$f":"IF(A484=\"\",\"\",'個人種目(マスターズ)'!BC80)","v":""},{"$f":"IF(A484=\"\",\"\",'個人種目(マスターズ)'!AF80)","v":""},0,5,{"$f":"IF(A484=\"\",\"\",'個人種目(マスターズ)'!BH80)","v":""},5]
[{"$f":"IF('個人種目(マスターズ)'!O81=\"\",\"\",'個人種目(マスターズ)'!AP81)","v":""},{"$f":"IF(A485=\"\",\"\",'個人種目(マスターズ)'!AX81)","v":""},{"$f":"IF(A485=\"\",\"\",'個人種目(マスターズ)'!BC81)","v":""},{"$f":"IF(A485=\"\",\"\",'個人種目(マスターズ)'!AF81)","v":""},0,5,{"$f":"IF(A485=\"\",\"\",'個人種目(マスターズ)'!BH81)","v":""},5]
[{"$f":"IF('個人種目(マスターズ)'!O82=\"\",\"\",'個人種目(マスターズ)'!AP82)","v":""},{"$f":"IF(A486=\"\",\"\",'個人種目(マスターズ)'!AX82)","v":""},{"$f":"IF(A486=\"\",\"\",'個人種目(マスターズ)'!BC82)","v":""},{"$f":"IF(A486=\"\",\"\",'個人種目(マスターズ)'!AF82)","v":""},0,5,{"$f":"IF(A486=\"\",\"\",'個人種目(マスターズ)'!BH82)","v":""},5]
[{"$f":"IF('個人種目(マスターズ)'!O83=\"\",\"\",'個人種目(マスターズ)'!AP83)","v":""},{"$f":"IF(A487=\"\",\"\",'個人種目(マスターズ)'!AX83)","v":""},{"$f":"IF(A487=\"\",\"\",'個人種目(マスターズ)'!BC83)","v":""},{"$f":"IF(A487=\"\",\"\",'個人種目(マスターズ)'!AF83)","v":""},0,5,{"$f":"IF(A487=\"\",\"\",'個人種目(マスターズ)'!BH83)","v":""},5]
[{"$f":"IF('個人種目(マスターズ)'!O84=\"\",\"\",'個人種目(マスターズ)'!AP84)","v":""},{"$f":"IF(A488=\"\",\"\",'個人種目(マスターズ)'!AX84)","v":""},{"$f":"IF(A488=\"\",\"\",'個人種目(マスターズ)'!BC84)","v":""},{"$f":"IF(A488=\"\",\"\",'個人種目(マスターズ)'!AF84)","v":""},0,5,{"$f":"IF(A488=\"\",\"\",'個人種目(マスターズ)'!BH84)","v":""},5]
[{"$f":"IF('個人種目(マスターズ)'!O85=\"\",\"\",'個人種目(マスターズ)'!AP85)","v":""},{"$f":"IF(A489=\"\",\"\",'個人種目(マスターズ)'!AX85)","v":""},{"$f":"IF(A489=\"\",\"\",'個人種目(マスターズ)'!BC85)","v":""},{"$f":"IF(A489=\"\",\"\",'個人種目(マスターズ)'!AF85)","v":""},0,5,{"$f":"IF(A489=\"\",\"\",'個人種目(マスターズ)'!BH85)","v":""},5]
[{"$f":"IF('個人種目(マスターズ)'!O86=\"\",\"\",'個人種目(マスターズ)'!AP86)","v":""},{"$f":"IF(A490=\"\",\"\",'個人種目(マスターズ)'!AX86)","v":""},{"$f":"IF(A490=\"\",\"\",'個人種目(マスターズ)'!BC86)","v":""},{"$f":"IF(A490=\"\",\"\",'個人種目(マスターズ)'!AF86)","v":""},0,5,{"$f":"IF(A490=\"\",\"\",'個人種目(マスターズ)'!BH86)","v":""},5]
[{"$f":"IF('個人種目(マスターズ)'!O87=\"\",\"\",'個人種目(マスターズ)'!AP87)","v":""},{"$f":"IF(A491=\"\",\"\",'個人種目(マスターズ)'!AX87)","v":""},{"$f":"IF(A491=\"\",\"\",'個人種目(マスターズ)'!BC87)","v":""},{"$f":"IF(A491=\"\",\"\",'個人種目(マスターズ)'!AF87)","v":""},0,5,{"$f":"IF(A491=\"\",\"\",'個人種目(マスターズ)'!BH87)","v":""},5]
[{"$f":"IF('個人種目(マスターズ)'!O88=\"\",\"\",'個人種目(マスターズ)'!AP88)","v":""},{"$f":"IF(A492=\"\",\"\",'個人種目(マスターズ)'!AX88)","v":""},{"$f":"IF(A492=\"\",\"\",'個人種目(マスターズ)'!BC88)","v":""},{"$f":"IF(A492=\"\",\"\",'個人種目(マスターズ)'!AF88)","v":""},0,5,{"$f":"IF(A492=\"\",\"\",'個人種目(マスターズ)'!BH88)","v":""},5]
[{"$f":"IF('個人種目(マスターズ)'!O89=\"\",\"\",'個人種目(マスターズ)'!AP89)","v":""},{"$f":"IF(A493=\"\",\"\",'個人種目(マスターズ)'!AX89)","v":""},{"$f":"IF(A493=\"\",\"\",'個人種目(マスターズ)'!BC89)","v":""},{"$f":"IF(A493=\"\",\"\",'個人種目(マスターズ)'!AF89)","v":""},0,5,{"$f":"IF(A493=\"\",\"\",'個人種目(マスターズ)'!BH89)","v":""},5]
[{"$f":"IF('個人種目(マスターズ)'!O90=\"\",\"\",'個人種目(マスターズ)'!AP90)","v":""},{"$f":"IF(A494=\"\",\"\",'個人種目(マスターズ)'!AX90)","v":""},{"$f":"IF(A494=\"\",\"\",'個人種目(マスターズ)'!BC90)","v":""},{"$f":"IF(A494=\"\",\"\",'個人種目(マスターズ)'!AF90)","v":""},0,5,{"$f":"IF(A494=\"\",\"\",'個人種目(マスターズ)'!BH90)","v":""},5]
[{"$f":"IF('個人種目(マスターズ)'!O91=\"\",\"\",'個人種目(マスターズ)'!AP91)","v":""},{"$f":"IF(A495=\"\",\"\",'個人種目(マスターズ)'!AX91)","v":""},{"$f":"IF(A495=\"\",\"\",'個人種目(マスターズ)'!BC91)","v":""},{"$f":"IF(A495=\"\",\"\",'個人種目(マスターズ)'!AF91)","v":""},0,5,{"$f":"IF(A495=\"\",\"\",'個人種目(マスターズ)'!BH91)","v":""},5]
[{"$f":"IF('個人種目(マスターズ)'!O92=\"\",\"\",'個人種目(マスターズ)'!AP92)","v":""},{"$f":"IF(A496=\"\",\"\",'個人種目(マスターズ)'!AX92)","v":""},{"$f":"IF(A496=\"\",\"\",'個人種目(マスターズ)'!BC92)","v":""},{"$f":"IF(A496=\"\",\"\",'個人種目(マスターズ)'!AF92)","v":""},0,5,{"$f":"IF(A496=\"\",\"\",'個人種目(マスターズ)'!BH92)","v":""},5]
[{"$f":"IF('個人種目(マスターズ)'!O93=\"\",\"\",'個人種目(マスターズ)'!AP93)","v":""},{"$f":"IF(A497=\"\",\"\",'個人種目(マスターズ)'!AX93)","v":""},{"$f":"IF(A497=\"\",\"\",'個人種目(マスターズ)'!BC93)","v":""},{"$f":"IF(A497=\"\",\"\",'個人種目(マスターズ)'!AF93)","v":""},0,5,{"$f":"IF(A497=\"\",\"\",'個人種目(マスターズ)'!BH93)","v":""},5]
[{"$f":"IF('個人種目(マスターズ)'!O94=\"\",\"\",'個人種目(マスターズ)'!AP94)","v":""},{"$f":"IF(A498=\"\",\"\",'個人種目(マスターズ)'!AX94)","v":""},{"$f":"IF(A498=\"\",\"\",'個人種目(マスターズ)'!BC94)","v":""},{"$f":"IF(A498=\"\",\"\",'個人種目(マスターズ)'!AF94)","v":""},0,5,{"$f":"IF(A498=\"\",\"\",'個人種目(マスターズ)'!BH94)","v":""},5]
[{"$f":"IF('個人種目(マスターズ)'!O95=\"\",\"\",'個人種目(マスターズ)'!AP95)","v":""},{"$f":"IF(A499=\"\",\"\",'個人種目(マスターズ)'!AX95)","v":""},{"$f":"IF(A499=\"\",\"\",'個人種目(マスターズ)'!BC95)","v":""},{"$f":"IF(A499=\"\",\"\",'個人種目(マスターズ)'!AF95)","v":""},0,5,{"$f":"IF(A499=\"\",\"\",'個人種目(マスターズ)'!BH95)","v":""},5]
[{"$f":"IF('個人種目(マスターズ)'!O96=\"\",\"\",'個人種目(マスターズ)'!AP96)","v":""},{"$f":"IF(A500=\"\",\"\",'個人種目(マスターズ)'!AX96)","v":""},{"$f":"IF(A500=\"\",\"\",'個人種目(マスターズ)'!BC96)","v":""},{"$f":"IF(A500=\"\",\"\",'個人種目(マスターズ)'!AF96)","v":""},0,5,{"$f":"IF(A500=\"\",\"\",'個人種目(マスターズ)'!BH96)","v":""},5]
[{"$f":"IF('個人種目(マスターズ)'!O97=\"\",\"\",'個人種目(マスターズ)'!AP97)","v":""},{"$f":"IF(A501=\"\",\"\",'個人種目(マスターズ)'!AX97)","v":""},{"$f":"IF(A501=\"\",\"\",'個人種目(マスターズ)'!BC97)","v":""},{"$f":"IF(A501=\"\",\"\",'個人種目(マスターズ)'!AF97)","v":""},0,5,{"$f":"IF(A501=\"\",\"\",'個人種目(マスターズ)'!BH97)","v":""},5]
[{"$f":"IF('個人種目(マスターズ)'!O98=\"\",\"\",'個人種目(マスターズ)'!AP98)","v":""},{"$f":"IF(A502=\"\",\"\",'個人種目(マスターズ)'!AX98)","v":""},{"$f":"IF(A502=\"\",\"\",'個人種目(マスターズ)'!BC98)","v":""},{"$f":"IF(A502=\"\",\"\",'個人種目(マスターズ)'!AF98)","v":""},0,5,{"$f":"IF(A502=\"\",\"\",'個人種目(マスターズ)'!BH98)","v":""},5]
[{"$f":"IF('個人種目(マスターズ)'!O99=\"\",\"\",'個人種目(マスターズ)'!AP99)","v":""},{"$f":"IF(A503=\"\",\"\",'個人種目(マスターズ)'!AX99)","v":""},{"$f":"IF(A503=\"\",\"\",'個人種目(マスターズ)'!BC99)","v":""},{"$f":"IF(A503=\"\",\"\",'個人種目(マスターズ)'!AF99)","v":""},0,5,{"$f":"IF(A503=\"\",\"\",'個人種目(マスターズ)'!BH99)","v":""},5]
[{"$f":"IF('個人種目(マスターズ)'!O100=\"\",\"\",'個人種目(マスターズ)'!AP100)","v":""},{"$f":"IF(A504=\"\",\"\",'個人種目(マスターズ)'!AX100)","v":""},{"$f":"IF(A504=\"\",\"\",'個人種目(マスターズ)'!BC100)","v":""},{"$f":"IF(A504=\"\",\"\",'個人種目(マスターズ)'!AF100)","v":""},0,5,{"$f":"IF(A504=\"\",\"\",'個人種目(マスターズ)'!BH100)","v":""},5]
[{"$f":"IF('個人種目(マスターズ)'!O101=\"\",\"\",'個人種目(マスターズ)'!AP101)","v":""},{"$f":"IF(A505=\"\",\"\",'個人種目(マスターズ)'!AX101)","v":""},{"$f":"IF(A505=\"\",\"\",'個人種目(マスターズ)'!BC101)","v":""},{"$f":"IF(A505=\"\",\"\",'個人種目(マスターズ)'!AF101)","v":""},0,5,{"$f":"IF(A505=\"\",\"\",'個人種目(マスターズ)'!BH101)","v":""},5]
[{"$f":"IF('個人種目(マスターズ)'!O102=\"\",\"\",'個人種目(マスターズ)'!AP102)","v":""},{"$f":"IF(A506=\"\",\"\",'個人種目(マスターズ)'!AX102)","v":""},{"$f":"IF(A506=\"\",\"\",'個人種目(マスターズ)'!BC102)","v":""},{"$f":"IF(A506=\"\",\"\",'個人種目(マスターズ)'!AF102)","v":""},0,5,{"$f":"IF(A506=\"\",\"\",'個人種目(マスターズ)'!BH102)","v":""},5]
[{"$f":"IF('個人種目(マスターズ)'!O103=\"\",\"\",'個人種目(マスターズ)'!AP103)","v":""},{"$f":"IF(A507=\"\",\"\",'個人種目(マスターズ)'!AX103)","v":""},{"$f":"IF(A507=\"\",\"\",'個人種目(マスターズ)'!BC103)","v":""},{"$f":"IF(A507=\"\",\"\",'個人種目(マスターズ)'!AF103)","v":""},0,5,{"$f":"IF(A507=\"\",\"\",'個人種目(マスターズ)'!BH103)","v":""},5]
[{"$f":"IF('個人種目(マスターズ)'!O104=\"\",\"\",'個人種目(マスターズ)'!AP104)","v":""},{"$f":"IF(A508=\"\",\"\",'個人種目(マスターズ)'!AX104)","v":""},{"$f":"IF(A508=\"\",\"\",'個人種目(マスターズ)'!BC104)","v":""},{"$f":"IF(A508=\"\",\"\",'個人種目(マスターズ)'!AF104)","v":""},0,5,{"$f":"IF(A508=\"\",\"\",'個人種目(マスターズ)'!BH104)","v":""},5]
[{"$f":"IF('個人種目(マスターズ)'!O105=\"\",\"\",'個人種目(マスターズ)'!AP105)","v":""},{"$f":"IF(A509=\"\",\"\",'個人種目(マスターズ)'!AX105)","v":""},{"$f":"IF(A509=\"\",\"\",'個人種目(マスターズ)'!BC105)","v":""},{"$f":"IF(A509=\"\",\"\",'個人種目(マスターズ)'!AF105)","v":""},0,5,{"$f":"IF(A509=\"\",\"\",'個人種目(マスターズ)'!BH105)","v":""},5]
[{"$f":"IF('個人種目(マスターズ)'!O106=\"\",\"\",'個人種目(マスターズ)'!AP106)","v":""},{"$f":"IF(A510=\"\",\"\",'個人種目(マスターズ)'!AX106)","v":""},{"$f":"IF(A510=\"\",\"\",'個人種目(マスターズ)'!BC106)","v":""},{"$f":"IF(A510=\"\",\"\",'個人種目(マスターズ)'!AF106)","v":""},0,5,{"$f":"IF(A510=\"\",\"\",'個人種目(マスターズ)'!BH106)","v":""},5]
[{"$f":"IF('個人種目(マスターズ)'!O107=\"\",\"\",'個人種目(マスターズ)'!AP107)","v":""},{"$f":"IF(A511=\"\",\"\",'個人種目(マスターズ)'!AX107)","v":""},{"$f":"IF(A511=\"\",\"\",'個人種目(マスターズ)'!BC107)","v":""},{"$f":"IF(A511=\"\",\"\",'個人種目(マスターズ)'!AF107)","v":""},0,5,{"$f":"IF(A511=\"\",\"\",'個人種目(マスターズ)'!BH107)","v":""},5]
[{"$f":"IF('個人種目(ジュニア)'!G6=\"\",\"\",'個人種目(ジュニア)'!AP6)","v":""},{"$f":"IF(A512=\"\",\"\",'個人種目(ジュニア)'!AT6)","v":""},{"$f":"IF(A512=\"\",\"\",'個人種目(ジュニア)'!AY6)","v":""},{"$f":"IF(B512=\"\",\"\",'個人種目(ジュニア)'!AF6)","v":""},0,0,{"$f":"IF(A512=\"\",\"\",'個人種目(ジュニア)'!BD6)","v":""},1]
[{"$f":"IF('個人種目(ジュニア)'!G7=\"\",\"\",'個人種目(ジュニア)'!AP7)","v":""},{"$f":"IF(A513=\"\",\"\",'個人種目(ジュニア)'!AT7)","v":""},{"$f":"IF(A513=\"\",\"\",'個人種目(ジュニア)'!AY7)","v":""},{"$f":"IF(B513=\"\",\"\",'個人種目(ジュニア)'!AF7)","v":""},0,0,{"$f":"IF(A513=\"\",\"\",'個人種目(ジュニア)'!BD7)","v":""},1]
[{"$f":"IF('個人種目(ジュニア)'!G8=\"\",\"\",'個人種目(ジュニア)'!AP8)","v":""},{"$f":"IF(A514=\"\",\"\",'個人種目(ジュニア)'!AT8)","v":""},{"$f":"IF(A514=\"\",\"\",'個人種目(ジュニア)'!AY8)","v":""},{"$f":"IF(B514=\"\",\"\",'個人種目(ジュニア)'!AF8)","v":""},0,0,{"$f":"IF(A514=\"\",\"\",'個人種目(ジュニア)'!BD8)","v":""},1]
[{"$f":"IF('個人種目(ジュニア)'!G9=\"\",\"\",'個人種目(ジュニア)'!AP9)","v":""},{"$f":"IF(A515=\"\",\"\",'個人種目(ジュニア)'!AT9)","v":""},{"$f":"IF(A515=\"\",\"\",'個人種目(ジュニア)'!AY9)","v":""},{"$f":"IF(B515=\"\",\"\",'個人種目(ジュニア)'!AF9)","v":""},0,0,{"$f":"IF(A515=\"\",\"\",'個人種目(ジュニア)'!BD9)","v":""},1]
[{"$f":"IF('個人種目(ジュニア)'!G10=\"\",\"\",'個人種目(ジュニア)'!AP10)","v":""},{"$f":"IF(A516=\"\",\"\",'個人種目(ジュニア)'!AT10)","v":""},{"$f":"IF(A516=\"\",\"\",'個人種目(ジュニア)'!AY10)","v":""},{"$f":"IF(B516=\"\",\"\",'個人種目(ジュニア)'!AF10)","v":""},0,0,{"$f":"IF(A516=\"\",\"\",'個人種目(ジュニア)'!BD10)","v":""},1]
[{"$f":"IF('個人種目(ジュニア)'!G11=\"\",\"\",'個人種目(ジュニア)'!AP11)","v":""},{"$f":"IF(A517=\"\",\"\",'個人種目(ジュニア)'!AT11)","v":""},{"$f":"IF(A517=\"\",\"\",'個人種目(ジュニア)'!AY11)","v":""},{"$f":"IF(B517=\"\",\"\",'個人種目(ジュニア)'!AF11)","v":""},0,0,{"$f":"IF(A517=\"\",\"\",'個人種目(ジュニア)'!BD11)","v":""},1]
[{"$f":"IF('個人種目(ジュニア)'!G12=\"\",\"\",'個人種目(ジュニア)'!AP12)","v":""},{"$f":"IF(A518=\"\",\"\",'個人種目(ジュニア)'!AT12)","v":""},{"$f":"IF(A518=\"\",\"\",'個人種目(ジュニア)'!AY12)","v":""},{"$f":"IF(B518=\"\",\"\",'個人種目(ジュニア)'!AF12)","v":""},0,0,{"$f":"IF(A518=\"\",\"\",'個人種目(ジュニア)'!BD12)","v":""},1]
[{"$f":"IF('個人種目(ジュニア)'!G13=\"\",\"\",'個人種目(ジュニア)'!AP13)","v":""},{"$f":"IF(A519=\"\",\"\",'個人種目(ジュニア)'!AT13)","v":""},{"$f":"IF(A519=\"\",\"\",'個人種目(ジュニア)'!AY13)","v":""},{"$f":"IF(B519=\"\",\"\",'個人種目(ジュニア)'!AF13)","v":""},0,0,{"$f":"IF(A519=\"\",\"\",'個人種目(ジュニア)'!BD13)","v":""},1]
[{"$f":"IF('個人種目(ジュニア)'!G14=\"\",\"\",'個人種目(ジュニア)'!AP14)","v":""},{"$f":"IF(A520=\"\",\"\",'個人種目(ジュニア)'!AT14)","v":""},{"$f":"IF(A520=\"\",\"\",'個人種目(ジュニア)'!AY14)","v":""},{"$f":"IF(B520=\"\",\"\",'個人種目(ジュニア)'!AF14)","v":""},0,0,{"$f":"IF(A520=\"\",\"\",'個人種目(ジュニア)'!BD14)","v":""},1]
[{"$f":"IF('個人種目(ジュニア)'!G15=\"\",\"\",'個人種目(ジュニア)'!AP15)","v":""},{"$f":"IF(A521=\"\",\"\",'個人種目(ジュニア)'!AT15)","v":""},{"$f":"IF(A521=\"\",\"\",'個人種目(ジュニア)'!AY15)","v":""},{"$f":"IF(B521=\"\",\"\",'個人種目(ジュニア)'!AF15)","v":""},0,0,{"$f":"IF(A521=\"\",\"\",'個人種目(ジュニア)'!BD15)","v":""},1]
[{"$f":"IF('個人種目(ジュニア)'!G16=\"\",\"\",'個人種目(ジュニア)'!AP16)","v":""},{"$f":"IF(A522=\"\",\"\",'個人種目(ジュニア)'!AT16)","v":""},{"$f":"IF(A522=\"\",\"\",'個人種目(ジュニア)'!AY16)","v":""},{"$f":"IF(B522=\"\",\"\",'個人種目(ジュニア)'!AF16)","v":""},0,0,{"$f":"IF(A522=\"\",\"\",'個人種目(ジュニア)'!BD16)","v":""},1]
[{"$f":"IF('個人種目(ジュニア)'!G17=\"\",\"\",'個人種目(ジュニア)'!AP17)","v":""},{"$f":"IF(A523=\"\",\"\",'個人種目(ジュニア)'!AT17)","v":""},{"$f":"IF(A523=\"\",\"\",'個人種目(ジュニア)'!AY17)","v":""},{"$f":"IF(B523=\"\",\"\",'個人種目(ジュニア)'!AF17)","v":""},0,0,{"$f":"IF(A523=\"\",\"\",'個人種目(ジュニア)'!BD17)","v":""},1]
[{"$f":"IF('個人種目(ジュニア)'!G18=\"\",\"\",'個人種目(ジュニア)'!AP18)","v":""},{"$f":"IF(A524=\"\",\"\",'個人種目(ジュニア)'!AT18)","v":""},{"$f":"IF(A524=\"\",\"\",'個人種目(ジュニア)'!AY18)","v":""},{"$f":"IF(B524=\"\",\"\",'個人種目(ジュニア)'!AF18)","v":""},0,0,{"$f":"IF(A524=\"\",\"\",'個人種目(ジュニア)'!BD18)","v":""},1]
[{"$f":"IF('個人種目(ジュニア)'!G19=\"\",\"\",'個人種目(ジュニア)'!AP19)","v":""},{"$f":"IF(A525=\"\",\"\",'個人種目(ジュニア)'!AT19)","v":""},{"$f":"IF(A525=\"\",\"\",'個人種目(ジュニア)'!AY19)","v":""},{"$f":"IF(B525=\"\",\"\",'個人種目(ジュニア)'!AF19)","v":""},0,0,{"$f":"IF(A525=\"\",\"\",'個人種目(ジュニア)'!BD19)","v":""},1]
[{"$f":"IF('個人種目(ジュニア)'!G20=\"\",\"\",'個人種目(ジュニア)'!AP20)","v":""},{"$f":"IF(A526=\"\",\"\",'個人種目(ジュニア)'!AT20)","v":""},{"$f":"IF(A526=\"\",\"\",'個人種目(ジュニア)'!AY20)","v":""},{"$f":"IF(B526=\"\",\"\",'個人種目(ジュニア)'!AF20)","v":""},0,0,{"$f":"IF(A526=\"\",\"\",'個人種目(ジュニア)'!BD20)","v":""},1]
[{"$f":"IF('個人種目(ジュニア)'!G21=\"\",\"\",'個人種目(ジュニア)'!AP21)","v":""},{"$f":"IF(A527=\"\",\"\",'個人種目(ジュニア)'!AT21)","v":""},{"$f":"IF(A527=\"\",\"\",'個人種目(ジュニア)'!AY21)","v":""},{"$f":"IF(B527=\"\",\"\",'個人種目(ジュニア)'!AF21)","v":""},0,0,{"$f":"IF(A527=\"\",\"\",'個人種目(ジュニア)'!BD21)","v":""},1]
[{"$f":"IF('個人種目(ジュニア)'!G22=\"\",\"\",'個人種目(ジュニア)'!AP22)","v":""},{"$f":"IF(A528=\"\",\"\",'個人種目(ジュニア)'!AT22)","v":""},{"$f":"IF(A528=\"\",\"\",'個人種目(ジュニア)'!AY22)","v":""},{"$f":"IF(B528=\"\",\"\",'個人種目(ジュニア)'!AF22)","v":""},0,0,{"$f":"IF(A528=\"\",\"\",'個人種目(ジュニア)'!BD22)","v":""},1]
[{"$f":"IF('個人種目(ジュニア)'!G23=\"\",\"\",'個人種目(ジュニア)'!AP23)","v":""},{"$f":"IF(A529=\"\",\"\",'個人種目(ジュニア)'!AT23)","v":""},{"$f":"IF(A529=\"\",\"\",'個人種目(ジュニア)'!AY23)","v":""},{"$f":"IF(B529=\"\",\"\",'個人種目(ジュニア)'!AF23)","v":""},0,0,{"$f":"IF(A529=\"\",\"\",'個人種目(ジュニア)'!BD23)","v":""},1]
[{"$f":"IF('個人種目(ジュニア)'!G24=\"\",\"\",'個人種目(ジュニア)'!AP24)","v":""},{"$f":"IF(A530=\"\",\"\",'個人種目(ジュニア)'!AT24)","v":""},{"$f":"IF(A530=\"\",\"\",'個人種目(ジュニア)'!AY24)","v":""},{"$f":"IF(B530=\"\",\"\",'個人種目(ジュニア)'!AF24)","v":""},0,0,{"$f":"IF(A530=\"\",\"\",'個人種目(ジュニア)'!BD24)","v":""},1]
[{"$f":"IF('個人種目(ジュニア)'!G25=\"\",\"\",'個人種目(ジュニア)'!AP25)","v":""},{"$f":"IF(A531=\"\",\"\",'個人種目(ジュニア)'!AT25)","v":""},{"$f":"IF(A531=\"\",\"\",'個人種目(ジュニア)'!AY25)","v":""},{"$f":"IF(B531=\"\",\"\",'個人種目(ジュニア)'!AF25)","v":""},0,0,{"$f":"IF(A531=\"\",\"\",'個人種目(ジュニア)'!BD25)","v":""},1]
[{"$f":"IF('個人種目(ジュニア)'!G26=\"\",\"\",'個人種目(ジュニア)'!AP26)","v":""},{"$f":"IF(A532=\"\",\"\",'個人種目(ジュニア)'!AT26)","v":""},{"$f":"IF(A532=\"\",\"\",'個人種目(ジュニア)'!AY26)","v":""},{"$f":"IF(B532=\"\",\"\",'個人種目(ジュニア)'!AF26)","v":""},0,0,{"$f":"IF(A532=\"\",\"\",'個人種目(ジュニア)'!BD26)","v":""},1]
[{"$f":"IF('個人種目(ジュニア)'!G27=\"\",\"\",'個人種目(ジュニア)'!AP27)","v":""},{"$f":"IF(A533=\"\",\"\",'個人種目(ジュニア)'!AT27)","v":""},{"$f":"IF(A533=\"\",\"\",'個人種目(ジュニア)'!AY27)","v":""},{"$f":"IF(B533=\"\",\"\",'個人種目(ジュニア)'!AF27)","v":""},0,0,{"$f":"IF(A533=\"\",\"\",'個人種目(ジュニア)'!BD27)","v":""},1]
[{"$f":"IF('個人種目(ジュニア)'!G28=\"\",\"\",'個人種目(ジュニア)'!AP28)","v":""},{"$f":"IF(A534=\"\",\"\",'個人種目(ジュニア)'!AT28)","v":""},{"$f":"IF(A534=\"\",\"\",'個人種目(ジュニア)'!AY28)","v":""},{"$f":"IF(B534=\"\",\"\",'個人種目(ジュニア)'!AF28)","v":""},0,0,{"$f":"IF(A534=\"\",\"\",'個人種目(ジュニア)'!BD28)","v":""},1]
[{"$f":"IF('個人種目(ジュニア)'!G29=\"\",\"\",'個人種目(ジュニア)'!AP29)","v":""},{"$f":"IF(A535=\"\",\"\",'個人種目(ジュニア)'!AT29)","v":""},{"$f":"IF(A535=\"\",\"\",'個人種目(ジュニア)'!AY29)","v":""},{"$f":"IF(B535=\"\",\"\",'個人種目(ジュニア)'!AF29)","v":""},0,0,{"$f":"IF(A535=\"\",\"\",'個人種目(ジュニア)'!BD29)","v":""},1]
[{"$f":"IF('個人種目(ジュニア)'!G30=\"\",\"\",'個人種目(ジュニア)'!AP30)","v":""},{"$f":"IF(A536=\"\",\"\",'個人種目(ジュニア)'!AT30)","v":""},{"$f":"IF(A536=\"\",\"\",'個人種目(ジュニア)'!AY30)","v":""},{"$f":"IF(B536=\"\",\"\",'個人種目(ジュニア)'!AF30)","v":""},0,0,{"$f":"IF(A536=\"\",\"\",'個人種目(ジュニア)'!BD30)","v":""},1]
[{"$f":"IF('個人種目(ジュニア)'!G31=\"\",\"\",'個人種目(ジュニア)'!AP31)","v":""},{"$f":"IF(A537=\"\",\"\",'個人種目(ジュニア)'!AT31)","v":""},{"$f":"IF(A537=\"\",\"\",'個人種目(ジュニア)'!AY31)","v":""},{"$f":"IF(B537=\"\",\"\",'個人種目(ジュニア)'!AF31)","v":""},0,0,{"$f":"IF(A537=\"\",\"\",'個人種目(ジュニア)'!BD31)","v":""},1]
[{"$f":"IF('個人種目(ジュニア)'!G32=\"\",\"\",'個人種目(ジュニア)'!AP32)","v":""},{"$f":"IF(A538=\"\",\"\",'個人種目(ジュニア)'!AT32)","v":""},{"$f":"IF(A538=\"\",\"\",'個人種目(ジュニア)'!AY32)","v":""},{"$f":"IF(B538=\"\",\"\",'個人種目(ジュニア)'!AF32)","v":""},0,0,{"$f":"IF(A538=\"\",\"\",'個人種目(ジュニア)'!BD32)","v":""},1]
[{"$f":"IF('個人種目(ジュニア)'!G33=\"\",\"\",'個人種目(ジュニア)'!AP33)","v":""},{"$f":"IF(A539=\"\",\"\",'個人種目(ジュニア)'!AT33)","v":""},{"$f":"IF(A539=\"\",\"\",'個人種目(ジュニア)'!AY33)","v":""},{"$f":"IF(B539=\"\",\"\",'個人種目(ジュニア)'!AF33)","v":""},0,0,{"$f":"IF(A539=\"\",\"\",'個人種目(ジュニア)'!BD33)","v":""},1]
[{"$f":"IF('個人種目(ジュニア)'!G34=\"\",\"\",'個人種目(ジュニア)'!AP34)","v":""},{"$f":"IF(A540=\"\",\"\",'個人種目(ジュニア)'!AT34)","v":""},{"$f":"IF(A540=\"\",\"\",'個人種目(ジュニア)'!AY34)","v":""},{"$f":"IF(B540=\"\",\"\",'個人種目(ジュニア)'!AF34)","v":""},0,0,{"$f":"IF(A540=\"\",\"\",'個人種目(ジュニア)'!BD34)","v":""},1]
[{"$f":"IF('個人種目(ジュニア)'!G35=\"\",\"\",'個人種目(ジュニア)'!AP35)","v":""},{"$f":"IF(A541=\"\",\"\",'個人種目(ジュニア)'!AT35)","v":""},{"$f":"IF(A541=\"\",\"\",'個人種目(ジュニア)'!AY35)","v":""},{"$f":"IF(B541=\"\",\"\",'個人種目(ジュニア)'!AF35)","v":""},0,0,{"$f":"IF(A541=\"\",\"\",'個人種目(ジュニア)'!BD35)","v":""},1]
[{"$f":"IF('個人種目(ジュニア)'!G36=\"\",\"\",'個人種目(ジュニア)'!AP36)","v":""},{"$f":"IF(A542=\"\",\"\",'個人種目(ジュニア)'!AT36)","v":""},{"$f":"IF(A542=\"\",\"\",'個人種目(ジュニア)'!AY36)","v":""},{"$f":"IF(B542=\"\",\"\",'個人種目(ジュニア)'!AF36)","v":""},0,0,{"$f":"IF(A542=\"\",\"\",'個人種目(ジュニア)'!BD36)","v":""},1]
[{"$f":"IF('個人種目(ジュニア)'!G37=\"\",\"\",'個人種目(ジュニア)'!AP37)","v":""},{"$f":"IF(A543=\"\",\"\",'個人種目(ジュニア)'!AT37)","v":""},{"$f":"IF(A543=\"\",\"\",'個人種目(ジュニア)'!AY37)","v":""},{"$f":"IF(B543=\"\",\"\",'個人種目(ジュニア)'!AF37)","v":""},0,0,{"$f":"IF(A543=\"\",\"\",'個人種目(ジュニア)'!BD37)","v":""},1]
[{"$f":"IF('個人種目(ジュニア)'!G38=\"\",\"\",'個人種目(ジュニア)'!AP38)","v":""},{"$f":"IF(A544=\"\",\"\",'個人種目(ジュニア)'!AT38)","v":""},{"$f":"IF(A544=\"\",\"\",'個人種目(ジュニア)'!AY38)","v":""},{"$f":"IF(B544=\"\",\"\",'個人種目(ジュニア)'!AF38)","v":""},0,0,{"$f":"IF(A544=\"\",\"\",'個人種目(ジュニア)'!BD38)","v":""},1]
[{"$f":"IF('個人種目(ジュニア)'!G39=\"\",\"\",'個人種目(ジュニア)'!AP39)","v":""},{"$f":"IF(A545=\"\",\"\",'個人種目(ジュニア)'!AT39)","v":""},{"$f":"IF(A545=\"\",\"\",'個人種目(ジュニア)'!AY39)","v":""},{"$f":"IF(B545=\"\",\"\",'個人種目(ジュニア)'!AF39)","v":""},0,0,{"$f":"IF(A545=\"\",\"\",'個人種目(ジュニア)'!BD39)","v":""},1]
[{"$f":"IF('個人種目(ジュニア)'!G40=\"\",\"\",'個人種目(ジュニア)'!AP40)","v":""},{"$f":"IF(A546=\"\",\"\",'個人種目(ジュニア)'!AT40)","v":""},{"$f":"IF(A546=\"\",\"\",'個人種目(ジュニア)'!AY40)","v":""},{"$f":"IF(B546=\"\",\"\",'個人種目(ジュニア)'!AF40)","v":""},0,0,{"$f":"IF(A546=\"\",\"\",'個人種目(ジュニア)'!BD40)","v":""},1]
[{"$f":"IF('個人種目(ジュニア)'!G41=\"\",\"\",'個人種目(ジュニア)'!AP41)","v":""},{"$f":"IF(A547=\"\",\"\",'個人種目(ジュニア)'!AT41)","v":""},{"$f":"IF(A547=\"\",\"\",'個人種目(ジュニア)'!AY41)","v":""},{"$f":"IF(B547=\"\",\"\",'個人種目(ジュニア)'!AF41)","v":""},0,0,{"$f":"IF(A547=\"\",\"\",'個人種目(ジュニア)'!BD41)","v":""},1]
[{"$f":"IF('個人種目(ジュニア)'!G42=\"\",\"\",'個人種目(ジュニア)'!AP42)","v":""},{"$f":"IF(A548=\"\",\"\",'個人種目(ジュニア)'!AT42)","v":""},{"$f":"IF(A548=\"\",\"\",'個人種目(ジュニア)'!AY42)","v":""},{"$f":"IF(B548=\"\",\"\",'個人種目(ジュニア)'!AF42)","v":""},0,0,{"$f":"IF(A548=\"\",\"\",'個人種目(ジュニア)'!BD42)","v":""},1]
[{"$f":"IF('個人種目(ジュニア)'!G43=\"\",\"\",'個人種目(ジュニア)'!AP43)","v":""},{"$f":"IF(A549=\"\",\"\",'個人種目(ジュニア)'!AT43)","v":""},{"$f":"IF(A549=\"\",\"\",'個人種目(ジュニア)'!AY43)","v":""},{"$f":"IF(B549=\"\",\"\",'個人種目(ジュニア)'!AF43)","v":""},0,0,{"$f":"IF(A549=\"\",\"\",'個人種目(ジュニア)'!BD43)","v":""},1]
[{"$f":"IF('個人種目(ジュニア)'!G44=\"\",\"\",'個人種目(ジュニア)'!AP44)","v":""},{"$f":"IF(A550=\"\",\"\",'個人種目(ジュニア)'!AT44)","v":""},{"$f":"IF(A550=\"\",\"\",'個人種目(ジュニア)'!AY44)","v":""},{"$f":"IF(B550=\"\",\"\",'個人種目(ジュニア)'!AF44)","v":""},0,0,{"$f":"IF(A550=\"\",\"\",'個人種目(ジュニア)'!BD44)","v":""},1]
[{"$f":"IF('個人種目(ジュニア)'!G45=\"\",\"\",'個人種目(ジュニア)'!AP45)","v":""},{"$f":"IF(A551=\"\",\"\",'個人種目(ジュニア)'!AT45)","v":""},{"$f":"IF(A551=\"\",\"\",'個人種目(ジュニア)'!AY45)","v":""},{"$f":"IF(B551=\"\",\"\",'個人種目(ジュニア)'!AF45)","v":""},0,0,{"$f":"IF(A551=\"\",\"\",'個人種目(ジュニア)'!BD45)","v":""},1]
[{"$f":"IF('個人種目(ジュニア)'!G46=\"\",\"\",'個人種目(ジュニア)'!AP46)","v":""},{"$f":"IF(A552=\"\",\"\",'個人種目(ジュニア)'!AT46)","v":""},{"$f":"IF(A552=\"\",\"\",'個人種目(ジュニア)'!AY46)","v":""},{"$f":"IF(B552=\"\",\"\",'個人種目(ジュニア)'!AF46)","v":""},0,0,{"$f":"IF(A552=\"\",\"\",'個人種目(ジュニア)'!BD46)","v":""},1]
[{"$f":"IF('個人種目(ジュニア)'!G47=\"\",\"\",'個人種目(ジュニア)'!AP47)","v":""},{"$f":"IF(A553=\"\",\"\",'個人種目(ジュニア)'!AT47)","v":""},{"$f":"IF(A553=\"\",\"\",'個人種目(ジュニア)'!AY47)","v":""},{"$f":"IF(B553=\"\",\"\",'個人種目(ジュニア)'!AF47)","v":""},0,0,{"$f":"IF(A553=\"\",\"\",'個人種目(ジュニア)'!BD47)","v":""},1]
[{"$f":"IF('個人種目(ジュニア)'!G48=\"\",\"\",'個人種目(ジュニア)'!AP48)","v":""},{"$f":"IF(A554=\"\",\"\",'個人種目(ジュニア)'!AT48)","v":""},{"$f":"IF(A554=\"\",\"\",'個人種目(ジュニア)'!AY48)","v":""},{"$f":"IF(B554=\"\",\"\",'個人種目(ジュニア)'!AF48)","v":""},0,0,{"$f":"IF(A554=\"\",\"\",'個人種目(ジュニア)'!BD48)","v":""},1]
[{"$f":"IF('個人種目(ジュニア)'!G49=\"\",\"\",'個人種目(ジュニア)'!AP49)","v":""},{"$f":"IF(A555=\"\",\"\",'個人種目(ジュニア)'!AT49)","v":""},{"$f":"IF(A555=\"\",\"\",'個人種目(ジュニア)'!AY49)","v":""},{"$f":"IF(B555=\"\",\"\",'個人種目(ジュニア)'!AF49)","v":""},0,0,{"$f":"IF(A555=\"\",\"\",'個人種目(ジュニア)'!BD49)","v":""},1]
[{"$f":"IF('個人種目(ジュニア)'!G50=\"\",\"\",'個人種目(ジュニア)'!AP50)","v":""},{"$f":"IF(A556=\"\",\"\",'個人種目(ジュニア)'!AT50)","v":""},{"$f":"IF(A556=\"\",\"\",'個人種目(ジュニア)'!AY50)","v":""},{"$f":"IF(B556=\"\",\"\",'個人種目(ジュニア)'!AF50)","v":""},0,0,{"$f":"IF(A556=\"\",\"\",'個人種目(ジュニア)'!BD50)","v":""},1]
[{"$f":"IF('個人種目(ジュニア)'!G51=\"\",\"\",'個人種目(ジュニア)'!AP51)","v":""},{"$f":"IF(A557=\"\",\"\",'個人種目(ジュニア)'!AT51)","v":""},{"$f":"IF(A557=\"\",\"\",'個人種目(ジュニア)'!AY51)","v":""},{"$f":"IF(B557=\"\",\"\",'個人種目(ジュニア)'!AF51)","v":""},0,0,{"$f":"IF(A557=\"\",\"\",'個人種目(ジュニア)'!BD51)","v":""},1]
[{"$f":"IF('個人種目(ジュニア)'!G52=\"\",\"\",'個人種目(ジュニア)'!AP52)","v":""},{"$f":"IF(A558=\"\",\"\",'個人種目(ジュニア)'!AT52)","v":""},{"$f":"IF(A558=\"\",\"\",'個人種目(ジュニア)'!AY52)","v":""},{"$f":"IF(B558=\"\",\"\",'個人種目(ジュニア)'!AF52)","v":""},0,0,{"$f":"IF(A558=\"\",\"\",'個人種目(ジュニア)'!BD52)","v":""},1]
[{"$f":"IF('個人種目(ジュニア)'!G53=\"\",\"\",'個人種目(ジュニア)'!AP53)","v":""},{"$f":"IF(A559=\"\",\"\",'個人種目(ジュニア)'!AT53)","v":""},{"$f":"IF(A559=\"\",\"\",'個人種目(ジュニア)'!AY53)","v":""},{"$f":"IF(B559=\"\",\"\",'個人種目(ジュニア)'!AF53)","v":""},0,0,{"$f":"IF(A559=\"\",\"\",'個人種目(ジュニア)'!BD53)","v":""},1]
[{"$f":"IF('個人種目(ジュニア)'!G54=\"\",\"\",'個人種目(ジュニア)'!AP54)","v":""},{"$f":"IF(A560=\"\",\"\",'個人種目(ジュニア)'!AT54)","v":""},{"$f":"IF(A560=\"\",\"\",'個人種目(ジュニア)'!AY54)","v":""},{"$f":"IF(B560=\"\",\"\",'個人種目(ジュニア)'!AF54)","v":""},0,0,{"$f":"IF(A560=\"\",\"\",'個人種目(ジュニア)'!BD54)","v":""},1]
[{"$f":"IF('個人種目(ジュニア)'!G55=\"\",\"\",'個人種目(ジュニア)'!AP55)","v":""},{"$f":"IF(A561=\"\",\"\",'個人種目(ジュニア)'!AT55)","v":""},{"$f":"IF(A561=\"\",\"\",'個人種目(ジュニア)'!AY55)","v":""},{"$f":"IF(B561=\"\",\"\",'個人種目(ジュニア)'!AF55)","v":""},0,0,{"$f":"IF(A561=\"\",\"\",'個人種目(ジュニア)'!BD55)","v":""},1]
[]
[]
[{"$f":"IF('個人種目(ジュニア)'!G58=\"\",\"\",'個人種目(ジュニア)'!AP58)","v":""},{"$f":"IF(A564=\"\",\"\",'個人種目(ジュニア)'!AT58)","v":""},{"$f":"IF(A564=\"\",\"\",'個人種目(ジュニア)'!AY58)","v":""},{"$f":"IF(B564=\"\",\"\",'個人種目(ジュニア)'!AF58)","v":""},0,5,{"$f":"IF(A564=\"\",\"\",'個人種目(ジュニア)'!BD58)","v":""},1]
[{"$f":"IF('個人種目(ジュニア)'!G59=\"\",\"\",'個人種目(ジュニア)'!AP59)","v":""},{"$f":"IF(A565=\"\",\"\",'個人種目(ジュニア)'!AT59)","v":""},{"$f":"IF(A565=\"\",\"\",'個人種目(ジュニア)'!AY59)","v":""},{"$f":"IF(B565=\"\",\"\",'個人種目(ジュニア)'!AF59)","v":""},0,5,{"$f":"IF(A565=\"\",\"\",'個人種目(ジュニア)'!BD59)","v":""},1]
[{"$f":"IF('個人種目(ジュニア)'!G60=\"\",\"\",'個人種目(ジュニア)'!AP60)","v":""},{"$f":"IF(A566=\"\",\"\",'個人種目(ジュニア)'!AT60)","v":""},{"$f":"IF(A566=\"\",\"\",'個人種目(ジュニア)'!AY60)","v":""},{"$f":"IF(B566=\"\",\"\",'個人種目(ジュニア)'!AF60)","v":""},0,5,{"$f":"IF(A566=\"\",\"\",'個人種目(ジュニア)'!BD60)","v":""},1]
[{"$f":"IF('個人種目(ジュニア)'!G61=\"\",\"\",'個人種目(ジュニア)'!AP61)","v":""},{"$f":"IF(A567=\"\",\"\",'個人種目(ジュニア)'!AT61)","v":""},{"$f":"IF(A567=\"\",\"\",'個人種目(ジュニア)'!AY61)","v":""},{"$f":"IF(B567=\"\",\"\",'個人種目(ジュニア)'!AF61)","v":""},0,5,{"$f":"IF(A567=\"\",\"\",'個人種目(ジュニア)'!BD61)","v":""},1]
[{"$f":"IF('個人種目(ジュニア)'!G62=\"\",\"\",'個人種目(ジュニア)'!AP62)","v":""},{"$f":"IF(A568=\"\",\"\",'個人種目(ジュニア)'!AT62)","v":""},{"$f":"IF(A568=\"\",\"\",'個人種目(ジュニア)'!AY62)","v":""},{"$f":"IF(B568=\"\",\"\",'個人種目(ジュニア)'!AF62)","v":""},0,5,{"$f":"IF(A568=\"\",\"\",'個人種目(ジュニア)'!BD62)","v":""},1]
[{"$f":"IF('個人種目(ジュニア)'!G63=\"\",\"\",'個人種目(ジュニア)'!AP63)","v":""},{"$f":"IF(A569=\"\",\"\",'個人種目(ジュニア)'!AT63)","v":""},{"$f":"IF(A569=\"\",\"\",'個人種目(ジュニア)'!AY63)","v":""},{"$f":"IF(B569=\"\",\"\",'個人種目(ジュニア)'!AF63)","v":""},0,5,{"$f":"IF(A569=\"\",\"\",'個人種目(ジュニア)'!BD63)","v":""},1]
[{"$f":"IF('個人種目(ジュニア)'!G64=\"\",\"\",'個人種目(ジュニア)'!AP64)","v":""},{"$f":"IF(A570=\"\",\"\",'個人種目(ジュニア)'!AT64)","v":""},{"$f":"IF(A570=\"\",\"\",'個人種目(ジュニア)'!AY64)","v":""},{"$f":"IF(B570=\"\",\"\",'個人種目(ジュニア)'!AF64)","v":""},0,5,{"$f":"IF(A570=\"\",\"\",'個人種目(ジュニア)'!BD64)","v":""},1]
[{"$f":"IF('個人種目(ジュニア)'!G65=\"\",\"\",'個人種目(ジュニア)'!AP65)","v":""},{"$f":"IF(A571=\"\",\"\",'個人種目(ジュニア)'!AT65)","v":""},{"$f":"IF(A571=\"\",\"\",'個人種目(ジュニア)'!AY65)","v":""},{"$f":"IF(B571=\"\",\"\",'個人種目(ジュニア)'!AF65)","v":""},0,5,{"$f":"IF(A571=\"\",\"\",'個人種目(ジュニア)'!BD65)","v":""},1]
[{"$f":"IF('個人種目(ジュニア)'!G66=\"\",\"\",'個人種目(ジュニア)'!AP66)","v":""},{"$f":"IF(A572=\"\",\"\",'個人種目(ジュニア)'!AT66)","v":""},{"$f":"IF(A572=\"\",\"\",'個人種目(ジュニア)'!AY66)","v":""},{"$f":"IF(B572=\"\",\"\",'個人種目(ジュニア)'!AF66)","v":""},0,5,{"$f":"IF(A572=\"\",\"\",'個人種目(ジュニア)'!BD66)","v":""},1]
[{"$f":"IF('個人種目(ジュニア)'!G67=\"\",\"\",'個人種目(ジュニア)'!AP67)","v":""},{"$f":"IF(A573=\"\",\"\",'個人種目(ジュニア)'!AT67)","v":""},{"$f":"IF(A573=\"\",\"\",'個人種目(ジュニア)'!AY67)","v":""},{"$f":"IF(B573=\"\",\"\",'個人種目(ジュニア)'!AF67)","v":""},0,5,{"$f":"IF(A573=\"\",\"\",'個人種目(ジュニア)'!BD67)","v":""},1]
[{"$f":"IF('個人種目(ジュニア)'!G68=\"\",\"\",'個人種目(ジュニア)'!AP68)","v":""},{"$f":"IF(A574=\"\",\"\",'個人種目(ジュニア)'!AT68)","v":""},{"$f":"IF(A574=\"\",\"\",'個人種目(ジュニア)'!AY68)","v":""},{"$f":"IF(B574=\"\",\"\",'個人種目(ジュニア)'!AF68)","v":""},0,5,{"$f":"IF(A574=\"\",\"\",'個人種目(ジュニア)'!BD68)","v":""},1]
[{"$f":"IF('個人種目(ジュニア)'!G69=\"\",\"\",'個人種目(ジュニア)'!AP69)","v":""},{"$f":"IF(A575=\"\",\"\",'個人種目(ジュニア)'!AT69)","v":""},{"$f":"IF(A575=\"\",\"\",'個人種目(ジュニア)'!AY69)","v":""},{"$f":"IF(B575=\"\",\"\",'個人種目(ジュニア)'!AF69)","v":""},0,5,{"$f":"IF(A575=\"\",\"\",'個人種目(ジュニア)'!BD69)","v":""},1]
[{"$f":"IF('個人種目(ジュニア)'!G70=\"\",\"\",'個人種目(ジュニア)'!AP70)","v":""},{"$f":"IF(A576=\"\",\"\",'個人種目(ジュニア)'!AT70)","v":""},{"$f":"IF(A576=\"\",\"\",'個人種目(ジュニア)'!AY70)","v":""},{"$f":"IF(B576=\"\",\"\",'個人種目(ジュニア)'!AF70)","v":""},0,5,{"$f":"IF(A576=\"\",\"\",'個人種目(ジュニア)'!BD70)","v":""},1]
[{"$f":"IF('個人種目(ジュニア)'!G71=\"\",\"\",'個人種目(ジュニア)'!AP71)","v":""},{"$f":"IF(A577=\"\",\"\",'個人種目(ジュニア)'!AT71)","v":""},{"$f":"IF(A577=\"\",\"\",'個人種目(ジュニア)'!AY71)","v":""},{"$f":"IF(B577=\"\",\"\",'個人種目(ジュニア)'!AF71)","v":""},0,5,{"$f":"IF(A577=\"\",\"\",'個人種目(ジュニア)'!BD71)","v":""},1]
[{"$f":"IF('個人種目(ジュニア)'!G72=\"\",\"\",'個人種目(ジュニア)'!AP72)","v":""},{"$f":"IF(A578=\"\",\"\",'個人種目(ジュニア)'!AT72)","v":""},{"$f":"IF(A578=\"\",\"\",'個人種目(ジュニア)'!AY72)","v":""},{"$f":"IF(B578=\"\",\"\",'個人種目(ジュニア)'!AF72)","v":""},0,5,{"$f":"IF(A578=\"\",\"\",'個人種目(ジュニア)'!BD72)","v":""},1]
[{"$f":"IF('個人種目(ジュニア)'!G73=\"\",\"\",'個人種目(ジュニア)'!AP73)","v":""},{"$f":"IF(A579=\"\",\"\",'個人種目(ジュニア)'!AT73)","v":""},{"$f":"IF(A579=\"\",\"\",'個人種目(ジュニア)'!AY73)","v":""},{"$f":"IF(B579=\"\",\"\",'個人種目(ジュニア)'!AF73)","v":""},0,5,{"$f":"IF(A579=\"\",\"\",'個人種目(ジュニア)'!BD73)","v":""},1]
[{"$f":"IF('個人種目(ジュニア)'!G74=\"\",\"\",'個人種目(ジュニア)'!AP74)","v":""},{"$f":"IF(A580=\"\",\"\",'個人種目(ジュニア)'!AT74)","v":""},{"$f":"IF(A580=\"\",\"\",'個人種目(ジュニア)'!AY74)","v":""},{"$f":"IF(B580=\"\",\"\",'個人種目(ジュニア)'!AF74)","v":""},0,5,{"$f":"IF(A580=\"\",\"\",'個人種目(ジュニア)'!BD74)","v":""},1]
[{"$f":"IF('個人種目(ジュニア)'!G75=\"\",\"\",'個人種目(ジュニア)'!AP75)","v":""},{"$f":"IF(A581=\"\",\"\",'個人種目(ジュニア)'!AT75)","v":""},{"$f":"IF(A581=\"\",\"\",'個人種目(ジュニア)'!AY75)","v":""},{"$f":"IF(B581=\"\",\"\",'個人種目(ジュニア)'!AF75)","v":""},0,5,{"$f":"IF(A581=\"\",\"\",'個人種目(ジュニア)'!BD75)","v":""},1]
[{"$f":"IF('個人種目(ジュニア)'!G76=\"\",\"\",'個人種目(ジュニア)'!AP76)","v":""},{"$f":"IF(A582=\"\",\"\",'個人種目(ジュニア)'!AT76)","v":""},{"$f":"IF(A582=\"\",\"\",'個人種目(ジュニア)'!AY76)","v":""},{"$f":"IF(B582=\"\",\"\",'個人種目(ジュニア)'!AF76)","v":""},0,5,{"$f":"IF(A582=\"\",\"\",'個人種目(ジュニア)'!BD76)","v":""},1]
[{"$f":"IF('個人種目(ジュニア)'!G77=\"\",\"\",'個人種目(ジュニア)'!AP77)","v":""},{"$f":"IF(A583=\"\",\"\",'個人種目(ジュニア)'!AT77)","v":""},{"$f":"IF(A583=\"\",\"\",'個人種目(ジュニア)'!AY77)","v":""},{"$f":"IF(B583=\"\",\"\",'個人種目(ジュニア)'!AF77)","v":""},0,5,{"$f":"IF(A583=\"\",\"\",'個人種目(ジュニア)'!BD77)","v":""},1]
[{"$f":"IF('個人種目(ジュニア)'!G78=\"\",\"\",'個人種目(ジュニア)'!AP78)","v":""},{"$f":"IF(A584=\"\",\"\",'個人種目(ジュニア)'!AT78)","v":""},{"$f":"IF(A584=\"\",\"\",'個人種目(ジュニア)'!AY78)","v":""},{"$f":"IF(B584=\"\",\"\",'個人種目(ジュニア)'!AF78)","v":""},0,5,{"$f":"IF(A584=\"\",\"\",'個人種目(ジュニア)'!BD78)","v":""},1]
[{"$f":"IF('個人種目(ジュニア)'!G79=\"\",\"\",'個人種目(ジュニア)'!AP79)","v":""},{"$f":"IF(A585=\"\",\"\",'個人種目(ジュニア)'!AT79)","v":""},{"$f":"IF(A585=\"\",\"\",'個人種目(ジュニア)'!AY79)","v":""},{"$f":"IF(B585=\"\",\"\",'個人種目(ジュニア)'!AF79)","v":""},0,5,{"$f":"IF(A585=\"\",\"\",'個人種目(ジュニア)'!BD79)","v":""},1]
[{"$f":"IF('個人種目(ジュニア)'!G80=\"\",\"\",'個人種目(ジュニア)'!AP80)","v":""},{"$f":"IF(A586=\"\",\"\",'個人種目(ジュニア)'!AT80)","v":""},{"$f":"IF(A586=\"\",\"\",'個人種目(ジュニア)'!AY80)","v":""},{"$f":"IF(B586=\"\",\"\",'個人種目(ジュニア)'!AF80)","v":""},0,5,{"$f":"IF(A586=\"\",\"\",'個人種目(ジュニア)'!BD80)","v":""},1]
[{"$f":"IF('個人種目(ジュニア)'!G81=\"\",\"\",'個人種目(ジュニア)'!AP81)","v":""},{"$f":"IF(A587=\"\",\"\",'個人種目(ジュニア)'!AT81)","v":""},{"$f":"IF(A587=\"\",\"\",'個人種目(ジュニア)'!AY81)","v":""},{"$f":"IF(B587=\"\",\"\",'個人種目(ジュニア)'!AF81)","v":""},0,5,{"$f":"IF(A587=\"\",\"\",'個人種目(ジュニア)'!BD81)","v":""},1]
[{"$f":"IF('個人種目(ジュニア)'!G82=\"\",\"\",'個人種目(ジュニア)'!AP82)","v":""},{"$f":"IF(A588=\"\",\"\",'個人種目(ジュニア)'!AT82)","v":""},{"$f":"IF(A588=\"\",\"\",'個人種目(ジュニア)'!AY82)","v":""},{"$f":"IF(B588=\"\",\"\",'個人種目(ジュニア)'!AF82)","v":""},0,5,{"$f":"IF(A588=\"\",\"\",'個人種目(ジュニア)'!BD82)","v":""},1]
[{"$f":"IF('個人種目(ジュニア)'!G83=\"\",\"\",'個人種目(ジュニア)'!AP83)","v":""},{"$f":"IF(A589=\"\",\"\",'個人種目(ジュニア)'!AT83)","v":""},{"$f":"IF(A589=\"\",\"\",'個人種目(ジュニア)'!AY83)","v":""},{"$f":"IF(B589=\"\",\"\",'個人種目(ジュニア)'!AF83)","v":""},0,5,{"$f":"IF(A589=\"\",\"\",'個人種目(ジュニア)'!BD83)","v":""},1]
[{"$f":"IF('個人種目(ジュニア)'!G84=\"\",\"\",'個人種目(ジュニア)'!AP84)","v":""},{"$f":"IF(A590=\"\",\"\",'個人種目(ジュニア)'!AT84)","v":""},{"$f":"IF(A590=\"\",\"\",'個人種目(ジュニア)'!AY84)","v":""},{"$f":"IF(B590=\"\",\"\",'個人種目(ジュニア)'!AF84)","v":""},0,5,{"$f":"IF(A590=\"\",\"\",'個人種目(ジュニア)'!BD84)","v":""},1]
[{"$f":"IF('個人種目(ジュニア)'!G85=\"\",\"\",'個人種目(ジュニア)'!AP85)","v":""},{"$f":"IF(A591=\"\",\"\",'個人種目(ジュニア)'!AT85)","v":""},{"$f":"IF(A591=\"\",\"\",'個人種目(ジュニア)'!AY85)","v":""},{"$f":"IF(B591=\"\",\"\",'個人種目(ジュニア)'!AF85)","v":""},0,5,{"$f":"IF(A591=\"\",\"\",'個人種目(ジュニア)'!BD85)","v":""},1]
[{"$f":"IF('個人種目(ジュニア)'!G86=\"\",\"\",'個人種目(ジュニア)'!AP86)","v":""},{"$f":"IF(A592=\"\",\"\",'個人種目(ジュニア)'!AT86)","v":""},{"$f":"IF(A592=\"\",\"\",'個人種目(ジュニア)'!AY86)","v":""},{"$f":"IF(B592=\"\",\"\",'個人種目(ジュニア)'!AF86)","v":""},0,5,{"$f":"IF(A592=\"\",\"\",'個人種目(ジュニア)'!BD86)","v":""},1]
[{"$f":"IF('個人種目(ジュニア)'!G87=\"\",\"\",'個人種目(ジュニア)'!AP87)","v":""},{"$f":"IF(A593=\"\",\"\",'個人種目(ジュニア)'!AT87)","v":""},{"$f":"IF(A593=\"\",\"\",'個人種目(ジュニア)'!AY87)","v":""},{"$f":"IF(B593=\"\",\"\",'個人種目(ジュニア)'!AF87)","v":""},0,5,{"$f":"IF(A593=\"\",\"\",'個人種目(ジュニア)'!BD87)","v":""},1]
[{"$f":"IF('個人種目(ジュニア)'!G88=\"\",\"\",'個人種目(ジュニア)'!AP88)","v":""},{"$f":"IF(A594=\"\",\"\",'個人種目(ジュニア)'!AT88)","v":""},{"$f":"IF(A594=\"\",\"\",'個人種目(ジュニア)'!AY88)","v":""},{"$f":"IF(B594=\"\",\"\",'個人種目(ジュニア)'!AF88)","v":""},0,5,{"$f":"IF(A594=\"\",\"\",'個人種目(ジュニア)'!BD88)","v":""},1]
[{"$f":"IF('個人種目(ジュニア)'!G89=\"\",\"\",'個人種目(ジュニア)'!AP89)","v":""},{"$f":"IF(A595=\"\",\"\",'個人種目(ジュニア)'!AT89)","v":""},{"$f":"IF(A595=\"\",\"\",'個人種目(ジュニア)'!AY89)","v":""},{"$f":"IF(B595=\"\",\"\",'個人種目(ジュニア)'!AF89)","v":""},0,5,{"$f":"IF(A595=\"\",\"\",'個人種目(ジュニア)'!BD89)","v":""},1]
[{"$f":"IF('個人種目(ジュニア)'!G90=\"\",\"\",'個人種目(ジュニア)'!AP90)","v":""},{"$f":"IF(A596=\"\",\"\",'個人種目(ジュニア)'!AT90)","v":""},{"$f":"IF(A596=\"\",\"\",'個人種目(ジュニア)'!AY90)","v":""},{"$f":"IF(B596=\"\",\"\",'個人種目(ジュニア)'!AF90)","v":""},0,5,{"$f":"IF(A596=\"\",\"\",'個人種目(ジュニア)'!BD90)","v":""},1]
[{"$f":"IF('個人種目(ジュニア)'!G91=\"\",\"\",'個人種目(ジュニア)'!AP91)","v":""},{"$f":"IF(A597=\"\",\"\",'個人種目(ジュニア)'!AT91)","v":""},{"$f":"IF(A597=\"\",\"\",'個人種目(ジュニア)'!AY91)","v":""},{"$f":"IF(B597=\"\",\"\",'個人種目(ジュニア)'!AF91)","v":""},0,5,{"$f":"IF(A597=\"\",\"\",'個人種目(ジュニア)'!BD91)","v":""},1]
[{"$f":"IF('個人種目(ジュニア)'!G92=\"\",\"\",'個人種目(ジュニア)'!AP92)","v":""},{"$f":"IF(A598=\"\",\"\",'個人種目(ジュニア)'!AT92)","v":""},{"$f":"IF(A598=\"\",\"\",'個人種目(ジュニア)'!AY92)","v":""},{"$f":"IF(B598=\"\",\"\",'個人種目(ジュニア)'!AF92)","v":""},0,5,{"$f":"IF(A598=\"\",\"\",'個人種目(ジュニア)'!BD92)","v":""},1]
[{"$f":"IF('個人種目(ジュニア)'!G93=\"\",\"\",'個人種目(ジュニア)'!AP93)","v":""},{"$f":"IF(A599=\"\",\"\",'個人種目(ジュニア)'!AT93)","v":""},{"$f":"IF(A599=\"\",\"\",'個人種目(ジュニア)'!AY93)","v":""},{"$f":"IF(B599=\"\",\"\",'個人種目(ジュニア)'!AF93)","v":""},0,5,{"$f":"IF(A599=\"\",\"\",'個人種目(ジュニア)'!BD93)","v":""},1]
[{"$f":"IF('個人種目(ジュニア)'!G94=\"\",\"\",'個人種目(ジュニア)'!AP94)","v":""},{"$f":"IF(A600=\"\",\"\",'個人種目(ジュニア)'!AT94)","v":""},{"$f":"IF(A600=\"\",\"\",'個人種目(ジュニア)'!AY94)","v":""},{"$f":"IF(B600=\"\",\"\",'個人種目(ジュニア)'!AF94)","v":""},0,5,{"$f":"IF(A600=\"\",\"\",'個人種目(ジュニア)'!BD94)","v":""},1]
[{"$f":"IF('個人種目(ジュニア)'!G95=\"\",\"\",'個人種目(ジュニア)'!AP95)","v":""},{"$f":"IF(A601=\"\",\"\",'個人種目(ジュニア)'!AT95)","v":""},{"$f":"IF(A601=\"\",\"\",'個人種目(ジュニア)'!AY95)","v":""},{"$f":"IF(B601=\"\",\"\",'個人種目(ジュニア)'!AF95)","v":""},0,5,{"$f":"IF(A601=\"\",\"\",'個人種目(ジュニア)'!BD95)","v":""},1]
[{"$f":"IF('個人種目(ジュニア)'!G96=\"\",\"\",'個人種目(ジュニア)'!AP96)","v":""},{"$f":"IF(A602=\"\",\"\",'個人種目(ジュニア)'!AT96)","v":""},{"$f":"IF(A602=\"\",\"\",'個人種目(ジュニア)'!AY96)","v":""},{"$f":"IF(B602=\"\",\"\",'個人種目(ジュニア)'!AF96)","v":""},0,5,{"$f":"IF(A602=\"\",\"\",'個人種目(ジュニア)'!BD96)","v":""},1]
[{"$f":"IF('個人種目(ジュニア)'!G97=\"\",\"\",'個人種目(ジュニア)'!AP97)","v":""},{"$f":"IF(A603=\"\",\"\",'個人種目(ジュニア)'!AT97)","v":""},{"$f":"IF(A603=\"\",\"\",'個人種目(ジュニア)'!AY97)","v":""},{"$f":"IF(B603=\"\",\"\",'個人種目(ジュニア)'!AF97)","v":""},0,5,{"$f":"IF(A603=\"\",\"\",'個人種目(ジュニア)'!BD97)","v":""},1]
[{"$f":"IF('個人種目(ジュニア)'!G98=\"\",\"\",'個人種目(ジュニア)'!AP98)","v":""},{"$f":"IF(A604=\"\",\"\",'個人種目(ジュニア)'!AT98)","v":""},{"$f":"IF(A604=\"\",\"\",'個人種目(ジュニア)'!AY98)","v":""},{"$f":"IF(B604=\"\",\"\",'個人種目(ジュニア)'!AF98)","v":""},0,5,{"$f":"IF(A604=\"\",\"\",'個人種目(ジュニア)'!BD98)","v":""},1]
[{"$f":"IF('個人種目(ジュニア)'!G99=\"\",\"\",'個人種目(ジュニア)'!AP99)","v":""},{"$f":"IF(A605=\"\",\"\",'個人種目(ジュニア)'!AT99)","v":""},{"$f":"IF(A605=\"\",\"\",'個人種目(ジュニア)'!AY99)","v":""},{"$f":"IF(B605=\"\",\"\",'個人種目(ジュニア)'!AF99)","v":""},0,5,{"$f":"IF(A605=\"\",\"\",'個人種目(ジュニア)'!BD99)","v":""},1]
[{"$f":"IF('個人種目(ジュニア)'!G100=\"\",\"\",'個人種目(ジュニア)'!AP100)","v":""},{"$f":"IF(A606=\"\",\"\",'個人種目(ジュニア)'!AT100)","v":""},{"$f":"IF(A606=\"\",\"\",'個人種目(ジュニア)'!AY100)","v":""},{"$f":"IF(B606=\"\",\"\",'個人種目(ジュニア)'!AF100)","v":""},0,5,{"$f":"IF(A606=\"\",\"\",'個人種目(ジュニア)'!BD100)","v":""},1]
[{"$f":"IF('個人種目(ジュニア)'!G101=\"\",\"\",'個人種目(ジュニア)'!AP101)","v":""},{"$f":"IF(A607=\"\",\"\",'個人種目(ジュニア)'!AT101)","v":""},{"$f":"IF(A607=\"\",\"\",'個人種目(ジュニア)'!AY101)","v":""},{"$f":"IF(B607=\"\",\"\",'個人種目(ジュニア)'!AF101)","v":""},0,5,{"$f":"IF(A607=\"\",\"\",'個人種目(ジュニア)'!BD101)","v":""},1]
[{"$f":"IF('個人種目(ジュニア)'!G102=\"\",\"\",'個人種目(ジュニア)'!AP102)","v":""},{"$f":"IF(A608=\"\",\"\",'個人種目(ジュニア)'!AT102)","v":""},{"$f":"IF(A608=\"\",\"\",'個人種目(ジュニア)'!AY102)","v":""},{"$f":"IF(B608=\"\",\"\",'個人種目(ジュニア)'!AF102)","v":""},0,5,{"$f":"IF(A608=\"\",\"\",'個人種目(ジュニア)'!BD102)","v":""},1]
[{"$f":"IF('個人種目(ジュニア)'!G103=\"\",\"\",'個人種目(ジュニア)'!AP103)","v":""},{"$f":"IF(A609=\"\",\"\",'個人種目(ジュニア)'!AT103)","v":""},{"$f":"IF(A609=\"\",\"\",'個人種目(ジュニア)'!AY103)","v":""},{"$f":"IF(B609=\"\",\"\",'個人種目(ジュニア)'!AF103)","v":""},0,5,{"$f":"IF(A609=\"\",\"\",'個人種目(ジュニア)'!BD103)","v":""},1]
[{"$f":"IF('個人種目(ジュニア)'!G104=\"\",\"\",'個人種目(ジュニア)'!AP104)","v":""},{"$f":"IF(A610=\"\",\"\",'個人種目(ジュニア)'!AT104)","v":""},{"$f":"IF(A610=\"\",\"\",'個人種目(ジュニア)'!AY104)","v":""},{"$f":"IF(B610=\"\",\"\",'個人種目(ジュニア)'!AF104)","v":""},0,5,{"$f":"IF(A610=\"\",\"\",'個人種目(ジュニア)'!BD104)","v":""},1]
[{"$f":"IF('個人種目(ジュニア)'!G105=\"\",\"\",'個人種目(ジュニア)'!AP105)","v":""},{"$f":"IF(A611=\"\",\"\",'個人種目(ジュニア)'!AT105)","v":""},{"$f":"IF(A611=\"\",\"\",'個人種目(ジュニア)'!AY105)","v":""},{"$f":"IF(B611=\"\",\"\",'個人種目(ジュニア)'!AF105)","v":""},0,5,{"$f":"IF(A611=\"\",\"\",'個人種目(ジュニア)'!BD105)","v":""},1]
[{"$f":"IF('個人種目(ジュニア)'!G106=\"\",\"\",'個人種目(ジュニア)'!AP106)","v":""},{"$f":"IF(A612=\"\",\"\",'個人種目(ジュニア)'!AT106)","v":""},{"$f":"IF(A612=\"\",\"\",'個人種目(ジュニア)'!AY106)","v":""},{"$f":"IF(B612=\"\",\"\",'個人種目(ジュニア)'!AF106)","v":""},0,5,{"$f":"IF(A612=\"\",\"\",'個人種目(ジュニア)'!BD106)","v":""},1]
[{"$f":"IF('個人種目(ジュニア)'!G107=\"\",\"\",'個人種目(ジュニア)'!AP107)","v":""},{"$f":"IF(A613=\"\",\"\",'個人種目(ジュニア)'!AT107)","v":""},{"$f":"IF(A613=\"\",\"\",'個人種目(ジュニア)'!AY107)","v":""},{"$f":"IF(B613=\"\",\"\",'個人種目(ジュニア)'!AF107)","v":""},0,5,{"$f":"IF(A613=\"\",\"\",'個人種目(ジュニア)'!BD107)","v":""},1]
[{"$f":"IF('個人種目(ジュニア)'!I6=\"\",\"\",'個人種目(ジュニア)'!AP6)","v":""},{"$f":"IF(A614=\"\",\"\",'個人種目(ジュニア)'!AU6)","v":""},{"$f":"IF(A614=\"\",\"\",'個人種目(ジュニア)'!AZ6)","v":""},{"$f":"IF(A614=\"\",\"\",'個人種目(ジュニア)'!AF6)","v":""},0,0,{"$f":"IF(A614=\"\",\"\",'個人種目(ジュニア)'!BE6)","v":""},2]
[{"$f":"IF('個人種目(ジュニア)'!I7=\"\",\"\",'個人種目(ジュニア)'!AP7)","v":""},{"$f":"IF(A615=\"\",\"\",'個人種目(ジュニア)'!AU7)","v":""},{"$f":"IF(A615=\"\",\"\",'個人種目(ジュニア)'!AZ7)","v":""},{"$f":"IF(A615=\"\",\"\",'個人種目(ジュニア)'!AF7)","v":""},0,0,{"$f":"IF(A615=\"\",\"\",'個人種目(ジュニア)'!BE7)","v":""},2]
[{"$f":"IF('個人種目(ジュニア)'!I8=\"\",\"\",'個人種目(ジュニア)'!AP8)","v":""},{"$f":"IF(A616=\"\",\"\",'個人種目(ジュニア)'!AU8)","v":""},{"$f":"IF(A616=\"\",\"\",'個人種目(ジュニア)'!AZ8)","v":""},{"$f":"IF(A616=\"\",\"\",'個人種目(ジュニア)'!AF8)","v":""},0,0,{"$f":"IF(A616=\"\",\"\",'個人種目(ジュニア)'!BE8)","v":""},2]
[{"$f":"IF('個人種目(ジュニア)'!I9=\"\",\"\",'個人種目(ジュニア)'!AP9)","v":""},{"$f":"IF(A617=\"\",\"\",'個人種目(ジュニア)'!AU9)","v":""},{"$f":"IF(A617=\"\",\"\",'個人種目(ジュニア)'!AZ9)","v":""},{"$f":"IF(A617=\"\",\"\",'個人種目(ジュニア)'!AF9)","v":""},0,0,{"$f":"IF(A617=\"\",\"\",'個人種目(ジュニア)'!BE9)","v":""},2]
[{"$f":"IF('個人種目(ジュニア)'!I10=\"\",\"\",'個人種目(ジュニア)'!AP10)","v":""},{"$f":"IF(A618=\"\",\"\",'個人種目(ジュニア)'!AU10)","v":""},{"$f":"IF(A618=\"\",\"\",'個人種目(ジュニア)'!AZ10)","v":""},{"$f":"IF(A618=\"\",\"\",'個人種目(ジュニア)'!AF10)","v":""},0,0,{"$f":"IF(A618=\"\",\"\",'個人種目(ジュニア)'!BE10)","v":""},2]
[{"$f":"IF('個人種目(ジュニア)'!I11=\"\",\"\",'個人種目(ジュニア)'!AP11)","v":""},{"$f":"IF(A619=\"\",\"\",'個人種目(ジュニア)'!AU11)","v":""},{"$f":"IF(A619=\"\",\"\",'個人種目(ジュニア)'!AZ11)","v":""},{"$f":"IF(A619=\"\",\"\",'個人種目(ジュニア)'!AF11)","v":""},0,0,{"$f":"IF(A619=\"\",\"\",'個人種目(ジュニア)'!BE11)","v":""},2]
[{"$f":"IF('個人種目(ジュニア)'!I12=\"\",\"\",'個人種目(ジュニア)'!AP12)","v":""},{"$f":"IF(A620=\"\",\"\",'個人種目(ジュニア)'!AU12)","v":""},{"$f":"IF(A620=\"\",\"\",'個人種目(ジュニア)'!AZ12)","v":""},{"$f":"IF(A620=\"\",\"\",'個人種目(ジュニア)'!AF12)","v":""},0,0,{"$f":"IF(A620=\"\",\"\",'個人種目(ジュニア)'!BE12)","v":""},2]
[{"$f":"IF('個人種目(ジュニア)'!I13=\"\",\"\",'個人種目(ジュニア)'!AP13)","v":""},{"$f":"IF(A621=\"\",\"\",'個人種目(ジュニア)'!AU13)","v":""},{"$f":"IF(A621=\"\",\"\",'個人種目(ジュニア)'!AZ13)","v":""},{"$f":"IF(A621=\"\",\"\",'個人種目(ジュニア)'!AF13)","v":""},0,0,{"$f":"IF(A621=\"\",\"\",'個人種目(ジュニア)'!BE13)","v":""},2]
[{"$f":"IF('個人種目(ジュニア)'!I14=\"\",\"\",'個人種目(ジュニア)'!AP14)","v":""},{"$f":"IF(A622=\"\",\"\",'個人種目(ジュニア)'!AU14)","v":""},{"$f":"IF(A622=\"\",\"\",'個人種目(ジュニア)'!AZ14)","v":""},{"$f":"IF(A622=\"\",\"\",'個人種目(ジュニア)'!AF14)","v":""},0,0,{"$f":"IF(A622=\"\",\"\",'個人種目(ジュニア)'!BE14)","v":""},2]
[{"$f":"IF('個人種目(ジュニア)'!I15=\"\",\"\",'個人種目(ジュニア)'!AP15)","v":""},{"$f":"IF(A623=\"\",\"\",'個人種目(ジュニア)'!AU15)","v":""},{"$f":"IF(A623=\"\",\"\",'個人種目(ジュニア)'!AZ15)","v":""},{"$f":"IF(A623=\"\",\"\",'個人種目(ジュニア)'!AF15)","v":""},0,0,{"$f":"IF(A623=\"\",\"\",'個人種目(ジュニア)'!BE15)","v":""},2]
[{"$f":"IF('個人種目(ジュニア)'!I16=\"\",\"\",'個人種目(ジュニア)'!AP16)","v":""},{"$f":"IF(A624=\"\",\"\",'個人種目(ジュニア)'!AU16)","v":""},{"$f":"IF(A624=\"\",\"\",'個人種目(ジュニア)'!AZ16)","v":""},{"$f":"IF(A624=\"\",\"\",'個人種目(ジュニア)'!AF16)","v":""},0,0,{"$f":"IF(A624=\"\",\"\",'個人種目(ジュニア)'!BE16)","v":""},2]
[{"$f":"IF('個人種目(ジュニア)'!I17=\"\",\"\",'個人種目(ジュニア)'!AP17)","v":""},{"$f":"IF(A625=\"\",\"\",'個人種目(ジュニア)'!AU17)","v":""},{"$f":"IF(A625=\"\",\"\",'個人種目(ジュニア)'!AZ17)","v":""},{"$f":"IF(A625=\"\",\"\",'個人種目(ジュニア)'!AF17)","v":""},0,0,{"$f":"IF(A625=\"\",\"\",'個人種目(ジュニア)'!BE17)","v":""},2]
[{"$f":"IF('個人種目(ジュニア)'!I18=\"\",\"\",'個人種目(ジュニア)'!AP18)","v":""},{"$f":"IF(A626=\"\",\"\",'個人種目(ジュニア)'!AU18)","v":""},{"$f":"IF(A626=\"\",\"\",'個人種目(ジュニア)'!AZ18)","v":""},{"$f":"IF(A626=\"\",\"\",'個人種目(ジュニア)'!AF18)","v":""},0,0,{"$f":"IF(A626=\"\",\"\",'個人種目(ジュニア)'!BE18)","v":""},2]
[{"$f":"IF('個人種目(ジュニア)'!I19=\"\",\"\",'個人種目(ジュニア)'!AP19)","v":""},{"$f":"IF(A627=\"\",\"\",'個人種目(ジュニア)'!AU19)","v":""},{"$f":"IF(A627=\"\",\"\",'個人種目(ジュニア)'!AZ19)","v":""},{"$f":"IF(A627=\"\",\"\",'個人種目(ジュニア)'!AF19)","v":""},0,0,{"$f":"IF(A627=\"\",\"\",'個人種目(ジュニア)'!BE19)","v":""},2]
[{"$f":"IF('個人種目(ジュニア)'!I20=\"\",\"\",'個人種目(ジュニア)'!AP20)","v":""},{"$f":"IF(A628=\"\",\"\",'個人種目(ジュニア)'!AU20)","v":""},{"$f":"IF(A628=\"\",\"\",'個人種目(ジュニア)'!AZ20)","v":""},{"$f":"IF(A628=\"\",\"\",'個人種目(ジュニア)'!AF20)","v":""},0,0,{"$f":"IF(A628=\"\",\"\",'個人種目(ジュニア)'!BE20)","v":""},2]
[{"$f":"IF('個人種目(ジュニア)'!I21=\"\",\"\",'個人種目(ジュニア)'!AP21)","v":""},{"$f":"IF(A629=\"\",\"\",'個人種目(ジュニア)'!AU21)","v":""},{"$f":"IF(A629=\"\",\"\",'個人種目(ジュニア)'!AZ21)","v":""},{"$f":"IF(A629=\"\",\"\",'個人種目(ジュニア)'!AF21)","v":""},0,0,{"$f":"IF(A629=\"\",\"\",'個人種目(ジュニア)'!BE21)","v":""},2]
[{"$f":"IF('個人種目(ジュニア)'!I22=\"\",\"\",'個人種目(ジュニア)'!AP22)","v":""},{"$f":"IF(A630=\"\",\"\",'個人種目(ジュニア)'!AU22)","v":""},{"$f":"IF(A630=\"\",\"\",'個人種目(ジュニア)'!AZ22)","v":""},{"$f":"IF(A630=\"\",\"\",'個人種目(ジュニア)'!AF22)","v":""},0,0,{"$f":"IF(A630=\"\",\"\",'個人種目(ジュニア)'!BE22)","v":""},2]
[{"$f":"IF('個人種目(ジュニア)'!I23=\"\",\"\",'個人種目(ジュニア)'!AP23)","v":""},{"$f":"IF(A631=\"\",\"\",'個人種目(ジュニア)'!AU23)","v":""},{"$f":"IF(A631=\"\",\"\",'個人種目(ジュニア)'!AZ23)","v":""},{"$f":"IF(A631=\"\",\"\",'個人種目(ジュニア)'!AF23)","v":""},0,0,{"$f":"IF(A631=\"\",\"\",'個人種目(ジュニア)'!BE23)","v":""},2]
[{"$f":"IF('個人種目(ジュニア)'!I24=\"\",\"\",'個人種目(ジュニア)'!AP24)","v":""},{"$f":"IF(A632=\"\",\"\",'個人種目(ジュニア)'!AU24)","v":""},{"$f":"IF(A632=\"\",\"\",'個人種目(ジュニア)'!AZ24)","v":""},{"$f":"IF(A632=\"\",\"\",'個人種目(ジュニア)'!AF24)","v":""},0,0,{"$f":"IF(A632=\"\",\"\",'個人種目(ジュニア)'!BE24)","v":""},2]
[{"$f":"IF('個人種目(ジュニア)'!I25=\"\",\"\",'個人種目(ジュニア)'!AP25)","v":""},{"$f":"IF(A633=\"\",\"\",'個人種目(ジュニア)'!AU25)","v":""},{"$f":"IF(A633=\"\",\"\",'個人種目(ジュニア)'!AZ25)","v":""},{"$f":"IF(A633=\"\",\"\",'個人種目(ジュニア)'!AF25)","v":""},0,0,{"$f":"IF(A633=\"\",\"\",'個人種目(ジュニア)'!BE25)","v":""},2]
[{"$f":"IF('個人種目(ジュニア)'!I26=\"\",\"\",'個人種目(ジュニア)'!AP26)","v":""},{"$f":"IF(A634=\"\",\"\",'個人種目(ジュニア)'!AU26)","v":""},{"$f":"IF(A634=\"\",\"\",'個人種目(ジュニア)'!AZ26)","v":""},{"$f":"IF(A634=\"\",\"\",'個人種目(ジュニア)'!AF26)","v":""},0,0,{"$f":"IF(A634=\"\",\"\",'個人種目(ジュニア)'!BE26)","v":""},2]
[{"$f":"IF('個人種目(ジュニア)'!I27=\"\",\"\",'個人種目(ジュニア)'!AP27)","v":""},{"$f":"IF(A635=\"\",\"\",'個人種目(ジュニア)'!AU27)","v":""},{"$f":"IF(A635=\"\",\"\",'個人種目(ジュニア)'!AZ27)","v":""},{"$f":"IF(A635=\"\",\"\",'個人種目(ジュニア)'!AF27)","v":""},0,0,{"$f":"IF(A635=\"\",\"\",'個人種目(ジュニア)'!BE27)","v":""},2]
[{"$f":"IF('個人種目(ジュニア)'!I28=\"\",\"\",'個人種目(ジュニア)'!AP28)","v":""},{"$f":"IF(A636=\"\",\"\",'個人種目(ジュニア)'!AU28)","v":""},{"$f":"IF(A636=\"\",\"\",'個人種目(ジュニア)'!AZ28)","v":""},{"$f":"IF(A636=\"\",\"\",'個人種目(ジュニア)'!AF28)","v":""},0,0,{"$f":"IF(A636=\"\",\"\",'個人種目(ジュニア)'!BE28)","v":""},2]
[{"$f":"IF('個人種目(ジュニア)'!I29=\"\",\"\",'個人種目(ジュニア)'!AP29)","v":""},{"$f":"IF(A637=\"\",\"\",'個人種目(ジュニア)'!AU29)","v":""},{"$f":"IF(A637=\"\",\"\",'個人種目(ジュニア)'!AZ29)","v":""},{"$f":"IF(A637=\"\",\"\",'個人種目(ジュニア)'!AF29)","v":""},0,0,{"$f":"IF(A637=\"\",\"\",'個人種目(ジュニア)'!BE29)","v":""},2]
[{"$f":"IF('個人種目(ジュニア)'!I30=\"\",\"\",'個人種目(ジュニア)'!AP30)","v":""},{"$f":"IF(A638=\"\",\"\",'個人種目(ジュニア)'!AU30)","v":""},{"$f":"IF(A638=\"\",\"\",'個人種目(ジュニア)'!AZ30)","v":""},{"$f":"IF(A638=\"\",\"\",'個人種目(ジュニア)'!AF30)","v":""},0,0,{"$f":"IF(A638=\"\",\"\",'個人種目(ジュニア)'!BE30)","v":""},2]
[{"$f":"IF('個人種目(ジュニア)'!I31=\"\",\"\",'個人種目(ジュニア)'!AP31)","v":""},{"$f":"IF(A639=\"\",\"\",'個人種目(ジュニア)'!AU31)","v":""},{"$f":"IF(A639=\"\",\"\",'個人種目(ジュニア)'!AZ31)","v":""},{"$f":"IF(A639=\"\",\"\",'個人種目(ジュニア)'!AF31)","v":""},0,0,{"$f":"IF(A639=\"\",\"\",'個人種目(ジュニア)'!BE31)","v":""},2]
[{"$f":"IF('個人種目(ジュニア)'!I32=\"\",\"\",'個人種目(ジュニア)'!AP32)","v":""},{"$f":"IF(A640=\"\",\"\",'個人種目(ジュニア)'!AU32)","v":""},{"$f":"IF(A640=\"\",\"\",'個人種目(ジュニア)'!AZ32)","v":""},{"$f":"IF(A640=\"\",\"\",'個人種目(ジュニア)'!AF32)","v":""},0,0,{"$f":"IF(A640=\"\",\"\",'個人種目(ジュニア)'!BE32)","v":""},2]
[{"$f":"IF('個人種目(ジュニア)'!I33=\"\",\"\",'個人種目(ジュニア)'!AP33)","v":""},{"$f":"IF(A641=\"\",\"\",'個人種目(ジュニア)'!AU33)","v":""},{"$f":"IF(A641=\"\",\"\",'個人種目(ジュニア)'!AZ33)","v":""},{"$f":"IF(A641=\"\",\"\",'個人種目(ジュニア)'!AF33)","v":""},0,0,{"$f":"IF(A641=\"\",\"\",'個人種目(ジュニア)'!BE33)","v":""},2]
[{"$f":"IF('個人種目(ジュニア)'!I34=\"\",\"\",'個人種目(ジュニア)'!AP34)","v":""},{"$f":"IF(A642=\"\",\"\",'個人種目(ジュニア)'!AU34)","v":""},{"$f":"IF(A642=\"\",\"\",'個人種目(ジュニア)'!AZ34)","v":""},{"$f":"IF(A642=\"\",\"\",'個人種目(ジュニア)'!AF34)","v":""},0,0,{"$f":"IF(A642=\"\",\"\",'個人種目(ジュニア)'!BE34)","v":""},2]
[{"$f":"IF('個人種目(ジュニア)'!I35=\"\",\"\",'個人種目(ジュニア)'!AP35)","v":""},{"$f":"IF(A643=\"\",\"\",'個人種目(ジュニア)'!AU35)","v":""},{"$f":"IF(A643=\"\",\"\",'個人種目(ジュニア)'!AZ35)","v":""},{"$f":"IF(A643=\"\",\"\",'個人種目(ジュニア)'!AF35)","v":""},0,0,{"$f":"IF(A643=\"\",\"\",'個人種目(ジュニア)'!BE35)","v":""},2]
[{"$f":"IF('個人種目(ジュニア)'!I36=\"\",\"\",'個人種目(ジュニア)'!AP36)","v":""},{"$f":"IF(A644=\"\",\"\",'個人種目(ジュニア)'!AU36)","v":""},{"$f":"IF(A644=\"\",\"\",'個人種目(ジュニア)'!AZ36)","v":""},{"$f":"IF(A644=\"\",\"\",'個人種目(ジュニア)'!AF36)","v":""},0,0,{"$f":"IF(A644=\"\",\"\",'個人種目(ジュニア)'!BE36)","v":""},2]
[{"$f":"IF('個人種目(ジュニア)'!I37=\"\",\"\",'個人種目(ジュニア)'!AP37)","v":""},{"$f":"IF(A645=\"\",\"\",'個人種目(ジュニア)'!AU37)","v":""},{"$f":"IF(A645=\"\",\"\",'個人種目(ジュニア)'!AZ37)","v":""},{"$f":"IF(A645=\"\",\"\",'個人種目(ジュニア)'!AF37)","v":""},0,0,{"$f":"IF(A645=\"\",\"\",'個人種目(ジュニア)'!BE37)","v":""},2]
[{"$f":"IF('個人種目(ジュニア)'!I38=\"\",\"\",'個人種目(ジュニア)'!AP38)","v":""},{"$f":"IF(A646=\"\",\"\",'個人種目(ジュニア)'!AU38)","v":""},{"$f":"IF(A646=\"\",\"\",'個人種目(ジュニア)'!AZ38)","v":""},{"$f":"IF(A646=\"\",\"\",'個人種目(ジュニア)'!AF38)","v":""},0,0,{"$f":"IF(A646=\"\",\"\",'個人種目(ジュニア)'!BE38)","v":""},2]
[{"$f":"IF('個人種目(ジュニア)'!I39=\"\",\"\",'個人種目(ジュニア)'!AP39)","v":""},{"$f":"IF(A647=\"\",\"\",'個人種目(ジュニア)'!AU39)","v":""},{"$f":"IF(A647=\"\",\"\",'個人種目(ジュニア)'!AZ39)","v":""},{"$f":"IF(A647=\"\",\"\",'個人種目(ジュニア)'!AF39)","v":""},0,0,{"$f":"IF(A647=\"\",\"\",'個人種目(ジュニア)'!BE39)","v":""},2]
[{"$f":"IF('個人種目(ジュニア)'!I40=\"\",\"\",'個人種目(ジュニア)'!AP40)","v":""},{"$f":"IF(A648=\"\",\"\",'個人種目(ジュニア)'!AU40)","v":""},{"$f":"IF(A648=\"\",\"\",'個人種目(ジュニア)'!AZ40)","v":""},{"$f":"IF(A648=\"\",\"\",'個人種目(ジュニア)'!AF40)","v":""},0,0,{"$f":"IF(A648=\"\",\"\",'個人種目(ジュニア)'!BE40)","v":""},2]
[{"$f":"IF('個人種目(ジュニア)'!I41=\"\",\"\",'個人種目(ジュニア)'!AP41)","v":""},{"$f":"IF(A649=\"\",\"\",'個人種目(ジュニア)'!AU41)","v":""},{"$f":"IF(A649=\"\",\"\",'個人種目(ジュニア)'!AZ41)","v":""},{"$f":"IF(A649=\"\",\"\",'個人種目(ジュニア)'!AF41)","v":""},0,0,{"$f":"IF(A649=\"\",\"\",'個人種目(ジュニア)'!BE41)","v":""},2]
[{"$f":"IF('個人種目(ジュニア)'!I42=\"\",\"\",'個人種目(ジュニア)'!AP42)","v":""},{"$f":"IF(A650=\"\",\"\",'個人種目(ジュニア)'!AU42)","v":""},{"$f":"IF(A650=\"\",\"\",'個人種目(ジュニア)'!AZ42)","v":""},{"$f":"IF(A650=\"\",\"\",'個人種目(ジュニア)'!AF42)","v":""},0,0,{"$f":"IF(A650=\"\",\"\",'個人種目(ジュニア)'!BE42)","v":""},2]
[{"$f":"IF('個人種目(ジュニア)'!I43=\"\",\"\",'個人種目(ジュニア)'!AP43)","v":""},{"$f":"IF(A651=\"\",\"\",'個人種目(ジュニア)'!AU43)","v":""},{"$f":"IF(A651=\"\",\"\",'個人種目(ジュニア)'!AZ43)","v":""},{"$f":"IF(A651=\"\",\"\",'個人種目(ジュニア)'!AF43)","v":""},0,0,{"$f":"IF(A651=\"\",\"\",'個人種目(ジュニア)'!BE43)","v":""},2]
[{"$f":"IF('個人種目(ジュニア)'!I44=\"\",\"\",'個人種目(ジュニア)'!AP44)","v":""},{"$f":"IF(A652=\"\",\"\",'個人種目(ジュニア)'!AU44)","v":""},{"$f":"IF(A652=\"\",\"\",'個人種目(ジュニア)'!AZ44)","v":""},{"$f":"IF(A652=\"\",\"\",'個人種目(ジュニア)'!AF44)","v":""},0,0,{"$f":"IF(A652=\"\",\"\",'個人種目(ジュニア)'!BE44)","v":""},2]
[{"$f":"IF('個人種目(ジュニア)'!I45=\"\",\"\",'個人種目(ジュニア)'!AP45)","v":""},{"$f":"IF(A653=\"\",\"\",'個人種目(ジュニア)'!AU45)","v":""},{"$f":"IF(A653=\"\",\"\",'個人種目(ジュニア)'!AZ45)","v":""},{"$f":"IF(A653=\"\",\"\",'個人種目(ジュニア)'!AF45)","v":""},0,0,{"$f":"IF(A653=\"\",\"\",'個人種目(ジュニア)'!BE45)","v":""},2]
[{"$f":"IF('個人種目(ジュニア)'!I46=\"\",\"\",'個人種目(ジュニア)'!AP46)","v":""},{"$f":"IF(A654=\"\",\"\",'個人種目(ジュニア)'!AU46)","v":""},{"$f":"IF(A654=\"\",\"\",'個人種目(ジュニア)'!AZ46)","v":""},{"$f":"IF(A654=\"\",\"\",'個人種目(ジュニア)'!AF46)","v":""},0,0,{"$f":"IF(A654=\"\",\"\",'個人種目(ジュニア)'!BE46)","v":""},2]
[{"$f":"IF('個人種目(ジュニア)'!I47=\"\",\"\",'個人種目(ジュニア)'!AP47)","v":""},{"$f":"IF(A655=\"\",\"\",'個人種目(ジュニア)'!AU47)","v":""},{"$f":"IF(A655=\"\",\"\",'個人種目(ジュニア)'!AZ47)","v":""},{"$f":"IF(A655=\"\",\"\",'個人種目(ジュニア)'!AF47)","v":""},0,0,{"$f":"IF(A655=\"\",\"\",'個人種目(ジュニア)'!BE47)","v":""},2]
[{"$f":"IF('個人種目(ジュニア)'!I48=\"\",\"\",'個人種目(ジュニア)'!AP48)","v":""},{"$f":"IF(A656=\"\",\"\",'個人種目(ジュニア)'!AU48)","v":""},{"$f":"IF(A656=\"\",\"\",'個人種目(ジュニア)'!AZ48)","v":""},{"$f":"IF(A656=\"\",\"\",'個人種目(ジュニア)'!AF48)","v":""},0,0,{"$f":"IF(A656=\"\",\"\",'個人種目(ジュニア)'!BE48)","v":""},2]
[{"$f":"IF('個人種目(ジュニア)'!I49=\"\",\"\",'個人種目(ジュニア)'!AP49)","v":""},{"$f":"IF(A657=\"\",\"\",'個人種目(ジュニア)'!AU49)","v":""},{"$f":"IF(A657=\"\",\"\",'個人種目(ジュニア)'!AZ49)","v":""},{"$f":"IF(A657=\"\",\"\",'個人種目(ジュニア)'!AF49)","v":""},0,0,{"$f":"IF(A657=\"\",\"\",'個人種目(ジュニア)'!BE49)","v":""},2]
[{"$f":"IF('個人種目(ジュニア)'!I50=\"\",\"\",'個人種目(ジュニア)'!AP50)","v":""},{"$f":"IF(A658=\"\",\"\",'個人種目(ジュニア)'!AU50)","v":""},{"$f":"IF(A658=\"\",\"\",'個人種目(ジュニア)'!AZ50)","v":""},{"$f":"IF(A658=\"\",\"\",'個人種目(ジュニア)'!AF50)","v":""},0,0,{"$f":"IF(A658=\"\",\"\",'個人種目(ジュニア)'!BE50)","v":""},2]
[{"$f":"IF('個人種目(ジュニア)'!I51=\"\",\"\",'個人種目(ジュニア)'!AP51)","v":""},{"$f":"IF(A659=\"\",\"\",'個人種目(ジュニア)'!AU51)","v":""},{"$f":"IF(A659=\"\",\"\",'個人種目(ジュニア)'!AZ51)","v":""},{"$f":"IF(A659=\"\",\"\",'個人種目(ジュニア)'!AF51)","v":""},0,0,{"$f":"IF(A659=\"\",\"\",'個人種目(ジュニア)'!BE51)","v":""},2]
[{"$f":"IF('個人種目(ジュニア)'!I52=\"\",\"\",'個人種目(ジュニア)'!AP52)","v":""},{"$f":"IF(A660=\"\",\"\",'個人種目(ジュニア)'!AU52)","v":""},{"$f":"IF(A660=\"\",\"\",'個人種目(ジュニア)'!AZ52)","v":""},{"$f":"IF(A660=\"\",\"\",'個人種目(ジュニア)'!AF52)","v":""},0,0,{"$f":"IF(A660=\"\",\"\",'個人種目(ジュニア)'!BE52)","v":""},2]
[{"$f":"IF('個人種目(ジュニア)'!I53=\"\",\"\",'個人種目(ジュニア)'!AP53)","v":""},{"$f":"IF(A661=\"\",\"\",'個人種目(ジュニア)'!AU53)","v":""},{"$f":"IF(A661=\"\",\"\",'個人種目(ジュニア)'!AZ53)","v":""},{"$f":"IF(A661=\"\",\"\",'個人種目(ジュニア)'!AF53)","v":""},0,0,{"$f":"IF(A661=\"\",\"\",'個人種目(ジュニア)'!BE53)","v":""},2]
[{"$f":"IF('個人種目(ジュニア)'!I54=\"\",\"\",'個人種目(ジュニア)'!AP54)","v":""},{"$f":"IF(A662=\"\",\"\",'個人種目(ジュニア)'!AU54)","v":""},{"$f":"IF(A662=\"\",\"\",'個人種目(ジュニア)'!AZ54)","v":""},{"$f":"IF(A662=\"\",\"\",'個人種目(ジュニア)'!AF54)","v":""},0,0,{"$f":"IF(A662=\"\",\"\",'個人種目(ジュニア)'!BE54)","v":""},2]
[{"$f":"IF('個人種目(ジュニア)'!I55=\"\",\"\",'個人種目(ジュニア)'!AP55)","v":""},{"$f":"IF(A663=\"\",\"\",'個人種目(ジュニア)'!AU55)","v":""},{"$f":"IF(A663=\"\",\"\",'個人種目(ジュニア)'!AZ55)","v":""},{"$f":"IF(A663=\"\",\"\",'個人種目(ジュニア)'!AF55)","v":""},0,0,{"$f":"IF(A663=\"\",\"\",'個人種目(ジュニア)'!BE55)","v":""},2]
[]
[]
[{"$f":"IF('個人種目(ジュニア)'!I58=\"\",\"\",'個人種目(ジュニア)'!AP58)","v":""},{"$f":"IF(A666=\"\",\"\",'個人種目(ジュニア)'!AU58)","v":""},{"$f":"IF(A666=\"\",\"\",'個人種目(ジュニア)'!AZ58)","v":""},{"$f":"IF(A666=\"\",\"\",'個人種目(ジュニア)'!AF58)","v":""},0,5,{"$f":"IF(A666=\"\",\"\",'個人種目(ジュニア)'!BE58)","v":""},2]
[{"$f":"IF('個人種目(ジュニア)'!I59=\"\",\"\",'個人種目(ジュニア)'!AP59)","v":""},{"$f":"IF(A667=\"\",\"\",'個人種目(ジュニア)'!AU59)","v":""},{"$f":"IF(A667=\"\",\"\",'個人種目(ジュニア)'!AZ59)","v":""},{"$f":"IF(A667=\"\",\"\",'個人種目(ジュニア)'!AF59)","v":""},0,5,{"$f":"IF(A667=\"\",\"\",'個人種目(ジュニア)'!BE59)","v":""},2]
[{"$f":"IF('個人種目(ジュニア)'!I60=\"\",\"\",'個人種目(ジュニア)'!AP60)","v":""},{"$f":"IF(A668=\"\",\"\",'個人種目(ジュニア)'!AU60)","v":""},{"$f":"IF(A668=\"\",\"\",'個人種目(ジュニア)'!AZ60)","v":""},{"$f":"IF(A668=\"\",\"\",'個人種目(ジュニア)'!AF60)","v":""},0,5,{"$f":"IF(A668=\"\",\"\",'個人種目(ジュニア)'!BE60)","v":""},2]
[{"$f":"IF('個人種目(ジュニア)'!I61=\"\",\"\",'個人種目(ジュニア)'!AP61)","v":""},{"$f":"IF(A669=\"\",\"\",'個人種目(ジュニア)'!AU61)","v":""},{"$f":"IF(A669=\"\",\"\",'個人種目(ジュニア)'!AZ61)","v":""},{"$f":"IF(A669=\"\",\"\",'個人種目(ジュニア)'!AF61)","v":""},0,5,{"$f":"IF(A669=\"\",\"\",'個人種目(ジュニア)'!BE61)","v":""},2]
[{"$f":"IF('個人種目(ジュニア)'!I62=\"\",\"\",'個人種目(ジュニア)'!AP62)","v":""},{"$f":"IF(A670=\"\",\"\",'個人種目(ジュニア)'!AU62)","v":""},{"$f":"IF(A670=\"\",\"\",'個人種目(ジュニア)'!AZ62)","v":""},{"$f":"IF(A670=\"\",\"\",'個人種目(ジュニア)'!AF62)","v":""},0,5,{"$f":"IF(A670=\"\",\"\",'個人種目(ジュニア)'!BE62)","v":""},2]
[{"$f":"IF('個人種目(ジュニア)'!I63=\"\",\"\",'個人種目(ジュニア)'!AP63)","v":""},{"$f":"IF(A671=\"\",\"\",'個人種目(ジュニア)'!AU63)","v":""},{"$f":"IF(A671=\"\",\"\",'個人種目(ジュニア)'!AZ63)","v":""},{"$f":"IF(A671=\"\",\"\",'個人種目(ジュニア)'!AF63)","v":""},0,5,{"$f":"IF(A671=\"\",\"\",'個人種目(ジュニア)'!BE63)","v":""},2]
[{"$f":"IF('個人種目(ジュニア)'!I64=\"\",\"\",'個人種目(ジュニア)'!AP64)","v":""},{"$f":"IF(A672=\"\",\"\",'個人種目(ジュニア)'!AU64)","v":""},{"$f":"IF(A672=\"\",\"\",'個人種目(ジュニア)'!AZ64)","v":""},{"$f":"IF(A672=\"\",\"\",'個人種目(ジュニア)'!AF64)","v":""},0,5,{"$f":"IF(A672=\"\",\"\",'個人種目(ジュニア)'!BE64)","v":""},2]
[{"$f":"IF('個人種目(ジュニア)'!I65=\"\",\"\",'個人種目(ジュニア)'!AP65)","v":""},{"$f":"IF(A673=\"\",\"\",'個人種目(ジュニア)'!AU65)","v":""},{"$f":"IF(A673=\"\",\"\",'個人種目(ジュニア)'!AZ65)","v":""},{"$f":"IF(A673=\"\",\"\",'個人種目(ジュニア)'!AF65)","v":""},0,5,{"$f":"IF(A673=\"\",\"\",'個人種目(ジュニア)'!BE65)","v":""},2]
[{"$f":"IF('個人種目(ジュニア)'!I66=\"\",\"\",'個人種目(ジュニア)'!AP66)","v":""},{"$f":"IF(A674=\"\",\"\",'個人種目(ジュニア)'!AU66)","v":""},{"$f":"IF(A674=\"\",\"\",'個人種目(ジュニア)'!AZ66)","v":""},{"$f":"IF(A674=\"\",\"\",'個人種目(ジュニア)'!AF66)","v":""},0,5,{"$f":"IF(A674=\"\",\"\",'個人種目(ジュニア)'!BE66)","v":""},2]
[{"$f":"IF('個人種目(ジュニア)'!I67=\"\",\"\",'個人種目(ジュニア)'!AP67)","v":""},{"$f":"IF(A675=\"\",\"\",'個人種目(ジュニア)'!AU67)","v":""},{"$f":"IF(A675=\"\",\"\",'個人種目(ジュニア)'!AZ67)","v":""},{"$f":"IF(A675=\"\",\"\",'個人種目(ジュニア)'!AF67)","v":""},0,5,{"$f":"IF(A675=\"\",\"\",'個人種目(ジュニア)'!BE67)","v":""},2]
[{"$f":"IF('個人種目(ジュニア)'!I68=\"\",\"\",'個人種目(ジュニア)'!AP68)","v":""},{"$f":"IF(A676=\"\",\"\",'個人種目(ジュニア)'!AU68)","v":""},{"$f":"IF(A676=\"\",\"\",'個人種目(ジュニア)'!AZ68)","v":""},{"$f":"IF(A676=\"\",\"\",'個人種目(ジュニア)'!AF68)","v":""},0,5,{"$f":"IF(A676=\"\",\"\",'個人種目(ジュニア)'!BE68)","v":""},2]
[{"$f":"IF('個人種目(ジュニア)'!I69=\"\",\"\",'個人種目(ジュニア)'!AP69)","v":""},{"$f":"IF(A677=\"\",\"\",'個人種目(ジュニア)'!AU69)","v":""},{"$f":"IF(A677=\"\",\"\",'個人種目(ジュニア)'!AZ69)","v":""},{"$f":"IF(A677=\"\",\"\",'個人種目(ジュニア)'!AF69)","v":""},0,5,{"$f":"IF(A677=\"\",\"\",'個人種目(ジュニア)'!BE69)","v":""},2]
[{"$f":"IF('個人種目(ジュニア)'!I70=\"\",\"\",'個人種目(ジュニア)'!AP70)","v":""},{"$f":"IF(A678=\"\",\"\",'個人種目(ジュニア)'!AU70)","v":""},{"$f":"IF(A678=\"\",\"\",'個人種目(ジュニア)'!AZ70)","v":""},{"$f":"IF(A678=\"\",\"\",'個人種目(ジュニア)'!AF70)","v":""},0,5,{"$f":"IF(A678=\"\",\"\",'個人種目(ジュニア)'!BE70)","v":""},2]
[{"$f":"IF('個人種目(ジュニア)'!I71=\"\",\"\",'個人種目(ジュニア)'!AP71)","v":""},{"$f":"IF(A679=\"\",\"\",'個人種目(ジュニア)'!AU71)","v":""},{"$f":"IF(A679=\"\",\"\",'個人種目(ジュニア)'!AZ71)","v":""},{"$f":"IF(A679=\"\",\"\",'個人種目(ジュニア)'!AF71)","v":""},0,5,{"$f":"IF(A679=\"\",\"\",'個人種目(ジュニア)'!BE71)","v":""},2]
[{"$f":"IF('個人種目(ジュニア)'!I72=\"\",\"\",'個人種目(ジュニア)'!AP72)","v":""},{"$f":"IF(A680=\"\",\"\",'個人種目(ジュニア)'!AU72)","v":""},{"$f":"IF(A680=\"\",\"\",'個人種目(ジュニア)'!AZ72)","v":""},{"$f":"IF(A680=\"\",\"\",'個人種目(ジュニア)'!AF72)","v":""},0,5,{"$f":"IF(A680=\"\",\"\",'個人種目(ジュニア)'!BE72)","v":""},2]
[{"$f":"IF('個人種目(ジュニア)'!I73=\"\",\"\",'個人種目(ジュニア)'!AP73)","v":""},{"$f":"IF(A681=\"\",\"\",'個人種目(ジュニア)'!AU73)","v":""},{"$f":"IF(A681=\"\",\"\",'個人種目(ジュニア)'!AZ73)","v":""},{"$f":"IF(A681=\"\",\"\",'個人種目(ジュニア)'!AF73)","v":""},0,5,{"$f":"IF(A681=\"\",\"\",'個人種目(ジュニア)'!BE73)","v":""},2]
[{"$f":"IF('個人種目(ジュニア)'!I74=\"\",\"\",'個人種目(ジュニア)'!AP74)","v":""},{"$f":"IF(A682=\"\",\"\",'個人種目(ジュニア)'!AU74)","v":""},{"$f":"IF(A682=\"\",\"\",'個人種目(ジュニア)'!AZ74)","v":""},{"$f":"IF(A682=\"\",\"\",'個人種目(ジュニア)'!AF74)","v":""},0,5,{"$f":"IF(A682=\"\",\"\",'個人種目(ジュニア)'!BE74)","v":""},2]
[{"$f":"IF('個人種目(ジュニア)'!I75=\"\",\"\",'個人種目(ジュニア)'!AP75)","v":""},{"$f":"IF(A683=\"\",\"\",'個人種目(ジュニア)'!AU75)","v":""},{"$f":"IF(A683=\"\",\"\",'個人種目(ジュニア)'!AZ75)","v":""},{"$f":"IF(A683=\"\",\"\",'個人種目(ジュニア)'!AF75)","v":""},0,5,{"$f":"IF(A683=\"\",\"\",'個人種目(ジュニア)'!BE75)","v":""},2]
[{"$f":"IF('個人種目(ジュニア)'!I76=\"\",\"\",'個人種目(ジュニア)'!AP76)","v":""},{"$f":"IF(A684=\"\",\"\",'個人種目(ジュニア)'!AU76)","v":""},{"$f":"IF(A684=\"\",\"\",'個人種目(ジュニア)'!AZ76)","v":""},{"$f":"IF(A684=\"\",\"\",'個人種目(ジュニア)'!AF76)","v":""},0,5,{"$f":"IF(A684=\"\",\"\",'個人種目(ジュニア)'!BE76)","v":""},2]
[{"$f":"IF('個人種目(ジュニア)'!I77=\"\",\"\",'個人種目(ジュニア)'!AP77)","v":""},{"$f":"IF(A685=\"\",\"\",'個人種目(ジュニア)'!AU77)","v":""},{"$f":"IF(A685=\"\",\"\",'個人種目(ジュニア)'!AZ77)","v":""},{"$f":"IF(A685=\"\",\"\",'個人種目(ジュニア)'!AF77)","v":""},0,5,{"$f":"IF(A685=\"\",\"\",'個人種目(ジュニア)'!BE77)","v":""},2]
[{"$f":"IF('個人種目(ジュニア)'!I78=\"\",\"\",'個人種目(ジュニア)'!AP78)","v":""},{"$f":"IF(A686=\"\",\"\",'個人種目(ジュニア)'!AU78)","v":""},{"$f":"IF(A686=\"\",\"\",'個人種目(ジュニア)'!AZ78)","v":""},{"$f":"IF(A686=\"\",\"\",'個人種目(ジュニア)'!AF78)","v":""},0,5,{"$f":"IF(A686=\"\",\"\",'個人種目(ジュニア)'!BE78)","v":""},2]
[{"$f":"IF('個人種目(ジュニア)'!I79=\"\",\"\",'個人種目(ジュニア)'!AP79)","v":""},{"$f":"IF(A687=\"\",\"\",'個人種目(ジュニア)'!AU79)","v":""},{"$f":"IF(A687=\"\",\"\",'個人種目(ジュニア)'!AZ79)","v":""},{"$f":"IF(A687=\"\",\"\",'個人種目(ジュニア)'!AF79)","v":""},0,5,{"$f":"IF(A687=\"\",\"\",'個人種目(ジュニア)'!BE79)","v":""},2]
[{"$f":"IF('個人種目(ジュニア)'!I80=\"\",\"\",'個人種目(ジュニア)'!AP80)","v":""},{"$f":"IF(A688=\"\",\"\",'個人種目(ジュニア)'!AU80)","v":""},{"$f":"IF(A688=\"\",\"\",'個人種目(ジュニア)'!AZ80)","v":""},{"$f":"IF(A688=\"\",\"\",'個人種目(ジュニア)'!AF80)","v":""},0,5,{"$f":"IF(A688=\"\",\"\",'個人種目(ジュニア)'!BE80)","v":""},2]
[{"$f":"IF('個人種目(ジュニア)'!I81=\"\",\"\",'個人種目(ジュニア)'!AP81)","v":""},{"$f":"IF(A689=\"\",\"\",'個人種目(ジュニア)'!AU81)","v":""},{"$f":"IF(A689=\"\",\"\",'個人種目(ジュニア)'!AZ81)","v":""},{"$f":"IF(A689=\"\",\"\",'個人種目(ジュニア)'!AF81)","v":""},0,5,{"$f":"IF(A689=\"\",\"\",'個人種目(ジュニア)'!BE81)","v":""},2]
[{"$f":"IF('個人種目(ジュニア)'!I82=\"\",\"\",'個人種目(ジュニア)'!AP82)","v":""},{"$f":"IF(A690=\"\",\"\",'個人種目(ジュニア)'!AU82)","v":""},{"$f":"IF(A690=\"\",\"\",'個人種目(ジュニア)'!AZ82)","v":""},{"$f":"IF(A690=\"\",\"\",'個人種目(ジュニア)'!AF82)","v":""},0,5,{"$f":"IF(A690=\"\",\"\",'個人種目(ジュニア)'!BE82)","v":""},2]
[{"$f":"IF('個人種目(ジュニア)'!I83=\"\",\"\",'個人種目(ジュニア)'!AP83)","v":""},{"$f":"IF(A691=\"\",\"\",'個人種目(ジュニア)'!AU83)","v":""},{"$f":"IF(A691=\"\",\"\",'個人種目(ジュニア)'!AZ83)","v":""},{"$f":"IF(A691=\"\",\"\",'個人種目(ジュニア)'!AF83)","v":""},0,5,{"$f":"IF(A691=\"\",\"\",'個人種目(ジュニア)'!BE83)","v":""},2]
[{"$f":"IF('個人種目(ジュニア)'!I84=\"\",\"\",'個人種目(ジュニア)'!AP84)","v":""},{"$f":"IF(A692=\"\",\"\",'個人種目(ジュニア)'!AU84)","v":""},{"$f":"IF(A692=\"\",\"\",'個人種目(ジュニア)'!AZ84)","v":""},{"$f":"IF(A692=\"\",\"\",'個人種目(ジュニア)'!AF84)","v":""},0,5,{"$f":"IF(A692=\"\",\"\",'個人種目(ジュニア)'!BE84)","v":""},2]
[{"$f":"IF('個人種目(ジュニア)'!I85=\"\",\"\",'個人種目(ジュニア)'!AP85)","v":""},{"$f":"IF(A693=\"\",\"\",'個人種目(ジュニア)'!AU85)","v":""},{"$f":"IF(A693=\"\",\"\",'個人種目(ジュニア)'!AZ85)","v":""},{"$f":"IF(A693=\"\",\"\",'個人種目(ジュニア)'!AF85)","v":""},0,5,{"$f":"IF(A693=\"\",\"\",'個人種目(ジュニア)'!BE85)","v":""},2]
[{"$f":"IF('個人種目(ジュニア)'!I86=\"\",\"\",'個人種目(ジュニア)'!AP86)","v":""},{"$f":"IF(A694=\"\",\"\",'個人種目(ジュニア)'!AU86)","v":""},{"$f":"IF(A694=\"\",\"\",'個人種目(ジュニア)'!AZ86)","v":""},{"$f":"IF(A694=\"\",\"\",'個人種目(ジュニア)'!AF86)","v":""},0,5,{"$f":"IF(A694=\"\",\"\",'個人種目(ジュニア)'!BE86)","v":""},2]
[{"$f":"IF('個人種目(ジュニア)'!I87=\"\",\"\",'個人種目(ジュニア)'!AP87)","v":""},{"$f":"IF(A695=\"\",\"\",'個人種目(ジュニア)'!AU87)","v":""},{"$f":"IF(A695=\"\",\"\",'個人種目(ジュニア)'!AZ87)","v":""},{"$f":"IF(A695=\"\",\"\",'個人種目(ジュニア)'!AF87)","v":""},0,5,{"$f":"IF(A695=\"\",\"\",'個人種目(ジュニア)'!BE87)","v":""},2]
[{"$f":"IF('個人種目(ジュニア)'!I88=\"\",\"\",'個人種目(ジュニア)'!AP88)","v":""},{"$f":"IF(A696=\"\",\"\",'個人種目(ジュニア)'!AU88)","v":""},{"$f":"IF(A696=\"\",\"\",'個人種目(ジュニア)'!AZ88)","v":""},{"$f":"IF(A696=\"\",\"\",'個人種目(ジュニア)'!AF88)","v":""},0,5,{"$f":"IF(A696=\"\",\"\",'個人種目(ジュニア)'!BE88)","v":""},2]
[{"$f":"IF('個人種目(ジュニア)'!I89=\"\",\"\",'個人種目(ジュニア)'!AP89)","v":""},{"$f":"IF(A697=\"\",\"\",'個人種目(ジュニア)'!AU89)","v":""},{"$f":"IF(A697=\"\",\"\",'個人種目(ジュニア)'!AZ89)","v":""},{"$f":"IF(A697=\"\",\"\",'個人種目(ジュニア)'!AF89)","v":""},0,5,{"$f":"IF(A697=\"\",\"\",'個人種目(ジュニア)'!BE89)","v":""},2]
[{"$f":"IF('個人種目(ジュニア)'!I90=\"\",\"\",'個人種目(ジュニア)'!AP90)","v":""},{"$f":"IF(A698=\"\",\"\",'個人種目(ジュニア)'!AU90)","v":""},{"$f":"IF(A698=\"\",\"\",'個人種目(ジュニア)'!AZ90)","v":""},{"$f":"IF(A698=\"\",\"\",'個人種目(ジュニア)'!AF90)","v":""},0,5,{"$f":"IF(A698=\"\",\"\",'個人種目(ジュニア)'!BE90)","v":""},2]
[{"$f":"IF('個人種目(ジュニア)'!I91=\"\",\"\",'個人種目(ジュニア)'!AP91)","v":""},{"$f":"IF(A699=\"\",\"\",'個人種目(ジュニア)'!AU91)","v":""},{"$f":"IF(A699=\"\",\"\",'個人種目(ジュニア)'!AZ91)","v":""},{"$f":"IF(A699=\"\",\"\",'個人種目(ジュニア)'!AF91)","v":""},0,5,{"$f":"IF(A699=\"\",\"\",'個人種目(ジュニア)'!BE91)","v":""},2]
[{"$f":"IF('個人種目(ジュニア)'!I92=\"\",\"\",'個人種目(ジュニア)'!AP92)","v":""},{"$f":"IF(A700=\"\",\"\",'個人種目(ジュニア)'!AU92)","v":""},{"$f":"IF(A700=\"\",\"\",'個人種目(ジュニア)'!AZ92)","v":""},{"$f":"IF(A700=\"\",\"\",'個人種目(ジュニア)'!AF92)","v":""},0,5,{"$f":"IF(A700=\"\",\"\",'個人種目(ジュニア)'!BE92)","v":""},2]
[{"$f":"IF('個人種目(ジュニア)'!I93=\"\",\"\",'個人種目(ジュニア)'!AP93)","v":""},{"$f":"IF(A701=\"\",\"\",'個人種目(ジュニア)'!AU93)","v":""},{"$f":"IF(A701=\"\",\"\",'個人種目(ジュニア)'!AZ93)","v":""},{"$f":"IF(A701=\"\",\"\",'個人種目(ジュニア)'!AF93)","v":""},0,5,{"$f":"IF(A701=\"\",\"\",'個人種目(ジュニア)'!BE93)","v":""},2]
[{"$f":"IF('個人種目(ジュニア)'!I94=\"\",\"\",'個人種目(ジュニア)'!AP94)","v":""},{"$f":"IF(A702=\"\",\"\",'個人種目(ジュニア)'!AU94)","v":""},{"$f":"IF(A702=\"\",\"\",'個人種目(ジュニア)'!AZ94)","v":""},{"$f":"IF(A702=\"\",\"\",'個人種目(ジュニア)'!AF94)","v":""},0,5,{"$f":"IF(A702=\"\",\"\",'個人種目(ジュニア)'!BE94)","v":""},2]
[{"$f":"IF('個人種目(ジュニア)'!I95=\"\",\"\",'個人種目(ジュニア)'!AP95)","v":""},{"$f":"IF(A703=\"\",\"\",'個人種目(ジュニア)'!AU95)","v":""},{"$f":"IF(A703=\"\",\"\",'個人種目(ジュニア)'!AZ95)","v":""},{"$f":"IF(A703=\"\",\"\",'個人種目(ジュニア)'!AF95)","v":""},0,5,{"$f":"IF(A703=\"\",\"\",'個人種目(ジュニア)'!BE95)","v":""},2]
[{"$f":"IF('個人種目(ジュニア)'!I96=\"\",\"\",'個人種目(ジュニア)'!AP96)","v":""},{"$f":"IF(A704=\"\",\"\",'個人種目(ジュニア)'!AU96)","v":""},{"$f":"IF(A704=\"\",\"\",'個人種目(ジュニア)'!AZ96)","v":""},{"$f":"IF(A704=\"\",\"\",'個人種目(ジュニア)'!AF96)","v":""},0,5,{"$f":"IF(A704=\"\",\"\",'個人種目(ジュニア)'!BE96)","v":""},2]
[{"$f":"IF('個人種目(ジュニア)'!I97=\"\",\"\",'個人種目(ジュニア)'!AP97)","v":""},{"$f":"IF(A705=\"\",\"\",'個人種目(ジュニア)'!AU97)","v":""},{"$f":"IF(A705=\"\",\"\",'個人種目(ジュニア)'!AZ97)","v":""},{"$f":"IF(A705=\"\",\"\",'個人種目(ジュニア)'!AF97)","v":""},0,5,{"$f":"IF(A705=\"\",\"\",'個人種目(ジュニア)'!BE97)","v":""},2]
[{"$f":"IF('個人種目(ジュニア)'!I98=\"\",\"\",'個人種目(ジュニア)'!AP98)","v":""},{"$f":"IF(A706=\"\",\"\",'個人種目(ジュニア)'!AU98)","v":""},{"$f":"IF(A706=\"\",\"\",'個人種目(ジュニア)'!AZ98)","v":""},{"$f":"IF(A706=\"\",\"\",'個人種目(ジュニア)'!AF98)","v":""},0,5,{"$f":"IF(A706=\"\",\"\",'個人種目(ジュニア)'!BE98)","v":""},2]
[{"$f":"IF('個人種目(ジュニア)'!I99=\"\",\"\",'個人種目(ジュニア)'!AP99)","v":""},{"$f":"IF(A707=\"\",\"\",'個人種目(ジュニア)'!AU99)","v":""},{"$f":"IF(A707=\"\",\"\",'個人種目(ジュニア)'!AZ99)","v":""},{"$f":"IF(A707=\"\",\"\",'個人種目(ジュニア)'!AF99)","v":""},0,5,{"$f":"IF(A707=\"\",\"\",'個人種目(ジュニア)'!BE99)","v":""},2]
[{"$f":"IF('個人種目(ジュニア)'!I100=\"\",\"\",'個人種目(ジュニア)'!AP100)","v":""},{"$f":"IF(A708=\"\",\"\",'個人種目(ジュニア)'!AU100)","v":""},{"$f":"IF(A708=\"\",\"\",'個人種目(ジュニア)'!AZ100)","v":""},{"$f":"IF(A708=\"\",\"\",'個人種目(ジュニア)'!AF100)","v":""},0,5,{"$f":"IF(A708=\"\",\"\",'個人種目(ジュニア)'!BE100)","v":""},2]
[{"$f":"IF('個人種目(ジュニア)'!I101=\"\",\"\",'個人種目(ジュニア)'!AP101)","v":""},{"$f":"IF(A709=\"\",\"\",'個人種目(ジュニア)'!AU101)","v":""},{"$f":"IF(A709=\"\",\"\",'個人種目(ジュニア)'!AZ101)","v":""},{"$f":"IF(A709=\"\",\"\",'個人種目(ジュニア)'!AF101)","v":""},0,5,{"$f":"IF(A709=\"\",\"\",'個人種目(ジュニア)'!BE101)","v":""},2]
[{"$f":"IF('個人種目(ジュニア)'!I102=\"\",\"\",'個人種目(ジュニア)'!AP102)","v":""},{"$f":"IF(A710=\"\",\"\",'個人種目(ジュニア)'!AU102)","v":""},{"$f":"IF(A710=\"\",\"\",'個人種目(ジュニア)'!AZ102)","v":""},{"$f":"IF(A710=\"\",\"\",'個人種目(ジュニア)'!AF102)","v":""},0,5,{"$f":"IF(A710=\"\",\"\",'個人種目(ジュニア)'!BE102)","v":""},2]
[{"$f":"IF('個人種目(ジュニア)'!I103=\"\",\"\",'個人種目(ジュニア)'!AP103)","v":""},{"$f":"IF(A711=\"\",\"\",'個人種目(ジュニア)'!AU103)","v":""},{"$f":"IF(A711=\"\",\"\",'個人種目(ジュニア)'!AZ103)","v":""},{"$f":"IF(A711=\"\",\"\",'個人種目(ジュニア)'!AF103)","v":""},0,5,{"$f":"IF(A711=\"\",\"\",'個人種目(ジュニア)'!BE103)","v":""},2]
[{"$f":"IF('個人種目(ジュニア)'!I104=\"\",\"\",'個人種目(ジュニア)'!AP104)","v":""},{"$f":"IF(A712=\"\",\"\",'個人種目(ジュニア)'!AU104)","v":""},{"$f":"IF(A712=\"\",\"\",'個人種目(ジュニア)'!AZ104)","v":""},{"$f":"IF(A712=\"\",\"\",'個人種目(ジュニア)'!AF104)","v":""},0,5,{"$f":"IF(A712=\"\",\"\",'個人種目(ジュニア)'!BE104)","v":""},2]
[{"$f":"IF('個人種目(ジュニア)'!I105=\"\",\"\",'個人種目(ジュニア)'!AP105)","v":""},{"$f":"IF(A713=\"\",\"\",'個人種目(ジュニア)'!AU105)","v":""},{"$f":"IF(A713=\"\",\"\",'個人種目(ジュニア)'!AZ105)","v":""},{"$f":"IF(A713=\"\",\"\",'個人種目(ジュニア)'!AF105)","v":""},0,5,{"$f":"IF(A713=\"\",\"\",'個人種目(ジュニア)'!BE105)","v":""},2]
[{"$f":"IF('個人種目(ジュニア)'!I106=\"\",\"\",'個人種目(ジュニア)'!AP106)","v":""},{"$f":"IF(A714=\"\",\"\",'個人種目(ジュニア)'!AU106)","v":""},{"$f":"IF(A714=\"\",\"\",'個人種目(ジュニア)'!AZ106)","v":""},{"$f":"IF(A714=\"\",\"\",'個人種目(ジュニア)'!AF106)","v":""},0,5,{"$f":"IF(A714=\"\",\"\",'個人種目(ジュニア)'!BE106)","v":""},2]
[{"$f":"IF('個人種目(ジュニア)'!I107=\"\",\"\",'個人種目(ジュニア)'!AP107)","v":""},{"$f":"IF(A715=\"\",\"\",'個人種目(ジュニア)'!AU107)","v":""},{"$f":"IF(A715=\"\",\"\",'個人種目(ジュニア)'!AZ107)","v":""},{"$f":"IF(A715=\"\",\"\",'個人種目(ジュニア)'!AF107)","v":""},0,5,{"$f":"IF(A715=\"\",\"\",'個人種目(ジュニア)'!BE107)","v":""},2]
[{"$f":"IF('個人種目(ジュニア)'!K6=\"\",\"\",'個人種目(ジュニア)'!AP6)","v":""},{"$f":"IF(A716=\"\",\"\",'個人種目(ジュニア)'!AV6)","v":""},{"$f":"IF(A716=\"\",\"\",'個人種目(ジュニア)'!BA6)","v":""},{"$f":"IF(A716=\"\",\"\",'個人種目(ジュニア)'!AF6)","v":""},0,0,{"$f":"IF(A716=\"\",\"\",'個人種目(ジュニア)'!BF6)","v":""},3]
[{"$f":"IF('個人種目(ジュニア)'!K7=\"\",\"\",'個人種目(ジュニア)'!AP7)","v":""},{"$f":"IF(A717=\"\",\"\",'個人種目(ジュニア)'!AV7)","v":""},{"$f":"IF(A717=\"\",\"\",'個人種目(ジュニア)'!BA7)","v":""},{"$f":"IF(A717=\"\",\"\",'個人種目(ジュニア)'!AF7)","v":""},0,0,{"$f":"IF(A717=\"\",\"\",'個人種目(ジュニア)'!BF7)","v":""},3]
[{"$f":"IF('個人種目(ジュニア)'!K8=\"\",\"\",'個人種目(ジュニア)'!AP8)","v":""},{"$f":"IF(A718=\"\",\"\",'個人種目(ジュニア)'!AV8)","v":""},{"$f":"IF(A718=\"\",\"\",'個人種目(ジュニア)'!BA8)","v":""},{"$f":"IF(A718=\"\",\"\",'個人種目(ジュニア)'!AF8)","v":""},0,0,{"$f":"IF(A718=\"\",\"\",'個人種目(ジュニア)'!BF8)","v":""},3]
[{"$f":"IF('個人種目(ジュニア)'!K9=\"\",\"\",'個人種目(ジュニア)'!AP9)","v":""},{"$f":"IF(A719=\"\",\"\",'個人種目(ジュニア)'!AV9)","v":""},{"$f":"IF(A719=\"\",\"\",'個人種目(ジュニア)'!BA9)","v":""},{"$f":"IF(A719=\"\",\"\",'個人種目(ジュニア)'!AF9)","v":""},0,0,{"$f":"IF(A719=\"\",\"\",'個人種目(ジュニア)'!BF9)","v":""},3]
[{"$f":"IF('個人種目(ジュニア)'!K10=\"\",\"\",'個人種目(ジュニア)'!AP10)","v":""},{"$f":"IF(A720=\"\",\"\",'個人種目(ジュニア)'!AV10)","v":""},{"$f":"IF(A720=\"\",\"\",'個人種目(ジュニア)'!BA10)","v":""},{"$f":"IF(A720=\"\",\"\",'個人種目(ジュニア)'!AF10)","v":""},0,0,{"$f":"IF(A720=\"\",\"\",'個人種目(ジュニア)'!BF10)","v":""},3]
[{"$f":"IF('個人種目(ジュニア)'!K11=\"\",\"\",'個人種目(ジュニア)'!AP11)","v":""},{"$f":"IF(A721=\"\",\"\",'個人種目(ジュニア)'!AV11)","v":""},{"$f":"IF(A721=\"\",\"\",'個人種目(ジュニア)'!BA11)","v":""},{"$f":"IF(A721=\"\",\"\",'個人種目(ジュニア)'!AF11)","v":""},0,0,{"$f":"IF(A721=\"\",\"\",'個人種目(ジュニア)'!BF11)","v":""},3]
[{"$f":"IF('個人種目(ジュニア)'!K12=\"\",\"\",'個人種目(ジュニア)'!AP12)","v":""},{"$f":"IF(A722=\"\",\"\",'個人種目(ジュニア)'!AV12)","v":""},{"$f":"IF(A722=\"\",\"\",'個人種目(ジュニア)'!BA12)","v":""},{"$f":"IF(A722=\"\",\"\",'個人種目(ジュニア)'!AF12)","v":""},0,0,{"$f":"IF(A722=\"\",\"\",'個人種目(ジュニア)'!BF12)","v":""},3]
[{"$f":"IF('個人種目(ジュニア)'!K13=\"\",\"\",'個人種目(ジュニア)'!AP13)","v":""},{"$f":"IF(A723=\"\",\"\",'個人種目(ジュニア)'!AV13)","v":""},{"$f":"IF(A723=\"\",\"\",'個人種目(ジュニア)'!BA13)","v":""},{"$f":"IF(A723=\"\",\"\",'個人種目(ジュニア)'!AF13)","v":""},0,0,{"$f":"IF(A723=\"\",\"\",'個人種目(ジュニア)'!BF13)","v":""},3]
[{"$f":"IF('個人種目(ジュニア)'!K14=\"\",\"\",'個人種目(ジュニア)'!AP14)","v":""},{"$f":"IF(A724=\"\",\"\",'個人種目(ジュニア)'!AV14)","v":""},{"$f":"IF(A724=\"\",\"\",'個人種目(ジュニア)'!BA14)","v":""},{"$f":"IF(A724=\"\",\"\",'個人種目(ジュニア)'!AF14)","v":""},0,0,{"$f":"IF(A724=\"\",\"\",'個人種目(ジュニア)'!BF14)","v":""},3]
[{"$f":"IF('個人種目(ジュニア)'!K15=\"\",\"\",'個人種目(ジュニア)'!AP15)","v":""},{"$f":"IF(A725=\"\",\"\",'個人種目(ジュニア)'!AV15)","v":""},{"$f":"IF(A725=\"\",\"\",'個人種目(ジュニア)'!BA15)","v":""},{"$f":"IF(A725=\"\",\"\",'個人種目(ジュニア)'!AF15)","v":""},0,0,{"$f":"IF(A725=\"\",\"\",'個人種目(ジュニア)'!BF15)","v":""},3]
[{"$f":"IF('個人種目(ジュニア)'!K16=\"\",\"\",'個人種目(ジュニア)'!AP16)","v":""},{"$f":"IF(A726=\"\",\"\",'個人種目(ジュニア)'!AV16)","v":""},{"$f":"IF(A726=\"\",\"\",'個人種目(ジュニア)'!BA16)","v":""},{"$f":"IF(A726=\"\",\"\",'個人種目(ジュニア)'!AF16)","v":""},0,0,{"$f":"IF(A726=\"\",\"\",'個人種目(ジュニア)'!BF16)","v":""},3]
[{"$f":"IF('個人種目(ジュニア)'!K17=\"\",\"\",'個人種目(ジュニア)'!AP17)","v":""},{"$f":"IF(A727=\"\",\"\",'個人種目(ジュニア)'!AV17)","v":""},{"$f":"IF(A727=\"\",\"\",'個人種目(ジュニア)'!BA17)","v":""},{"$f":"IF(A727=\"\",\"\",'個人種目(ジュニア)'!AF17)","v":""},0,0,{"$f":"IF(A727=\"\",\"\",'個人種目(ジュニア)'!BF17)","v":""},3]
[{"$f":"IF('個人種目(ジュニア)'!K18=\"\",\"\",'個人種目(ジュニア)'!AP18)","v":""},{"$f":"IF(A728=\"\",\"\",'個人種目(ジュニア)'!AV18)","v":""},{"$f":"IF(A728=\"\",\"\",'個人種目(ジュニア)'!BA18)","v":""},{"$f":"IF(A728=\"\",\"\",'個人種目(ジュニア)'!AF18)","v":""},0,0,{"$f":"IF(A728=\"\",\"\",'個人種目(ジュニア)'!BF18)","v":""},3]
[{"$f":"IF('個人種目(ジュニア)'!K19=\"\",\"\",'個人種目(ジュニア)'!AP19)","v":""},{"$f":"IF(A729=\"\",\"\",'個人種目(ジュニア)'!AV19)","v":""},{"$f":"IF(A729=\"\",\"\",'個人種目(ジュニア)'!BA19)","v":""},{"$f":"IF(A729=\"\",\"\",'個人種目(ジュニア)'!AF19)","v":""},0,0,{"$f":"IF(A729=\"\",\"\",'個人種目(ジュニア)'!BF19)","v":""},3]
[{"$f":"IF('個人種目(ジュニア)'!K20=\"\",\"\",'個人種目(ジュニア)'!AP20)","v":""},{"$f":"IF(A730=\"\",\"\",'個人種目(ジュニア)'!AV20)","v":""},{"$f":"IF(A730=\"\",\"\",'個人種目(ジュニア)'!BA20)","v":""},{"$f":"IF(A730=\"\",\"\",'個人種目(ジュニア)'!AF20)","v":""},0,0,{"$f":"IF(A730=\"\",\"\",'個人種目(ジュニア)'!BF20)","v":""},3]
[{"$f":"IF('個人種目(ジュニア)'!K21=\"\",\"\",'個人種目(ジュニア)'!AP21)","v":""},{"$f":"IF(A731=\"\",\"\",'個人種目(ジュニア)'!AV21)","v":""},{"$f":"IF(A731=\"\",\"\",'個人種目(ジュニア)'!BA21)","v":""},{"$f":"IF(A731=\"\",\"\",'個人種目(ジュニア)'!AF21)","v":""},0,0,{"$f":"IF(A731=\"\",\"\",'個人種目(ジュニア)'!BF21)","v":""},3]
[{"$f":"IF('個人種目(ジュニア)'!K22=\"\",\"\",'個人種目(ジュニア)'!AP22)","v":""},{"$f":"IF(A732=\"\",\"\",'個人種目(ジュニア)'!AV22)","v":""},{"$f":"IF(A732=\"\",\"\",'個人種目(ジュニア)'!BA22)","v":""},{"$f":"IF(A732=\"\",\"\",'個人種目(ジュニア)'!AF22)","v":""},0,0,{"$f":"IF(A732=\"\",\"\",'個人種目(ジュニア)'!BF22)","v":""},3]
[{"$f":"IF('個人種目(ジュニア)'!K23=\"\",\"\",'個人種目(ジュニア)'!AP23)","v":""},{"$f":"IF(A733=\"\",\"\",'個人種目(ジュニア)'!AV23)","v":""},{"$f":"IF(A733=\"\",\"\",'個人種目(ジュニア)'!BA23)","v":""},{"$f":"IF(A733=\"\",\"\",'個人種目(ジュニア)'!AF23)","v":""},0,0,{"$f":"IF(A733=\"\",\"\",'個人種目(ジュニア)'!BF23)","v":""},3]
[{"$f":"IF('個人種目(ジュニア)'!K24=\"\",\"\",'個人種目(ジュニア)'!AP24)","v":""},{"$f":"IF(A734=\"\",\"\",'個人種目(ジュニア)'!AV24)","v":""},{"$f":"IF(A734=\"\",\"\",'個人種目(ジュニア)'!BA24)","v":""},{"$f":"IF(A734=\"\",\"\",'個人種目(ジュニア)'!AF24)","v":""},0,0,{"$f":"IF(A734=\"\",\"\",'個人種目(ジュニア)'!BF24)","v":""},3]
[{"$f":"IF('個人種目(ジュニア)'!K25=\"\",\"\",'個人種目(ジュニア)'!AP25)","v":""},{"$f":"IF(A735=\"\",\"\",'個人種目(ジュニア)'!AV25)","v":""},{"$f":"IF(A735=\"\",\"\",'個人種目(ジュニア)'!BA25)","v":""},{"$f":"IF(A735=\"\",\"\",'個人種目(ジュニア)'!AF25)","v":""},0,0,{"$f":"IF(A735=\"\",\"\",'個人種目(ジュニア)'!BF25)","v":""},3]
[{"$f":"IF('個人種目(ジュニア)'!K26=\"\",\"\",'個人種目(ジュニア)'!AP26)","v":""},{"$f":"IF(A736=\"\",\"\",'個人種目(ジュニア)'!AV26)","v":""},{"$f":"IF(A736=\"\",\"\",'個人種目(ジュニア)'!BA26)","v":""},{"$f":"IF(A736=\"\",\"\",'個人種目(ジュニア)'!AF26)","v":""},0,0,{"$f":"IF(A736=\"\",\"\",'個人種目(ジュニア)'!BF26)","v":""},3]
[{"$f":"IF('個人種目(ジュニア)'!K27=\"\",\"\",'個人種目(ジュニア)'!AP27)","v":""},{"$f":"IF(A737=\"\",\"\",'個人種目(ジュニア)'!AV27)","v":""},{"$f":"IF(A737=\"\",\"\",'個人種目(ジュニア)'!BA27)","v":""},{"$f":"IF(A737=\"\",\"\",'個人種目(ジュニア)'!AF27)","v":""},0,0,{"$f":"IF(A737=\"\",\"\",'個人種目(ジュニア)'!BF27)","v":""},3]
[{"$f":"IF('個人種目(ジュニア)'!K28=\"\",\"\",'個人種目(ジュニア)'!AP28)","v":""},{"$f":"IF(A738=\"\",\"\",'個人種目(ジュニア)'!AV28)","v":""},{"$f":"IF(A738=\"\",\"\",'個人種目(ジュニア)'!BA28)","v":""},{"$f":"IF(A738=\"\",\"\",'個人種目(ジュニア)'!AF28)","v":""},0,0,{"$f":"IF(A738=\"\",\"\",'個人種目(ジュニア)'!BF28)","v":""},3]
[{"$f":"IF('個人種目(ジュニア)'!K29=\"\",\"\",'個人種目(ジュニア)'!AP29)","v":""},{"$f":"IF(A739=\"\",\"\",'個人種目(ジュニア)'!AV29)","v":""},{"$f":"IF(A739=\"\",\"\",'個人種目(ジュニア)'!BA29)","v":""},{"$f":"IF(A739=\"\",\"\",'個人種目(ジュニア)'!AF29)","v":""},0,0,{"$f":"IF(A739=\"\",\"\",'個人種目(ジュニア)'!BF29)","v":""},3]
[{"$f":"IF('個人種目(ジュニア)'!K30=\"\",\"\",'個人種目(ジュニア)'!AP30)","v":""},{"$f":"IF(A740=\"\",\"\",'個人種目(ジュニア)'!AV30)","v":""},{"$f":"IF(A740=\"\",\"\",'個人種目(ジュニア)'!BA30)","v":""},{"$f":"IF(A740=\"\",\"\",'個人種目(ジュニア)'!AF30)","v":""},0,0,{"$f":"IF(A740=\"\",\"\",'個人種目(ジュニア)'!BF30)","v":""},3]
[{"$f":"IF('個人種目(ジュニア)'!K31=\"\",\"\",'個人種目(ジュニア)'!AP31)","v":""},{"$f":"IF(A741=\"\",\"\",'個人種目(ジュニア)'!AV31)","v":""},{"$f":"IF(A741=\"\",\"\",'個人種目(ジュニア)'!BA31)","v":""},{"$f":"IF(A741=\"\",\"\",'個人種目(ジュニア)'!AF31)","v":""},0,0,{"$f":"IF(A741=\"\",\"\",'個人種目(ジュニア)'!BF31)","v":""},3]
[{"$f":"IF('個人種目(ジュニア)'!K32=\"\",\"\",'個人種目(ジュニア)'!AP32)","v":""},{"$f":"IF(A742=\"\",\"\",'個人種目(ジュニア)'!AV32)","v":""},{"$f":"IF(A742=\"\",\"\",'個人種目(ジュニア)'!BA32)","v":""},{"$f":"IF(A742=\"\",\"\",'個人種目(ジュニア)'!AF32)","v":""},0,0,{"$f":"IF(A742=\"\",\"\",'個人種目(ジュニア)'!BF32)","v":""},3]
[{"$f":"IF('個人種目(ジュニア)'!K33=\"\",\"\",'個人種目(ジュニア)'!AP33)","v":""},{"$f":"IF(A743=\"\",\"\",'個人種目(ジュニア)'!AV33)","v":""},{"$f":"IF(A743=\"\",\"\",'個人種目(ジュニア)'!BA33)","v":""},{"$f":"IF(A743=\"\",\"\",'個人種目(ジュニア)'!AF33)","v":""},0,0,{"$f":"IF(A743=\"\",\"\",'個人種目(ジュニア)'!BF33)","v":""},3]
[{"$f":"IF('個人種目(ジュニア)'!K34=\"\",\"\",'個人種目(ジュニア)'!AP34)","v":""},{"$f":"IF(A744=\"\",\"\",'個人種目(ジュニア)'!AV34)","v":""},{"$f":"IF(A744=\"\",\"\",'個人種目(ジュニア)'!BA34)","v":""},{"$f":"IF(A744=\"\",\"\",'個人種目(ジュニア)'!AF34)","v":""},0,0,{"$f":"IF(A744=\"\",\"\",'個人種目(ジュニア)'!BF34)","v":""},3]
[{"$f":"IF('個人種目(ジュニア)'!K35=\"\",\"\",'個人種目(ジュニア)'!AP35)","v":""},{"$f":"IF(A745=\"\",\"\",'個人種目(ジュニア)'!AV35)","v":""},{"$f":"IF(A745=\"\",\"\",'個人種目(ジュニア)'!BA35)","v":""},{"$f":"IF(A745=\"\",\"\",'個人種目(ジュニア)'!AF35)","v":""},0,0,{"$f":"IF(A745=\"\",\"\",'個人種目(ジュニア)'!BF35)","v":""},3]
[{"$f":"IF('個人種目(ジュニア)'!K36=\"\",\"\",'個人種目(ジュニア)'!AP36)","v":""},{"$f":"IF(A746=\"\",\"\",'個人種目(ジュニア)'!AV36)","v":""},{"$f":"IF(A746=\"\",\"\",'個人種目(ジュニア)'!BA36)","v":""},{"$f":"IF(A746=\"\",\"\",'個人種目(ジュニア)'!AF36)","v":""},0,0,{"$f":"IF(A746=\"\",\"\",'個人種目(ジュニア)'!BF36)","v":""},3]
[{"$f":"IF('個人種目(ジュニア)'!K37=\"\",\"\",'個人種目(ジュニア)'!AP37)","v":""},{"$f":"IF(A747=\"\",\"\",'個人種目(ジュニア)'!AV37)","v":""},{"$f":"IF(A747=\"\",\"\",'個人種目(ジュニア)'!BA37)","v":""},{"$f":"IF(A747=\"\",\"\",'個人種目(ジュニア)'!AF37)","v":""},0,0,{"$f":"IF(A747=\"\",\"\",'個人種目(ジュニア)'!BF37)","v":""},3]
[{"$f":"IF('個人種目(ジュニア)'!K38=\"\",\"\",'個人種目(ジュニア)'!AP38)","v":""},{"$f":"IF(A748=\"\",\"\",'個人種目(ジュニア)'!AV38)","v":""},{"$f":"IF(A748=\"\",\"\",'個人種目(ジュニア)'!BA38)","v":""},{"$f":"IF(A748=\"\",\"\",'個人種目(ジュニア)'!AF38)","v":""},0,0,{"$f":"IF(A748=\"\",\"\",'個人種目(ジュニア)'!BF38)","v":""},3]
[{"$f":"IF('個人種目(ジュニア)'!K39=\"\",\"\",'個人種目(ジュニア)'!AP39)","v":""},{"$f":"IF(A749=\"\",\"\",'個人種目(ジュニア)'!AV39)","v":""},{"$f":"IF(A749=\"\",\"\",'個人種目(ジュニア)'!BA39)","v":""},{"$f":"IF(A749=\"\",\"\",'個人種目(ジュニア)'!AF39)","v":""},0,0,{"$f":"IF(A749=\"\",\"\",'個人種目(ジュニア)'!BF39)","v":""},3]
[{"$f":"IF('個人種目(ジュニア)'!K40=\"\",\"\",'個人種目(ジュニア)'!AP40)","v":""},{"$f":"IF(A750=\"\",\"\",'個人種目(ジュニア)'!AV40)","v":""},{"$f":"IF(A750=\"\",\"\",'個人種目(ジュニア)'!BA40)","v":""},{"$f":"IF(A750=\"\",\"\",'個人種目(ジュニア)'!AF40)","v":""},0,0,{"$f":"IF(A750=\"\",\"\",'個人種目(ジュニア)'!BF40)","v":""},3]
[{"$f":"IF('個人種目(ジュニア)'!K41=\"\",\"\",'個人種目(ジュニア)'!AP41)","v":""},{"$f":"IF(A751=\"\",\"\",'個人種目(ジュニア)'!AV41)","v":""},{"$f":"IF(A751=\"\",\"\",'個人種目(ジュニア)'!BA41)","v":""},{"$f":"IF(A751=\"\",\"\",'個人種目(ジュニア)'!AF41)","v":""},0,0,{"$f":"IF(A751=\"\",\"\",'個人種目(ジュニア)'!BF41)","v":""},3]
[{"$f":"IF('個人種目(ジュニア)'!K42=\"\",\"\",'個人種目(ジュニア)'!AP42)","v":""},{"$f":"IF(A752=\"\",\"\",'個人種目(ジュニア)'!AV42)","v":""},{"$f":"IF(A752=\"\",\"\",'個人種目(ジュニア)'!BA42)","v":""},{"$f":"IF(A752=\"\",\"\",'個人種目(ジュニア)'!AF42)","v":""},0,0,{"$f":"IF(A752=\"\",\"\",'個人種目(ジュニア)'!BF42)","v":""},3]
[{"$f":"IF('個人種目(ジュニア)'!K43=\"\",\"\",'個人種目(ジュニア)'!AP43)","v":""},{"$f":"IF(A753=\"\",\"\",'個人種目(ジュニア)'!AV43)","v":""},{"$f":"IF(A753=\"\",\"\",'個人種目(ジュニア)'!BA43)","v":""},{"$f":"IF(A753=\"\",\"\",'個人種目(ジュニア)'!AF43)","v":""},0,0,{"$f":"IF(A753=\"\",\"\",'個人種目(ジュニア)'!BF43)","v":""},3]
[{"$f":"IF('個人種目(ジュニア)'!K44=\"\",\"\",'個人種目(ジュニア)'!AP44)","v":""},{"$f":"IF(A754=\"\",\"\",'個人種目(ジュニア)'!AV44)","v":""},{"$f":"IF(A754=\"\",\"\",'個人種目(ジュニア)'!BA44)","v":""},{"$f":"IF(A754=\"\",\"\",'個人種目(ジュニア)'!AF44)","v":""},0,0,{"$f":"IF(A754=\"\",\"\",'個人種目(ジュニア)'!BF44)","v":""},3]
[{"$f":"IF('個人種目(ジュニア)'!K45=\"\",\"\",'個人種目(ジュニア)'!AP45)","v":""},{"$f":"IF(A755=\"\",\"\",'個人種目(ジュニア)'!AV45)","v":""},{"$f":"IF(A755=\"\",\"\",'個人種目(ジュニア)'!BA45)","v":""},{"$f":"IF(A755=\"\",\"\",'個人種目(ジュニア)'!AF45)","v":""},0,0,{"$f":"IF(A755=\"\",\"\",'個人種目(ジュニア)'!BF45)","v":""},3]
[{"$f":"IF('個人種目(ジュニア)'!K46=\"\",\"\",'個人種目(ジュニア)'!AP46)","v":""},{"$f":"IF(A756=\"\",\"\",'個人種目(ジュニア)'!AV46)","v":""},{"$f":"IF(A756=\"\",\"\",'個人種目(ジュニア)'!BA46)","v":""},{"$f":"IF(A756=\"\",\"\",'個人種目(ジュニア)'!AF46)","v":""},0,0,{"$f":"IF(A756=\"\",\"\",'個人種目(ジュニア)'!BF46)","v":""},3]
[{"$f":"IF('個人種目(ジュニア)'!K47=\"\",\"\",'個人種目(ジュニア)'!AP47)","v":""},{"$f":"IF(A757=\"\",\"\",'個人種目(ジュニア)'!AV47)","v":""},{"$f":"IF(A757=\"\",\"\",'個人種目(ジュニア)'!BA47)","v":""},{"$f":"IF(A757=\"\",\"\",'個人種目(ジュニア)'!AF47)","v":""},0,0,{"$f":"IF(A757=\"\",\"\",'個人種目(ジュニア)'!BF47)","v":""},3]
[{"$f":"IF('個人種目(ジュニア)'!K48=\"\",\"\",'個人種目(ジュニア)'!AP48)","v":""},{"$f":"IF(A758=\"\",\"\",'個人種目(ジュニア)'!AV48)","v":""},{"$f":"IF(A758=\"\",\"\",'個人種目(ジュニア)'!BA48)","v":""},{"$f":"IF(A758=\"\",\"\",'個人種目(ジュニア)'!AF48)","v":""},0,0,{"$f":"IF(A758=\"\",\"\",'個人種目(ジュニア)'!BF48)","v":""},3]
[{"$f":"IF('個人種目(ジュニア)'!K49=\"\",\"\",'個人種目(ジュニア)'!AP49)","v":""},{"$f":"IF(A759=\"\",\"\",'個人種目(ジュニア)'!AV49)","v":""},{"$f":"IF(A759=\"\",\"\",'個人種目(ジュニア)'!BA49)","v":""},{"$f":"IF(A759=\"\",\"\",'個人種目(ジュニア)'!AF49)","v":""},0,0,{"$f":"IF(A759=\"\",\"\",'個人種目(ジュニア)'!BF49)","v":""},3]
[{"$f":"IF('個人種目(ジュニア)'!K50=\"\",\"\",'個人種目(ジュニア)'!AP50)","v":""},{"$f":"IF(A760=\"\",\"\",'個人種目(ジュニア)'!AV50)","v":""},{"$f":"IF(A760=\"\",\"\",'個人種目(ジュニア)'!BA50)","v":""},{"$f":"IF(A760=\"\",\"\",'個人種目(ジュニア)'!AF50)","v":""},0,0,{"$f":"IF(A760=\"\",\"\",'個人種目(ジュニア)'!BF50)","v":""},3]
[{"$f":"IF('個人種目(ジュニア)'!K51=\"\",\"\",'個人種目(ジュニア)'!AP51)","v":""},{"$f":"IF(A761=\"\",\"\",'個人種目(ジュニア)'!AV51)","v":""},{"$f":"IF(A761=\"\",\"\",'個人種目(ジュニア)'!BA51)","v":""},{"$f":"IF(A761=\"\",\"\",'個人種目(ジュニア)'!AF51)","v":""},0,0,{"$f":"IF(A761=\"\",\"\",'個人種目(ジュニア)'!BF51)","v":""},3]
[{"$f":"IF('個人種目(ジュニア)'!K52=\"\",\"\",'個人種目(ジュニア)'!AP52)","v":""},{"$f":"IF(A762=\"\",\"\",'個人種目(ジュニア)'!AV52)","v":""},{"$f":"IF(A762=\"\",\"\",'個人種目(ジュニア)'!BA52)","v":""},{"$f":"IF(A762=\"\",\"\",'個人種目(ジュニア)'!AF52)","v":""},0,0,{"$f":"IF(A762=\"\",\"\",'個人種目(ジュニア)'!BF52)","v":""},3]
[{"$f":"IF('個人種目(ジュニア)'!K53=\"\",\"\",'個人種目(ジュニア)'!AP53)","v":""},{"$f":"IF(A763=\"\",\"\",'個人種目(ジュニア)'!AV53)","v":""},{"$f":"IF(A763=\"\",\"\",'個人種目(ジュニア)'!BA53)","v":""},{"$f":"IF(A763=\"\",\"\",'個人種目(ジュニア)'!AF53)","v":""},0,0,{"$f":"IF(A763=\"\",\"\",'個人種目(ジュニア)'!BF53)","v":""},3]
[{"$f":"IF('個人種目(ジュニア)'!K54=\"\",\"\",'個人種目(ジュニア)'!AP54)","v":""},{"$f":"IF(A764=\"\",\"\",'個人種目(ジュニア)'!AV54)","v":""},{"$f":"IF(A764=\"\",\"\",'個人種目(ジュニア)'!BA54)","v":""},{"$f":"IF(A764=\"\",\"\",'個人種目(ジュニア)'!AF54)","v":""},0,0,{"$f":"IF(A764=\"\",\"\",'個人種目(ジュニア)'!BF54)","v":""},3]
[{"$f":"IF('個人種目(ジュニア)'!K55=\"\",\"\",'個人種目(ジュニア)'!AP55)","v":""},{"$f":"IF(A765=\"\",\"\",'個人種目(ジュニア)'!AV55)","v":""},{"$f":"IF(A765=\"\",\"\",'個人種目(ジュニア)'!BA55)","v":""},{"$f":"IF(A765=\"\",\"\",'個人種目(ジュニア)'!AF55)","v":""},0,0,{"$f":"IF(A765=\"\",\"\",'個人種目(ジュニア)'!BF55)","v":""},3]
[]
[]
[{"$f":"IF('個人種目(ジュニア)'!K58=\"\",\"\",'個人種目(ジュニア)'!AP58)","v":""},{"$f":"IF(A768=\"\",\"\",'個人種目(ジュニア)'!AV58)","v":""},{"$f":"IF(A768=\"\",\"\",'個人種目(ジュニア)'!BA58)","v":""},{"$f":"IF(A768=\"\",\"\",'個人種目(ジュニア)'!AF58)","v":""},0,5,{"$f":"IF(A768=\"\",\"\",'個人種目(ジュニア)'!BF58)","v":""},3]
[{"$f":"IF('個人種目(ジュニア)'!K59=\"\",\"\",'個人種目(ジュニア)'!AP59)","v":""},{"$f":"IF(A769=\"\",\"\",'個人種目(ジュニア)'!AV59)","v":""},{"$f":"IF(A769=\"\",\"\",'個人種目(ジュニア)'!BA59)","v":""},{"$f":"IF(A769=\"\",\"\",'個人種目(ジュニア)'!AF59)","v":""},0,5,{"$f":"IF(A769=\"\",\"\",'個人種目(ジュニア)'!BF59)","v":""},3]
[{"$f":"IF('個人種目(ジュニア)'!K60=\"\",\"\",'個人種目(ジュニア)'!AP60)","v":""},{"$f":"IF(A770=\"\",\"\",'個人種目(ジュニア)'!AV60)","v":""},{"$f":"IF(A770=\"\",\"\",'個人種目(ジュニア)'!BA60)","v":""},{"$f":"IF(A770=\"\",\"\",'個人種目(ジュニア)'!AF60)","v":""},0,5,{"$f":"IF(A770=\"\",\"\",'個人種目(ジュニア)'!BF60)","v":""},3]
[{"$f":"IF('個人種目(ジュニア)'!K61=\"\",\"\",'個人種目(ジュニア)'!AP61)","v":""},{"$f":"IF(A771=\"\",\"\",'個人種目(ジュニア)'!AV61)","v":""},{"$f":"IF(A771=\"\",\"\",'個人種目(ジュニア)'!BA61)","v":""},{"$f":"IF(A771=\"\",\"\",'個人種目(ジュニア)'!AF61)","v":""},0,5,{"$f":"IF(A771=\"\",\"\",'個人種目(ジュニア)'!BF61)","v":""},3]
[{"$f":"IF('個人種目(ジュニア)'!K62=\"\",\"\",'個人種目(ジュニア)'!AP62)","v":""},{"$f":"IF(A772=\"\",\"\",'個人種目(ジュニア)'!AV62)","v":""},{"$f":"IF(A772=\"\",\"\",'個人種目(ジュニア)'!BA62)","v":""},{"$f":"IF(A772=\"\",\"\",'個人種目(ジュニア)'!AF62)","v":""},0,5,{"$f":"IF(A772=\"\",\"\",'個人種目(ジュニア)'!BF62)","v":""},3]
[{"$f":"IF('個人種目(ジュニア)'!K63=\"\",\"\",'個人種目(ジュニア)'!AP63)","v":""},{"$f":"IF(A773=\"\",\"\",'個人種目(ジュニア)'!AV63)","v":""},{"$f":"IF(A773=\"\",\"\",'個人種目(ジュニア)'!BA63)","v":""},{"$f":"IF(A773=\"\",\"\",'個人種目(ジュニア)'!AF63)","v":""},0,5,{"$f":"IF(A773=\"\",\"\",'個人種目(ジュニア)'!BF63)","v":""},3]
[{"$f":"IF('個人種目(ジュニア)'!K64=\"\",\"\",'個人種目(ジュニア)'!AP64)","v":""},{"$f":"IF(A774=\"\",\"\",'個人種目(ジュニア)'!AV64)","v":""},{"$f":"IF(A774=\"\",\"\",'個人種目(ジュニア)'!BA64)","v":""},{"$f":"IF(A774=\"\",\"\",'個人種目(ジュニア)'!AF64)","v":""},0,5,{"$f":"IF(A774=\"\",\"\",'個人種目(ジュニア)'!BF64)","v":""},3]
[{"$f":"IF('個人種目(ジュニア)'!K65=\"\",\"\",'個人種目(ジュニア)'!AP65)","v":""},{"$f":"IF(A775=\"\",\"\",'個人種目(ジュニア)'!AV65)","v":""},{"$f":"IF(A775=\"\",\"\",'個人種目(ジュニア)'!BA65)","v":""},{"$f":"IF(A775=\"\",\"\",'個人種目(ジュニア)'!AF65)","v":""},0,5,{"$f":"IF(A775=\"\",\"\",'個人種目(ジュニア)'!BF65)","v":""},3]
[{"$f":"IF('個人種目(ジュニア)'!K66=\"\",\"\",'個人種目(ジュニア)'!AP66)","v":""},{"$f":"IF(A776=\"\",\"\",'個人種目(ジュニア)'!AV66)","v":""},{"$f":"IF(A776=\"\",\"\",'個人種目(ジュニア)'!BA66)","v":""},{"$f":"IF(A776=\"\",\"\",'個人種目(ジュニア)'!AF66)","v":""},0,5,{"$f":"IF(A776=\"\",\"\",'個人種目(ジュニア)'!BF66)","v":""},3]
[{"$f":"IF('個人種目(ジュニア)'!K67=\"\",\"\",'個人種目(ジュニア)'!AP67)","v":""},{"$f":"IF(A777=\"\",\"\",'個人種目(ジュニア)'!AV67)","v":""},{"$f":"IF(A777=\"\",\"\",'個人種目(ジュニア)'!BA67)","v":""},{"$f":"IF(A777=\"\",\"\",'個人種目(ジュニア)'!AF67)","v":""},0,5,{"$f":"IF(A777=\"\",\"\",'個人種目(ジュニア)'!BF67)","v":""},3]
[{"$f":"IF('個人種目(ジュニア)'!K68=\"\",\"\",'個人種目(ジュニア)'!AP68)","v":""},{"$f":"IF(A778=\"\",\"\",'個人種目(ジュニア)'!AV68)","v":""},{"$f":"IF(A778=\"\",\"\",'個人種目(ジュニア)'!BA68)","v":""},{"$f":"IF(A778=\"\",\"\",'個人種目(ジュニア)'!AF68)","v":""},0,5,{"$f":"IF(A778=\"\",\"\",'個人種目(ジュニア)'!BF68)","v":""},3]
[{"$f":"IF('個人種目(ジュニア)'!K69=\"\",\"\",'個人種目(ジュニア)'!AP69)","v":""},{"$f":"IF(A779=\"\",\"\",'個人種目(ジュニア)'!AV69)","v":""},{"$f":"IF(A779=\"\",\"\",'個人種目(ジュニア)'!BA69)","v":""},{"$f":"IF(A779=\"\",\"\",'個人種目(ジュニア)'!AF69)","v":""},0,5,{"$f":"IF(A779=\"\",\"\",'個人種目(ジュニア)'!BF69)","v":""},3]
[{"$f":"IF('個人種目(ジュニア)'!K70=\"\",\"\",'個人種目(ジュニア)'!AP70)","v":""},{"$f":"IF(A780=\"\",\"\",'個人種目(ジュニア)'!AV70)","v":""},{"$f":"IF(A780=\"\",\"\",'個人種目(ジュニア)'!BA70)","v":""},{"$f":"IF(A780=\"\",\"\",'個人種目(ジュニア)'!AF70)","v":""},0,5,{"$f":"IF(A780=\"\",\"\",'個人種目(ジュニア)'!BF70)","v":""},3]
[{"$f":"IF('個人種目(ジュニア)'!K71=\"\",\"\",'個人種目(ジュニア)'!AP71)","v":""},{"$f":"IF(A781=\"\",\"\",'個人種目(ジュニア)'!AV71)","v":""},{"$f":"IF(A781=\"\",\"\",'個人種目(ジュニア)'!BA71)","v":""},{"$f":"IF(A781=\"\",\"\",'個人種目(ジュニア)'!AF71)","v":""},0,5,{"$f":"IF(A781=\"\",\"\",'個人種目(ジュニア)'!BF71)","v":""},3]
[{"$f":"IF('個人種目(ジュニア)'!K72=\"\",\"\",'個人種目(ジュニア)'!AP72)","v":""},{"$f":"IF(A782=\"\",\"\",'個人種目(ジュニア)'!AV72)","v":""},{"$f":"IF(A782=\"\",\"\",'個人種目(ジュニア)'!BA72)","v":""},{"$f":"IF(A782=\"\",\"\",'個人種目(ジュニア)'!AF72)","v":""},0,5,{"$f":"IF(A782=\"\",\"\",'個人種目(ジュニア)'!BF72)","v":""},3]
[{"$f":"IF('個人種目(ジュニア)'!K73=\"\",\"\",'個人種目(ジュニア)'!AP73)","v":""},{"$f":"IF(A783=\"\",\"\",'個人種目(ジュニア)'!AV73)","v":""},{"$f":"IF(A783=\"\",\"\",'個人種目(ジュニア)'!BA73)","v":""},{"$f":"IF(A783=\"\",\"\",'個人種目(ジュニア)'!AF73)","v":""},0,5,{"$f":"IF(A783=\"\",\"\",'個人種目(ジュニア)'!BF73)","v":""},3]
[{"$f":"IF('個人種目(ジュニア)'!K74=\"\",\"\",'個人種目(ジュニア)'!AP74)","v":""},{"$f":"IF(A784=\"\",\"\",'個人種目(ジュニア)'!AV74)","v":""},{"$f":"IF(A784=\"\",\"\",'個人種目(ジュニア)'!BA74)","v":""},{"$f":"IF(A784=\"\",\"\",'個人種目(ジュニア)'!AF74)","v":""},0,5,{"$f":"IF(A784=\"\",\"\",'個人種目(ジュニア)'!BF74)","v":""},3]
[{"$f":"IF('個人種目(ジュニア)'!K75=\"\",\"\",'個人種目(ジュニア)'!AP75)","v":""},{"$f":"IF(A785=\"\",\"\",'個人種目(ジュニア)'!AV75)","v":""},{"$f":"IF(A785=\"\",\"\",'個人種目(ジュニア)'!BA75)","v":""},{"$f":"IF(A785=\"\",\"\",'個人種目(ジュニア)'!AF75)","v":""},0,5,{"$f":"IF(A785=\"\",\"\",'個人種目(ジュニア)'!BF75)","v":""},3]
[{"$f":"IF('個人種目(ジュニア)'!K76=\"\",\"\",'個人種目(ジュニア)'!AP76)","v":""},{"$f":"IF(A786=\"\",\"\",'個人種目(ジュニア)'!AV76)","v":""},{"$f":"IF(A786=\"\",\"\",'個人種目(ジュニア)'!BA76)","v":""},{"$f":"IF(A786=\"\",\"\",'個人種目(ジュニア)'!AF76)","v":""},0,5,{"$f":"IF(A786=\"\",\"\",'個人種目(ジュニア)'!BF76)","v":""},3]
[{"$f":"IF('個人種目(ジュニア)'!K77=\"\",\"\",'個人種目(ジュニア)'!AP77)","v":""},{"$f":"IF(A787=\"\",\"\",'個人種目(ジュニア)'!AV77)","v":""},{"$f":"IF(A787=\"\",\"\",'個人種目(ジュニア)'!BA77)","v":""},{"$f":"IF(A787=\"\",\"\",'個人種目(ジュニア)'!AF77)","v":""},0,5,{"$f":"IF(A787=\"\",\"\",'個人種目(ジュニア)'!BF77)","v":""},3]
[{"$f":"IF('個人種目(ジュニア)'!K78=\"\",\"\",'個人種目(ジュニア)'!AP78)","v":""},{"$f":"IF(A788=\"\",\"\",'個人種目(ジュニア)'!AV78)","v":""},{"$f":"IF(A788=\"\",\"\",'個人種目(ジュニア)'!BA78)","v":""},{"$f":"IF(A788=\"\",\"\",'個人種目(ジュニア)'!AF78)","v":""},0,5,{"$f":"IF(A788=\"\",\"\",'個人種目(ジュニア)'!BF78)","v":""},3]
[{"$f":"IF('個人種目(ジュニア)'!K79=\"\",\"\",'個人種目(ジュニア)'!AP79)","v":""},{"$f":"IF(A789=\"\",\"\",'個人種目(ジュニア)'!AV79)","v":""},{"$f":"IF(A789=\"\",\"\",'個人種目(ジュニア)'!BA79)","v":""},{"$f":"IF(A789=\"\",\"\",'個人種目(ジュニア)'!AF79)","v":""},0,5,{"$f":"IF(A789=\"\",\"\",'個人種目(ジュニア)'!BF79)","v":""},3]
[{"$f":"IF('個人種目(ジュニア)'!K80=\"\",\"\",'個人種目(ジュニア)'!AP80)","v":""},{"$f":"IF(A790=\"\",\"\",'個人種目(ジュニア)'!AV80)","v":""},{"$f":"IF(A790=\"\",\"\",'個人種目(ジュニア)'!BA80)","v":""},{"$f":"IF(A790=\"\",\"\",'個人種目(ジュニア)'!AF80)","v":""},0,5,{"$f":"IF(A790=\"\",\"\",'個人種目(ジュニア)'!BF80)","v":""},3]
[{"$f":"IF('個人種目(ジュニア)'!K81=\"\",\"\",'個人種目(ジュニア)'!AP81)","v":""},{"$f":"IF(A791=\"\",\"\",'個人種目(ジュニア)'!AV81)","v":""},{"$f":"IF(A791=\"\",\"\",'個人種目(ジュニア)'!BA81)","v":""},{"$f":"IF(A791=\"\",\"\",'個人種目(ジュニア)'!AF81)","v":""},0,5,{"$f":"IF(A791=\"\",\"\",'個人種目(ジュニア)'!BF81)","v":""},3]
[{"$f":"IF('個人種目(ジュニア)'!K82=\"\",\"\",'個人種目(ジュニア)'!AP82)","v":""},{"$f":"IF(A792=\"\",\"\",'個人種目(ジュニア)'!AV82)","v":""},{"$f":"IF(A792=\"\",\"\",'個人種目(ジュニア)'!BA82)","v":""},{"$f":"IF(A792=\"\",\"\",'個人種目(ジュニア)'!AF82)","v":""},0,5,{"$f":"IF(A792=\"\",\"\",'個人種目(ジュニア)'!BF82)","v":""},3]
[{"$f":"IF('個人種目(ジュニア)'!K83=\"\",\"\",'個人種目(ジュニア)'!AP83)","v":""},{"$f":"IF(A793=\"\",\"\",'個人種目(ジュニア)'!AV83)","v":""},{"$f":"IF(A793=\"\",\"\",'個人種目(ジュニア)'!BA83)","v":""},{"$f":"IF(A793=\"\",\"\",'個人種目(ジュニア)'!AF83)","v":""},0,5,{"$f":"IF(A793=\"\",\"\",'個人種目(ジュニア)'!BF83)","v":""},3]
[{"$f":"IF('個人種目(ジュニア)'!K84=\"\",\"\",'個人種目(ジュニア)'!AP84)","v":""},{"$f":"IF(A794=\"\",\"\",'個人種目(ジュニア)'!AV84)","v":""},{"$f":"IF(A794=\"\",\"\",'個人種目(ジュニア)'!BA84)","v":""},{"$f":"IF(A794=\"\",\"\",'個人種目(ジュニア)'!AF84)","v":""},0,5,{"$f":"IF(A794=\"\",\"\",'個人種目(ジュニア)'!BF84)","v":""},3]
[{"$f":"IF('個人種目(ジュニア)'!K85=\"\",\"\",'個人種目(ジュニア)'!AP85)","v":""},{"$f":"IF(A795=\"\",\"\",'個人種目(ジュニア)'!AV85)","v":""},{"$f":"IF(A795=\"\",\"\",'個人種目(ジュニア)'!BA85)","v":""},{"$f":"IF(A795=\"\",\"\",'個人種目(ジュニア)'!AF85)","v":""},0,5,{"$f":"IF(A795=\"\",\"\",'個人種目(ジュニア)'!BF85)","v":""},3]
[{"$f":"IF('個人種目(ジュニア)'!K86=\"\",\"\",'個人種目(ジュニア)'!AP86)","v":""},{"$f":"IF(A796=\"\",\"\",'個人種目(ジュニア)'!AV86)","v":""},{"$f":"IF(A796=\"\",\"\",'個人種目(ジュニア)'!BA86)","v":""},{"$f":"IF(A796=\"\",\"\",'個人種目(ジュニア)'!AF86)","v":""},0,5,{"$f":"IF(A796=\"\",\"\",'個人種目(ジュニア)'!BF86)","v":""},3]
[{"$f":"IF('個人種目(ジュニア)'!K87=\"\",\"\",'個人種目(ジュニア)'!AP87)","v":""},{"$f":"IF(A797=\"\",\"\",'個人種目(ジュニア)'!AV87)","v":""},{"$f":"IF(A797=\"\",\"\",'個人種目(ジュニア)'!BA87)","v":""},{"$f":"IF(A797=\"\",\"\",'個人種目(ジュニア)'!AF87)","v":""},0,5,{"$f":"IF(A797=\"\",\"\",'個人種目(ジュニア)'!BF87)","v":""},3]
[{"$f":"IF('個人種目(ジュニア)'!K88=\"\",\"\",'個人種目(ジュニア)'!AP88)","v":""},{"$f":"IF(A798=\"\",\"\",'個人種目(ジュニア)'!AV88)","v":""},{"$f":"IF(A798=\"\",\"\",'個人種目(ジュニア)'!BA88)","v":""},{"$f":"IF(A798=\"\",\"\",'個人種目(ジュニア)'!AF88)","v":""},0,5,{"$f":"IF(A798=\"\",\"\",'個人種目(ジュニア)'!BF88)","v":""},3]
[{"$f":"IF('個人種目(ジュニア)'!K89=\"\",\"\",'個人種目(ジュニア)'!AP89)","v":""},{"$f":"IF(A799=\"\",\"\",'個人種目(ジュニア)'!AV89)","v":""},{"$f":"IF(A799=\"\",\"\",'個人種目(ジュニア)'!BA89)","v":""},{"$f":"IF(A799=\"\",\"\",'個人種目(ジュニア)'!AF89)","v":""},0,5,{"$f":"IF(A799=\"\",\"\",'個人種目(ジュニア)'!BF89)","v":""},3]
[{"$f":"IF('個人種目(ジュニア)'!K90=\"\",\"\",'個人種目(ジュニア)'!AP90)","v":""},{"$f":"IF(A800=\"\",\"\",'個人種目(ジュニア)'!AV90)","v":""},{"$f":"IF(A800=\"\",\"\",'個人種目(ジュニア)'!BA90)","v":""},{"$f":"IF(A800=\"\",\"\",'個人種目(ジュニア)'!AF90)","v":""},0,5,{"$f":"IF(A800=\"\",\"\",'個人種目(ジュニア)'!BF90)","v":""},3]
[{"$f":"IF('個人種目(ジュニア)'!K91=\"\",\"\",'個人種目(ジュニア)'!AP91)","v":""},{"$f":"IF(A801=\"\",\"\",'個人種目(ジュニア)'!AV91)","v":""},{"$f":"IF(A801=\"\",\"\",'個人種目(ジュニア)'!BA91)","v":""},{"$f":"IF(A801=\"\",\"\",'個人種目(ジュニア)'!AF91)","v":""},0,5,{"$f":"IF(A801=\"\",\"\",'個人種目(ジュニア)'!BF91)","v":""},3]
[{"$f":"IF('個人種目(ジュニア)'!K92=\"\",\"\",'個人種目(ジュニア)'!AP92)","v":""},{"$f":"IF(A802=\"\",\"\",'個人種目(ジュニア)'!AV92)","v":""},{"$f":"IF(A802=\"\",\"\",'個人種目(ジュニア)'!BA92)","v":""},{"$f":"IF(A802=\"\",\"\",'個人種目(ジュニア)'!AF92)","v":""},0,5,{"$f":"IF(A802=\"\",\"\",'個人種目(ジュニア)'!BF92)","v":""},3]
[{"$f":"IF('個人種目(ジュニア)'!K93=\"\",\"\",'個人種目(ジュニア)'!AP93)","v":""},{"$f":"IF(A803=\"\",\"\",'個人種目(ジュニア)'!AV93)","v":""},{"$f":"IF(A803=\"\",\"\",'個人種目(ジュニア)'!BA93)","v":""},{"$f":"IF(A803=\"\",\"\",'個人種目(ジュニア)'!AF93)","v":""},0,5,{"$f":"IF(A803=\"\",\"\",'個人種目(ジュニア)'!BF93)","v":""},3]
[{"$f":"IF('個人種目(ジュニア)'!K94=\"\",\"\",'個人種目(ジュニア)'!AP94)","v":""},{"$f":"IF(A804=\"\",\"\",'個人種目(ジュニア)'!AV94)","v":""},{"$f":"IF(A804=\"\",\"\",'個人種目(ジュニア)'!BA94)","v":""},{"$f":"IF(A804=\"\",\"\",'個人種目(ジュニア)'!AF94)","v":""},0,5,{"$f":"IF(A804=\"\",\"\",'個人種目(ジュニア)'!BF94)","v":""},3]
[{"$f":"IF('個人種目(ジュニア)'!K95=\"\",\"\",'個人種目(ジュニア)'!AP95)","v":""},{"$f":"IF(A805=\"\",\"\",'個人種目(ジュニア)'!AV95)","v":""},{"$f":"IF(A805=\"\",\"\",'個人種目(ジュニア)'!BA95)","v":""},{"$f":"IF(A805=\"\",\"\",'個人種目(ジュニア)'!AF95)","v":""},0,5,{"$f":"IF(A805=\"\",\"\",'個人種目(ジュニア)'!BF95)","v":""},3]
[{"$f":"IF('個人種目(ジュニア)'!K96=\"\",\"\",'個人種目(ジュニア)'!AP96)","v":""},{"$f":"IF(A806=\"\",\"\",'個人種目(ジュニア)'!AV96)","v":""},{"$f":"IF(A806=\"\",\"\",'個人種目(ジュニア)'!BA96)","v":""},{"$f":"IF(A806=\"\",\"\",'個人種目(ジュニア)'!AF96)","v":""},0,5,{"$f":"IF(A806=\"\",\"\",'個人種目(ジュニア)'!BF96)","v":""},3]
[{"$f":"IF('個人種目(ジュニア)'!K97=\"\",\"\",'個人種目(ジュニア)'!AP97)","v":""},{"$f":"IF(A807=\"\",\"\",'個人種目(ジュニア)'!AV97)","v":""},{"$f":"IF(A807=\"\",\"\",'個人種目(ジュニア)'!BA97)","v":""},{"$f":"IF(A807=\"\",\"\",'個人種目(ジュニア)'!AF97)","v":""},0,5,{"$f":"IF(A807=\"\",\"\",'個人種目(ジュニア)'!BF97)","v":""},3]
[{"$f":"IF('個人種目(ジュニア)'!K98=\"\",\"\",'個人種目(ジュニア)'!AP98)","v":""},{"$f":"IF(A808=\"\",\"\",'個人種目(ジュニア)'!AV98)","v":""},{"$f":"IF(A808=\"\",\"\",'個人種目(ジュニア)'!BA98)","v":""},{"$f":"IF(A808=\"\",\"\",'個人種目(ジュニア)'!AF98)","v":""},0,5,{"$f":"IF(A808=\"\",\"\",'個人種目(ジュニア)'!BF98)","v":""},3]
[{"$f":"IF('個人種目(ジュニア)'!K99=\"\",\"\",'個人種目(ジュニア)'!AP99)","v":""},{"$f":"IF(A809=\"\",\"\",'個人種目(ジュニア)'!AV99)","v":""},{"$f":"IF(A809=\"\",\"\",'個人種目(ジュニア)'!BA99)","v":""},{"$f":"IF(A809=\"\",\"\",'個人種目(ジュニア)'!AF99)","v":""},0,5,{"$f":"IF(A809=\"\",\"\",'個人種目(ジュニア)'!BF99)","v":""},3]
[{"$f":"IF('個人種目(ジュニア)'!K100=\"\",\"\",'個人種目(ジュニア)'!AP100)","v":""},{"$f":"IF(A810=\"\",\"\",'個人種目(ジュニア)'!AV100)","v":""},{"$f":"IF(A810=\"\",\"\",'個人種目(ジュニア)'!BA100)","v":""},{"$f":"IF(A810=\"\",\"\",'個人種目(ジュニア)'!AF100)","v":""},0,5,{"$f":"IF(A810=\"\",\"\",'個人種目(ジュニア)'!BF100)","v":""},3]
[{"$f":"IF('個人種目(ジュニア)'!K101=\"\",\"\",'個人種目(ジュニア)'!AP101)","v":""},{"$f":"IF(A811=\"\",\"\",'個人種目(ジュニア)'!AV101)","v":""},{"$f":"IF(A811=\"\",\"\",'個人種目(ジュニア)'!BA101)","v":""},{"$f":"IF(A811=\"\",\"\",'個人種目(ジュニア)'!AF101)","v":""},0,5,{"$f":"IF(A811=\"\",\"\",'個人種目(ジュニア)'!BF101)","v":""},3]
[{"$f":"IF('個人種目(ジュニア)'!K102=\"\",\"\",'個人種目(ジュニア)'!AP102)","v":""},{"$f":"IF(A812=\"\",\"\",'個人種目(ジュニア)'!AV102)","v":""},{"$f":"IF(A812=\"\",\"\",'個人種目(ジュニア)'!BA102)","v":""},{"$f":"IF(A812=\"\",\"\",'個人種目(ジュニア)'!AF102)","v":""},0,5,{"$f":"IF(A812=\"\",\"\",'個人種目(ジュニア)'!BF102)","v":""},3]
[{"$f":"IF('個人種目(ジュニア)'!K103=\"\",\"\",'個人種目(ジュニア)'!AP103)","v":""},{"$f":"IF(A813=\"\",\"\",'個人種目(ジュニア)'!AV103)","v":""},{"$f":"IF(A813=\"\",\"\",'個人種目(ジュニア)'!BA103)","v":""},{"$f":"IF(A813=\"\",\"\",'個人種目(ジュニア)'!AF103)","v":""},0,5,{"$f":"IF(A813=\"\",\"\",'個人種目(ジュニア)'!BF103)","v":""},3]
[{"$f":"IF('個人種目(ジュニア)'!K104=\"\",\"\",'個人種目(ジュニア)'!AP104)","v":""},{"$f":"IF(A814=\"\",\"\",'個人種目(ジュニア)'!AV104)","v":""},{"$f":"IF(A814=\"\",\"\",'個人種目(ジュニア)'!BA104)","v":""},{"$f":"IF(A814=\"\",\"\",'個人種目(ジュニア)'!AF104)","v":""},0,5,{"$f":"IF(A814=\"\",\"\",'個人種目(ジュニア)'!BF104)","v":""},3]
[{"$f":"IF('個人種目(ジュニア)'!K105=\"\",\"\",'個人種目(ジュニア)'!AP105)","v":""},{"$f":"IF(A815=\"\",\"\",'個人種目(ジュニア)'!AV105)","v":""},{"$f":"IF(A815=\"\",\"\",'個人種目(ジュニア)'!BA105)","v":""},{"$f":"IF(A815=\"\",\"\",'個人種目(ジュニア)'!AF105)","v":""},0,5,{"$f":"IF(A815=\"\",\"\",'個人種目(ジュニア)'!BF105)","v":""},3]
[{"$f":"IF('個人種目(ジュニア)'!K106=\"\",\"\",'個人種目(ジュニア)'!AP106)","v":""},{"$f":"IF(A816=\"\",\"\",'個人種目(ジュニア)'!AV106)","v":""},{"$f":"IF(A816=\"\",\"\",'個人種目(ジュニア)'!BA106)","v":""},{"$f":"IF(A816=\"\",\"\",'個人種目(ジュニア)'!AF106)","v":""},0,5,{"$f":"IF(A816=\"\",\"\",'個人種目(ジュニア)'!BF106)","v":""},3]
[{"$f":"IF('個人種目(ジュニア)'!K107=\"\",\"\",'個人種目(ジュニア)'!AP107)","v":""},{"$f":"IF(A817=\"\",\"\",'個人種目(ジュニア)'!AV107)","v":""},{"$f":"IF(A817=\"\",\"\",'個人種目(ジュニア)'!BA107)","v":""},{"$f":"IF(A817=\"\",\"\",'個人種目(ジュニア)'!AF107)","v":""},0,5,{"$f":"IF(A817=\"\",\"\",'個人種目(ジュニア)'!BF107)","v":""},3]
[{"$f":"IF('個人種目(ジュニア)'!M6=\"\",\"\",'個人種目(ジュニア)'!AP6)","v":""},{"$f":"IF(A818=\"\",\"\",'個人種目(ジュニア)'!AW6)","v":""},{"$f":"IF(A818=\"\",\"\",'個人種目(ジュニア)'!BB6)","v":""},{"$f":"IF(A818=\"\",\"\",'個人種目(ジュニア)'!AF6)","v":""},0,0,{"$f":"IF(A818=\"\",\"\",'個人種目(ジュニア)'!BG6)","v":""},4]
[{"$f":"IF('個人種目(ジュニア)'!M7=\"\",\"\",'個人種目(ジュニア)'!AP7)","v":""},{"$f":"IF(A819=\"\",\"\",'個人種目(ジュニア)'!AW7)","v":""},{"$f":"IF(A819=\"\",\"\",'個人種目(ジュニア)'!BB7)","v":""},{"$f":"IF(A819=\"\",\"\",'個人種目(ジュニア)'!AF7)","v":""},0,0,{"$f":"IF(A819=\"\",\"\",'個人種目(ジュニア)'!BG7)","v":""},4]
[{"$f":"IF('個人種目(ジュニア)'!M8=\"\",\"\",'個人種目(ジュニア)'!AP8)","v":""},{"$f":"IF(A820=\"\",\"\",'個人種目(ジュニア)'!AW8)","v":""},{"$f":"IF(A820=\"\",\"\",'個人種目(ジュニア)'!BB8)","v":""},{"$f":"IF(A820=\"\",\"\",'個人種目(ジュニア)'!AF8)","v":""},0,0,{"$f":"IF(A820=\"\",\"\",'個人種目(ジュニア)'!BG8)","v":""},4]
[{"$f":"IF('個人種目(ジュニア)'!M9=\"\",\"\",'個人種目(ジュニア)'!AP9)","v":""},{"$f":"IF(A821=\"\",\"\",'個人種目(ジュニア)'!AW9)","v":""},{"$f":"IF(A821=\"\",\"\",'個人種目(ジュニア)'!BB9)","v":""},{"$f":"IF(A821=\"\",\"\",'個人種目(ジュニア)'!AF9)","v":""},0,0,{"$f":"IF(A821=\"\",\"\",'個人種目(ジュニア)'!BG9)","v":""},4]
[{"$f":"IF('個人種目(ジュニア)'!M10=\"\",\"\",'個人種目(ジュニア)'!AP10)","v":""},{"$f":"IF(A822=\"\",\"\",'個人種目(ジュニア)'!AW10)","v":""},{"$f":"IF(A822=\"\",\"\",'個人種目(ジュニア)'!BB10)","v":""},{"$f":"IF(A822=\"\",\"\",'個人種目(ジュニア)'!AF10)","v":""},0,0,{"$f":"IF(A822=\"\",\"\",'個人種目(ジュニア)'!BG10)","v":""},4]
[{"$f":"IF('個人種目(ジュニア)'!M11=\"\",\"\",'個人種目(ジュニア)'!AP11)","v":""},{"$f":"IF(A823=\"\",\"\",'個人種目(ジュニア)'!AW11)","v":""},{"$f":"IF(A823=\"\",\"\",'個人種目(ジュニア)'!BB11)","v":""},{"$f":"IF(A823=\"\",\"\",'個人種目(ジュニア)'!AF11)","v":""},0,0,{"$f":"IF(A823=\"\",\"\",'個人種目(ジュニア)'!BG11)","v":""},4]
[{"$f":"IF('個人種目(ジュニア)'!M12=\"\",\"\",'個人種目(ジュニア)'!AP12)","v":""},{"$f":"IF(A824=\"\",\"\",'個人種目(ジュニア)'!AW12)","v":""},{"$f":"IF(A824=\"\",\"\",'個人種目(ジュニア)'!BB12)","v":""},{"$f":"IF(A824=\"\",\"\",'個人種目(ジュニア)'!AF12)","v":""},0,0,{"$f":"IF(A824=\"\",\"\",'個人種目(ジュニア)'!BG12)","v":""},4]
[{"$f":"IF('個人種目(ジュニア)'!M13=\"\",\"\",'個人種目(ジュニア)'!AP13)","v":""},{"$f":"IF(A825=\"\",\"\",'個人種目(ジュニア)'!AW13)","v":""},{"$f":"IF(A825=\"\",\"\",'個人種目(ジュニア)'!BB13)","v":""},{"$f":"IF(A825=\"\",\"\",'個人種目(ジュニア)'!AF13)","v":""},0,0,{"$f":"IF(A825=\"\",\"\",'個人種目(ジュニア)'!BG13)","v":""},4]
[{"$f":"IF('個人種目(ジュニア)'!M14=\"\",\"\",'個人種目(ジュニア)'!AP14)","v":""},{"$f":"IF(A826=\"\",\"\",'個人種目(ジュニア)'!AW14)","v":""},{"$f":"IF(A826=\"\",\"\",'個人種目(ジュニア)'!BB14)","v":""},{"$f":"IF(A826=\"\",\"\",'個人種目(ジュニア)'!AF14)","v":""},0,0,{"$f":"IF(A826=\"\",\"\",'個人種目(ジュニア)'!BG14)","v":""},4]
[{"$f":"IF('個人種目(ジュニア)'!M15=\"\",\"\",'個人種目(ジュニア)'!AP15)","v":""},{"$f":"IF(A827=\"\",\"\",'個人種目(ジュニア)'!AW15)","v":""},{"$f":"IF(A827=\"\",\"\",'個人種目(ジュニア)'!BB15)","v":""},{"$f":"IF(A827=\"\",\"\",'個人種目(ジュニア)'!AF15)","v":""},0,0,{"$f":"IF(A827=\"\",\"\",'個人種目(ジュニア)'!BG15)","v":""},4]
[{"$f":"IF('個人種目(ジュニア)'!M16=\"\",\"\",'個人種目(ジュニア)'!AP16)","v":""},{"$f":"IF(A828=\"\",\"\",'個人種目(ジュニア)'!AW16)","v":""},{"$f":"IF(A828=\"\",\"\",'個人種目(ジュニア)'!BB16)","v":""},{"$f":"IF(A828=\"\",\"\",'個人種目(ジュニア)'!AF16)","v":""},0,0,{"$f":"IF(A828=\"\",\"\",'個人種目(ジュニア)'!BG16)","v":""},4]
[{"$f":"IF('個人種目(ジュニア)'!M17=\"\",\"\",'個人種目(ジュニア)'!AP17)","v":""},{"$f":"IF(A829=\"\",\"\",'個人種目(ジュニア)'!AW17)","v":""},{"$f":"IF(A829=\"\",\"\",'個人種目(ジュニア)'!BB17)","v":""},{"$f":"IF(A829=\"\",\"\",'個人種目(ジュニア)'!AF17)","v":""},0,0,{"$f":"IF(A829=\"\",\"\",'個人種目(ジュニア)'!BG17)","v":""},4]
[{"$f":"IF('個人種目(ジュニア)'!M18=\"\",\"\",'個人種目(ジュニア)'!AP18)","v":""},{"$f":"IF(A830=\"\",\"\",'個人種目(ジュニア)'!AW18)","v":""},{"$f":"IF(A830=\"\",\"\",'個人種目(ジュニア)'!BB18)","v":""},{"$f":"IF(A830=\"\",\"\",'個人種目(ジュニア)'!AF18)","v":""},0,0,{"$f":"IF(A830=\"\",\"\",'個人種目(ジュニア)'!BG18)","v":""},4]
[{"$f":"IF('個人種目(ジュニア)'!M19=\"\",\"\",'個人種目(ジュニア)'!AP19)","v":""},{"$f":"IF(A831=\"\",\"\",'個人種目(ジュニア)'!AW19)","v":""},{"$f":"IF(A831=\"\",\"\",'個人種目(ジュニア)'!BB19)","v":""},{"$f":"IF(A831=\"\",\"\",'個人種目(ジュニア)'!AF19)","v":""},0,0,{"$f":"IF(A831=\"\",\"\",'個人種目(ジュニア)'!BG19)","v":""},4]
[{"$f":"IF('個人種目(ジュニア)'!M20=\"\",\"\",'個人種目(ジュニア)'!AP20)","v":""},{"$f":"IF(A832=\"\",\"\",'個人種目(ジュニア)'!AW20)","v":""},{"$f":"IF(A832=\"\",\"\",'個人種目(ジュニア)'!BB20)","v":""},{"$f":"IF(A832=\"\",\"\",'個人種目(ジュニア)'!AF20)","v":""},0,0,{"$f":"IF(A832=\"\",\"\",'個人種目(ジュニア)'!BG20)","v":""},4]
[{"$f":"IF('個人種目(ジュニア)'!M21=\"\",\"\",'個人種目(ジュニア)'!AP21)","v":""},{"$f":"IF(A833=\"\",\"\",'個人種目(ジュニア)'!AW21)","v":""},{"$f":"IF(A833=\"\",\"\",'個人種目(ジュニア)'!BB21)","v":""},{"$f":"IF(A833=\"\",\"\",'個人種目(ジュニア)'!AF21)","v":""},0,0,{"$f":"IF(A833=\"\",\"\",'個人種目(ジュニア)'!BG21)","v":""},4]
[{"$f":"IF('個人種目(ジュニア)'!M22=\"\",\"\",'個人種目(ジュニア)'!AP22)","v":""},{"$f":"IF(A834=\"\",\"\",'個人種目(ジュニア)'!AW22)","v":""},{"$f":"IF(A834=\"\",\"\",'個人種目(ジュニア)'!BB22)","v":""},{"$f":"IF(A834=\"\",\"\",'個人種目(ジュニア)'!AF22)","v":""},0,0,{"$f":"IF(A834=\"\",\"\",'個人種目(ジュニア)'!BG22)","v":""},4]
[{"$f":"IF('個人種目(ジュニア)'!M23=\"\",\"\",'個人種目(ジュニア)'!AP23)","v":""},{"$f":"IF(A835=\"\",\"\",'個人種目(ジュニア)'!AW23)","v":""},{"$f":"IF(A835=\"\",\"\",'個人種目(ジュニア)'!BB23)","v":""},{"$f":"IF(A835=\"\",\"\",'個人種目(ジュニア)'!AF23)","v":""},0,0,{"$f":"IF(A835=\"\",\"\",'個人種目(ジュニア)'!BG23)","v":""},4]
[{"$f":"IF('個人種目(ジュニア)'!M24=\"\",\"\",'個人種目(ジュニア)'!AP24)","v":""},{"$f":"IF(A836=\"\",\"\",'個人種目(ジュニア)'!AW24)","v":""},{"$f":"IF(A836=\"\",\"\",'個人種目(ジュニア)'!BB24)","v":""},{"$f":"IF(A836=\"\",\"\",'個人種目(ジュニア)'!AF24)","v":""},0,0,{"$f":"IF(A836=\"\",\"\",'個人種目(ジュニア)'!BG24)","v":""},4]
[{"$f":"IF('個人種目(ジュニア)'!M25=\"\",\"\",'個人種目(ジュニア)'!AP25)","v":""},{"$f":"IF(A837=\"\",\"\",'個人種目(ジュニア)'!AW25)","v":""},{"$f":"IF(A837=\"\",\"\",'個人種目(ジュニア)'!BB25)","v":""},{"$f":"IF(A837=\"\",\"\",'個人種目(ジュニア)'!AF25)","v":""},0,0,{"$f":"IF(A837=\"\",\"\",'個人種目(ジュニア)'!BG25)","v":""},4]
[{"$f":"IF('個人種目(ジュニア)'!M26=\"\",\"\",'個人種目(ジュニア)'!AP26)","v":""},{"$f":"IF(A838=\"\",\"\",'個人種目(ジュニア)'!AW26)","v":""},{"$f":"IF(A838=\"\",\"\",'個人種目(ジュニア)'!BB26)","v":""},{"$f":"IF(A838=\"\",\"\",'個人種目(ジュニア)'!AF26)","v":""},0,0,{"$f":"IF(A838=\"\",\"\",'個人種目(ジュニア)'!BG26)","v":""},4]
[{"$f":"IF('個人種目(ジュニア)'!M27=\"\",\"\",'個人種目(ジュニア)'!AP27)","v":""},{"$f":"IF(A839=\"\",\"\",'個人種目(ジュニア)'!AW27)","v":""},{"$f":"IF(A839=\"\",\"\",'個人種目(ジュニア)'!BB27)","v":""},{"$f":"IF(A839=\"\",\"\",'個人種目(ジュニア)'!AF27)","v":""},0,0,{"$f":"IF(A839=\"\",\"\",'個人種目(ジュニア)'!BG27)","v":""},4]
[{"$f":"IF('個人種目(ジュニア)'!M28=\"\",\"\",'個人種目(ジュニア)'!AP28)","v":""},{"$f":"IF(A840=\"\",\"\",'個人種目(ジュニア)'!AW28)","v":""},{"$f":"IF(A840=\"\",\"\",'個人種目(ジュニア)'!BB28)","v":""},{"$f":"IF(A840=\"\",\"\",'個人種目(ジュニア)'!AF28)","v":""},0,0,{"$f":"IF(A840=\"\",\"\",'個人種目(ジュニア)'!BG28)","v":""},4]
[{"$f":"IF('個人種目(ジュニア)'!M29=\"\",\"\",'個人種目(ジュニア)'!AP29)","v":""},{"$f":"IF(A841=\"\",\"\",'個人種目(ジュニア)'!AW29)","v":""},{"$f":"IF(A841=\"\",\"\",'個人種目(ジュニア)'!BB29)","v":""},{"$f":"IF(A841=\"\",\"\",'個人種目(ジュニア)'!AF29)","v":""},0,0,{"$f":"IF(A841=\"\",\"\",'個人種目(ジュニア)'!BG29)","v":""},4]
[{"$f":"IF('個人種目(ジュニア)'!M30=\"\",\"\",'個人種目(ジュニア)'!AP30)","v":""},{"$f":"IF(A842=\"\",\"\",'個人種目(ジュニア)'!AW30)","v":""},{"$f":"IF(A842=\"\",\"\",'個人種目(ジュニア)'!BB30)","v":""},{"$f":"IF(A842=\"\",\"\",'個人種目(ジュニア)'!AF30)","v":""},0,0,{"$f":"IF(A842=\"\",\"\",'個人種目(ジュニア)'!BG30)","v":""},4]
[{"$f":"IF('個人種目(ジュニア)'!M31=\"\",\"\",'個人種目(ジュニア)'!AP31)","v":""},{"$f":"IF(A843=\"\",\"\",'個人種目(ジュニア)'!AW31)","v":""},{"$f":"IF(A843=\"\",\"\",'個人種目(ジュニア)'!BB31)","v":""},{"$f":"IF(A843=\"\",\"\",'個人種目(ジュニア)'!AF31)","v":""},0,0,{"$f":"IF(A843=\"\",\"\",'個人種目(ジュニア)'!BG31)","v":""},4]
[{"$f":"IF('個人種目(ジュニア)'!M32=\"\",\"\",'個人種目(ジュニア)'!AP32)","v":""},{"$f":"IF(A844=\"\",\"\",'個人種目(ジュニア)'!AW32)","v":""},{"$f":"IF(A844=\"\",\"\",'個人種目(ジュニア)'!BB32)","v":""},{"$f":"IF(A844=\"\",\"\",'個人種目(ジュニア)'!AF32)","v":""},0,0,{"$f":"IF(A844=\"\",\"\",'個人種目(ジュニア)'!BG32)","v":""},4]
[{"$f":"IF('個人種目(ジュニア)'!M33=\"\",\"\",'個人種目(ジュニア)'!AP33)","v":""},{"$f":"IF(A845=\"\",\"\",'個人種目(ジュニア)'!AW33)","v":""},{"$f":"IF(A845=\"\",\"\",'個人種目(ジュニア)'!BB33)","v":""},{"$f":"IF(A845=\"\",\"\",'個人種目(ジュニア)'!AF33)","v":""},0,0,{"$f":"IF(A845=\"\",\"\",'個人種目(ジュニア)'!BG33)","v":""},4]
[{"$f":"IF('個人種目(ジュニア)'!M34=\"\",\"\",'個人種目(ジュニア)'!AP34)","v":""},{"$f":"IF(A846=\"\",\"\",'個人種目(ジュニア)'!AW34)","v":""},{"$f":"IF(A846=\"\",\"\",'個人種目(ジュニア)'!BB34)","v":""},{"$f":"IF(A846=\"\",\"\",'個人種目(ジュニア)'!AF34)","v":""},0,0,{"$f":"IF(A846=\"\",\"\",'個人種目(ジュニア)'!BG34)","v":""},4]
[{"$f":"IF('個人種目(ジュニア)'!M35=\"\",\"\",'個人種目(ジュニア)'!AP35)","v":""},{"$f":"IF(A847=\"\",\"\",'個人種目(ジュニア)'!AW35)","v":""},{"$f":"IF(A847=\"\",\"\",'個人種目(ジュニア)'!BB35)","v":""},{"$f":"IF(A847=\"\",\"\",'個人種目(ジュニア)'!AF35)","v":""},0,0,{"$f":"IF(A847=\"\",\"\",'個人種目(ジュニア)'!BG35)","v":""},4]
[{"$f":"IF('個人種目(ジュニア)'!M36=\"\",\"\",'個人種目(ジュニア)'!AP36)","v":""},{"$f":"IF(A848=\"\",\"\",'個人種目(ジュニア)'!AW36)","v":""},{"$f":"IF(A848=\"\",\"\",'個人種目(ジュニア)'!BB36)","v":""},{"$f":"IF(A848=\"\",\"\",'個人種目(ジュニア)'!AF36)","v":""},0,0,{"$f":"IF(A848=\"\",\"\",'個人種目(ジュニア)'!BG36)","v":""},4]
[{"$f":"IF('個人種目(ジュニア)'!M37=\"\",\"\",'個人種目(ジュニア)'!AP37)","v":""},{"$f":"IF(A849=\"\",\"\",'個人種目(ジュニア)'!AW37)","v":""},{"$f":"IF(A849=\"\",\"\",'個人種目(ジュニア)'!BB37)","v":""},{"$f":"IF(A849=\"\",\"\",'個人種目(ジュニア)'!AF37)","v":""},0,0,{"$f":"IF(A849=\"\",\"\",'個人種目(ジュニア)'!BG37)","v":""},4]
[{"$f":"IF('個人種目(ジュニア)'!M38=\"\",\"\",'個人種目(ジュニア)'!AP38)","v":""},{"$f":"IF(A850=\"\",\"\",'個人種目(ジュニア)'!AW38)","v":""},{"$f":"IF(A850=\"\",\"\",'個人種目(ジュニア)'!BB38)","v":""},{"$f":"IF(A850=\"\",\"\",'個人種目(ジュニア)'!AF38)","v":""},0,0,{"$f":"IF(A850=\"\",\"\",'個人種目(ジュニア)'!BG38)","v":""},4]
[{"$f":"IF('個人種目(ジュニア)'!M39=\"\",\"\",'個人種目(ジュニア)'!AP39)","v":""},{"$f":"IF(A851=\"\",\"\",'個人種目(ジュニア)'!AW39)","v":""},{"$f":"IF(A851=\"\",\"\",'個人種目(ジュニア)'!BB39)","v":""},{"$f":"IF(A851=\"\",\"\",'個人種目(ジュニア)'!AF39)","v":""},0,0,{"$f":"IF(A851=\"\",\"\",'個人種目(ジュニア)'!BG39)","v":""},4]
[{"$f":"IF('個人種目(ジュニア)'!M40=\"\",\"\",'個人種目(ジュニア)'!AP40)","v":""},{"$f":"IF(A852=\"\",\"\",'個人種目(ジュニア)'!AW40)","v":""},{"$f":"IF(A852=\"\",\"\",'個人種目(ジュニア)'!BB40)","v":""},{"$f":"IF(A852=\"\",\"\",'個人種目(ジュニア)'!AF40)","v":""},0,0,{"$f":"IF(A852=\"\",\"\",'個人種目(ジュニア)'!BG40)","v":""},4]
[{"$f":"IF('個人種目(ジュニア)'!M41=\"\",\"\",'個人種目(ジュニア)'!AP41)","v":""},{"$f":"IF(A853=\"\",\"\",'個人種目(ジュニア)'!AW41)","v":""},{"$f":"IF(A853=\"\",\"\",'個人種目(ジュニア)'!BB41)","v":""},{"$f":"IF(A853=\"\",\"\",'個人種目(ジュニア)'!AF41)","v":""},0,0,{"$f":"IF(A853=\"\",\"\",'個人種目(ジュニア)'!BG41)","v":""},4]
[{"$f":"IF('個人種目(ジュニア)'!M42=\"\",\"\",'個人種目(ジュニア)'!AP42)","v":""},{"$f":"IF(A854=\"\",\"\",'個人種目(ジュニア)'!AW42)","v":""},{"$f":"IF(A854=\"\",\"\",'個人種目(ジュニア)'!BB42)","v":""},{"$f":"IF(A854=\"\",\"\",'個人種目(ジュニア)'!AF42)","v":""},0,0,{"$f":"IF(A854=\"\",\"\",'個人種目(ジュニア)'!BG42)","v":""},4]
[{"$f":"IF('個人種目(ジュニア)'!M43=\"\",\"\",'個人種目(ジュニア)'!AP43)","v":""},{"$f":"IF(A855=\"\",\"\",'個人種目(ジュニア)'!AW43)","v":""},{"$f":"IF(A855=\"\",\"\",'個人種目(ジュニア)'!BB43)","v":""},{"$f":"IF(A855=\"\",\"\",'個人種目(ジュニア)'!AF43)","v":""},0,0,{"$f":"IF(A855=\"\",\"\",'個人種目(ジュニア)'!BG43)","v":""},4]
[{"$f":"IF('個人種目(ジュニア)'!M44=\"\",\"\",'個人種目(ジュニア)'!AP44)","v":""},{"$f":"IF(A856=\"\",\"\",'個人種目(ジュニア)'!AW44)","v":""},{"$f":"IF(A856=\"\",\"\",'個人種目(ジュニア)'!BB44)","v":""},{"$f":"IF(A856=\"\",\"\",'個人種目(ジュニア)'!AF44)","v":""},0,0,{"$f":"IF(A856=\"\",\"\",'個人種目(ジュニア)'!BG44)","v":""},4]
[{"$f":"IF('個人種目(ジュニア)'!M45=\"\",\"\",'個人種目(ジュニア)'!AP45)","v":""},{"$f":"IF(A857=\"\",\"\",'個人種目(ジュニア)'!AW45)","v":""},{"$f":"IF(A857=\"\",\"\",'個人種目(ジュニア)'!BB45)","v":""},{"$f":"IF(A857=\"\",\"\",'個人種目(ジュニア)'!AF45)","v":""},0,0,{"$f":"IF(A857=\"\",\"\",'個人種目(ジュニア)'!BG45)","v":""},4]
[{"$f":"IF('個人種目(ジュニア)'!M46=\"\",\"\",'個人種目(ジュニア)'!AP46)","v":""},{"$f":"IF(A858=\"\",\"\",'個人種目(ジュニア)'!AW46)","v":""},{"$f":"IF(A858=\"\",\"\",'個人種目(ジュニア)'!BB46)","v":""},{"$f":"IF(A858=\"\",\"\",'個人種目(ジュニア)'!AF46)","v":""},0,0,{"$f":"IF(A858=\"\",\"\",'個人種目(ジュニア)'!BG46)","v":""},4]
[{"$f":"IF('個人種目(ジュニア)'!M47=\"\",\"\",'個人種目(ジュニア)'!AP47)","v":""},{"$f":"IF(A859=\"\",\"\",'個人種目(ジュニア)'!AW47)","v":""},{"$f":"IF(A859=\"\",\"\",'個人種目(ジュニア)'!BB47)","v":""},{"$f":"IF(A859=\"\",\"\",'個人種目(ジュニア)'!AF47)","v":""},0,0,{"$f":"IF(A859=\"\",\"\",'個人種目(ジュニア)'!BG47)","v":""},4]
[{"$f":"IF('個人種目(ジュニア)'!M48=\"\",\"\",'個人種目(ジュニア)'!AP48)","v":""},{"$f":"IF(A860=\"\",\"\",'個人種目(ジュニア)'!AW48)","v":""},{"$f":"IF(A860=\"\",\"\",'個人種目(ジュニア)'!BB48)","v":""},{"$f":"IF(A860=\"\",\"\",'個人種目(ジュニア)'!AF48)","v":""},0,0,{"$f":"IF(A860=\"\",\"\",'個人種目(ジュニア)'!BG48)","v":""},4]
[{"$f":"IF('個人種目(ジュニア)'!M49=\"\",\"\",'個人種目(ジュニア)'!AP49)","v":""},{"$f":"IF(A861=\"\",\"\",'個人種目(ジュニア)'!AW49)","v":""},{"$f":"IF(A861=\"\",\"\",'個人種目(ジュニア)'!BB49)","v":""},{"$f":"IF(A861=\"\",\"\",'個人種目(ジュニア)'!AF49)","v":""},0,0,{"$f":"IF(A861=\"\",\"\",'個人種目(ジュニア)'!BG49)","v":""},4]
[{"$f":"IF('個人種目(ジュニア)'!M50=\"\",\"\",'個人種目(ジュニア)'!AP50)","v":""},{"$f":"IF(A862=\"\",\"\",'個人種目(ジュニア)'!AW50)","v":""},{"$f":"IF(A862=\"\",\"\",'個人種目(ジュニア)'!BB50)","v":""},{"$f":"IF(A862=\"\",\"\",'個人種目(ジュニア)'!AF50)","v":""},0,0,{"$f":"IF(A862=\"\",\"\",'個人種目(ジュニア)'!BG50)","v":""},4]
[{"$f":"IF('個人種目(ジュニア)'!M51=\"\",\"\",'個人種目(ジュニア)'!AP51)","v":""},{"$f":"IF(A863=\"\",\"\",'個人種目(ジュニア)'!AW51)","v":""},{"$f":"IF(A863=\"\",\"\",'個人種目(ジュニア)'!BB51)","v":""},{"$f":"IF(A863=\"\",\"\",'個人種目(ジュニア)'!AF51)","v":""},0,0,{"$f":"IF(A863=\"\",\"\",'個人種目(ジュニア)'!BG51)","v":""},4]
[{"$f":"IF('個人種目(ジュニア)'!M52=\"\",\"\",'個人種目(ジュニア)'!AP52)","v":""},{"$f":"IF(A864=\"\",\"\",'個人種目(ジュニア)'!AW52)","v":""},{"$f":"IF(A864=\"\",\"\",'個人種目(ジュニア)'!BB52)","v":""},{"$f":"IF(A864=\"\",\"\",'個人種目(ジュニア)'!AF52)","v":""},0,0,{"$f":"IF(A864=\"\",\"\",'個人種目(ジュニア)'!BG52)","v":""},4]
[{"$f":"IF('個人種目(ジュニア)'!M53=\"\",\"\",'個人種目(ジュニア)'!AP53)","v":""},{"$f":"IF(A865=\"\",\"\",'個人種目(ジュニア)'!AW53)","v":""},{"$f":"IF(A865=\"\",\"\",'個人種目(ジュニア)'!BB53)","v":""},{"$f":"IF(A865=\"\",\"\",'個人種目(ジュニア)'!AF53)","v":""},0,0,{"$f":"IF(A865=\"\",\"\",'個人種目(ジュニア)'!BG53)","v":""},4]
[{"$f":"IF('個人種目(ジュニア)'!M54=\"\",\"\",'個人種目(ジュニア)'!AP54)","v":""},{"$f":"IF(A866=\"\",\"\",'個人種目(ジュニア)'!AW54)","v":""},{"$f":"IF(A866=\"\",\"\",'個人種目(ジュニア)'!BB54)","v":""},{"$f":"IF(A866=\"\",\"\",'個人種目(ジュニア)'!AF54)","v":""},0,0,{"$f":"IF(A866=\"\",\"\",'個人種目(ジュニア)'!BG54)","v":""},4]
[{"$f":"IF('個人種目(ジュニア)'!M55=\"\",\"\",'個人種目(ジュニア)'!AP55)","v":""},{"$f":"IF(A867=\"\",\"\",'個人種目(ジュニア)'!AW55)","v":""},{"$f":"IF(A867=\"\",\"\",'個人種目(ジュニア)'!BB55)","v":""},{"$f":"IF(A867=\"\",\"\",'個人種目(ジュニア)'!AF55)","v":""},0,0,{"$f":"IF(A867=\"\",\"\",'個人種目(ジュニア)'!BG55)","v":""},4]
[]
[]
[{"$f":"IF('個人種目(ジュニア)'!M58=\"\",\"\",'個人種目(ジュニア)'!AP58)","v":""},{"$f":"IF(A870=\"\",\"\",'個人種目(ジュニア)'!AW58)","v":""},{"$f":"IF(A870=\"\",\"\",'個人種目(ジュニア)'!BB58)","v":""},{"$f":"IF(A870=\"\",\"\",'個人種目(ジュニア)'!AF58)","v":""},0,5,{"$f":"IF(A870=\"\",\"\",'個人種目(ジュニア)'!BG58)","v":""},4]
[{"$f":"IF('個人種目(ジュニア)'!M59=\"\",\"\",'個人種目(ジュニア)'!AP59)","v":""},{"$f":"IF(A871=\"\",\"\",'個人種目(ジュニア)'!AW59)","v":""},{"$f":"IF(A871=\"\",\"\",'個人種目(ジュニア)'!BB59)","v":""},{"$f":"IF(A871=\"\",\"\",'個人種目(ジュニア)'!AF59)","v":""},0,5,{"$f":"IF(A871=\"\",\"\",'個人種目(ジュニア)'!BG59)","v":""},4]
[{"$f":"IF('個人種目(ジュニア)'!M60=\"\",\"\",'個人種目(ジュニア)'!AP60)","v":""},{"$f":"IF(A872=\"\",\"\",'個人種目(ジュニア)'!AW60)","v":""},{"$f":"IF(A872=\"\",\"\",'個人種目(ジュニア)'!BB60)","v":""},{"$f":"IF(A872=\"\",\"\",'個人種目(ジュニア)'!AF60)","v":""},0,5,{"$f":"IF(A872=\"\",\"\",'個人種目(ジュニア)'!BG60)","v":""},4]
[{"$f":"IF('個人種目(ジュニア)'!M61=\"\",\"\",'個人種目(ジュニア)'!AP61)","v":""},{"$f":"IF(A873=\"\",\"\",'個人種目(ジュニア)'!AW61)","v":""},{"$f":"IF(A873=\"\",\"\",'個人種目(ジュニア)'!BB61)","v":""},{"$f":"IF(A873=\"\",\"\",'個人種目(ジュニア)'!AF61)","v":""},0,5,{"$f":"IF(A873=\"\",\"\",'個人種目(ジュニア)'!BG61)","v":""},4]
[{"$f":"IF('個人種目(ジュニア)'!M62=\"\",\"\",'個人種目(ジュニア)'!AP62)","v":""},{"$f":"IF(A874=\"\",\"\",'個人種目(ジュニア)'!AW62)","v":""},{"$f":"IF(A874=\"\",\"\",'個人種目(ジュニア)'!BB62)","v":""},{"$f":"IF(A874=\"\",\"\",'個人種目(ジュニア)'!AF62)","v":""},0,5,{"$f":"IF(A874=\"\",\"\",'個人種目(ジュニア)'!BG62)","v":""},4]
[{"$f":"IF('個人種目(ジュニア)'!M63=\"\",\"\",'個人種目(ジュニア)'!AP63)","v":""},{"$f":"IF(A875=\"\",\"\",'個人種目(ジュニア)'!AW63)","v":""},{"$f":"IF(A875=\"\",\"\",'個人種目(ジュニア)'!BB63)","v":""},{"$f":"IF(A875=\"\",\"\",'個人種目(ジュニア)'!AF63)","v":""},0,5,{"$f":"IF(A875=\"\",\"\",'個人種目(ジュニア)'!BG63)","v":""},4]
[{"$f":"IF('個人種目(ジュニア)'!M64=\"\",\"\",'個人種目(ジュニア)'!AP64)","v":""},{"$f":"IF(A876=\"\",\"\",'個人種目(ジュニア)'!AW64)","v":""},{"$f":"IF(A876=\"\",\"\",'個人種目(ジュニア)'!BB64)","v":""},{"$f":"IF(A876=\"\",\"\",'個人種目(ジュニア)'!AF64)","v":""},0,5,{"$f":"IF(A876=\"\",\"\",'個人種目(ジュニア)'!BG64)","v":""},4]
[{"$f":"IF('個人種目(ジュニア)'!M65=\"\",\"\",'個人種目(ジュニア)'!AP65)","v":""},{"$f":"IF(A877=\"\",\"\",'個人種目(ジュニア)'!AW65)","v":""},{"$f":"IF(A877=\"\",\"\",'個人種目(ジュニア)'!BB65)","v":""},{"$f":"IF(A877=\"\",\"\",'個人種目(ジュニア)'!AF65)","v":""},0,5,{"$f":"IF(A877=\"\",\"\",'個人種目(ジュニア)'!BG65)","v":""},4]
[{"$f":"IF('個人種目(ジュニア)'!M66=\"\",\"\",'個人種目(ジュニア)'!AP66)","v":""},{"$f":"IF(A878=\"\",\"\",'個人種目(ジュニア)'!AW66)","v":""},{"$f":"IF(A878=\"\",\"\",'個人種目(ジュニア)'!BB66)","v":""},{"$f":"IF(A878=\"\",\"\",'個人種目(ジュニア)'!AF66)","v":""},0,5,{"$f":"IF(A878=\"\",\"\",'個人種目(ジュニア)'!BG66)","v":""},4]
[{"$f":"IF('個人種目(ジュニア)'!M67=\"\",\"\",'個人種目(ジュニア)'!AP67)","v":""},{"$f":"IF(A879=\"\",\"\",'個人種目(ジュニア)'!AW67)","v":""},{"$f":"IF(A879=\"\",\"\",'個人種目(ジュニア)'!BB67)","v":""},{"$f":"IF(A879=\"\",\"\",'個人種目(ジュニア)'!AF67)","v":""},0,5,{"$f":"IF(A879=\"\",\"\",'個人種目(ジュニア)'!BG67)","v":""},4]
[{"$f":"IF('個人種目(ジュニア)'!M68=\"\",\"\",'個人種目(ジュニア)'!AP68)","v":""},{"$f":"IF(A880=\"\",\"\",'個人種目(ジュニア)'!AW68)","v":""},{"$f":"IF(A880=\"\",\"\",'個人種目(ジュニア)'!BB68)","v":""},{"$f":"IF(A880=\"\",\"\",'個人種目(ジュニア)'!AF68)","v":""},0,5,{"$f":"IF(A880=\"\",\"\",'個人種目(ジュニア)'!BG68)","v":""},4]
[{"$f":"IF('個人種目(ジュニア)'!M69=\"\",\"\",'個人種目(ジュニア)'!AP69)","v":""},{"$f":"IF(A881=\"\",\"\",'個人種目(ジュニア)'!AW69)","v":""},{"$f":"IF(A881=\"\",\"\",'個人種目(ジュニア)'!BB69)","v":""},{"$f":"IF(A881=\"\",\"\",'個人種目(ジュニア)'!AF69)","v":""},0,5,{"$f":"IF(A881=\"\",\"\",'個人種目(ジュニア)'!BG69)","v":""},4]
[{"$f":"IF('個人種目(ジュニア)'!M70=\"\",\"\",'個人種目(ジュニア)'!AP70)","v":""},{"$f":"IF(A882=\"\",\"\",'個人種目(ジュニア)'!AW70)","v":""},{"$f":"IF(A882=\"\",\"\",'個人種目(ジュニア)'!BB70)","v":""},{"$f":"IF(A882=\"\",\"\",'個人種目(ジュニア)'!AF70)","v":""},0,5,{"$f":"IF(A882=\"\",\"\",'個人種目(ジュニア)'!BG70)","v":""},4]
[{"$f":"IF('個人種目(ジュニア)'!M71=\"\",\"\",'個人種目(ジュニア)'!AP71)","v":""},{"$f":"IF(A883=\"\",\"\",'個人種目(ジュニア)'!AW71)","v":""},{"$f":"IF(A883=\"\",\"\",'個人種目(ジュニア)'!BB71)","v":""},{"$f":"IF(A883=\"\",\"\",'個人種目(ジュニア)'!AF71)","v":""},0,5,{"$f":"IF(A883=\"\",\"\",'個人種目(ジュニア)'!BG71)","v":""},4]
[{"$f":"IF('個人種目(ジュニア)'!M72=\"\",\"\",'個人種目(ジュニア)'!AP72)","v":""},{"$f":"IF(A884=\"\",\"\",'個人種目(ジュニア)'!AW72)","v":""},{"$f":"IF(A884=\"\",\"\",'個人種目(ジュニア)'!BB72)","v":""},{"$f":"IF(A884=\"\",\"\",'個人種目(ジュニア)'!AF72)","v":""},0,5,{"$f":"IF(A884=\"\",\"\",'個人種目(ジュニア)'!BG72)","v":""},4]
[{"$f":"IF('個人種目(ジュニア)'!M73=\"\",\"\",'個人種目(ジュニア)'!AP73)","v":""},{"$f":"IF(A885=\"\",\"\",'個人種目(ジュニア)'!AW73)","v":""},{"$f":"IF(A885=\"\",\"\",'個人種目(ジュニア)'!BB73)","v":""},{"$f":"IF(A885=\"\",\"\",'個人種目(ジュニア)'!AF73)","v":""},0,5,{"$f":"IF(A885=\"\",\"\",'個人種目(ジュニア)'!BG73)","v":""},4]
[{"$f":"IF('個人種目(ジュニア)'!M74=\"\",\"\",'個人種目(ジュニア)'!AP74)","v":""},{"$f":"IF(A886=\"\",\"\",'個人種目(ジュニア)'!AW74)","v":""},{"$f":"IF(A886=\"\",\"\",'個人種目(ジュニア)'!BB74)","v":""},{"$f":"IF(A886=\"\",\"\",'個人種目(ジュニア)'!AF74)","v":""},0,5,{"$f":"IF(A886=\"\",\"\",'個人種目(ジュニア)'!BG74)","v":""},4]
[{"$f":"IF('個人種目(ジュニア)'!M75=\"\",\"\",'個人種目(ジュニア)'!AP75)","v":""},{"$f":"IF(A887=\"\",\"\",'個人種目(ジュニア)'!AW75)","v":""},{"$f":"IF(A887=\"\",\"\",'個人種目(ジュニア)'!BB75)","v":""},{"$f":"IF(A887=\"\",\"\",'個人種目(ジュニア)'!AF75)","v":""},0,5,{"$f":"IF(A887=\"\",\"\",'個人種目(ジュニア)'!BG75)","v":""},4]
[{"$f":"IF('個人種目(ジュニア)'!M76=\"\",\"\",'個人種目(ジュニア)'!AP76)","v":""},{"$f":"IF(A888=\"\",\"\",'個人種目(ジュニア)'!AW76)","v":""},{"$f":"IF(A888=\"\",\"\",'個人種目(ジュニア)'!BB76)","v":""},{"$f":"IF(A888=\"\",\"\",'個人種目(ジュニア)'!AF76)","v":""},0,5,{"$f":"IF(A888=\"\",\"\",'個人種目(ジュニア)'!BG76)","v":""},4]
[{"$f":"IF('個人種目(ジュニア)'!M77=\"\",\"\",'個人種目(ジュニア)'!AP77)","v":""},{"$f":"IF(A889=\"\",\"\",'個人種目(ジュニア)'!AW77)","v":""},{"$f":"IF(A889=\"\",\"\",'個人種目(ジュニア)'!BB77)","v":""},{"$f":"IF(A889=\"\",\"\",'個人種目(ジュニア)'!AF77)","v":""},0,5,{"$f":"IF(A889=\"\",\"\",'個人種目(ジュニア)'!BG77)","v":""},4]
[{"$f":"IF('個人種目(ジュニア)'!M78=\"\",\"\",'個人種目(ジュニア)'!AP78)","v":""},{"$f":"IF(A890=\"\",\"\",'個人種目(ジュニア)'!AW78)","v":""},{"$f":"IF(A890=\"\",\"\",'個人種目(ジュニア)'!BB78)","v":""},{"$f":"IF(A890=\"\",\"\",'個人種目(ジュニア)'!AF78)","v":""},0,5,{"$f":"IF(A890=\"\",\"\",'個人種目(ジュニア)'!BG78)","v":""},4]
[{"$f":"IF('個人種目(ジュニア)'!M79=\"\",\"\",'個人種目(ジュニア)'!AP79)","v":""},{"$f":"IF(A891=\"\",\"\",'個人種目(ジュニア)'!AW79)","v":""},{"$f":"IF(A891=\"\",\"\",'個人種目(ジュニア)'!BB79)","v":""},{"$f":"IF(A891=\"\",\"\",'個人種目(ジュニア)'!AF79)","v":""},0,5,{"$f":"IF(A891=\"\",\"\",'個人種目(ジュニア)'!BG79)","v":""},4]
[{"$f":"IF('個人種目(ジュニア)'!M80=\"\",\"\",'個人種目(ジュニア)'!AP80)","v":""},{"$f":"IF(A892=\"\",\"\",'個人種目(ジュニア)'!AW80)","v":""},{"$f":"IF(A892=\"\",\"\",'個人種目(ジュニア)'!BB80)","v":""},{"$f":"IF(A892=\"\",\"\",'個人種目(ジュニア)'!AF80)","v":""},0,5,{"$f":"IF(A892=\"\",\"\",'個人種目(ジュニア)'!BG80)","v":""},4]
[{"$f":"IF('個人種目(ジュニア)'!M81=\"\",\"\",'個人種目(ジュニア)'!AP81)","v":""},{"$f":"IF(A893=\"\",\"\",'個人種目(ジュニア)'!AW81)","v":""},{"$f":"IF(A893=\"\",\"\",'個人種目(ジュニア)'!BB81)","v":""},{"$f":"IF(A893=\"\",\"\",'個人種目(ジュニア)'!AF81)","v":""},0,5,{"$f":"IF(A893=\"\",\"\",'個人種目(ジュニア)'!BG81)","v":""},4]
[{"$f":"IF('個人種目(ジュニア)'!M82=\"\",\"\",'個人種目(ジュニア)'!AP82)","v":""},{"$f":"IF(A894=\"\",\"\",'個人種目(ジュニア)'!AW82)","v":""},{"$f":"IF(A894=\"\",\"\",'個人種目(ジュニア)'!BB82)","v":""},{"$f":"IF(A894=\"\",\"\",'個人種目(ジュニア)'!AF82)","v":""},0,5,{"$f":"IF(A894=\"\",\"\",'個人種目(ジュニア)'!BG82)","v":""},4]
[{"$f":"IF('個人種目(ジュニア)'!M83=\"\",\"\",'個人種目(ジュニア)'!AP83)","v":""},{"$f":"IF(A895=\"\",\"\",'個人種目(ジュニア)'!AW83)","v":""},{"$f":"IF(A895=\"\",\"\",'個人種目(ジュニア)'!BB83)","v":""},{"$f":"IF(A895=\"\",\"\",'個人種目(ジュニア)'!AF83)","v":""},0,5,{"$f":"IF(A895=\"\",\"\",'個人種目(ジュニア)'!BG83)","v":""},4]
[{"$f":"IF('個人種目(ジュニア)'!M84=\"\",\"\",'個人種目(ジュニア)'!AP84)","v":""},{"$f":"IF(A896=\"\",\"\",'個人種目(ジュニア)'!AW84)","v":""},{"$f":"IF(A896=\"\",\"\",'個人種目(ジュニア)'!BB84)","v":""},{"$f":"IF(A896=\"\",\"\",'個人種目(ジュニア)'!AF84)","v":""},0,5,{"$f":"IF(A896=\"\",\"\",'個人種目(ジュニア)'!BG84)","v":""},4]
[{"$f":"IF('個人種目(ジュニア)'!M85=\"\",\"\",'個人種目(ジュニア)'!AP85)","v":""},{"$f":"IF(A897=\"\",\"\",'個人種目(ジュニア)'!AW85)","v":""},{"$f":"IF(A897=\"\",\"\",'個人種目(ジュニア)'!BB85)","v":""},{"$f":"IF(A897=\"\",\"\",'個人種目(ジュニア)'!AF85)","v":""},0,5,{"$f":"IF(A897=\"\",\"\",'個人種目(ジュニア)'!BG85)","v":""},4]
[{"$f":"IF('個人種目(ジュニア)'!M86=\"\",\"\",'個人種目(ジュニア)'!AP86)","v":""},{"$f":"IF(A898=\"\",\"\",'個人種目(ジュニア)'!AW86)","v":""},{"$f":"IF(A898=\"\",\"\",'個人種目(ジュニア)'!BB86)","v":""},{"$f":"IF(A898=\"\",\"\",'個人種目(ジュニア)'!AF86)","v":""},0,5,{"$f":"IF(A898=\"\",\"\",'個人種目(ジュニア)'!BG86)","v":""},4]
[{"$f":"IF('個人種目(ジュニア)'!M87=\"\",\"\",'個人種目(ジュニア)'!AP87)","v":""},{"$f":"IF(A899=\"\",\"\",'個人種目(ジュニア)'!AW87)","v":""},{"$f":"IF(A899=\"\",\"\",'個人種目(ジュニア)'!BB87)","v":""},{"$f":"IF(A899=\"\",\"\",'個人種目(ジュニア)'!AF87)","v":""},0,5,{"$f":"IF(A899=\"\",\"\",'個人種目(ジュニア)'!BG87)","v":""},4]
[{"$f":"IF('個人種目(ジュニア)'!M88=\"\",\"\",'個人種目(ジュニア)'!AP88)","v":""},{"$f":"IF(A900=\"\",\"\",'個人種目(ジュニア)'!AW88)","v":""},{"$f":"IF(A900=\"\",\"\",'個人種目(ジュニア)'!BB88)","v":""},{"$f":"IF(A900=\"\",\"\",'個人種目(ジュニア)'!AF88)","v":""},0,5,{"$f":"IF(A900=\"\",\"\",'個人種目(ジュニア)'!BG88)","v":""},4]
[{"$f":"IF('個人種目(ジュニア)'!M89=\"\",\"\",'個人種目(ジュニア)'!AP89)","v":""},{"$f":"IF(A901=\"\",\"\",'個人種目(ジュニア)'!AW89)","v":""},{"$f":"IF(A901=\"\",\"\",'個人種目(ジュニア)'!BB89)","v":""},{"$f":"IF(A901=\"\",\"\",'個人種目(ジュニア)'!AF89)","v":""},0,5,{"$f":"IF(A901=\"\",\"\",'個人種目(ジュニア)'!BG89)","v":""},4]
[{"$f":"IF('個人種目(ジュニア)'!M90=\"\",\"\",'個人種目(ジュニア)'!AP90)","v":""},{"$f":"IF(A902=\"\",\"\",'個人種目(ジュニア)'!AW90)","v":""},{"$f":"IF(A902=\"\",\"\",'個人種目(ジュニア)'!BB90)","v":""},{"$f":"IF(A902=\"\",\"\",'個人種目(ジュニア)'!AF90)","v":""},0,5,{"$f":"IF(A902=\"\",\"\",'個人種目(ジュニア)'!BG90)","v":""},4]
[{"$f":"IF('個人種目(ジュニア)'!M91=\"\",\"\",'個人種目(ジュニア)'!AP91)","v":""},{"$f":"IF(A903=\"\",\"\",'個人種目(ジュニア)'!AW91)","v":""},{"$f":"IF(A903=\"\",\"\",'個人種目(ジュニア)'!BB91)","v":""},{"$f":"IF(A903=\"\",\"\",'個人種目(ジュニア)'!AF91)","v":""},0,5,{"$f":"IF(A903=\"\",\"\",'個人種目(ジュニア)'!BG91)","v":""},4]
[{"$f":"IF('個人種目(ジュニア)'!M92=\"\",\"\",'個人種目(ジュニア)'!AP92)","v":""},{"$f":"IF(A904=\"\",\"\",'個人種目(ジュニア)'!AW92)","v":""},{"$f":"IF(A904=\"\",\"\",'個人種目(ジュニア)'!BB92)","v":""},{"$f":"IF(A904=\"\",\"\",'個人種目(ジュニア)'!AF92)","v":""},0,5,{"$f":"IF(A904=\"\",\"\",'個人種目(ジュニア)'!BG92)","v":""},4]
[{"$f":"IF('個人種目(ジュニア)'!M93=\"\",\"\",'個人種目(ジュニア)'!AP93)","v":""},{"$f":"IF(A905=\"\",\"\",'個人種目(ジュニア)'!AW93)","v":""},{"$f":"IF(A905=\"\",\"\",'個人種目(ジュニア)'!BB93)","v":""},{"$f":"IF(A905=\"\",\"\",'個人種目(ジュニア)'!AF93)","v":""},0,5,{"$f":"IF(A905=\"\",\"\",'個人種目(ジュニア)'!BG93)","v":""},4]
[{"$f":"IF('個人種目(ジュニア)'!M94=\"\",\"\",'個人種目(ジュニア)'!AP94)","v":""},{"$f":"IF(A906=\"\",\"\",'個人種目(ジュニア)'!AW94)","v":""},{"$f":"IF(A906=\"\",\"\",'個人種目(ジュニア)'!BB94)","v":""},{"$f":"IF(A906=\"\",\"\",'個人種目(ジュニア)'!AF94)","v":""},0,5,{"$f":"IF(A906=\"\",\"\",'個人種目(ジュニア)'!BG94)","v":""},4]
[{"$f":"IF('個人種目(ジュニア)'!M95=\"\",\"\",'個人種目(ジュニア)'!AP95)","v":""},{"$f":"IF(A907=\"\",\"\",'個人種目(ジュニア)'!AW95)","v":""},{"$f":"IF(A907=\"\",\"\",'個人種目(ジュニア)'!BB95)","v":""},{"$f":"IF(A907=\"\",\"\",'個人種目(ジュニア)'!AF95)","v":""},0,5,{"$f":"IF(A907=\"\",\"\",'個人種目(ジュニア)'!BG95)","v":""},4]
[{"$f":"IF('個人種目(ジュニア)'!M96=\"\",\"\",'個人種目(ジュニア)'!AP96)","v":""},{"$f":"IF(A908=\"\",\"\",'個人種目(ジュニア)'!AW96)","v":""},{"$f":"IF(A908=\"\",\"\",'個人種目(ジュニア)'!BB96)","v":""},{"$f":"IF(A908=\"\",\"\",'個人種目(ジュニア)'!AF96)","v":""},0,5,{"$f":"IF(A908=\"\",\"\",'個人種目(ジュニア)'!BG96)","v":""},4]
[{"$f":"IF('個人種目(ジュニア)'!M97=\"\",\"\",'個人種目(ジュニア)'!AP97)","v":""},{"$f":"IF(A909=\"\",\"\",'個人種目(ジュニア)'!AW97)","v":""},{"$f":"IF(A909=\"\",\"\",'個人種目(ジュニア)'!BB97)","v":""},{"$f":"IF(A909=\"\",\"\",'個人種目(ジュニア)'!AF97)","v":""},0,5,{"$f":"IF(A909=\"\",\"\",'個人種目(ジュニア)'!BG97)","v":""},4]
[{"$f":"IF('個人種目(ジュニア)'!M98=\"\",\"\",'個人種目(ジュニア)'!AP98)","v":""},{"$f":"IF(A910=\"\",\"\",'個人種目(ジュニア)'!AW98)","v":""},{"$f":"IF(A910=\"\",\"\",'個人種目(ジュニア)'!BB98)","v":""},{"$f":"IF(A910=\"\",\"\",'個人種目(ジュニア)'!AF98)","v":""},0,5,{"$f":"IF(A910=\"\",\"\",'個人種目(ジュニア)'!BG98)","v":""},4]
[{"$f":"IF('個人種目(ジュニア)'!M99=\"\",\"\",'個人種目(ジュニア)'!AP99)","v":""},{"$f":"IF(A911=\"\",\"\",'個人種目(ジュニア)'!AW99)","v":""},{"$f":"IF(A911=\"\",\"\",'個人種目(ジュニア)'!BB99)","v":""},{"$f":"IF(A911=\"\",\"\",'個人種目(ジュニア)'!AF99)","v":""},0,5,{"$f":"IF(A911=\"\",\"\",'個人種目(ジュニア)'!BG99)","v":""},4]
[{"$f":"IF('個人種目(ジュニア)'!M100=\"\",\"\",'個人種目(ジュニア)'!AP100)","v":""},{"$f":"IF(A912=\"\",\"\",'個人種目(ジュニア)'!AW100)","v":""},{"$f":"IF(A912=\"\",\"\",'個人種目(ジュニア)'!BB100)","v":""},{"$f":"IF(A912=\"\",\"\",'個人種目(ジュニア)'!AF100)","v":""},0,5,{"$f":"IF(A912=\"\",\"\",'個人種目(ジュニア)'!BG100)","v":""},4]
[{"$f":"IF('個人種目(ジュニア)'!M101=\"\",\"\",'個人種目(ジュニア)'!AP101)","v":""},{"$f":"IF(A913=\"\",\"\",'個人種目(ジュニア)'!AW101)","v":""},{"$f":"IF(A913=\"\",\"\",'個人種目(ジュニア)'!BB101)","v":""},{"$f":"IF(A913=\"\",\"\",'個人種目(ジュニア)'!AF101)","v":""},0,5,{"$f":"IF(A913=\"\",\"\",'個人種目(ジュニア)'!BG101)","v":""},4]
[{"$f":"IF('個人種目(ジュニア)'!M102=\"\",\"\",'個人種目(ジュニア)'!AP102)","v":""},{"$f":"IF(A914=\"\",\"\",'個人種目(ジュニア)'!AW102)","v":""},{"$f":"IF(A914=\"\",\"\",'個人種目(ジュニア)'!BB102)","v":""},{"$f":"IF(A914=\"\",\"\",'個人種目(ジュニア)'!AF102)","v":""},0,5,{"$f":"IF(A914=\"\",\"\",'個人種目(ジュニア)'!BG102)","v":""},4]
[{"$f":"IF('個人種目(ジュニア)'!M103=\"\",\"\",'個人種目(ジュニア)'!AP103)","v":""},{"$f":"IF(A915=\"\",\"\",'個人種目(ジュニア)'!AW103)","v":""},{"$f":"IF(A915=\"\",\"\",'個人種目(ジュニア)'!BB103)","v":""},{"$f":"IF(A915=\"\",\"\",'個人種目(ジュニア)'!AF103)","v":""},0,5,{"$f":"IF(A915=\"\",\"\",'個人種目(ジュニア)'!BG103)","v":""},4]
[{"$f":"IF('個人種目(ジュニア)'!M104=\"\",\"\",'個人種目(ジュニア)'!AP104)","v":""},{"$f":"IF(A916=\"\",\"\",'個人種目(ジュニア)'!AW104)","v":""},{"$f":"IF(A916=\"\",\"\",'個人種目(ジュニア)'!BB104)","v":""},{"$f":"IF(A916=\"\",\"\",'個人種目(ジュニア)'!AF104)","v":""},0,5,{"$f":"IF(A916=\"\",\"\",'個人種目(ジュニア)'!BG104)","v":""},4]
[{"$f":"IF('個人種目(ジュニア)'!M105=\"\",\"\",'個人種目(ジュニア)'!AP105)","v":""},{"$f":"IF(A917=\"\",\"\",'個人種目(ジュニア)'!AW105)","v":""},{"$f":"IF(A917=\"\",\"\",'個人種目(ジュニア)'!BB105)","v":""},{"$f":"IF(A917=\"\",\"\",'個人種目(ジュニア)'!AF105)","v":""},0,5,{"$f":"IF(A917=\"\",\"\",'個人種目(ジュニア)'!BG105)","v":""},4]
[{"$f":"IF('個人種目(ジュニア)'!M106=\"\",\"\",'個人種目(ジュニア)'!AP106)","v":""},{"$f":"IF(A918=\"\",\"\",'個人種目(ジュニア)'!AW106)","v":""},{"$f":"IF(A918=\"\",\"\",'個人種目(ジュニア)'!BB106)","v":""},{"$f":"IF(A918=\"\",\"\",'個人種目(ジュニア)'!AF106)","v":""},0,5,{"$f":"IF(A918=\"\",\"\",'個人種目(ジュニア)'!BG106)","v":""},4]
[{"$f":"IF('個人種目(ジュニア)'!M107=\"\",\"\",'個人種目(ジュニア)'!AP107)","v":""},{"$f":"IF(A919=\"\",\"\",'個人種目(ジュニア)'!AW107)","v":""},{"$f":"IF(A919=\"\",\"\",'個人種目(ジュニア)'!BB107)","v":""},{"$f":"IF(A919=\"\",\"\",'個人種目(ジュニア)'!AF107)","v":""},0,5,{"$f":"IF(A919=\"\",\"\",'個人種目(ジュニア)'!BG107)","v":""},4]
[{"$f":"IF('個人種目(ジュニア)'!O6=\"\",\"\",'個人種目(ジュニア)'!AP6)","v":""},{"$f":"IF(A920=\"\",\"\",'個人種目(ジュニア)'!AX6)","v":""},{"$f":"IF(A920=\"\",\"\",'個人種目(ジュニア)'!BC6)","v":""},{"$f":"IF(A920=\"\",\"\",'個人種目(ジュニア)'!AF6)","v":""},0,0,{"$f":"IF(A920=\"\",\"\",'個人種目(ジュニア)'!BH6)","v":""},5]
[{"$f":"IF('個人種目(ジュニア)'!O7=\"\",\"\",'個人種目(ジュニア)'!AP7)","v":""},{"$f":"IF(A921=\"\",\"\",'個人種目(ジュニア)'!AX7)","v":""},{"$f":"IF(A921=\"\",\"\",'個人種目(ジュニア)'!BC7)","v":""},{"$f":"IF(A921=\"\",\"\",'個人種目(ジュニア)'!AF7)","v":""},0,0,{"$f":"IF(A921=\"\",\"\",'個人種目(ジュニア)'!BH7)","v":""},5]
[{"$f":"IF('個人種目(ジュニア)'!O8=\"\",\"\",'個人種目(ジュニア)'!AP8)","v":""},{"$f":"IF(A922=\"\",\"\",'個人種目(ジュニア)'!AX8)","v":""},{"$f":"IF(A922=\"\",\"\",'個人種目(ジュニア)'!BC8)","v":""},{"$f":"IF(A922=\"\",\"\",'個人種目(ジュニア)'!AF8)","v":""},0,0,{"$f":"IF(A922=\"\",\"\",'個人種目(ジュニア)'!BH8)","v":""},5]
[{"$f":"IF('個人種目(ジュニア)'!O9=\"\",\"\",'個人種目(ジュニア)'!AP9)","v":""},{"$f":"IF(A923=\"\",\"\",'個人種目(ジュニア)'!AX9)","v":""},{"$f":"IF(A923=\"\",\"\",'個人種目(ジュニア)'!BC9)","v":""},{"$f":"IF(A923=\"\",\"\",'個人種目(ジュニア)'!AF9)","v":""},0,0,{"$f":"IF(A923=\"\",\"\",'個人種目(ジュニア)'!BH9)","v":""},5]
[{"$f":"IF('個人種目(ジュニア)'!O10=\"\",\"\",'個人種目(ジュニア)'!AP10)","v":""},{"$f":"IF(A924=\"\",\"\",'個人種目(ジュニア)'!AX10)","v":""},{"$f":"IF(A924=\"\",\"\",'個人種目(ジュニア)'!BC10)","v":""},{"$f":"IF(A924=\"\",\"\",'個人種目(ジュニア)'!AF10)","v":""},0,0,{"$f":"IF(A924=\"\",\"\",'個人種目(ジュニア)'!BH10)","v":""},5]
[{"$f":"IF('個人種目(ジュニア)'!O11=\"\",\"\",'個人種目(ジュニア)'!AP11)","v":""},{"$f":"IF(A925=\"\",\"\",'個人種目(ジュニア)'!AX11)","v":""},{"$f":"IF(A925=\"\",\"\",'個人種目(ジュニア)'!BC11)","v":""},{"$f":"IF(A925=\"\",\"\",'個人種目(ジュニア)'!AF11)","v":""},0,0,{"$f":"IF(A925=\"\",\"\",'個人種目(ジュニア)'!BH11)","v":""},5]
[{"$f":"IF('個人種目(ジュニア)'!O12=\"\",\"\",'個人種目(ジュニア)'!AP12)","v":""},{"$f":"IF(A926=\"\",\"\",'個人種目(ジュニア)'!AX12)","v":""},{"$f":"IF(A926=\"\",\"\",'個人種目(ジュニア)'!BC12)","v":""},{"$f":"IF(A926=\"\",\"\",'個人種目(ジュニア)'!AF12)","v":""},0,0,{"$f":"IF(A926=\"\",\"\",'個人種目(ジュニア)'!BH12)","v":""},5]
[{"$f":"IF('個人種目(ジュニア)'!O13=\"\",\"\",'個人種目(ジュニア)'!AP13)","v":""},{"$f":"IF(A927=\"\",\"\",'個人種目(ジュニア)'!AX13)","v":""},{"$f":"IF(A927=\"\",\"\",'個人種目(ジュニア)'!BC13)","v":""},{"$f":"IF(A927=\"\",\"\",'個人種目(ジュニア)'!AF13)","v":""},0,0,{"$f":"IF(A927=\"\",\"\",'個人種目(ジュニア)'!BH13)","v":""},5]
[{"$f":"IF('個人種目(ジュニア)'!O14=\"\",\"\",'個人種目(ジュニア)'!AP14)","v":""},{"$f":"IF(A928=\"\",\"\",'個人種目(ジュニア)'!AX14)","v":""},{"$f":"IF(A928=\"\",\"\",'個人種目(ジュニア)'!BC14)","v":""},{"$f":"IF(A928=\"\",\"\",'個人種目(ジュニア)'!AF14)","v":""},0,0,{"$f":"IF(A928=\"\",\"\",'個人種目(ジュニア)'!BH14)","v":""},5]
[{"$f":"IF('個人種目(ジュニア)'!O15=\"\",\"\",'個人種目(ジュニア)'!AP15)","v":""},{"$f":"IF(A929=\"\",\"\",'個人種目(ジュニア)'!AX15)","v":""},{"$f":"IF(A929=\"\",\"\",'個人種目(ジュニア)'!BC15)","v":""},{"$f":"IF(A929=\"\",\"\",'個人種目(ジュニア)'!AF15)","v":""},0,0,{"$f":"IF(A929=\"\",\"\",'個人種目(ジュニア)'!BH15)","v":""},5]
[{"$f":"IF('個人種目(ジュニア)'!O16=\"\",\"\",'個人種目(ジュニア)'!AP16)","v":""},{"$f":"IF(A930=\"\",\"\",'個人種目(ジュニア)'!AX16)","v":""},{"$f":"IF(A930=\"\",\"\",'個人種目(ジュニア)'!BC16)","v":""},{"$f":"IF(A930=\"\",\"\",'個人種目(ジュニア)'!AF16)","v":""},0,0,{"$f":"IF(A930=\"\",\"\",'個人種目(ジュニア)'!BH16)","v":""},5]
[{"$f":"IF('個人種目(ジュニア)'!O17=\"\",\"\",'個人種目(ジュニア)'!AP17)","v":""},{"$f":"IF(A931=\"\",\"\",'個人種目(ジュニア)'!AX17)","v":""},{"$f":"IF(A931=\"\",\"\",'個人種目(ジュニア)'!BC17)","v":""},{"$f":"IF(A931=\"\",\"\",'個人種目(ジュニア)'!AF17)","v":""},0,0,{"$f":"IF(A931=\"\",\"\",'個人種目(ジュニア)'!BH17)","v":""},5]
[{"$f":"IF('個人種目(ジュニア)'!O18=\"\",\"\",'個人種目(ジュニア)'!AP18)","v":""},{"$f":"IF(A932=\"\",\"\",'個人種目(ジュニア)'!AX18)","v":""},{"$f":"IF(A932=\"\",\"\",'個人種目(ジュニア)'!BC18)","v":""},{"$f":"IF(A932=\"\",\"\",'個人種目(ジュニア)'!AF18)","v":""},0,0,{"$f":"IF(A932=\"\",\"\",'個人種目(ジュニア)'!BH18)","v":""},5]
[{"$f":"IF('個人種目(ジュニア)'!O19=\"\",\"\",'個人種目(ジュニア)'!AP19)","v":""},{"$f":"IF(A933=\"\",\"\",'個人種目(ジュニア)'!AX19)","v":""},{"$f":"IF(A933=\"\",\"\",'個人種目(ジュニア)'!BC19)","v":""},{"$f":"IF(A933=\"\",\"\",'個人種目(ジュニア)'!AF19)","v":""},0,0,{"$f":"IF(A933=\"\",\"\",'個人種目(ジュニア)'!BH19)","v":""},5]
[{"$f":"IF('個人種目(ジュニア)'!O20=\"\",\"\",'個人種目(ジュニア)'!AP20)","v":""},{"$f":"IF(A934=\"\",\"\",'個人種目(ジュニア)'!AX20)","v":""},{"$f":"IF(A934=\"\",\"\",'個人種目(ジュニア)'!BC20)","v":""},{"$f":"IF(A934=\"\",\"\",'個人種目(ジュニア)'!AF20)","v":""},0,0,{"$f":"IF(A934=\"\",\"\",'個人種目(ジュニア)'!BH20)","v":""},5]
[{"$f":"IF('個人種目(ジュニア)'!O21=\"\",\"\",'個人種目(ジュニア)'!AP21)","v":""},{"$f":"IF(A935=\"\",\"\",'個人種目(ジュニア)'!AX21)","v":""},{"$f":"IF(A935=\"\",\"\",'個人種目(ジュニア)'!BC21)","v":""},{"$f":"IF(A935=\"\",\"\",'個人種目(ジュニア)'!AF21)","v":""},0,0,{"$f":"IF(A935=\"\",\"\",'個人種目(ジュニア)'!BH21)","v":""},5]
[{"$f":"IF('個人種目(ジュニア)'!O22=\"\",\"\",'個人種目(ジュニア)'!AP22)","v":""},{"$f":"IF(A936=\"\",\"\",'個人種目(ジュニア)'!AX22)","v":""},{"$f":"IF(A936=\"\",\"\",'個人種目(ジュニア)'!BC22)","v":""},{"$f":"IF(A936=\"\",\"\",'個人種目(ジュニア)'!AF22)","v":""},0,0,{"$f":"IF(A936=\"\",\"\",'個人種目(ジュニア)'!BH22)","v":""},5]
[{"$f":"IF('個人種目(ジュニア)'!O23=\"\",\"\",'個人種目(ジュニア)'!AP23)","v":""},{"$f":"IF(A937=\"\",\"\",'個人種目(ジュニア)'!AX23)","v":""},{"$f":"IF(A937=\"\",\"\",'個人種目(ジュニア)'!BC23)","v":""},{"$f":"IF(A937=\"\",\"\",'個人種目(ジュニア)'!AF23)","v":""},0,0,{"$f":"IF(A937=\"\",\"\",'個人種目(ジュニア)'!BH23)","v":""},5]
[{"$f":"IF('個人種目(ジュニア)'!O24=\"\",\"\",'個人種目(ジュニア)'!AP24)","v":""},{"$f":"IF(A938=\"\",\"\",'個人種目(ジュニア)'!AX24)","v":""},{"$f":"IF(A938=\"\",\"\",'個人種目(ジュニア)'!BC24)","v":""},{"$f":"IF(A938=\"\",\"\",'個人種目(ジュニア)'!AF24)","v":""},0,0,{"$f":"IF(A938=\"\",\"\",'個人種目(ジュニア)'!BH24)","v":""},5]
[{"$f":"IF('個人種目(ジュニア)'!O25=\"\",\"\",'個人種目(ジュニア)'!AP25)","v":""},{"$f":"IF(A939=\"\",\"\",'個人種目(ジュニア)'!AX25)","v":""},{"$f":"IF(A939=\"\",\"\",'個人種目(ジュニア)'!BC25)","v":""},{"$f":"IF(A939=\"\",\"\",'個人種目(ジュニア)'!AF25)","v":""},0,0,{"$f":"IF(A939=\"\",\"\",'個人種目(ジュニア)'!BH25)","v":""},5]
[{"$f":"IF('個人種目(ジュニア)'!O26=\"\",\"\",'個人種目(ジュニア)'!AP26)","v":""},{"$f":"IF(A940=\"\",\"\",'個人種目(ジュニア)'!AX26)","v":""},{"$f":"IF(A940=\"\",\"\",'個人種目(ジュニア)'!BC26)","v":""},{"$f":"IF(A940=\"\",\"\",'個人種目(ジュニア)'!AF26)","v":""},0,0,{"$f":"IF(A940=\"\",\"\",'個人種目(ジュニア)'!BH26)","v":""},5]
[{"$f":"IF('個人種目(ジュニア)'!O27=\"\",\"\",'個人種目(ジュニア)'!AP27)","v":""},{"$f":"IF(A941=\"\",\"\",'個人種目(ジュニア)'!AX27)","v":""},{"$f":"IF(A941=\"\",\"\",'個人種目(ジュニア)'!BC27)","v":""},{"$f":"IF(A941=\"\",\"\",'個人種目(ジュニア)'!AF27)","v":""},0,0,{"$f":"IF(A941=\"\",\"\",'個人種目(ジュニア)'!BH27)","v":""},5]
[{"$f":"IF('個人種目(ジュニア)'!O28=\"\",\"\",'個人種目(ジュニア)'!AP28)","v":""},{"$f":"IF(A942=\"\",\"\",'個人種目(ジュニア)'!AX28)","v":""},{"$f":"IF(A942=\"\",\"\",'個人種目(ジュニア)'!BC28)","v":""},{"$f":"IF(A942=\"\",\"\",'個人種目(ジュニア)'!AF28)","v":""},0,0,{"$f":"IF(A942=\"\",\"\",'個人種目(ジュニア)'!BH28)","v":""},5]
[{"$f":"IF('個人種目(ジュニア)'!O29=\"\",\"\",'個人種目(ジュニア)'!AP29)","v":""},{"$f":"IF(A943=\"\",\"\",'個人種目(ジュニア)'!AX29)","v":""},{"$f":"IF(A943=\"\",\"\",'個人種目(ジュニア)'!BC29)","v":""},{"$f":"IF(A943=\"\",\"\",'個人種目(ジュニア)'!AF29)","v":""},0,0,{"$f":"IF(A943=\"\",\"\",'個人種目(ジュニア)'!BH29)","v":""},5]
[{"$f":"IF('個人種目(ジュニア)'!O30=\"\",\"\",'個人種目(ジュニア)'!AP30)","v":""},{"$f":"IF(A944=\"\",\"\",'個人種目(ジュニア)'!AX30)","v":""},{"$f":"IF(A944=\"\",\"\",'個人種目(ジュニア)'!BC30)","v":""},{"$f":"IF(A944=\"\",\"\",'個人種目(ジュニア)'!AF30)","v":""},0,0,{"$f":"IF(A944=\"\",\"\",'個人種目(ジュニア)'!BH30)","v":""},5]
[{"$f":"IF('個人種目(ジュニア)'!O31=\"\",\"\",'個人種目(ジュニア)'!AP31)","v":""},{"$f":"IF(A945=\"\",\"\",'個人種目(ジュニア)'!AX31)","v":""},{"$f":"IF(A945=\"\",\"\",'個人種目(ジュニア)'!BC31)","v":""},{"$f":"IF(A945=\"\",\"\",'個人種目(ジュニア)'!AF31)","v":""},0,0,{"$f":"IF(A945=\"\",\"\",'個人種目(ジュニア)'!BH31)","v":""},5]
[{"$f":"IF('個人種目(ジュニア)'!O32=\"\",\"\",'個人種目(ジュニア)'!AP32)","v":""},{"$f":"IF(A946=\"\",\"\",'個人種目(ジュニア)'!AX32)","v":""},{"$f":"IF(A946=\"\",\"\",'個人種目(ジュニア)'!BC32)","v":""},{"$f":"IF(A946=\"\",\"\",'個人種目(ジュニア)'!AF32)","v":""},0,0,{"$f":"IF(A946=\"\",\"\",'個人種目(ジュニア)'!BH32)","v":""},5]
[{"$f":"IF('個人種目(ジュニア)'!O33=\"\",\"\",'個人種目(ジュニア)'!AP33)","v":""},{"$f":"IF(A947=\"\",\"\",'個人種目(ジュニア)'!AX33)","v":""},{"$f":"IF(A947=\"\",\"\",'個人種目(ジュニア)'!BC33)","v":""},{"$f":"IF(A947=\"\",\"\",'個人種目(ジュニア)'!AF33)","v":""},0,0,{"$f":"IF(A947=\"\",\"\",'個人種目(ジュニア)'!BH33)","v":""},5]
[{"$f":"IF('個人種目(ジュニア)'!O34=\"\",\"\",'個人種目(ジュニア)'!AP34)","v":""},{"$f":"IF(A948=\"\",\"\",'個人種目(ジュニア)'!AX34)","v":""},{"$f":"IF(A948=\"\",\"\",'個人種目(ジュニア)'!BC34)","v":""},{"$f":"IF(A948=\"\",\"\",'個人種目(ジュニア)'!AF34)","v":""},0,0,{"$f":"IF(A948=\"\",\"\",'個人種目(ジュニア)'!BH34)","v":""},5]
[{"$f":"IF('個人種目(ジュニア)'!O35=\"\",\"\",'個人種目(ジュニア)'!AP35)","v":""},{"$f":"IF(A949=\"\",\"\",'個人種目(ジュニア)'!AX35)","v":""},{"$f":"IF(A949=\"\",\"\",'個人種目(ジュニア)'!BC35)","v":""},{"$f":"IF(A949=\"\",\"\",'個人種目(ジュニア)'!AF35)","v":""},0,0,{"$f":"IF(A949=\"\",\"\",'個人種目(ジュニア)'!BH35)","v":""},5]
[{"$f":"IF('個人種目(ジュニア)'!O36=\"\",\"\",'個人種目(ジュニア)'!AP36)","v":""},{"$f":"IF(A950=\"\",\"\",'個人種目(ジュニア)'!AX36)","v":""},{"$f":"IF(A950=\"\",\"\",'個人種目(ジュニア)'!BC36)","v":""},{"$f":"IF(A950=\"\",\"\",'個人種目(ジュニア)'!AF36)","v":""},0,0,{"$f":"IF(A950=\"\",\"\",'個人種目(ジュニア)'!BH36)","v":""},5]
[{"$f":"IF('個人種目(ジュニア)'!O37=\"\",\"\",'個人種目(ジュニア)'!AP37)","v":""},{"$f":"IF(A951=\"\",\"\",'個人種目(ジュニア)'!AX37)","v":""},{"$f":"IF(A951=\"\",\"\",'個人種目(ジュニア)'!BC37)","v":""},{"$f":"IF(A951=\"\",\"\",'個人種目(ジュニア)'!AF37)","v":""},0,0,{"$f":"IF(A951=\"\",\"\",'個人種目(ジュニア)'!BH37)","v":""},5]
[{"$f":"IF('個人種目(ジュニア)'!O38=\"\",\"\",'個人種目(ジュニア)'!AP38)","v":""},{"$f":"IF(A952=\"\",\"\",'個人種目(ジュニア)'!AX38)","v":""},{"$f":"IF(A952=\"\",\"\",'個人種目(ジュニア)'!BC38)","v":""},{"$f":"IF(A952=\"\",\"\",'個人種目(ジュニア)'!AF38)","v":""},0,0,{"$f":"IF(A952=\"\",\"\",'個人種目(ジュニア)'!BH38)","v":""},5]
[{"$f":"IF('個人種目(ジュニア)'!O39=\"\",\"\",'個人種目(ジュニア)'!AP39)","v":""},{"$f":"IF(A953=\"\",\"\",'個人種目(ジュニア)'!AX39)","v":""},{"$f":"IF(A953=\"\",\"\",'個人種目(ジュニア)'!BC39)","v":""},{"$f":"IF(A953=\"\",\"\",'個人種目(ジュニア)'!AF39)","v":""},0,0,{"$f":"IF(A953=\"\",\"\",'個人種目(ジュニア)'!BH39)","v":""},5]
[{"$f":"IF('個人種目(ジュニア)'!O40=\"\",\"\",'個人種目(ジュニア)'!AP40)","v":""},{"$f":"IF(A954=\"\",\"\",'個人種目(ジュニア)'!AX40)","v":""},{"$f":"IF(A954=\"\",\"\",'個人種目(ジュニア)'!BC40)","v":""},{"$f":"IF(A954=\"\",\"\",'個人種目(ジュニア)'!AF40)","v":""},0,0,{"$f":"IF(A954=\"\",\"\",'個人種目(ジュニア)'!BH40)","v":""},5]
[{"$f":"IF('個人種目(ジュニア)'!O41=\"\",\"\",'個人種目(ジュニア)'!AP41)","v":""},{"$f":"IF(A955=\"\",\"\",'個人種目(ジュニア)'!AX41)","v":""},{"$f":"IF(A955=\"\",\"\",'個人種目(ジュニア)'!BC41)","v":""},{"$f":"IF(A955=\"\",\"\",'個人種目(ジュニア)'!AF41)","v":""},0,0,{"$f":"IF(A955=\"\",\"\",'個人種目(ジュニア)'!BH41)","v":""},5]
[{"$f":"IF('個人種目(ジュニア)'!O42=\"\",\"\",'個人種目(ジュニア)'!AP42)","v":""},{"$f":"IF(A956=\"\",\"\",'個人種目(ジュニア)'!AX42)","v":""},{"$f":"IF(A956=\"\",\"\",'個人種目(ジュニア)'!BC42)","v":""},{"$f":"IF(A956=\"\",\"\",'個人種目(ジュニア)'!AF42)","v":""},0,0,{"$f":"IF(A956=\"\",\"\",'個人種目(ジュニア)'!BH42)","v":""},5]
[{"$f":"IF('個人種目(ジュニア)'!O43=\"\",\"\",'個人種目(ジュニア)'!AP43)","v":""},{"$f":"IF(A957=\"\",\"\",'個人種目(ジュニア)'!AX43)","v":""},{"$f":"IF(A957=\"\",\"\",'個人種目(ジュニア)'!BC43)","v":""},{"$f":"IF(A957=\"\",\"\",'個人種目(ジュニア)'!AF43)","v":""},0,0,{"$f":"IF(A957=\"\",\"\",'個人種目(ジュニア)'!BH43)","v":""},5]
[{"$f":"IF('個人種目(ジュニア)'!O44=\"\",\"\",'個人種目(ジュニア)'!AP44)","v":""},{"$f":"IF(A958=\"\",\"\",'個人種目(ジュニア)'!AX44)","v":""},{"$f":"IF(A958=\"\",\"\",'個人種目(ジュニア)'!BC44)","v":""},{"$f":"IF(A958=\"\",\"\",'個人種目(ジュニア)'!AF44)","v":""},0,0,{"$f":"IF(A958=\"\",\"\",'個人種目(ジュニア)'!BH44)","v":""},5]
[{"$f":"IF('個人種目(ジュニア)'!O45=\"\",\"\",'個人種目(ジュニア)'!AP45)","v":""},{"$f":"IF(A959=\"\",\"\",'個人種目(ジュニア)'!AX45)","v":""},{"$f":"IF(A959=\"\",\"\",'個人種目(ジュニア)'!BC45)","v":""},{"$f":"IF(A959=\"\",\"\",'個人種目(ジュニア)'!AF45)","v":""},0,0,{"$f":"IF(A959=\"\",\"\",'個人種目(ジュニア)'!BH45)","v":""},5]
[{"$f":"IF('個人種目(ジュニア)'!O46=\"\",\"\",'個人種目(ジュニア)'!AP46)","v":""},{"$f":"IF(A960=\"\",\"\",'個人種目(ジュニア)'!AX46)","v":""},{"$f":"IF(A960=\"\",\"\",'個人種目(ジュニア)'!BC46)","v":""},{"$f":"IF(A960=\"\",\"\",'個人種目(ジュニア)'!AF46)","v":""},0,0,{"$f":"IF(A960=\"\",\"\",'個人種目(ジュニア)'!BH46)","v":""},5]
[{"$f":"IF('個人種目(ジュニア)'!O47=\"\",\"\",'個人種目(ジュニア)'!AP47)","v":""},{"$f":"IF(A961=\"\",\"\",'個人種目(ジュニア)'!AX47)","v":""},{"$f":"IF(A961=\"\",\"\",'個人種目(ジュニア)'!BC47)","v":""},{"$f":"IF(A961=\"\",\"\",'個人種目(ジュニア)'!AF47)","v":""},0,0,{"$f":"IF(A961=\"\",\"\",'個人種目(ジュニア)'!BH47)","v":""},5]
[{"$f":"IF('個人種目(ジュニア)'!O48=\"\",\"\",'個人種目(ジュニア)'!AP48)","v":""},{"$f":"IF(A962=\"\",\"\",'個人種目(ジュニア)'!AX48)","v":""},{"$f":"IF(A962=\"\",\"\",'個人種目(ジュニア)'!BC48)","v":""},{"$f":"IF(A962=\"\",\"\",'個人種目(ジュニア)'!AF48)","v":""},0,0,{"$f":"IF(A962=\"\",\"\",'個人種目(ジュニア)'!BH48)","v":""},5]
[{"$f":"IF('個人種目(ジュニア)'!O49=\"\",\"\",'個人種目(ジュニア)'!AP49)","v":""},{"$f":"IF(A963=\"\",\"\",'個人種目(ジュニア)'!AX49)","v":""},{"$f":"IF(A963=\"\",\"\",'個人種目(ジュニア)'!BC49)","v":""},{"$f":"IF(A963=\"\",\"\",'個人種目(ジュニア)'!AF49)","v":""},0,0,{"$f":"IF(A963=\"\",\"\",'個人種目(ジュニア)'!BH49)","v":""},5]
[{"$f":"IF('個人種目(ジュニア)'!O50=\"\",\"\",'個人種目(ジュニア)'!AP50)","v":""},{"$f":"IF(A964=\"\",\"\",'個人種目(ジュニア)'!AX50)","v":""},{"$f":"IF(A964=\"\",\"\",'個人種目(ジュニア)'!BC50)","v":""},{"$f":"IF(A964=\"\",\"\",'個人種目(ジュニア)'!AF50)","v":""},0,0,{"$f":"IF(A964=\"\",\"\",'個人種目(ジュニア)'!BH50)","v":""},5]
[{"$f":"IF('個人種目(ジュニア)'!O51=\"\",\"\",'個人種目(ジュニア)'!AP51)","v":""},{"$f":"IF(A965=\"\",\"\",'個人種目(ジュニア)'!AX51)","v":""},{"$f":"IF(A965=\"\",\"\",'個人種目(ジュニア)'!BC51)","v":""},{"$f":"IF(A965=\"\",\"\",'個人種目(ジュニア)'!AF51)","v":""},0,0,{"$f":"IF(A965=\"\",\"\",'個人種目(ジュニア)'!BH51)","v":""},5]
[{"$f":"IF('個人種目(ジュニア)'!O52=\"\",\"\",'個人種目(ジュニア)'!AP52)","v":""},{"$f":"IF(A966=\"\",\"\",'個人種目(ジュニア)'!AX52)","v":""},{"$f":"IF(A966=\"\",\"\",'個人種目(ジュニア)'!BC52)","v":""},{"$f":"IF(A966=\"\",\"\",'個人種目(ジュニア)'!AF52)","v":""},0,0,{"$f":"IF(A966=\"\",\"\",'個人種目(ジュニア)'!BH52)","v":""},5]
[{"$f":"IF('個人種目(ジュニア)'!O53=\"\",\"\",'個人種目(ジュニア)'!AP53)","v":""},{"$f":"IF(A967=\"\",\"\",'個人種目(ジュニア)'!AX53)","v":""},{"$f":"IF(A967=\"\",\"\",'個人種目(ジュニア)'!BC53)","v":""},{"$f":"IF(A967=\"\",\"\",'個人種目(ジュニア)'!AF53)","v":""},0,0,{"$f":"IF(A967=\"\",\"\",'個人種目(ジュニア)'!BH53)","v":""},5]
[{"$f":"IF('個人種目(ジュニア)'!O54=\"\",\"\",'個人種目(ジュニア)'!AP54)","v":""},{"$f":"IF(A968=\"\",\"\",'個人種目(ジュニア)'!AX54)","v":""},{"$f":"IF(A968=\"\",\"\",'個人種目(ジュニア)'!BC54)","v":""},{"$f":"IF(A968=\"\",\"\",'個人種目(ジュニア)'!AF54)","v":""},0,0,{"$f":"IF(A968=\"\",\"\",'個人種目(ジュニア)'!BH54)","v":""},5]
[{"$f":"IF('個人種目(ジュニア)'!O55=\"\",\"\",'個人種目(ジュニア)'!AP55)","v":""},{"$f":"IF(A969=\"\",\"\",'個人種目(ジュニア)'!AX55)","v":""},{"$f":"IF(A969=\"\",\"\",'個人種目(ジュニア)'!BC55)","v":""},{"$f":"IF(A969=\"\",\"\",'個人種目(ジュニア)'!AF55)","v":""},0,0,{"$f":"IF(A969=\"\",\"\",'個人種目(ジュニア)'!BH55)","v":""},5]
[]
[]
[{"$f":"IF('個人種目(ジュニア)'!O58=\"\",\"\",'個人種目(ジュニア)'!AP58)","v":""},{"$f":"IF(A972=\"\",\"\",'個人種目(ジュニア)'!AX58)","v":""},{"$f":"IF(A972=\"\",\"\",'個人種目(ジュニア)'!BC58)","v":""},{"$f":"IF(A972=\"\",\"\",'個人種目(ジュニア)'!AF58)","v":""},0,5,{"$f":"IF(A972=\"\",\"\",'個人種目(ジュニア)'!BH58)","v":""},5]
[{"$f":"IF('個人種目(ジュニア)'!O59=\"\",\"\",'個人種目(ジュニア)'!AP59)","v":""},{"$f":"IF(A973=\"\",\"\",'個人種目(ジュニア)'!AX59)","v":""},{"$f":"IF(A973=\"\",\"\",'個人種目(ジュニア)'!BC59)","v":""},{"$f":"IF(A973=\"\",\"\",'個人種目(ジュニア)'!AF59)","v":""},0,5,{"$f":"IF(A973=\"\",\"\",'個人種目(ジュニア)'!BH59)","v":""},5]
[{"$f":"IF('個人種目(ジュニア)'!O60=\"\",\"\",'個人種目(ジュニア)'!AP60)","v":""},{"$f":"IF(A974=\"\",\"\",'個人種目(ジュニア)'!AX60)","v":""},{"$f":"IF(A974=\"\",\"\",'個人種目(ジュニア)'!BC60)","v":""},{"$f":"IF(A974=\"\",\"\",'個人種目(ジュニア)'!AF60)","v":""},0,5,{"$f":"IF(A974=\"\",\"\",'個人種目(ジュニア)'!BH60)","v":""},5]
[{"$f":"IF('個人種目(ジュニア)'!O61=\"\",\"\",'個人種目(ジュニア)'!AP61)","v":""},{"$f":"IF(A975=\"\",\"\",'個人種目(ジュニア)'!AX61)","v":""},{"$f":"IF(A975=\"\",\"\",'個人種目(ジュニア)'!BC61)","v":""},{"$f":"IF(A975=\"\",\"\",'個人種目(ジュニア)'!AF61)","v":""},0,5,{"$f":"IF(A975=\"\",\"\",'個人種目(ジュニア)'!BH61)","v":""},5]
[{"$f":"IF('個人種目(ジュニア)'!O62=\"\",\"\",'個人種目(ジュニア)'!AP62)","v":""},{"$f":"IF(A976=\"\",\"\",'個人種目(ジュニア)'!AX62)","v":""},{"$f":"IF(A976=\"\",\"\",'個人種目(ジュニア)'!BC62)","v":""},{"$f":"IF(A976=\"\",\"\",'個人種目(ジュニア)'!AF62)","v":""},0,5,{"$f":"IF(A976=\"\",\"\",'個人種目(ジュニア)'!BH62)","v":""},5]
[{"$f":"IF('個人種目(ジュニア)'!O63=\"\",\"\",'個人種目(ジュニア)'!AP63)","v":""},{"$f":"IF(A977=\"\",\"\",'個人種目(ジュニア)'!AX63)","v":""},{"$f":"IF(A977=\"\",\"\",'個人種目(ジュニア)'!BC63)","v":""},{"$f":"IF(A977=\"\",\"\",'個人種目(ジュニア)'!AF63)","v":""},0,5,{"$f":"IF(A977=\"\",\"\",'個人種目(ジュニア)'!BH63)","v":""},5]
[{"$f":"IF('個人種目(ジュニア)'!O64=\"\",\"\",'個人種目(ジュニア)'!AP64)","v":""},{"$f":"IF(A978=\"\",\"\",'個人種目(ジュニア)'!AX64)","v":""},{"$f":"IF(A978=\"\",\"\",'個人種目(ジュニア)'!BC64)","v":""},{"$f":"IF(A978=\"\",\"\",'個人種目(ジュニア)'!AF64)","v":""},0,5,{"$f":"IF(A978=\"\",\"\",'個人種目(ジュニア)'!BH64)","v":""},5]
[{"$f":"IF('個人種目(ジュニア)'!O65=\"\",\"\",'個人種目(ジュニア)'!AP65)","v":""},{"$f":"IF(A979=\"\",\"\",'個人種目(ジュニア)'!AX65)","v":""},{"$f":"IF(A979=\"\",\"\",'個人種目(ジュニア)'!BC65)","v":""},{"$f":"IF(A979=\"\",\"\",'個人種目(ジュニア)'!AF65)","v":""},0,5,{"$f":"IF(A979=\"\",\"\",'個人種目(ジュニア)'!BH65)","v":""},5]
[{"$f":"IF('個人種目(ジュニア)'!O66=\"\",\"\",'個人種目(ジュニア)'!AP66)","v":""},{"$f":"IF(A980=\"\",\"\",'個人種目(ジュニア)'!AX66)","v":""},{"$f":"IF(A980=\"\",\"\",'個人種目(ジュニア)'!BC66)","v":""},{"$f":"IF(A980=\"\",\"\",'個人種目(ジュニア)'!AF66)","v":""},0,5,{"$f":"IF(A980=\"\",\"\",'個人種目(ジュニア)'!BH66)","v":""},5]
[{"$f":"IF('個人種目(ジュニア)'!O67=\"\",\"\",'個人種目(ジュニア)'!AP67)","v":""},{"$f":"IF(A981=\"\",\"\",'個人種目(ジュニア)'!AX67)","v":""},{"$f":"IF(A981=\"\",\"\",'個人種目(ジュニア)'!BC67)","v":""},{"$f":"IF(A981=\"\",\"\",'個人種目(ジュニア)'!AF67)","v":""},0,5,{"$f":"IF(A981=\"\",\"\",'個人種目(ジュニア)'!BH67)","v":""},5]
[{"$f":"IF('個人種目(ジュニア)'!O68=\"\",\"\",'個人種目(ジュニア)'!AP68)","v":""},{"$f":"IF(A982=\"\",\"\",'個人種目(ジュニア)'!AX68)","v":""},{"$f":"IF(A982=\"\",\"\",'個人種目(ジュニア)'!BC68)","v":""},{"$f":"IF(A982=\"\",\"\",'個人種目(ジュニア)'!AF68)","v":""},0,5,{"$f":"IF(A982=\"\",\"\",'個人種目(ジュニア)'!BH68)","v":""},5]
[{"$f":"IF('個人種目(ジュニア)'!O69=\"\",\"\",'個人種目(ジュニア)'!AP69)","v":""},{"$f":"IF(A983=\"\",\"\",'個人種目(ジュニア)'!AX69)","v":""},{"$f":"IF(A983=\"\",\"\",'個人種目(ジュニア)'!BC69)","v":""},{"$f":"IF(A983=\"\",\"\",'個人種目(ジュニア)'!AF69)","v":""},0,5,{"$f":"IF(A983=\"\",\"\",'個人種目(ジュニア)'!BH69)","v":""},5]
[{"$f":"IF('個人種目(ジュニア)'!O70=\"\",\"\",'個人種目(ジュニア)'!AP70)","v":""},{"$f":"IF(A984=\"\",\"\",'個人種目(ジュニア)'!AX70)","v":""},{"$f":"IF(A984=\"\",\"\",'個人種目(ジュニア)'!BC70)","v":""},{"$f":"IF(A984=\"\",\"\",'個人種目(ジュニア)'!AF70)","v":""},0,5,{"$f":"IF(A984=\"\",\"\",'個人種目(ジュニア)'!BH70)","v":""},5]
[{"$f":"IF('個人種目(ジュニア)'!O71=\"\",\"\",'個人種目(ジュニア)'!AP71)","v":""},{"$f":"IF(A985=\"\",\"\",'個人種目(ジュニア)'!AX71)","v":""},{"$f":"IF(A985=\"\",\"\",'個人種目(ジュニア)'!BC71)","v":""},{"$f":"IF(A985=\"\",\"\",'個人種目(ジュニア)'!AF71)","v":""},0,5,{"$f":"IF(A985=\"\",\"\",'個人種目(ジュニア)'!BH71)","v":""},5]
[{"$f":"IF('個人種目(ジュニア)'!O72=\"\",\"\",'個人種目(ジュニア)'!AP72)","v":""},{"$f":"IF(A986=\"\",\"\",'個人種目(ジュニア)'!AX72)","v":""},{"$f":"IF(A986=\"\",\"\",'個人種目(ジュニア)'!BC72)","v":""},{"$f":"IF(A986=\"\",\"\",'個人種目(ジュニア)'!AF72)","v":""},0,5,{"$f":"IF(A986=\"\",\"\",'個人種目(ジュニア)'!BH72)","v":""},5]
[{"$f":"IF('個人種目(ジュニア)'!O73=\"\",\"\",'個人種目(ジュニア)'!AP73)","v":""},{"$f":"IF(A987=\"\",\"\",'個人種目(ジュニア)'!AX73)","v":""},{"$f":"IF(A987=\"\",\"\",'個人種目(ジュニア)'!BC73)","v":""},{"$f":"IF(A987=\"\",\"\",'個人種目(ジュニア)'!AF73)","v":""},0,5,{"$f":"IF(A987=\"\",\"\",'個人種目(ジュニア)'!BH73)","v":""},5]
[{"$f":"IF('個人種目(ジュニア)'!O74=\"\",\"\",'個人種目(ジュニア)'!AP74)","v":""},{"$f":"IF(A988=\"\",\"\",'個人種目(ジュニア)'!AX74)","v":""},{"$f":"IF(A988=\"\",\"\",'個人種目(ジュニア)'!BC74)","v":""},{"$f":"IF(A988=\"\",\"\",'個人種目(ジュニア)'!AF74)","v":""},0,5,{"$f":"IF(A988=\"\",\"\",'個人種目(ジュニア)'!BH74)","v":""},5]
[{"$f":"IF('個人種目(ジュニア)'!O75=\"\",\"\",'個人種目(ジュニア)'!AP75)","v":""},{"$f":"IF(A989=\"\",\"\",'個人種目(ジュニア)'!AX75)","v":""},{"$f":"IF(A989=\"\",\"\",'個人種目(ジュニア)'!BC75)","v":""},{"$f":"IF(A989=\"\",\"\",'個人種目(ジュニア)'!AF75)","v":""},0,5,{"$f":"IF(A989=\"\",\"\",'個人種目(ジュニア)'!BH75)","v":""},5]
[{"$f":"IF('個人種目(ジュニア)'!O76=\"\",\"\",'個人種目(ジュニア)'!AP76)","v":""},{"$f":"IF(A990=\"\",\"\",'個人種目(ジュニア)'!AX76)","v":""},{"$f":"IF(A990=\"\",\"\",'個人種目(ジュニア)'!BC76)","v":""},{"$f":"IF(A990=\"\",\"\",'個人種目(ジュニア)'!AF76)","v":""},0,5,{"$f":"IF(A990=\"\",\"\",'個人種目(ジュニア)'!BH76)","v":""},5]
[{"$f":"IF('個人種目(ジュニア)'!O77=\"\",\"\",'個人種目(ジュニア)'!AP77)","v":""},{"$f":"IF(A991=\"\",\"\",'個人種目(ジュニア)'!AX77)","v":""},{"$f":"IF(A991=\"\",\"\",'個人種目(ジュニア)'!BC77)","v":""},{"$f":"IF(A991=\"\",\"\",'個人種目(ジュニア)'!AF77)","v":""},0,5,{"$f":"IF(A991=\"\",\"\",'個人種目(ジュニア)'!BH77)","v":""},5]
[{"$f":"IF('個人種目(ジュニア)'!O78=\"\",\"\",'個人種目(ジュニア)'!AP78)","v":""},{"$f":"IF(A992=\"\",\"\",'個人種目(ジュニア)'!AX78)","v":""},{"$f":"IF(A992=\"\",\"\",'個人種目(ジュニア)'!BC78)","v":""},{"$f":"IF(A992=\"\",\"\",'個人種目(ジュニア)'!AF78)","v":""},0,5,{"$f":"IF(A992=\"\",\"\",'個人種目(ジュニア)'!BH78)","v":""},5]
[{"$f":"IF('個人種目(ジュニア)'!O79=\"\",\"\",'個人種目(ジュニア)'!AP79)","v":""},{"$f":"IF(A993=\"\",\"\",'個人種目(ジュニア)'!AX79)","v":""},{"$f":"IF(A993=\"\",\"\",'個人種目(ジュニア)'!BC79)","v":""},{"$f":"IF(A993=\"\",\"\",'個人種目(ジュニア)'!AF79)","v":""},0,5,{"$f":"IF(A993=\"\",\"\",'個人種目(ジュニア)'!BH79)","v":""},5]
[{"$f":"IF('個人種目(ジュニア)'!O80=\"\",\"\",'個人種目(ジュニア)'!AP80)","v":""},{"$f":"IF(A994=\"\",\"\",'個人種目(ジュニア)'!AX80)","v":""},{"$f":"IF(A994=\"\",\"\",'個人種目(ジュニア)'!BC80)","v":""},{"$f":"IF(A994=\"\",\"\",'個人種目(ジュニア)'!AF80)","v":""},0,5,{"$f":"IF(A994=\"\",\"\",'個人種目(ジュニア)'!BH80)","v":""},5]
[{"$f":"IF('個人種目(ジュニア)'!O81=\"\",\"\",'個人種目(ジュニア)'!AP81)","v":""},{"$f":"IF(A995=\"\",\"\",'個人種目(ジュニア)'!AX81)","v":""},{"$f":"IF(A995=\"\",\"\",'個人種目(ジュニア)'!BC81)","v":""},{"$f":"IF(A995=\"\",\"\",'個人種目(ジュニア)'!AF81)","v":""},0,5,{"$f":"IF(A995=\"\",\"\",'個人種目(ジュニア)'!BH81)","v":""},5]
[{"$f":"IF('個人種目(ジュニア)'!O82=\"\",\"\",'個人種目(ジュニア)'!AP82)","v":""},{"$f":"IF(A996=\"\",\"\",'個人種目(ジュニア)'!AX82)","v":""},{"$f":"IF(A996=\"\",\"\",'個人種目(ジュニア)'!BC82)","v":""},{"$f":"IF(A996=\"\",\"\",'個人種目(ジュニア)'!AF82)","v":""},0,5,{"$f":"IF(A996=\"\",\"\",'個人種目(ジュニア)'!BH82)","v":""},5]
[{"$f":"IF('個人種目(ジュニア)'!O83=\"\",\"\",'個人種目(ジュニア)'!AP83)","v":""},{"$f":"IF(A997=\"\",\"\",'個人種目(ジュニア)'!AX83)","v":""},{"$f":"IF(A997=\"\",\"\",'個人種目(ジュニア)'!BC83)","v":""},{"$f":"IF(A997=\"\",\"\",'個人種目(ジュニア)'!AF83)","v":""},0,5,{"$f":"IF(A997=\"\",\"\",'個人種目(ジュニア)'!BH83)","v":""},5]
[{"$f":"IF('個人種目(ジュニア)'!O84=\"\",\"\",'個人種目(ジュニア)'!AP84)","v":""},{"$f":"IF(A998=\"\",\"\",'個人種目(ジュニア)'!AX84)","v":""},{"$f":"IF(A998=\"\",\"\",'個人種目(ジュニア)'!BC84)","v":""},{"$f":"IF(A998=\"\",\"\",'個人種目(ジュニア)'!AF84)","v":""},0,5,{"$f":"IF(A998=\"\",\"\",'個人種目(ジュニア)'!BH84)","v":""},5]
[{"$f":"IF('個人種目(ジュニア)'!O85=\"\",\"\",'個人種目(ジュニア)'!AP85)","v":""},{"$f":"IF(A999=\"\",\"\",'個人種目(ジュニア)'!AX85)","v":""},{"$f":"IF(A999=\"\",\"\",'個人種目(ジュニア)'!BC85)","v":""},{"$f":"IF(A999=\"\",\"\",'個人種目(ジュニア)'!AF85)","v":""},0,5,{"$f":"IF(A999=\"\",\"\",'個人種目(ジュニア)'!BH85)","v":""},5]
[{"$f":"IF('個人種目(ジュニア)'!O86=\"\",\"\",'個人種目(ジュニア)'!AP86)","v":""},{"$f":"IF(A1000=\"\",\"\",'個人種目(ジュニア)'!AX86)","v":""},{"$f":"IF(A1000=\"\",\"\",'個人種目(ジュニア)'!BC86)","v":""},{"$f":"IF(A1000=\"\",\"\",'個人種目(ジュニア)'!AF86)","v":""},0,5,{"$f":"IF(A1000=\"\",\"\",'個人種目(ジュニア)'!BH86)","v":""},5]
[{"$f":"IF('個人種目(ジュニア)'!O87=\"\",\"\",'個人種目(ジュニア)'!AP87)","v":""},{"$f":"IF(A1001=\"\",\"\",'個人種目(ジュニア)'!AX87)","v":""},{"$f":"IF(A1001=\"\",\"\",'個人種目(ジュニア)'!BC87)","v":""},{"$f":"IF(A1001=\"\",\"\",'個人種目(ジュニア)'!AF87)","v":""},0,5,{"$f":"IF(A1001=\"\",\"\",'個人種目(ジュニア)'!BH87)","v":""},5]
[{"$f":"IF('個人種目(ジュニア)'!O88=\"\",\"\",'個人種目(ジュニア)'!AP88)","v":""},{"$f":"IF(A1002=\"\",\"\",'個人種目(ジュニア)'!AX88)","v":""},{"$f":"IF(A1002=\"\",\"\",'個人種目(ジュニア)'!BC88)","v":""},{"$f":"IF(A1002=\"\",\"\",'個人種目(ジュニア)'!AF88)","v":""},0,5,{"$f":"IF(A1002=\"\",\"\",'個人種目(ジュニア)'!BH88)","v":""},5]
[{"$f":"IF('個人種目(ジュニア)'!O89=\"\",\"\",'個人種目(ジュニア)'!AP89)","v":""},{"$f":"IF(A1003=\"\",\"\",'個人種目(ジュニア)'!AX89)","v":""},{"$f":"IF(A1003=\"\",\"\",'個人種目(ジュニア)'!BC89)","v":""},{"$f":"IF(A1003=\"\",\"\",'個人種目(ジュニア)'!AF89)","v":""},0,5,{"$f":"IF(A1003=\"\",\"\",'個人種目(ジュニア)'!BH89)","v":""},5]
[{"$f":"IF('個人種目(ジュニア)'!O90=\"\",\"\",'個人種目(ジュニア)'!AP90)","v":""},{"$f":"IF(A1004=\"\",\"\",'個人種目(ジュニア)'!AX90)","v":""},{"$f":"IF(A1004=\"\",\"\",'個人種目(ジュニア)'!BC90)","v":""},{"$f":"IF(A1004=\"\",\"\",'個人種目(ジュニア)'!AF90)","v":""},0,5,{"$f":"IF(A1004=\"\",\"\",'個人種目(ジュニア)'!BH90)","v":""},5]
[{"$f":"IF('個人種目(ジュニア)'!O91=\"\",\"\",'個人種目(ジュニア)'!AP91)","v":""},{"$f":"IF(A1005=\"\",\"\",'個人種目(ジュニア)'!AX91)","v":""},{"$f":"IF(A1005=\"\",\"\",'個人種目(ジュニア)'!BC91)","v":""},{"$f":"IF(A1005=\"\",\"\",'個人種目(ジュニア)'!AF91)","v":""},0,5,{"$f":"IF(A1005=\"\",\"\",'個人種目(ジュニア)'!BH91)","v":""},5]
[{"$f":"IF('個人種目(ジュニア)'!O92=\"\",\"\",'個人種目(ジュニア)'!AP92)","v":""},{"$f":"IF(A1006=\"\",\"\",'個人種目(ジュニア)'!AX92)","v":""},{"$f":"IF(A1006=\"\",\"\",'個人種目(ジュニア)'!BC92)","v":""},{"$f":"IF(A1006=\"\",\"\",'個人種目(ジュニア)'!AF92)","v":""},0,5,{"$f":"IF(A1006=\"\",\"\",'個人種目(ジュニア)'!BH92)","v":""},5]
[{"$f":"IF('個人種目(ジュニア)'!O93=\"\",\"\",'個人種目(ジュニア)'!AP93)","v":""},{"$f":"IF(A1007=\"\",\"\",'個人種目(ジュニア)'!AX93)","v":""},{"$f":"IF(A1007=\"\",\"\",'個人種目(ジュニア)'!BC93)","v":""},{"$f":"IF(A1007=\"\",\"\",'個人種目(ジュニア)'!AF93)","v":""},0,5,{"$f":"IF(A1007=\"\",\"\",'個人種目(ジュニア)'!BH93)","v":""},5]
[{"$f":"IF('個人種目(ジュニア)'!O94=\"\",\"\",'個人種目(ジュニア)'!AP94)","v":""},{"$f":"IF(A1008=\"\",\"\",'個人種目(ジュニア)'!AX94)","v":""},{"$f":"IF(A1008=\"\",\"\",'個人種目(ジュニア)'!BC94)","v":""},{"$f":"IF(A1008=\"\",\"\",'個人種目(ジュニア)'!AF94)","v":""},0,5,{"$f":"IF(A1008=\"\",\"\",'個人種目(ジュニア)'!BH94)","v":""},5]
[{"$f":"IF('個人種目(ジュニア)'!O95=\"\",\"\",'個人種目(ジュニア)'!AP95)","v":""},{"$f":"IF(A1009=\"\",\"\",'個人種目(ジュニア)'!AX95)","v":""},{"$f":"IF(A1009=\"\",\"\",'個人種目(ジュニア)'!BC95)","v":""},{"$f":"IF(A1009=\"\",\"\",'個人種目(ジュニア)'!AF95)","v":""},0,5,{"$f":"IF(A1009=\"\",\"\",'個人種目(ジュニア)'!BH95)","v":""},5]
[{"$f":"IF('個人種目(ジュニア)'!O96=\"\",\"\",'個人種目(ジュニア)'!AP96)","v":""},{"$f":"IF(A1010=\"\",\"\",'個人種目(ジュニア)'!AX96)","v":""},{"$f":"IF(A1010=\"\",\"\",'個人種目(ジュニア)'!BC96)","v":""},{"$f":"IF(A1010=\"\",\"\",'個人種目(ジュニア)'!AF96)","v":""},0,5,{"$f":"IF(A1010=\"\",\"\",'個人種目(ジュニア)'!BH96)","v":""},5]
[{"$f":"IF('個人種目(ジュニア)'!O97=\"\",\"\",'個人種目(ジュニア)'!AP97)","v":""},{"$f":"IF(A1011=\"\",\"\",'個人種目(ジュニア)'!AX97)","v":""},{"$f":"IF(A1011=\"\",\"\",'個人種目(ジュニア)'!BC97)","v":""},{"$f":"IF(A1011=\"\",\"\",'個人種目(ジュニア)'!AF97)","v":""},0,5,{"$f":"IF(A1011=\"\",\"\",'個人種目(ジュニア)'!BH97)","v":""},5]
[{"$f":"IF('個人種目(ジュニア)'!O98=\"\",\"\",'個人種目(ジュニア)'!AP98)","v":""},{"$f":"IF(A1012=\"\",\"\",'個人種目(ジュニア)'!AX98)","v":""},{"$f":"IF(A1012=\"\",\"\",'個人種目(ジュニア)'!BC98)","v":""},{"$f":"IF(A1012=\"\",\"\",'個人種目(ジュニア)'!AF98)","v":""},0,5,{"$f":"IF(A1012=\"\",\"\",'個人種目(ジュニア)'!BH98)","v":""},5]
[{"$f":"IF('個人種目(ジュニア)'!O99=\"\",\"\",'個人種目(ジュニア)'!AP99)","v":""},{"$f":"IF(A1013=\"\",\"\",'個人種目(ジュニア)'!AX99)","v":""},{"$f":"IF(A1013=\"\",\"\",'個人種目(ジュニア)'!BC99)","v":""},{"$f":"IF(A1013=\"\",\"\",'個人種目(ジュニア)'!AF99)","v":""},0,5,{"$f":"IF(A1013=\"\",\"\",'個人種目(ジュニア)'!BH99)","v":""},5]
[{"$f":"IF('個人種目(ジュニア)'!O100=\"\",\"\",'個人種目(ジュニア)'!AP100)","v":""},{"$f":"IF(A1014=\"\",\"\",'個人種目(ジュニア)'!AX100)","v":""},{"$f":"IF(A1014=\"\",\"\",'個人種目(ジュニア)'!BC100)","v":""},{"$f":"IF(A1014=\"\",\"\",'個人種目(ジュニア)'!AF100)","v":""},0,5,{"$f":"IF(A1014=\"\",\"\",'個人種目(ジュニア)'!BH100)","v":""},5]
[{"$f":"IF('個人種目(ジュニア)'!O101=\"\",\"\",'個人種目(ジュニア)'!AP101)","v":""},{"$f":"IF(A1015=\"\",\"\",'個人種目(ジュニア)'!AX101)","v":""},{"$f":"IF(A1015=\"\",\"\",'個人種目(ジュニア)'!BC101)","v":""},{"$f":"IF(A1015=\"\",\"\",'個人種目(ジュニア)'!AF101)","v":""},0,5,{"$f":"IF(A1015=\"\",\"\",'個人種目(ジュニア)'!BH101)","v":""},5]
[{"$f":"IF('個人種目(ジュニア)'!O102=\"\",\"\",'個人種目(ジュニア)'!AP102)","v":""},{"$f":"IF(A1016=\"\",\"\",'個人種目(ジュニア)'!AX102)","v":""},{"$f":"IF(A1016=\"\",\"\",'個人種目(ジュニア)'!BC102)","v":""},{"$f":"IF(A1016=\"\",\"\",'個人種目(ジュニア)'!AF102)","v":""},0,5,{"$f":"IF(A1016=\"\",\"\",'個人種目(ジュニア)'!BH102)","v":""},5]
[{"$f":"IF('個人種目(ジュニア)'!O103=\"\",\"\",'個人種目(ジュニア)'!AP103)","v":""},{"$f":"IF(A1017=\"\",\"\",'個人種目(ジュニア)'!AX103)","v":""},{"$f":"IF(A1017=\"\",\"\",'個人種目(ジュニア)'!BC103)","v":""},{"$f":"IF(A1017=\"\",\"\",'個人種目(ジュニア)'!AF103)","v":""},0,5,{"$f":"IF(A1017=\"\",\"\",'個人種目(ジュニア)'!BH103)","v":""},5]
[{"$f":"IF('個人種目(ジュニア)'!O104=\"\",\"\",'個人種目(ジュニア)'!AP104)","v":""},{"$f":"IF(A1018=\"\",\"\",'個人種目(ジュニア)'!AX104)","v":""},{"$f":"IF(A1018=\"\",\"\",'個人種目(ジュニア)'!BC104)","v":""},{"$f":"IF(A1018=\"\",\"\",'個人種目(ジュニア)'!AF104)","v":""},0,5,{"$f":"IF(A1018=\"\",\"\",'個人種目(ジュニア)'!BH104)","v":""},5]
[{"$f":"IF('個人種目(ジュニア)'!O105=\"\",\"\",'個人種目(ジュニア)'!AP105)","v":""},{"$f":"IF(A1019=\"\",\"\",'個人種目(ジュニア)'!AX105)","v":""},{"$f":"IF(A1019=\"\",\"\",'個人種目(ジュニア)'!BC105)","v":""},{"$f":"IF(A1019=\"\",\"\",'個人種目(ジュニア)'!AF105)","v":""},0,5,{"$f":"IF(A1019=\"\",\"\",'個人種目(ジュニア)'!BH105)","v":""},5]
[{"$f":"IF('個人種目(ジュニア)'!O106=\"\",\"\",'個人種目(ジュニア)'!AP106)","v":""},{"$f":"IF(A1020=\"\",\"\",'個人種目(ジュニア)'!AX106)","v":""},{"$f":"IF(A1020=\"\",\"\",'個人種目(ジュニア)'!BC106)","v":""},{"$f":"IF(A1020=\"\",\"\",'個人種目(ジュニア)'!AF106)","v":""},0,5,{"$f":"IF(A1020=\"\",\"\",'個人種目(ジュニア)'!BH106)","v":""},5]
[{"$f":"IF('個人種目(ジュニア)'!O107=\"\",\"\",'個人種目(ジュニア)'!AP107)","v":""},{"$f":"IF(A1021=\"\",\"\",'個人種目(ジュニア)'!AX107)","v":""},{"$f":"IF(A1021=\"\",\"\",'個人種目(ジュニア)'!BC107)","v":""},{"$f":"IF(A1021=\"\",\"\",'個人種目(ジュニア)'!AF107)","v":""},0,5,{"$f":"IF(A1021=\"\",\"\",'個人種目(ジュニア)'!BH107)","v":""},5]

{"sheet":"チーム元","index":9,"n_rows":49,"n_cols":13,"rows_kept":49,"cut":false,"hidden":true,"merged":[]}
["性別","チーム名","チーム名カナ","区分No","泳者No1","泳者No2","泳者No3","泳者No4","ｴﾝﾄﾘｰﾀｲﾑ","オープン","種目No","距離","団体番号"]
[{"$f":"IF(リレー種目!D8=\"出場\",リレー種目!Q8,\"\")","v":""},{"$f":"IF(A2=\"\",\"\",申込書!$C$6)","v":""},{"$f":"IF(A2=\"\",\"\",申込書!$S$11)","v":""},{"$f":"IF(A2=\"\",\"\",リレー種目!R8)","v":""},{"$nulls":4},{"$f":"IF(A2=\"\",\"\",リレー種目!U8)","v":""},0,{"$f":"IF(A2=\"\",\"\",リレー種目!W8)","v":""},{"$f":"IF(A2=\"\",\"\",リレー種目!Y8)","v":""},{"$f":"IF(A2=\"\",\"\",申込書!$AB$6)","v":""}]
[{"$f":"IF(リレー種目!D9=\"出場\",リレー種目!Q9,\"\")","v":""},{"$f":"IF(A3=\"\",\"\",申込書!$C$6)","v":""},{"$f":"IF(A3=\"\",\"\",申込書!$S$11)","v":""},{"$f":"IF(A3=\"\",\"\",リレー種目!R9)","v":""},{"$nulls":4},{"$f":"IF(A3=\"\",\"\",リレー種目!U9)","v":""},0,{"$f":"IF(A3=\"\",\"\",リレー種目!W9)","v":""},{"$f":"IF(A3=\"\",\"\",リレー種目!Y9)","v":""},{"$f":"IF(A3=\"\",\"\",申込書!$AB$6)","v":""}]
[{"$f":"IF(リレー種目!D10=\"出場\",リレー種目!Q10,\"\")","v":""},{"$f":"IF(A4=\"\",\"\",申込書!$C$6)","v":""},{"$f":"IF(A4=\"\",\"\",申込書!$S$11)","v":""},{"$f":"IF(A4=\"\",\"\",リレー種目!R10)","v":""},{"$nulls":4},{"$f":"IF(A4=\"\",\"\",リレー種目!U10)","v":""},0,{"$f":"IF(A4=\"\",\"\",リレー種目!W10)","v":""},{"$f":"IF(A4=\"\",\"\",リレー種目!Y10)","v":""},{"$f":"IF(A4=\"\",\"\",申込書!$AB$6)","v":""}]
[{"$f":"IF(リレー種目!D11=\"出場\",リレー種目!Q11,\"\")","v":""},{"$f":"IF(A5=\"\",\"\",申込書!$C$6)","v":""},{"$f":"IF(A5=\"\",\"\",申込書!$S$11)","v":""},{"$f":"IF(A5=\"\",\"\",リレー種目!R11)","v":""},{"$nulls":4},{"$f":"IF(A5=\"\",\"\",リレー種目!U11)","v":""},0,{"$f":"IF(A5=\"\",\"\",リレー種目!W11)","v":""},{"$f":"IF(A5=\"\",\"\",リレー種目!Y11)","v":""},{"$f":"IF(A5=\"\",\"\",申込書!$AB$6)","v":""}]
[{"$f":"IF(リレー種目!D12=\"出場\",リレー種目!Q12,\"\")","v":""},{"$f":"IF(A6=\"\",\"\",申込書!$C$6)","v":""},{"$f":"IF(A6=\"\",\"\",申込書!$S$11)","v":""},{"$f":"IF(A6=\"\",\"\",リレー種目!R12)","v":""},{"$nulls":4},{"$f":"IF(A6=\"\",\"\",リレー種目!U12)","v":""},0,{"$f":"IF(A6=\"\",\"\",リレー種目!W12)","v":""},{"$f":"IF(A6=\"\",\"\",リレー種目!Y12)","v":""},{"$f":"IF(A6=\"\",\"\",申込書!$AB$6)","v":""}]
[{"$f":"IF(リレー種目!D13=\"出場\",リレー種目!Q13,\"\")","v":""},{"$f":"IF(A7=\"\",\"\",申込書!$C$6)","v":""},{"$f":"IF(A7=\"\",\"\",申込書!$S$11)","v":""},{"$f":"IF(A7=\"\",\"\",リレー種目!R13)","v":""},{"$nulls":4},{"$f":"IF(A7=\"\",\"\",リレー種目!U13)","v":""},0,{"$f":"IF(A7=\"\",\"\",リレー種目!W13)","v":""},{"$f":"IF(A7=\"\",\"\",リレー種目!Y13)","v":""},{"$f":"IF(A7=\"\",\"\",申込書!$AB$6)","v":""}]
[{"$f":"IF(リレー種目!D14=\"出場\",リレー種目!Q14,\"\")","v":""},{"$f":"IF(A8=\"\",\"\",申込書!$C$6)","v":""},{"$f":"IF(A8=\"\",\"\",申込書!$S$11)","v":""},{"$f":"IF(A8=\"\",\"\",リレー種目!R14)","v":""},{"$nulls":4},{"$f":"IF(A8=\"\",\"\",リレー種目!U14)","v":""},0,{"$f":"IF(A8=\"\",\"\",リレー種目!W14)","v":""},{"$f":"IF(A8=\"\",\"\",リレー種目!Y14)","v":""},{"$f":"IF(A8=\"\",\"\",申込書!$AB$6)","v":""}]
[{"$f":"IF(リレー種目!D15=\"出場\",リレー種目!Q15,\"\")","v":""},{"$f":"IF(A9=\"\",\"\",申込書!$C$6)","v":""},{"$f":"IF(A9=\"\",\"\",申込書!$S$11)","v":""},{"$f":"IF(A9=\"\",\"\",リレー種目!R15)","v":""},{"$nulls":4},{"$f":"IF(A9=\"\",\"\",リレー種目!U15)","v":""},0,{"$f":"IF(A9=\"\",\"\",リレー種目!W15)","v":""},{"$f":"IF(A9=\"\",\"\",リレー種目!Y15)","v":""},{"$f":"IF(A9=\"\",\"\",申込書!$AB$6)","v":""}]
[{"$f":"IF(リレー種目!D21=\"出場\",リレー種目!Q21,\"\")","v":""},{"$f":"IF(A10=\"\",\"\",申込書!$C$6)","v":""},{"$f":"IF(A10=\"\",\"\",申込書!$S$11)","v":""},{"$f":"IF(A10=\"\",\"\",リレー種目!R21)","v":""},{"$nulls":4},{"$f":"IF(A10=\"\",\"\",リレー種目!U21)","v":""},0,{"$f":"IF(A10=\"\",\"\",リレー種目!W21)","v":""},{"$f":"IF(A10=\"\",\"\",リレー種目!Y21)","v":""},{"$f":"IF(A10=\"\",\"\",申込書!$AB$6)","v":""}]
[{"$f":"IF(リレー種目!D22=\"出場\",リレー種目!Q22,\"\")","v":""},{"$f":"IF(A11=\"\",\"\",申込書!$C$6)","v":""},{"$f":"IF(A11=\"\",\"\",申込書!$S$11)","v":""},{"$f":"IF(A11=\"\",\"\",リレー種目!R22)","v":""},{"$nulls":4},{"$f":"IF(A11=\"\",\"\",リレー種目!U22)","v":""},0,{"$f":"IF(A11=\"\",\"\",リレー種目!W22)","v":""},{"$f":"IF(A11=\"\",\"\",リレー種目!Y22)","v":""},{"$f":"IF(A11=\"\",\"\",申込書!$AB$6)","v":""}]
[{"$f":"IF(リレー種目!D23=\"出場\",リレー種目!Q23,\"\")","v":""},{"$f":"IF(A12=\"\",\"\",申込書!$C$6)","v":""},{"$f":"IF(A12=\"\",\"\",申込書!$S$11)","v":""},{"$f":"IF(A12=\"\",\"\",リレー種目!R23)","v":""},{"$nulls":4},{"$f":"IF(A12=\"\",\"\",リレー種目!U23)","v":""},0,{"$f":"IF(A12=\"\",\"\",リレー種目!W23)","v":""},{"$f":"IF(A12=\"\",\"\",リレー種目!Y23)","v":""},{"$f":"IF(A12=\"\",\"\",申込書!$AB$6)","v":""}]
[{"$f":"IF(リレー種目!D24=\"出場\",リレー種目!Q24,\"\")","v":""},{"$f":"IF(A13=\"\",\"\",申込書!$C$6)","v":""},{"$f":"IF(A13=\"\",\"\",申込書!$S$11)","v":""},{"$f":"IF(A13=\"\",\"\",リレー種目!R24)","v":""},{"$nulls":4},{"$f":"IF(A13=\"\",\"\",リレー種目!U24)","v":""},0,{"$f":"IF(A13=\"\",\"\",リレー種目!W24)","v":""},{"$f":"IF(A13=\"\",\"\",リレー種目!Y24)","v":""},{"$f":"IF(A13=\"\",\"\",申込書!$AB$6)","v":""}]
[{"$f":"IF(リレー種目!D25=\"出場\",リレー種目!Q25,\"\")","v":""},{"$f":"IF(A14=\"\",\"\",申込書!$C$6)","v":""},{"$f":"IF(A14=\"\",\"\",申込書!$S$11)","v":""},{"$f":"IF(A14=\"\",\"\",リレー種目!R25)","v":""},{"$nulls":4},{"$f":"IF(A14=\"\",\"\",リレー種目!U25)","v":""},0,{"$f":"IF(A14=\"\",\"\",リレー種目!W25)","v":""},{"$f":"IF(A14=\"\",\"\",リレー種目!Y25)","v":""},{"$f":"IF(A14=\"\",\"\",申込書!$AB$6)","v":""}]
[{"$f":"IF(リレー種目!D26=\"出場\",リレー種目!Q26,\"\")","v":""},{"$f":"IF(A15=\"\",\"\",申込書!$C$6)","v":""},{"$f":"IF(A15=\"\",\"\",申込書!$S$11)","v":""},{"$f":"IF(A15=\"\",\"\",リレー種目!R26)","v":""},{"$nulls":4},{"$f":"IF(A15=\"\",\"\",リレー種目!U26)","v":""},0,{"$f":"IF(A15=\"\",\"\",リレー種目!W26)","v":""},{"$f":"IF(A15=\"\",\"\",リレー種目!Y26)","v":""},{"$f":"IF(A15=\"\",\"\",申込書!$AB$6)","v":""}]
[{"$f":"IF(リレー種目!D27=\"出場\",リレー種目!Q27,\"\")","v":""},{"$f":"IF(A16=\"\",\"\",申込書!$C$6)","v":""},{"$f":"IF(A16=\"\",\"\",申込書!$S$11)","v":""},{"$f":"IF(A16=\"\",\"\",リレー種目!R27)","v":""},{"$nulls":4},{"$f":"IF(A16=\"\",\"\",リレー種目!U27)","v":""},0,{"$f":"IF(A16=\"\",\"\",リレー種目!W27)","v":""},{"$f":"IF(A16=\"\",\"\",リレー種目!Y27)","v":""},{"$f":"IF(A16=\"\",\"\",申込書!$AB$6)","v":""}]
[{"$f":"IF(リレー種目!D28=\"出場\",リレー種目!Q28,\"\")","v":""},{"$f":"IF(A17=\"\",\"\",申込書!$C$6)","v":""},{"$f":"IF(A17=\"\",\"\",申込書!$S$11)","v":""},{"$f":"IF(A17=\"\",\"\",リレー種目!R28)","v":""},{"$nulls":4},{"$f":"IF(A17=\"\",\"\",リレー種目!U28)","v":""},0,{"$f":"IF(A17=\"\",\"\",リレー種目!W28)","v":""},{"$f":"IF(A17=\"\",\"\",リレー種目!Y28)","v":""},{"$f":"IF(A17=\"\",\"\",申込書!$AB$6)","v":""}]
[{"$f":"IF(リレー種目!D34=\"\",\"\",リレー種目!Q34)","v":""},{"$f":"IF(A18=\"\",\"\",申込書!$C$6)","v":""},{"$f":"IF(A18=\"\",\"\",申込書!$S$11)","v":""},{"$f":"IF(A18=\"\",\"\",リレー種目!R34)","v":""},{"$nulls":4},{"$f":"IF(A18=\"\",\"\",リレー種目!U34)","v":""},0,{"$f":"IF(A18=\"\",\"\",リレー種目!W34)","v":""},{"$f":"IF(A18=\"\",\"\",リレー種目!Y34)","v":""},{"$f":"IF(A18=\"\",\"\",申込書!$AB$6)","v":""}]
[{"$f":"IF(リレー種目!D35=\"\",\"\",リレー種目!Q35)","v":""},{"$f":"IF(A19=\"\",\"\",申込書!$C$6)","v":""},{"$f":"IF(A19=\"\",\"\",申込書!$S$11)","v":""},{"$f":"IF(A19=\"\",\"\",リレー種目!R35)","v":""},{"$nulls":4},{"$f":"IF(A19=\"\",\"\",リレー種目!U35)","v":""},1,{"$f":"IF(A19=\"\",\"\",リレー種目!W35)","v":""},{"$f":"IF(A19=\"\",\"\",リレー種目!Y35)","v":""},{"$f":"IF(A19=\"\",\"\",申込書!$AB$6)","v":""}]
[{"$f":"IF(リレー種目!D36=\"\",\"\",リレー種目!Q36)","v":""},{"$f":"IF(A20=\"\",\"\",申込書!$C$6)","v":""},{"$f":"IF(A20=\"\",\"\",申込書!$S$11)","v":""},{"$f":"IF(A20=\"\",\"\",リレー種目!R36)","v":""},{"$nulls":4},{"$f":"IF(A20=\"\",\"\",リレー種目!U36)","v":""},2,{"$f":"IF(A20=\"\",\"\",リレー種目!W36)","v":""},{"$f":"IF(A20=\"\",\"\",リレー種目!Y36)","v":""},{"$f":"IF(A20=\"\",\"\",申込書!$AB$6)","v":""}]
[{"$f":"IF(リレー種目!D37=\"\",\"\",リレー種目!Q37)","v":""},{"$f":"IF(A21=\"\",\"\",申込書!$C$6)","v":""},{"$f":"IF(A21=\"\",\"\",申込書!$S$11)","v":""},{"$f":"IF(A21=\"\",\"\",リレー種目!R37)","v":""},{"$nulls":4},{"$f":"IF(A21=\"\",\"\",リレー種目!U37)","v":""},3,{"$f":"IF(A21=\"\",\"\",リレー種目!W37)","v":""},{"$f":"IF(A21=\"\",\"\",リレー種目!Y37)","v":""},{"$f":"IF(A21=\"\",\"\",申込書!$AB$6)","v":""}]
[{"$f":"IF(リレー種目!D38=\"\",\"\",リレー種目!Q38)","v":""},{"$f":"IF(A22=\"\",\"\",申込書!$C$6)","v":""},{"$f":"IF(A22=\"\",\"\",申込書!$S$11)","v":""},{"$f":"IF(A22=\"\",\"\",リレー種目!R38)","v":""},{"$nulls":4},{"$f":"IF(A22=\"\",\"\",リレー種目!U38)","v":""},4,{"$f":"IF(A22=\"\",\"\",リレー種目!W38)","v":""},{"$f":"IF(A22=\"\",\"\",リレー種目!Y38)","v":""},{"$f":"IF(A22=\"\",\"\",申込書!$AB$6)","v":""}]
[{"$f":"IF(リレー種目!D39=\"\",\"\",リレー種目!Q39)","v":""},{"$f":"IF(A23=\"\",\"\",申込書!$C$6)","v":""},{"$f":"IF(A23=\"\",\"\",申込書!$S$11)","v":""},{"$f":"IF(A23=\"\",\"\",リレー種目!R39)","v":""},{"$nulls":4},{"$f":"IF(A23=\"\",\"\",リレー種目!U39)","v":""},5,{"$f":"IF(A23=\"\",\"\",リレー種目!W39)","v":""},{"$f":"IF(A23=\"\",\"\",リレー種目!Y39)","v":""},{"$f":"IF(A23=\"\",\"\",申込書!$AB$6)","v":""}]
[{"$f":"IF(リレー種目!D40=\"\",\"\",リレー種目!Q40)","v":""},{"$f":"IF(A24=\"\",\"\",申込書!$C$6)","v":""},{"$f":"IF(A24=\"\",\"\",申込書!$S$11)","v":""},{"$f":"IF(A24=\"\",\"\",リレー種目!R40)","v":""},{"$nulls":4},{"$f":"IF(A24=\"\",\"\",リレー種目!U40)","v":""},6,{"$f":"IF(A24=\"\",\"\",リレー種目!W40)","v":""},{"$f":"IF(A24=\"\",\"\",リレー種目!Y40)","v":""},{"$f":"IF(A24=\"\",\"\",申込書!$AB$6)","v":""}]
[{"$f":"IF(リレー種目!D41=\"\",\"\",リレー種目!Q41)","v":""},{"$f":"IF(A25=\"\",\"\",申込書!$C$6)","v":""},{"$f":"IF(A25=\"\",\"\",申込書!$S$11)","v":""},{"$f":"IF(A25=\"\",\"\",リレー種目!R41)","v":""},{"$nulls":4},{"$f":"IF(A25=\"\",\"\",リレー種目!U41)","v":""},7,{"$f":"IF(A25=\"\",\"\",リレー種目!W41)","v":""},{"$f":"IF(A25=\"\",\"\",リレー種目!Y41)","v":""},{"$f":"IF(A25=\"\",\"\",申込書!$AB$6)","v":""}]
[{"$f":"IF(リレー種目!F8=\"出場\",リレー種目!Q8,\"\")","v":""},{"$f":"IF(A26=\"\",\"\",申込書!$C$6)","v":""},{"$f":"IF(A26=\"\",\"\",申込書!$S$11)","v":""},{"$f":"IF(A26=\"\",\"\",リレー種目!R8)","v":""},{"$nulls":4},{"$f":"IF(A26=\"\",\"\",リレー種目!V8)","v":""},0,{"$f":"IF(A26=\"\",\"\",リレー種目!X8)","v":""},{"$f":"IF(A26=\"\",\"\",リレー種目!Z8)","v":""},{"$f":"IF(A26=\"\",\"\",申込書!$AB$6)","v":""}]
[{"$f":"IF(リレー種目!F9=\"出場\",リレー種目!Q9,\"\")","v":""},{"$f":"IF(A27=\"\",\"\",申込書!$C$6)","v":""},{"$f":"IF(A27=\"\",\"\",申込書!$S$11)","v":""},{"$f":"IF(A27=\"\",\"\",リレー種目!R9)","v":""},{"$nulls":4},{"$f":"IF(A27=\"\",\"\",リレー種目!V9)","v":""},0,{"$f":"IF(A27=\"\",\"\",リレー種目!X9)","v":""},{"$f":"IF(A27=\"\",\"\",リレー種目!Z9)","v":""},{"$f":"IF(A27=\"\",\"\",申込書!$AB$6)","v":""}]
[{"$f":"IF(リレー種目!F10=\"出場\",リレー種目!Q10,\"\")","v":""},{"$f":"IF(A28=\"\",\"\",申込書!$C$6)","v":""},{"$f":"IF(A28=\"\",\"\",申込書!$S$11)","v":""},{"$f":"IF(A28=\"\",\"\",リレー種目!R10)","v":""},{"$nulls":4},{"$f":"IF(A28=\"\",\"\",リレー種目!V10)","v":""},0,{"$f":"IF(A28=\"\",\"\",リレー種目!X10)","v":""},{"$f":"IF(A28=\"\",\"\",リレー種目!Z10)","v":""},{"$f":"IF(A28=\"\",\"\",申込書!$AB$6)","v":""}]
[{"$f":"IF(リレー種目!F11=\"出場\",リレー種目!Q11,\"\")","v":""},{"$f":"IF(A29=\"\",\"\",申込書!$C$6)","v":""},{"$f":"IF(A29=\"\",\"\",申込書!$S$11)","v":""},{"$f":"IF(A29=\"\",\"\",リレー種目!R11)","v":""},{"$nulls":4},{"$f":"IF(A29=\"\",\"\",リレー種目!V11)","v":""},0,{"$f":"IF(A29=\"\",\"\",リレー種目!X11)","v":""},{"$f":"IF(A29=\"\",\"\",リレー種目!Z11)","v":""},{"$f":"IF(A29=\"\",\"\",申込書!$AB$6)","v":""}]
[{"$f":"IF(リレー種目!F12=\"出場\",リレー種目!Q12,\"\")","v":""},{"$f":"IF(A30=\"\",\"\",申込書!$C$6)","v":""},{"$f":"IF(A30=\"\",\"\",申込書!$S$11)","v":""},{"$f":"IF(A30=\"\",\"\",リレー種目!R12)","v":""},{"$nulls":4},{"$f":"IF(A30=\"\",\"\",リレー種目!V12)","v":""},0,{"$f":"IF(A30=\"\",\"\",リレー種目!X12)","v":""},{"$f":"IF(A30=\"\",\"\",リレー種目!Z12)","v":""},{"$f":"IF(A30=\"\",\"\",申込書!$AB$6)","v":""}]
[{"$f":"IF(リレー種目!F13=\"出場\",リレー種目!Q13,\"\")","v":""},{"$f":"IF(A31=\"\",\"\",申込書!$C$6)","v":""},{"$f":"IF(A31=\"\",\"\",申込書!$S$11)","v":""},{"$f":"IF(A31=\"\",\"\",リレー種目!R13)","v":""},{"$nulls":4},{"$f":"IF(A31=\"\",\"\",リレー種目!V13)","v":""},0,{"$f":"IF(A31=\"\",\"\",リレー種目!X13)","v":""},{"$f":"IF(A31=\"\",\"\",リレー種目!Z13)","v":""},{"$f":"IF(A31=\"\",\"\",申込書!$AB$6)","v":""}]
[{"$f":"IF(リレー種目!F14=\"出場\",リレー種目!Q14,\"\")","v":""},{"$f":"IF(A32=\"\",\"\",申込書!$C$6)","v":""},{"$f":"IF(A32=\"\",\"\",申込書!$S$11)","v":""},{"$f":"IF(A32=\"\",\"\",リレー種目!R14)","v":""},{"$nulls":4},{"$f":"IF(A32=\"\",\"\",リレー種目!V14)","v":""},0,{"$f":"IF(A32=\"\",\"\",リレー種目!X14)","v":""},{"$f":"IF(A32=\"\",\"\",リレー種目!Z14)","v":""},{"$f":"IF(A32=\"\",\"\",申込書!$AB$6)","v":""}]
[{"$f":"IF(リレー種目!F15=\"出場\",リレー種目!Q15,\"\")","v":""},{"$f":"IF(A33=\"\",\"\",申込書!$C$6)","v":""},{"$f":"IF(A33=\"\",\"\",申込書!$S$11)","v":""},{"$f":"IF(A33=\"\",\"\",リレー種目!R15)","v":""},{"$nulls":4},{"$f":"IF(A33=\"\",\"\",リレー種目!V15)","v":""},0,{"$f":"IF(A33=\"\",\"\",リレー種目!X15)","v":""},{"$f":"IF(A33=\"\",\"\",リレー種目!Z15)","v":""},{"$f":"IF(A33=\"\",\"\",申込書!$AB$6)","v":""}]
[{"$f":"IF(リレー種目!F21=\"出場\",リレー種目!Q21,\"\")","v":""},{"$f":"IF(A34=\"\",\"\",申込書!$C$6)","v":""},{"$f":"IF(A34=\"\",\"\",申込書!$S$11)","v":""},{"$f":"IF(A34=\"\",\"\",リレー種目!R21)","v":""},{"$nulls":4},{"$f":"IF(A34=\"\",\"\",リレー種目!V21)","v":""},0,{"$f":"IF(A34=\"\",\"\",リレー種目!X21)","v":""},{"$f":"IF(A34=\"\",\"\",リレー種目!Z21)","v":""},{"$f":"IF(A34=\"\",\"\",申込書!$AB$6)","v":""}]
[{"$f":"IF(リレー種目!F22=\"出場\",リレー種目!Q22,\"\")","v":""},{"$f":"IF(A35=\"\",\"\",申込書!$C$6)","v":""},{"$f":"IF(A35=\"\",\"\",申込書!$S$11)","v":""},{"$f":"IF(A35=\"\",\"\",リレー種目!R22)","v":""},{"$nulls":4},{"$f":"IF(A35=\"\",\"\",リレー種目!V22)","v":""},0,{"$f":"IF(A35=\"\",\"\",リレー種目!X22)","v":""},{"$f":"IF(A35=\"\",\"\",リレー種目!Z22)","v":""},{"$f":"IF(A35=\"\",\"\",申込書!$AB$6)","v":""}]
[{"$f":"IF(リレー種目!F23=\"出場\",リレー種目!Q23,\"\")","v":""},{"$f":"IF(A36=\"\",\"\",申込書!$C$6)","v":""},{"$f":"IF(A36=\"\",\"\",申込書!$S$11)","v":""},{"$f":"IF(A36=\"\",\"\",リレー種目!R23)","v":""},{"$nulls":4},{"$f":"IF(A36=\"\",\"\",リレー種目!V23)","v":""},0,{"$f":"IF(A36=\"\",\"\",リレー種目!X23)","v":""},{"$f":"IF(A36=\"\",\"\",リレー種目!Z23)","v":""},{"$f":"IF(A36=\"\",\"\",申込書!$AB$6)","v":""}]
[{"$f":"IF(リレー種目!F24=\"出場\",リレー種目!Q24,\"\")","v":""},{"$f":"IF(A37=\"\",\"\",申込書!$C$6)","v":""},{"$f":"IF(A37=\"\",\"\",申込書!$S$11)","v":""},{"$f":"IF(A37=\"\",\"\",リレー種目!R24)","v":""},{"$nulls":4},{"$f":"IF(A37=\"\",\"\",リレー種目!V24)","v":""},0,{"$f":"IF(A37=\"\",\"\",リレー種目!X24)","v":""},{"$f":"IF(A37=\"\",\"\",リレー種目!Z24)","v":""},{"$f":"IF(A37=\"\",\"\",申込書!$AB$6)","v":""}]
[{"$f":"IF(リレー種目!F25=\"出場\",リレー種目!Q25,\"\")","v":""},{"$f":"IF(A38=\"\",\"\",申込書!$C$6)","v":""},{"$f":"IF(A38=\"\",\"\",申込書!$S$11)","v":""},{"$f":"IF(A38=\"\",\"\",リレー種目!R25)","v":""},{"$nulls":4},{"$f":"IF(A38=\"\",\"\",リレー種目!V25)","v":""},0,{"$f":"IF(A38=\"\",\"\",リレー種目!X25)","v":""},{"$f":"IF(A38=\"\",\"\",リレー種目!Z25)","v":""},{"$f":"IF(A38=\"\",\"\",申込書!$AB$6)","v":""}]
[{"$f":"IF(リレー種目!F26=\"出場\",リレー種目!Q26,\"\")","v":""},{"$f":"IF(A39=\"\",\"\",申込書!$C$6)","v":""},{"$f":"IF(A39=\"\",\"\",申込書!$S$11)","v":""},{"$f":"IF(A39=\"\",\"\",リレー種目!R26)","v":""},{"$nulls":4},{"$f":"IF(A39=\"\",\"\",リレー種目!V26)","v":""},0,{"$f":"IF(A39=\"\",\"\",リレー種目!X26)","v":""},{"$f":"IF(A39=\"\",\"\",リレー種目!Z26)","v":""},{"$f":"IF(A39=\"\",\"\",申込書!$AB$6)","v":""}]
[{"$f":"IF(リレー種目!F27=\"出場\",リレー種目!Q27,\"\")","v":""},{"$f":"IF(A40=\"\",\"\",申込書!$C$6)","v":""},{"$f":"IF(A40=\"\",\"\",申込書!$S$11)","v":""},{"$f":"IF(A40=\"\",\"\",リレー種目!R27)","v":""},{"$nulls":4},{"$f":"IF(A40=\"\",\"\",リレー種目!V27)","v":""},0,{"$f":"IF(A40=\"\",\"\",リレー種目!X27)","v":""},{"$f":"IF(A40=\"\",\"\",リレー種目!Z27)","v":""},{"$f":"IF(A40=\"\",\"\",申込書!$AB$6)","v":""}]
[{"$f":"IF(リレー種目!F28=\"出場\",リレー種目!Q28,\"\")","v":""},{"$f":"IF(A41=\"\",\"\",申込書!$C$6)","v":""},{"$f":"IF(A41=\"\",\"\",申込書!$S$11)","v":""},{"$f":"IF(A41=\"\",\"\",リレー種目!R28)","v":""},{"$nulls":4},{"$f":"IF(A41=\"\",\"\",リレー種目!V28)","v":""},0,{"$f":"IF(A41=\"\",\"\",リレー種目!X28)","v":""},{"$f":"IF(A41=\"\",\"\",リレー種目!Z28)","v":""},{"$f":"IF(A41=\"\",\"\",申込書!$AB$6)","v":""}]
[{"$f":"IF(リレー種目!F34=\"\",\"\",リレー種目!Q34)","v":""},{"$f":"IF(A42=\"\",\"\",申込書!$C$6)","v":""},{"$f":"IF(A42=\"\",\"\",申込書!$S$11)","v":""},{"$f":"IF(A42=\"\",\"\",リレー種目!R34)","v":""},{"$nulls":4},{"$f":"IF(A42=\"\",\"\",リレー種目!V34)","v":""},0,{"$f":"IF(A42=\"\",\"\",リレー種目!X34)","v":""},{"$f":"IF(A42=\"\",\"\",リレー種目!Z34)","v":""},{"$f":"IF(A42=\"\",\"\",申込書!$AB$6)","v":""}]
[{"$f":"IF(リレー種目!F35=\"\",\"\",リレー種目!Q35)","v":""},{"$f":"IF(A43=\"\",\"\",申込書!$C$6)","v":""},{"$f":"IF(A43=\"\",\"\",申込書!$S$11)","v":""},{"$f":"IF(A43=\"\",\"\",リレー種目!R35)","v":""},{"$nulls":4},{"$f":"IF(A43=\"\",\"\",リレー種目!V35)","v":""},0,{"$f":"IF(A43=\"\",\"\",リレー種目!X35)","v":""},{"$f":"IF(A43=\"\",\"\",リレー種目!Z35)","v":""},{"$f":"IF(A43=\"\",\"\",申込書!$AB$6)","v":""}]
[{"$f":"IF(リレー種目!F36=\"\",\"\",リレー種目!Q36)","v":""},{"$f":"IF(A44=\"\",\"\",申込書!$C$6)","v":""},{"$f":"IF(A44=\"\",\"\",申込書!$S$11)","v":""},{"$f":"IF(A44=\"\",\"\",リレー種目!R36)","v":""},{"$nulls":4},{"$f":"IF(A44=\"\",\"\",リレー種目!V36)","v":""},0,{"$f":"IF(A44=\"\",\"\",リレー種目!X36)","v":""},{"$f":"IF(A44=\"\",\"\",リレー種目!Z36)","v":""},{"$f":"IF(A44=\"\",\"\",申込書!$AB$6)","v":""}]
[{"$f":"IF(リレー種目!F37=\"\",\"\",リレー種目!Q37)","v":""},{"$f":"IF(A45=\"\",\"\",申込書!$C$6)","v":""},{"$f":"IF(A45=\"\",\"\",申込書!$S$11)","v":""},{"$f":"IF(A45=\"\",\"\",リレー種目!R37)","v":""},{"$nulls":4},{"$f":"IF(A45=\"\",\"\",リレー種目!V37)","v":""},0,{"$f":"IF(A45=\"\",\"\",リレー種目!X37)","v":""},{"$f":"IF(A45=\"\",\"\",リレー種目!Z37)","v":""},{"$f":"IF(A45=\"\",\"\",申込書!$AB$6)","v":""}]
[{"$f":"IF(リレー種目!F38=\"\",\"\",リレー種目!Q38)","v":""},{"$f":"IF(A46=\"\",\"\",申込書!$C$6)","v":""},{"$f":"IF(A46=\"\",\"\",申込書!$S$11)","v":""},{"$f":"IF(A46=\"\",\"\",リレー種目!R38)","v":""},{"$nulls":4},{"$f":"IF(A46=\"\",\"\",リレー種目!V38)","v":""},0,{"$f":"IF(A46=\"\",\"\",リレー種目!X38)","v":""},{"$f":"IF(A46=\"\",\"\",リレー種目!Z38)","v":""},{"$f":"IF(A46=\"\",\"\",申込書!$AB$6)","v":""}]
[{"$f":"IF(リレー種目!F39=\"\",\"\",リレー種目!Q39)","v":""},{"$f":"IF(A47=\"\",\"\",申込書!$C$6)","v":""},{"$f":"IF(A47=\"\",\"\",申込書!$S$11)","v":""},{"$f":"IF(A47=\"\",\"\",リレー種目!R39)","v":""},{"$nulls":4},{"$f":"IF(A47=\"\",\"\",リレー種目!V39)","v":""},0,{"$f":"IF(A47=\"\",\"\",リレー種目!X39)","v":""},{"$f":"IF(A47=\"\",\"\",リレー種目!Z39)","v":""},{"$f":"IF(A47=\"\",\"\",申込書!$AB$6)","v":""}]
[{"$f":"IF(リレー種目!F40=\"\",\"\",リレー種目!Q40)","v":""},{"$f":"IF(A48=\"\",\"\",申込書!$C$6)","v":""},{"$f":"IF(A48=\"\",\"\",申込書!$S$11)","v":""},{"$f":"IF(A48=\"\",\"\",リレー種目!R40)","v":""},{"$nulls":4},{"$f":"IF(A48=\"\",\"\",リレー種目!V40)","v":""},0,{"$f":"IF(A48=\"\",\"\",リレー種目!X40)","v":""},{"$f":"IF(A48=\"\",\"\",リレー種目!Z40)","v":""},{"$f":"IF(A48=\"\",\"\",申込書!$AB$6)","v":""}]
[{"$f":"IF(リレー種目!F41=\"\",\"\",リレー種目!Q41)","v":""},{"$f":"IF(A49=\"\",\"\",申込書!$C$6)","v":""},{"$f":"IF(A49=\"\",\"\",申込書!$S$11)","v":""},{"$f":"IF(A49=\"\",\"\",リレー種目!R41)","v":""},{"$nulls":4},{"$f":"IF(A49=\"\",\"\",リレー種目!V41)","v":""},0,{"$f":"IF(A49=\"\",\"\",リレー種目!X41)","v":""},{"$f":"IF(A49=\"\",\"\",リレー種目!Z41)","v":""},{"$f":"IF(A49=\"\",\"\",申込書!$AB$6)","v":""}]

{"sheet":"チーム","index":10,"n_rows":373,"n_cols":14,"rows_kept":373,"cut":false,"hidden":true,"merged":[]}
["性別","チーム名","チーム名カナ","学種","区分No","エントリータイム","団体番号","オープン","種目No","距離","泳者1No","泳者2No","泳者3No","泳者4No"]
[{"$f":"IF(リレー!D6=\"\",\"\",リレー!V6)","v":""},{"$f":"IF(A2=\"\",\"\",申込書!$D$10)","v":""},{"$f":"IF(A2=\"\",\"\",申込書!$D$8)","v":""},5,{"$f":"IF(A2=\"\",\"\",リレー!W6)","v":""},{"$f":"IF(A2=\"\",\"\",リレー!L6)","v":""},{"$f":"IF(チーム!A2=\"\",\"\",申込書!$AB$2)","v":""},0,{"$f":"IF(A2=\"\",\"\",リレー!P6)","v":""},{"$f":"IF(A2=\"\",\"\",リレー!Q6)","v":""},{"$f":"IF(B2=\"\",\"\",リレー!AR6)","v":""},{"$f":"IF(C2=\"\",\"\",リレー!AS6)","v":""},{"$f":"IF(D2=\"\",\"\",リレー!AT6)","v":""},{"$f":"IF(E2=\"\",\"\",リレー!AU6)","v":""}]
[{"$f":"IF(リレー!D7=\"\",\"\",リレー!V7)","v":""},{"$f":"IF(A3=\"\",\"\",申込書!$D$10)","v":""},{"$f":"IF(A3=\"\",\"\",申込書!$D$8)","v":""},5,{"$f":"IF(A3=\"\",\"\",リレー!W7)","v":""},{"$f":"IF(A3=\"\",\"\",リレー!L7)","v":""},{"$f":"IF(チーム!A3=\"\",\"\",申込書!$AB$2)","v":""},0,{"$f":"IF(A3=\"\",\"\",リレー!P7)","v":""},{"$f":"IF(A3=\"\",\"\",リレー!Q7)","v":""},{"$f":"IF(B3=\"\",\"\",リレー!AR7)","v":""},{"$f":"IF(C3=\"\",\"\",リレー!AS7)","v":""},{"$f":"IF(D3=\"\",\"\",リレー!AT7)","v":""},{"$f":"IF(E3=\"\",\"\",リレー!AU7)","v":""}]
[{"$f":"IF(リレー!D8=\"\",\"\",リレー!V8)","v":""},{"$f":"IF(A4=\"\",\"\",申込書!$D$10)","v":""},{"$f":"IF(A4=\"\",\"\",申込書!$D$8)","v":""},5,{"$f":"IF(A4=\"\",\"\",リレー!W8)","v":""},{"$f":"IF(A4=\"\",\"\",リレー!L8)","v":""},{"$f":"IF(チーム!A4=\"\",\"\",申込書!$AB$2)","v":""},0,{"$f":"IF(A4=\"\",\"\",リレー!P8)","v":""},{"$f":"IF(A4=\"\",\"\",リレー!Q8)","v":""},{"$f":"IF(B4=\"\",\"\",リレー!AR8)","v":""},{"$f":"IF(C4=\"\",\"\",リレー!AS8)","v":""},{"$f":"IF(D4=\"\",\"\",リレー!AT8)","v":""},{"$f":"IF(E4=\"\",\"\",リレー!AU8)","v":""}]
[{"$f":"IF(リレー!D9=\"\",\"\",リレー!V9)","v":""},{"$f":"IF(A5=\"\",\"\",申込書!$D$10)","v":""},{"$f":"IF(A5=\"\",\"\",申込書!$D$8)","v":""},5,{"$f":"IF(A5=\"\",\"\",リレー!W9)","v":""},{"$f":"IF(A5=\"\",\"\",リレー!L9)","v":""},{"$f":"IF(チーム!A5=\"\",\"\",申込書!$AB$2)","v":""},0,{"$f":"IF(A5=\"\",\"\",リレー!P9)","v":""},{"$f":"IF(A5=\"\",\"\",リレー!Q9)","v":""},{"$f":"IF(B5=\"\",\"\",リレー!AR9)","v":""},{"$f":"IF(C5=\"\",\"\",リレー!AS9)","v":""},{"$f":"IF(D5=\"\",\"\",リレー!AT9)","v":""},{"$f":"IF(E5=\"\",\"\",リレー!AU9)","v":""}]
[{"$f":"IF(リレー!D10=\"\",\"\",リレー!V10)","v":""},{"$f":"IF(A6=\"\",\"\",申込書!$D$10)","v":""},{"$f":"IF(A6=\"\",\"\",申込書!$D$8)","v":""},5,{"$f":"IF(A6=\"\",\"\",リレー!W10)","v":""},{"$f":"IF(A6=\"\",\"\",リレー!L10)","v":""},{"$f":"IF(チーム!A6=\"\",\"\",申込書!$AB$2)","v":""},0,{"$f":"IF(A6=\"\",\"\",リレー!P10)","v":""},{"$f":"IF(A6=\"\",\"\",リレー!Q10)","v":""},{"$f":"IF(B6=\"\",\"\",リレー!AR10)","v":""},{"$f":"IF(C6=\"\",\"\",リレー!AS10)","v":""},{"$f":"IF(D6=\"\",\"\",リレー!AT10)","v":""},{"$f":"IF(E6=\"\",\"\",リレー!AU10)","v":""}]
[{"$f":"IF(リレー!D11=\"\",\"\",リレー!V11)","v":""},{"$f":"IF(A7=\"\",\"\",申込書!$D$10)","v":""},{"$f":"IF(A7=\"\",\"\",申込書!$D$8)","v":""},5,{"$f":"IF(A7=\"\",\"\",リレー!W11)","v":""},{"$f":"IF(A7=\"\",\"\",リレー!L11)","v":""},{"$f":"IF(チーム!A7=\"\",\"\",申込書!$AB$2)","v":""},0,{"$f":"IF(A7=\"\",\"\",リレー!P11)","v":""},{"$f":"IF(A7=\"\",\"\",リレー!Q11)","v":""},{"$f":"IF(B7=\"\",\"\",リレー!AR11)","v":""},{"$f":"IF(C7=\"\",\"\",リレー!AS11)","v":""},{"$f":"IF(D7=\"\",\"\",リレー!AT11)","v":""},{"$f":"IF(E7=\"\",\"\",リレー!AU11)","v":""}]
[{"$f":"IF(リレー!D12=\"\",\"\",リレー!V12)","v":""},{"$f":"IF(A8=\"\",\"\",申込書!$D$10)","v":""},{"$f":"IF(A8=\"\",\"\",申込書!$D$8)","v":""},5,{"$f":"IF(A8=\"\",\"\",リレー!W12)","v":""},{"$f":"IF(A8=\"\",\"\",リレー!L12)","v":""},{"$f":"IF(チーム!A8=\"\",\"\",申込書!$AB$2)","v":""},0,{"$f":"IF(A8=\"\",\"\",リレー!P12)","v":""},{"$f":"IF(A8=\"\",\"\",リレー!Q12)","v":""},{"$f":"IF(B8=\"\",\"\",リレー!AR12)","v":""},{"$f":"IF(C8=\"\",\"\",リレー!AS12)","v":""},{"$f":"IF(D8=\"\",\"\",リレー!AT12)","v":""},{"$f":"IF(E8=\"\",\"\",リレー!AU12)","v":""}]
[{"$f":"IF(リレー!D13=\"\",\"\",リレー!V13)","v":""},{"$f":"IF(A9=\"\",\"\",申込書!$D$10)","v":""},{"$f":"IF(A9=\"\",\"\",申込書!$D$8)","v":""},5,{"$f":"IF(A9=\"\",\"\",リレー!W13)","v":""},{"$f":"IF(A9=\"\",\"\",リレー!L13)","v":""},{"$f":"IF(チーム!A9=\"\",\"\",申込書!$AB$2)","v":""},0,{"$f":"IF(A9=\"\",\"\",リレー!P13)","v":""},{"$f":"IF(A9=\"\",\"\",リレー!Q13)","v":""},{"$f":"IF(B9=\"\",\"\",リレー!AR13)","v":""},{"$f":"IF(C9=\"\",\"\",リレー!AS13)","v":""},{"$f":"IF(D9=\"\",\"\",リレー!AT13)","v":""},{"$f":"IF(E9=\"\",\"\",リレー!AU13)","v":""}]
[{"$f":"IF(リレー!D14=\"\",\"\",リレー!V14)","v":""},{"$f":"IF(A10=\"\",\"\",申込書!$D$10)","v":""},{"$f":"IF(A10=\"\",\"\",申込書!$D$8)","v":""},5,{"$f":"IF(A10=\"\",\"\",リレー!W14)","v":""},{"$f":"IF(A10=\"\",\"\",リレー!L14)","v":""},{"$f":"IF(チーム!A10=\"\",\"\",申込書!$AB$2)","v":""},0,{"$f":"IF(A10=\"\",\"\",リレー!P14)","v":""},{"$f":"IF(A10=\"\",\"\",リレー!Q14)","v":""},{"$f":"IF(B10=\"\",\"\",リレー!AR14)","v":""},{"$f":"IF(C10=\"\",\"\",リレー!AS14)","v":""},{"$f":"IF(D10=\"\",\"\",リレー!AT14)","v":""},{"$f":"IF(E10=\"\",\"\",リレー!AU14)","v":""}]
[{"$f":"IF(リレー!D15=\"\",\"\",リレー!V15)","v":""},{"$f":"IF(A11=\"\",\"\",申込書!$D$10)","v":""},{"$f":"IF(A11=\"\",\"\",申込書!$D$8)","v":""},5,{"$f":"IF(A11=\"\",\"\",リレー!W15)","v":""},{"$f":"IF(A11=\"\",\"\",リレー!L15)","v":""},{"$f":"IF(チーム!A11=\"\",\"\",申込書!$AB$2)","v":""},0,{"$f":"IF(A11=\"\",\"\",リレー!P15)","v":""},{"$f":"IF(A11=\"\",\"\",リレー!Q15)","v":""},{"$f":"IF(B11=\"\",\"\",リレー!AR15)","v":""},{"$f":"IF(C11=\"\",\"\",リレー!AS15)","v":""},{"$f":"IF(D11=\"\",\"\",リレー!AT15)","v":""},{"$f":"IF(E11=\"\",\"\",リレー!AU15)","v":""}]
[{"$f":"IF(リレー!D16=\"\",\"\",リレー!V16)","v":""},{"$f":"IF(A12=\"\",\"\",申込書!$D$10)","v":""},{"$f":"IF(A12=\"\",\"\",申込書!$D$8)","v":""},5,{"$f":"IF(A12=\"\",\"\",リレー!W16)","v":""},{"$f":"IF(A12=\"\",\"\",リレー!L16)","v":""},{"$f":"IF(チーム!A12=\"\",\"\",申込書!$AB$2)","v":""},0,{"$f":"IF(A12=\"\",\"\",リレー!P16)","v":""},{"$f":"IF(A12=\"\",\"\",リレー!Q16)","v":""},{"$f":"IF(B12=\"\",\"\",リレー!AR16)","v":""},{"$f":"IF(C12=\"\",\"\",リレー!AS16)","v":""},{"$f":"IF(D12=\"\",\"\",リレー!AT16)","v":""},{"$f":"IF(E12=\"\",\"\",リレー!AU16)","v":""}]
[{"$f":"IF(リレー!D17=\"\",\"\",リレー!V17)","v":""},{"$f":"IF(A13=\"\",\"\",申込書!$D$10)","v":""},{"$f":"IF(A13=\"\",\"\",申込書!$D$8)","v":""},5,{"$f":"IF(A13=\"\",\"\",リレー!W17)","v":""},{"$f":"IF(A13=\"\",\"\",リレー!L17)","v":""},{"$f":"IF(チーム!A13=\"\",\"\",申込書!$AB$2)","v":""},0,{"$f":"IF(A13=\"\",\"\",リレー!P17)","v":""},{"$f":"IF(A13=\"\",\"\",リレー!Q17)","v":""},{"$f":"IF(B13=\"\",\"\",リレー!AR17)","v":""},{"$f":"IF(C13=\"\",\"\",リレー!AS17)","v":""},{"$f":"IF(D13=\"\",\"\",リレー!AT17)","v":""},{"$f":"IF(E13=\"\",\"\",リレー!AU17)","v":""}]
[{"$f":"IF(リレー!D18=\"\",\"\",リレー!V18)","v":""},{"$f":"IF(A14=\"\",\"\",申込書!$D$10)","v":""},{"$f":"IF(A14=\"\",\"\",申込書!$D$8)","v":""},5,{"$f":"IF(A14=\"\",\"\",リレー!W18)","v":""},{"$f":"IF(A14=\"\",\"\",リレー!L18)","v":""},{"$f":"IF(チーム!A14=\"\",\"\",申込書!$AB$2)","v":""},0,{"$f":"IF(A14=\"\",\"\",リレー!P18)","v":""},{"$f":"IF(A14=\"\",\"\",リレー!Q18)","v":""},{"$f":"IF(B14=\"\",\"\",リレー!AR18)","v":""},{"$f":"IF(C14=\"\",\"\",リレー!AS18)","v":""},{"$f":"IF(D14=\"\",\"\",リレー!AT18)","v":""},{"$f":"IF(E14=\"\",\"\",リレー!AU18)","v":""}]
[{"$f":"IF(リレー!D19=\"\",\"\",リレー!V19)","v":""},{"$f":"IF(A15=\"\",\"\",申込書!$D$10)","v":""},{"$f":"IF(A15=\"\",\"\",申込書!$D$8)","v":""},5,{"$f":"IF(A15=\"\",\"\",リレー!W19)","v":""},{"$f":"IF(A15=\"\",\"\",リレー!L19)","v":""},{"$f":"IF(チーム!A15=\"\",\"\",申込書!$AB$2)","v":""},0,{"$f":"IF(A15=\"\",\"\",リレー!P19)","v":""},{"$f":"IF(A15=\"\",\"\",リレー!Q19)","v":""},{"$f":"IF(B15=\"\",\"\",リレー!AR19)","v":""},{"$f":"IF(C15=\"\",\"\",リレー!AS19)","v":""},{"$f":"IF(D15=\"\",\"\",リレー!AT19)","v":""},{"$f":"IF(E15=\"\",\"\",リレー!AU19)","v":""}]
[{"$f":"IF(リレー!D20=\"\",\"\",リレー!V20)","v":""},{"$f":"IF(A16=\"\",\"\",申込書!$D$10)","v":""},{"$f":"IF(A16=\"\",\"\",申込書!$D$8)","v":""},5,{"$f":"IF(A16=\"\",\"\",リレー!W20)","v":""},{"$f":"IF(A16=\"\",\"\",リレー!L20)","v":""},{"$f":"IF(チーム!A16=\"\",\"\",申込書!$AB$2)","v":""},0,{"$f":"IF(A16=\"\",\"\",リレー!P20)","v":""},{"$f":"IF(A16=\"\",\"\",リレー!Q20)","v":""},{"$f":"IF(B16=\"\",\"\",リレー!AR20)","v":""},{"$f":"IF(C16=\"\",\"\",リレー!AS20)","v":""},{"$f":"IF(D16=\"\",\"\",リレー!AT20)","v":""},{"$f":"IF(E16=\"\",\"\",リレー!AU20)","v":""}]
[{"$f":"IF(リレー!D21=\"\",\"\",リレー!V21)","v":""},{"$f":"IF(A17=\"\",\"\",申込書!$D$10)","v":""},{"$f":"IF(A17=\"\",\"\",申込書!$D$8)","v":""},5,{"$f":"IF(A17=\"\",\"\",リレー!W21)","v":""},{"$f":"IF(A17=\"\",\"\",リレー!L21)","v":""},{"$f":"IF(チーム!A17=\"\",\"\",申込書!$AB$2)","v":""},0,{"$f":"IF(A17=\"\",\"\",リレー!P21)","v":""},{"$f":"IF(A17=\"\",\"\",リレー!Q21)","v":""},{"$f":"IF(B17=\"\",\"\",リレー!AR21)","v":""},{"$f":"IF(C17=\"\",\"\",リレー!AS21)","v":""},{"$f":"IF(D17=\"\",\"\",リレー!AT21)","v":""},{"$f":"IF(E17=\"\",\"\",リレー!AU21)","v":""}]
[{"$f":"IF(リレー!D22=\"\",\"\",リレー!V22)","v":""},{"$f":"IF(A18=\"\",\"\",申込書!$D$10)","v":""},{"$f":"IF(A18=\"\",\"\",申込書!$D$8)","v":""},5,{"$f":"IF(A18=\"\",\"\",リレー!W22)","v":""},{"$f":"IF(A18=\"\",\"\",リレー!L22)","v":""},{"$f":"IF(チーム!A18=\"\",\"\",申込書!$AB$2)","v":""},0,{"$f":"IF(A18=\"\",\"\",リレー!P22)","v":""},{"$f":"IF(A18=\"\",\"\",リレー!Q22)","v":""},{"$f":"IF(B18=\"\",\"\",リレー!AR22)","v":""},{"$f":"IF(C18=\"\",\"\",リレー!AS22)","v":""},{"$f":"IF(D18=\"\",\"\",リレー!AT22)","v":""},{"$f":"IF(E18=\"\",\"\",リレー!AU22)","v":""}]
[{"$f":"IF(リレー!D23=\"\",\"\",リレー!V23)","v":""},{"$f":"IF(A19=\"\",\"\",申込書!$D$10)","v":""},{"$f":"IF(A19=\"\",\"\",申込書!$D$8)","v":""},5,{"$f":"IF(A19=\"\",\"\",リレー!W23)","v":""},{"$f":"IF(A19=\"\",\"\",リレー!L23)","v":""},{"$f":"IF(チーム!A19=\"\",\"\",申込書!$AB$2)","v":""},0,{"$f":"IF(A19=\"\",\"\",リレー!P23)","v":""},{"$f":"IF(A19=\"\",\"\",リレー!Q23)","v":""},{"$f":"IF(B19=\"\",\"\",リレー!AR23)","v":""},{"$f":"IF(C19=\"\",\"\",リレー!AS23)","v":""},{"$f":"IF(D19=\"\",\"\",リレー!AT23)","v":""},{"$f":"IF(E19=\"\",\"\",リレー!AU23)","v":""}]
[{"$f":"IF(リレー!D24=\"\",\"\",リレー!V24)","v":""},{"$f":"IF(A20=\"\",\"\",申込書!$D$10)","v":""},{"$f":"IF(A20=\"\",\"\",申込書!$D$8)","v":""},5,{"$f":"IF(A20=\"\",\"\",リレー!W24)","v":""},{"$f":"IF(A20=\"\",\"\",リレー!L24)","v":""},{"$f":"IF(チーム!A20=\"\",\"\",申込書!$AB$2)","v":""},0,{"$f":"IF(A20=\"\",\"\",リレー!P24)","v":""},{"$f":"IF(A20=\"\",\"\",リレー!Q24)","v":""},{"$f":"IF(B20=\"\",\"\",リレー!AR24)","v":""},{"$f":"IF(C20=\"\",\"\",リレー!AS24)","v":""},{"$f":"IF(D20=\"\",\"\",リレー!AT24)","v":""},{"$f":"IF(E20=\"\",\"\",リレー!AU24)","v":""}]
[{"$f":"IF(リレー!D25=\"\",\"\",リレー!V25)","v":""},{"$f":"IF(A21=\"\",\"\",申込書!$D$10)","v":""},{"$f":"IF(A21=\"\",\"\",申込書!$D$8)","v":""},5,{"$f":"IF(A21=\"\",\"\",リレー!W25)","v":""},{"$f":"IF(A21=\"\",\"\",リレー!L25)","v":""},{"$f":"IF(チーム!A21=\"\",\"\",申込書!$AB$2)","v":""},0,{"$f":"IF(A21=\"\",\"\",リレー!P25)","v":""},{"$f":"IF(A21=\"\",\"\",リレー!Q25)","v":""},{"$f":"IF(B21=\"\",\"\",リレー!AR25)","v":""},{"$f":"IF(C21=\"\",\"\",リレー!AS25)","v":""},{"$f":"IF(D21=\"\",\"\",リレー!AT25)","v":""},{"$f":"IF(E21=\"\",\"\",リレー!AU25)","v":""}]
[{"$f":"IF(リレー!D26=\"\",\"\",リレー!V26)","v":""},{"$f":"IF(A22=\"\",\"\",申込書!$D$10)","v":""},{"$f":"IF(A22=\"\",\"\",申込書!$D$8)","v":""},5,{"$f":"IF(A22=\"\",\"\",リレー!W26)","v":""},{"$f":"IF(A22=\"\",\"\",リレー!L26)","v":""},{"$f":"IF(チーム!A22=\"\",\"\",申込書!$AB$2)","v":""},0,{"$f":"IF(A22=\"\",\"\",リレー!P26)","v":""},{"$f":"IF(A22=\"\",\"\",リレー!Q26)","v":""},{"$f":"IF(B22=\"\",\"\",リレー!AR26)","v":""},{"$f":"IF(C22=\"\",\"\",リレー!AS26)","v":""},{"$f":"IF(D22=\"\",\"\",リレー!AT26)","v":""},{"$f":"IF(E22=\"\",\"\",リレー!AU26)","v":""}]
[{"$f":"IF(リレー!D27=\"\",\"\",リレー!V27)","v":""},{"$f":"IF(A23=\"\",\"\",申込書!$D$10)","v":""},{"$f":"IF(A23=\"\",\"\",申込書!$D$8)","v":""},5,{"$f":"IF(A23=\"\",\"\",リレー!W27)","v":""},{"$f":"IF(A23=\"\",\"\",リレー!L27)","v":""},{"$f":"IF(チーム!A23=\"\",\"\",申込書!$AB$2)","v":""},0,{"$f":"IF(A23=\"\",\"\",リレー!P27)","v":""},{"$f":"IF(A23=\"\",\"\",リレー!Q27)","v":""},{"$f":"IF(B23=\"\",\"\",リレー!AR27)","v":""},{"$f":"IF(C23=\"\",\"\",リレー!AS27)","v":""},{"$f":"IF(D23=\"\",\"\",リレー!AT27)","v":""},{"$f":"IF(E23=\"\",\"\",リレー!AU27)","v":""}]
[{"$f":"IF(リレー!D28=\"\",\"\",リレー!V28)","v":""},{"$f":"IF(A24=\"\",\"\",申込書!$D$10)","v":""},{"$f":"IF(A24=\"\",\"\",申込書!$D$8)","v":""},5,{"$f":"IF(A24=\"\",\"\",リレー!W28)","v":""},{"$f":"IF(A24=\"\",\"\",リレー!L28)","v":""},{"$f":"IF(チーム!A24=\"\",\"\",申込書!$AB$2)","v":""},0,{"$f":"IF(A24=\"\",\"\",リレー!P28)","v":""},{"$f":"IF(A24=\"\",\"\",リレー!Q28)","v":""},{"$f":"IF(B24=\"\",\"\",リレー!AR28)","v":""},{"$f":"IF(C24=\"\",\"\",リレー!AS28)","v":""},{"$f":"IF(D24=\"\",\"\",リレー!AT28)","v":""},{"$f":"IF(E24=\"\",\"\",リレー!AU28)","v":""}]
[{"$f":"IF(リレー!D29=\"\",\"\",リレー!V29)","v":""},{"$f":"IF(A25=\"\",\"\",申込書!$D$10)","v":""},{"$f":"IF(A25=\"\",\"\",申込書!$D$8)","v":""},5,{"$f":"IF(A25=\"\",\"\",リレー!W29)","v":""},{"$f":"IF(A25=\"\",\"\",リレー!L29)","v":""},{"$f":"IF(チーム!A25=\"\",\"\",申込書!$AB$2)","v":""},0,{"$f":"IF(A25=\"\",\"\",リレー!P29)","v":""},{"$f":"IF(A25=\"\",\"\",リレー!Q29)","v":""},{"$f":"IF(B25=\"\",\"\",リレー!AR29)","v":""},{"$f":"IF(C25=\"\",\"\",リレー!AS29)","v":""},{"$f":"IF(D25=\"\",\"\",リレー!AT29)","v":""},{"$f":"IF(E25=\"\",\"\",リレー!AU29)","v":""}]
[{"$f":"IF(リレー!D30=\"\",\"\",リレー!V30)","v":""},{"$f":"IF(A26=\"\",\"\",申込書!$D$10)","v":""},{"$f":"IF(A26=\"\",\"\",申込書!$D$8)","v":""},5,{"$f":"IF(A26=\"\",\"\",リレー!W30)","v":""},{"$f":"IF(A26=\"\",\"\",リレー!L30)","v":""},{"$f":"IF(チーム!A26=\"\",\"\",申込書!$AB$2)","v":""},0,{"$f":"IF(A26=\"\",\"\",リレー!P30)","v":""},{"$f":"IF(A26=\"\",\"\",リレー!Q30)","v":""},{"$f":"IF(B26=\"\",\"\",リレー!AR30)","v":""},{"$f":"IF(C26=\"\",\"\",リレー!AS30)","v":""},{"$f":"IF(D26=\"\",\"\",リレー!AT30)","v":""},{"$f":"IF(E26=\"\",\"\",リレー!AU30)","v":""}]
[{"$f":"IF(リレー!D31=\"\",\"\",リレー!V31)","v":""},{"$f":"IF(A27=\"\",\"\",申込書!$D$10)","v":""},{"$f":"IF(A27=\"\",\"\",申込書!$D$8)","v":""},5,{"$f":"IF(A27=\"\",\"\",リレー!W31)","v":""},{"$f":"IF(A27=\"\",\"\",リレー!L31)","v":""},{"$f":"IF(チーム!A27=\"\",\"\",申込書!$AB$2)","v":""},0,{"$f":"IF(A27=\"\",\"\",リレー!P31)","v":""},{"$f":"IF(A27=\"\",\"\",リレー!Q31)","v":""},{"$f":"IF(B27=\"\",\"\",リレー!AR31)","v":""},{"$f":"IF(C27=\"\",\"\",リレー!AS31)","v":""},{"$f":"IF(D27=\"\",\"\",リレー!AT31)","v":""},{"$f":"IF(E27=\"\",\"\",リレー!AU31)","v":""}]
[{"$f":"IF(リレー!D32=\"\",\"\",リレー!V32)","v":""},{"$f":"IF(A28=\"\",\"\",申込書!$D$10)","v":""},{"$f":"IF(A28=\"\",\"\",申込書!$D$8)","v":""},5,{"$f":"IF(A28=\"\",\"\",リレー!W32)","v":""},{"$f":"IF(A28=\"\",\"\",リレー!L32)","v":""},{"$f":"IF(チーム!A28=\"\",\"\",申込書!$AB$2)","v":""},0,{"$f":"IF(A28=\"\",\"\",リレー!P32)","v":""},{"$f":"IF(A28=\"\",\"\",リレー!Q32)","v":""},{"$f":"IF(B28=\"\",\"\",リレー!AR32)","v":""},{"$f":"IF(C28=\"\",\"\",リレー!AS32)","v":""},{"$f":"IF(D28=\"\",\"\",リレー!AT32)","v":""},{"$f":"IF(E28=\"\",\"\",リレー!AU32)","v":""}]
[{"$f":"IF(リレー!D33=\"\",\"\",リレー!V33)","v":""},{"$f":"IF(A29=\"\",\"\",申込書!$D$10)","v":""},{"$f":"IF(A29=\"\",\"\",申込書!$D$8)","v":""},5,{"$f":"IF(A29=\"\",\"\",リレー!W33)","v":""},{"$f":"IF(A29=\"\",\"\",リレー!L33)","v":""},{"$f":"IF(チーム!A29=\"\",\"\",申込書!$AB$2)","v":""},0,{"$f":"IF(A29=\"\",\"\",リレー!P33)","v":""},{"$f":"IF(A29=\"\",\"\",リレー!Q33)","v":""},{"$f":"IF(B29=\"\",\"\",リレー!AR33)","v":""},{"$f":"IF(C29=\"\",\"\",リレー!AS33)","v":""},{"$f":"IF(D29=\"\",\"\",リレー!AT33)","v":""},{"$f":"IF(E29=\"\",\"\",リレー!AU33)","v":""}]
[{"$f":"IF(リレー!D34=\"\",\"\",リレー!V34)","v":""},{"$f":"IF(A30=\"\",\"\",申込書!$D$10)","v":""},{"$f":"IF(A30=\"\",\"\",申込書!$D$8)","v":""},5,{"$f":"IF(A30=\"\",\"\",リレー!W34)","v":""},{"$f":"IF(A30=\"\",\"\",リレー!L34)","v":""},{"$f":"IF(チーム!A30=\"\",\"\",申込書!$AB$2)","v":""},0,{"$f":"IF(A30=\"\",\"\",リレー!P34)","v":""},{"$f":"IF(A30=\"\",\"\",リレー!Q34)","v":""},{"$f":"IF(B30=\"\",\"\",リレー!AR34)","v":""},{"$f":"IF(C30=\"\",\"\",リレー!AS34)","v":""},{"$f":"IF(D30=\"\",\"\",リレー!AT34)","v":""},{"$f":"IF(E30=\"\",\"\",リレー!AU34)","v":""}]
[{"$f":"IF(リレー!D35=\"\",\"\",リレー!V35)","v":""},{"$f":"IF(A31=\"\",\"\",申込書!$D$10)","v":""},{"$f":"IF(A31=\"\",\"\",申込書!$D$8)","v":""},5,{"$f":"IF(A31=\"\",\"\",リレー!W35)","v":""},{"$f":"IF(A31=\"\",\"\",リレー!L35)","v":""},{"$f":"IF(チーム!A31=\"\",\"\",申込書!$AB$2)","v":""},0,{"$f":"IF(A31=\"\",\"\",リレー!P35)","v":""},{"$f":"IF(A31=\"\",\"\",リレー!Q35)","v":""},{"$f":"IF(B31=\"\",\"\",リレー!AR35)","v":""},{"$f":"IF(C31=\"\",\"\",リレー!AS35)","v":""},{"$f":"IF(D31=\"\",\"\",リレー!AT35)","v":""},{"$f":"IF(E31=\"\",\"\",リレー!AU35)","v":""}]
[{"$f":"IF(リレー!D36=\"\",\"\",リレー!V36)","v":""},{"$f":"IF(A32=\"\",\"\",申込書!$D$10)","v":""},{"$f":"IF(A32=\"\",\"\",申込書!$D$8)","v":""},5,{"$f":"IF(A32=\"\",\"\",リレー!W36)","v":""},{"$f":"IF(A32=\"\",\"\",リレー!L36)","v":""},{"$f":"IF(チーム!A32=\"\",\"\",申込書!$AB$2)","v":""},0,{"$f":"IF(A32=\"\",\"\",リレー!P36)","v":""},{"$f":"IF(A32=\"\",\"\",リレー!Q36)","v":""},{"$f":"IF(B32=\"\",\"\",リレー!AR36)","v":""},{"$f":"IF(C32=\"\",\"\",リレー!AS36)","v":""},{"$f":"IF(D32=\"\",\"\",リレー!AT36)","v":""},{"$f":"IF(E32=\"\",\"\",リレー!AU36)","v":""}]
[{"$f":"IF(リレー!D37=\"\",\"\",リレー!V37)","v":""},{"$f":"IF(A33=\"\",\"\",申込書!$D$10)","v":""},{"$f":"IF(A33=\"\",\"\",申込書!$D$8)","v":""},5,{"$f":"IF(A33=\"\",\"\",リレー!W37)","v":""},{"$f":"IF(A33=\"\",\"\",リレー!L37)","v":""},{"$f":"IF(チーム!A33=\"\",\"\",申込書!$AB$2)","v":""},0,{"$f":"IF(A33=\"\",\"\",リレー!P37)","v":""},{"$f":"IF(A33=\"\",\"\",リレー!Q37)","v":""},{"$f":"IF(B33=\"\",\"\",リレー!AR37)","v":""},{"$f":"IF(C33=\"\",\"\",リレー!AS37)","v":""},{"$f":"IF(D33=\"\",\"\",リレー!AT37)","v":""},{"$f":"IF(E33=\"\",\"\",リレー!AU37)","v":""}]
[{"$f":"IF(リレー!D38=\"\",\"\",リレー!V38)","v":""},{"$f":"IF(A34=\"\",\"\",申込書!$D$10)","v":""},{"$f":"IF(A34=\"\",\"\",申込書!$D$8)","v":""},5,{"$f":"IF(A34=\"\",\"\",リレー!W38)","v":""},{"$f":"IF(A34=\"\",\"\",リレー!L38)","v":""},{"$f":"IF(チーム!A34=\"\",\"\",申込書!$AB$2)","v":""},0,{"$f":"IF(A34=\"\",\"\",リレー!P38)","v":""},{"$f":"IF(A34=\"\",\"\",リレー!Q38)","v":""},{"$f":"IF(B34=\"\",\"\",リレー!AR38)","v":""},{"$f":"IF(C34=\"\",\"\",リレー!AS38)","v":""},{"$f":"IF(D34=\"\",\"\",リレー!AT38)","v":""},{"$f":"IF(E34=\"\",\"\",リレー!AU38)","v":""}]
[{"$f":"IF(リレー!D39=\"\",\"\",リレー!V39)","v":""},{"$f":"IF(A35=\"\",\"\",申込書!$D$10)","v":""},{"$f":"IF(A35=\"\",\"\",申込書!$D$8)","v":""},5,{"$f":"IF(A35=\"\",\"\",リレー!W39)","v":""},{"$f":"IF(A35=\"\",\"\",リレー!L39)","v":""},{"$f":"IF(チーム!A35=\"\",\"\",申込書!$AB$2)","v":""},0,{"$f":"IF(A35=\"\",\"\",リレー!P39)","v":""},{"$f":"IF(A35=\"\",\"\",リレー!Q39)","v":""},{"$f":"IF(B35=\"\",\"\",リレー!AR39)","v":""},{"$f":"IF(C35=\"\",\"\",リレー!AS39)","v":""},{"$f":"IF(D35=\"\",\"\",リレー!AT39)","v":""},{"$f":"IF(E35=\"\",\"\",リレー!AU39)","v":""}]
[{"$f":"IF(リレー!D40=\"\",\"\",リレー!V40)","v":""},{"$f":"IF(A36=\"\",\"\",申込書!$D$10)","v":""},{"$f":"IF(A36=\"\",\"\",申込書!$D$8)","v":""},5,{"$f":"IF(A36=\"\",\"\",リレー!W40)","v":""},{"$f":"IF(A36=\"\",\"\",リレー!L40)","v":""},{"$f":"IF(チーム!A36=\"\",\"\",申込書!$AB$2)","v":""},0,{"$f":"IF(A36=\"\",\"\",リレー!P40)","v":""},{"$f":"IF(A36=\"\",\"\",リレー!Q40)","v":""},{"$f":"IF(B36=\"\",\"\",リレー!AR40)","v":""},{"$f":"IF(C36=\"\",\"\",リレー!AS40)","v":""},{"$f":"IF(D36=\"\",\"\",リレー!AT40)","v":""},{"$f":"IF(E36=\"\",\"\",リレー!AU40)","v":""}]
[{"$f":"IF(リレー!D41=\"\",\"\",リレー!V41)","v":""},{"$f":"IF(A37=\"\",\"\",申込書!$D$10)","v":""},{"$f":"IF(A37=\"\",\"\",申込書!$D$8)","v":""},5,{"$f":"IF(A37=\"\",\"\",リレー!W41)","v":""},{"$f":"IF(A37=\"\",\"\",リレー!L41)","v":""},{"$f":"IF(チーム!A37=\"\",\"\",申込書!$AB$2)","v":""},0,{"$f":"IF(A37=\"\",\"\",リレー!P41)","v":""},{"$f":"IF(A37=\"\",\"\",リレー!Q41)","v":""},{"$f":"IF(B37=\"\",\"\",リレー!AR41)","v":""},{"$f":"IF(C37=\"\",\"\",リレー!AS41)","v":""},{"$f":"IF(D37=\"\",\"\",リレー!AT41)","v":""},{"$f":"IF(E37=\"\",\"\",リレー!AU41)","v":""}]
[{"$f":"IF(リレー!D42=\"\",\"\",リレー!V42)","v":""},{"$f":"IF(A38=\"\",\"\",申込書!$D$10)","v":""},{"$f":"IF(A38=\"\",\"\",申込書!$D$8)","v":""},5,{"$f":"IF(A38=\"\",\"\",リレー!W42)","v":""},{"$f":"IF(A38=\"\",\"\",リレー!L42)","v":""},{"$f":"IF(チーム!A38=\"\",\"\",申込書!$AB$2)","v":""},0,{"$f":"IF(A38=\"\",\"\",リレー!P42)","v":""},{"$f":"IF(A38=\"\",\"\",リレー!Q42)","v":""},{"$f":"IF(B38=\"\",\"\",リレー!AR42)","v":""},{"$f":"IF(C38=\"\",\"\",リレー!AS42)","v":""},{"$f":"IF(D38=\"\",\"\",リレー!AT42)","v":""},{"$f":"IF(E38=\"\",\"\",リレー!AU42)","v":""}]
[{"$f":"IF(リレー!D43=\"\",\"\",リレー!V43)","v":""},{"$f":"IF(A39=\"\",\"\",申込書!$D$10)","v":""},{"$f":"IF(A39=\"\",\"\",申込書!$D$8)","v":""},5,{"$f":"IF(A39=\"\",\"\",リレー!W43)","v":""},{"$f":"IF(A39=\"\",\"\",リレー!L43)","v":""},{"$f":"IF(チーム!A39=\"\",\"\",申込書!$AB$2)","v":""},0,{"$f":"IF(A39=\"\",\"\",リレー!P43)","v":""},{"$f":"IF(A39=\"\",\"\",リレー!Q43)","v":""},{"$f":"IF(B39=\"\",\"\",リレー!AR43)","v":""},{"$f":"IF(C39=\"\",\"\",リレー!AS43)","v":""},{"$f":"IF(D39=\"\",\"\",リレー!AT43)","v":""},{"$f":"IF(E39=\"\",\"\",リレー!AU43)","v":""}]
[{"$f":"IF(リレー!D44=\"\",\"\",リレー!V44)","v":""},{"$f":"IF(A40=\"\",\"\",申込書!$D$10)","v":""},{"$f":"IF(A40=\"\",\"\",申込書!$D$8)","v":""},5,{"$f":"IF(A40=\"\",\"\",リレー!W44)","v":""},{"$f":"IF(A40=\"\",\"\",リレー!L44)","v":""},{"$f":"IF(チーム!A40=\"\",\"\",申込書!$AB$2)","v":""},0,{"$f":"IF(A40=\"\",\"\",リレー!P44)","v":""},{"$f":"IF(A40=\"\",\"\",リレー!Q44)","v":""},{"$f":"IF(B40=\"\",\"\",リレー!AR44)","v":""},{"$f":"IF(C40=\"\",\"\",リレー!AS44)","v":""},{"$f":"IF(D40=\"\",\"\",リレー!AT44)","v":""},{"$f":"IF(E40=\"\",\"\",リレー!AU44)","v":""}]
[{"$f":"IF(リレー!D45=\"\",\"\",リレー!V45)","v":""},{"$f":"IF(A41=\"\",\"\",申込書!$D$10)","v":""},{"$f":"IF(A41=\"\",\"\",申込書!$D$8)","v":""},5,{"$f":"IF(A41=\"\",\"\",リレー!W45)","v":""},{"$f":"IF(A41=\"\",\"\",リレー!L45)","v":""},{"$f":"IF(チーム!A41=\"\",\"\",申込書!$AB$2)","v":""},0,{"$f":"IF(A41=\"\",\"\",リレー!P45)","v":""},{"$f":"IF(A41=\"\",\"\",リレー!Q45)","v":""},{"$f":"IF(B41=\"\",\"\",リレー!AR45)","v":""},{"$f":"IF(C41=\"\",\"\",リレー!AS45)","v":""},{"$f":"IF(D41=\"\",\"\",リレー!AT45)","v":""},{"$f":"IF(E41=\"\",\"\",リレー!AU45)","v":""}]
[{"$f":"IF(リレー!D46=\"\",\"\",リレー!V46)","v":""},{"$f":"IF(A42=\"\",\"\",申込書!$D$10)","v":""},{"$f":"IF(A42=\"\",\"\",申込書!$D$8)","v":""},5,{"$f":"IF(A42=\"\",\"\",リレー!W46)","v":""},{"$f":"IF(A42=\"\",\"\",リレー!L46)","v":""},{"$f":"IF(チーム!A42=\"\",\"\",申込書!$AB$2)","v":""},0,{"$f":"IF(A42=\"\",\"\",リレー!P46)","v":""},{"$f":"IF(A42=\"\",\"\",リレー!Q46)","v":""},{"$f":"IF(B42=\"\",\"\",リレー!AR46)","v":""},{"$f":"IF(C42=\"\",\"\",リレー!AS46)","v":""},{"$f":"IF(D42=\"\",\"\",リレー!AT46)","v":""},{"$f":"IF(E42=\"\",\"\",リレー!AU46)","v":""}]
[{"$f":"IF(リレー!D47=\"\",\"\",リレー!V47)","v":""},{"$f":"IF(A43=\"\",\"\",申込書!$D$10)","v":""},{"$f":"IF(A43=\"\",\"\",申込書!$D$8)","v":""},5,{"$f":"IF(A43=\"\",\"\",リレー!W47)","v":""},{"$f":"IF(A43=\"\",\"\",リレー!L47)","v":""},{"$f":"IF(チーム!A43=\"\",\"\",申込書!$AB$2)","v":""},0,{"$f":"IF(A43=\"\",\"\",リレー!P47)","v":""},{"$f":"IF(A43=\"\",\"\",リレー!Q47)","v":""},{"$f":"IF(B43=\"\",\"\",リレー!AR47)","v":""},{"$f":"IF(C43=\"\",\"\",リレー!AS47)","v":""},{"$f":"IF(D43=\"\",\"\",リレー!AT47)","v":""},{"$f":"IF(E43=\"\",\"\",リレー!AU47)","v":""}]
[{"$f":"IF(リレー!D48=\"\",\"\",リレー!V48)","v":""},{"$f":"IF(A44=\"\",\"\",申込書!$D$10)","v":""},{"$f":"IF(A44=\"\",\"\",申込書!$D$8)","v":""},5,{"$f":"IF(A44=\"\",\"\",リレー!W48)","v":""},{"$f":"IF(A44=\"\",\"\",リレー!L48)","v":""},{"$f":"IF(チーム!A44=\"\",\"\",申込書!$AB$2)","v":""},0,{"$f":"IF(A44=\"\",\"\",リレー!P48)","v":""},{"$f":"IF(A44=\"\",\"\",リレー!Q48)","v":""},{"$f":"IF(B44=\"\",\"\",リレー!AR48)","v":""},{"$f":"IF(C44=\"\",\"\",リレー!AS48)","v":""},{"$f":"IF(D44=\"\",\"\",リレー!AT48)","v":""},{"$f":"IF(E44=\"\",\"\",リレー!AU48)","v":""}]
[{"$f":"IF(リレー!D49=\"\",\"\",リレー!V49)","v":""},{"$f":"IF(A45=\"\",\"\",申込書!$D$10)","v":""},{"$f":"IF(A45=\"\",\"\",申込書!$D$8)","v":""},5,{"$f":"IF(A45=\"\",\"\",リレー!W49)","v":""},{"$f":"IF(A45=\"\",\"\",リレー!L49)","v":""},{"$f":"IF(チーム!A45=\"\",\"\",申込書!$AB$2)","v":""},0,{"$f":"IF(A45=\"\",\"\",リレー!P49)","v":""},{"$f":"IF(A45=\"\",\"\",リレー!Q49)","v":""},{"$f":"IF(B45=\"\",\"\",リレー!AR49)","v":""},{"$f":"IF(C45=\"\",\"\",リレー!AS49)","v":""},{"$f":"IF(D45=\"\",\"\",リレー!AT49)","v":""},{"$f":"IF(E45=\"\",\"\",リレー!AU49)","v":""}]
[{"$f":"IF(リレー!D50=\"\",\"\",リレー!V50)","v":""},{"$f":"IF(A46=\"\",\"\",申込書!$D$10)","v":""},{"$f":"IF(A46=\"\",\"\",申込書!$D$8)","v":""},5,{"$f":"IF(A46=\"\",\"\",リレー!W50)","v":""},{"$f":"IF(A46=\"\",\"\",リレー!L50)","v":""},{"$f":"IF(チーム!A46=\"\",\"\",申込書!$AB$2)","v":""},0,{"$f":"IF(A46=\"\",\"\",リレー!P50)","v":""},{"$f":"IF(A46=\"\",\"\",リレー!Q50)","v":""},{"$f":"IF(B46=\"\",\"\",リレー!AR50)","v":""},{"$f":"IF(C46=\"\",\"\",リレー!AS50)","v":""},{"$f":"IF(D46=\"\",\"\",リレー!AT50)","v":""},{"$f":"IF(E46=\"\",\"\",リレー!AU50)","v":""}]
[{"$f":"IF(リレー!D51=\"\",\"\",リレー!V51)","v":""},{"$f":"IF(A47=\"\",\"\",申込書!$D$10)","v":""},{"$f":"IF(A47=\"\",\"\",申込書!$D$8)","v":""},5,{"$f":"IF(A47=\"\",\"\",リレー!W51)","v":""},{"$f":"IF(A47=\"\",\"\",リレー!L51)","v":""},{"$f":"IF(チーム!A47=\"\",\"\",申込書!$AB$2)","v":""},0,{"$f":"IF(A47=\"\",\"\",リレー!P51)","v":""},{"$f":"IF(A47=\"\",\"\",リレー!Q51)","v":""},{"$f":"IF(B47=\"\",\"\",リレー!AR51)","v":""},{"$f":"IF(C47=\"\",\"\",リレー!AS51)","v":""},{"$f":"IF(D47=\"\",\"\",リレー!AT51)","v":""},{"$f":"IF(E47=\"\",\"\",リレー!AU51)","v":""}]
[{"$f":"IF(リレー!D52=\"\",\"\",リレー!V52)","v":""},{"$f":"IF(A48=\"\",\"\",申込書!$D$10)","v":""},{"$f":"IF(A48=\"\",\"\",申込書!$D$8)","v":""},5,{"$f":"IF(A48=\"\",\"\",リレー!W52)","v":""},{"$f":"IF(A48=\"\",\"\",リレー!L52)","v":""},{"$f":"IF(チーム!A48=\"\",\"\",申込書!$AB$2)","v":""},0,{"$f":"IF(A48=\"\",\"\",リレー!P52)","v":""},{"$f":"IF(A48=\"\",\"\",リレー!Q52)","v":""},{"$f":"IF(B48=\"\",\"\",リレー!AR52)","v":""},{"$f":"IF(C48=\"\",\"\",リレー!AS52)","v":""},{"$f":"IF(D48=\"\",\"\",リレー!AT52)","v":""},{"$f":"IF(E48=\"\",\"\",リレー!AU52)","v":""}]
[{"$f":"IF(リレー!D53=\"\",\"\",リレー!V53)","v":""},{"$f":"IF(A49=\"\",\"\",申込書!$D$10)","v":""},{"$f":"IF(A49=\"\",\"\",申込書!$D$8)","v":""},5,{"$f":"IF(A49=\"\",\"\",リレー!W53)","v":""},{"$f":"IF(A49=\"\",\"\",リレー!L53)","v":""},{"$f":"IF(チーム!A49=\"\",\"\",申込書!$AB$2)","v":""},0,{"$f":"IF(A49=\"\",\"\",リレー!P53)","v":""},{"$f":"IF(A49=\"\",\"\",リレー!Q53)","v":""},{"$f":"IF(B49=\"\",\"\",リレー!AR53)","v":""},{"$f":"IF(C49=\"\",\"\",リレー!AS53)","v":""},{"$f":"IF(D49=\"\",\"\",リレー!AT53)","v":""},{"$f":"IF(E49=\"\",\"\",リレー!AU53)","v":""}]
[{"$f":"IF(リレー!D54=\"\",\"\",リレー!V54)","v":""},{"$f":"IF(A50=\"\",\"\",申込書!$D$10)","v":""},{"$f":"IF(A50=\"\",\"\",申込書!$D$8)","v":""},5,{"$f":"IF(A50=\"\",\"\",リレー!W54)","v":""},{"$f":"IF(A50=\"\",\"\",リレー!L54)","v":""},{"$f":"IF(チーム!A50=\"\",\"\",申込書!$AB$2)","v":""},0,{"$f":"IF(A50=\"\",\"\",リレー!P54)","v":""},{"$f":"IF(A50=\"\",\"\",リレー!Q54)","v":""},{"$f":"IF(B50=\"\",\"\",リレー!AR54)","v":""},{"$f":"IF(C50=\"\",\"\",リレー!AS54)","v":""},{"$f":"IF(D50=\"\",\"\",リレー!AT54)","v":""},{"$f":"IF(E50=\"\",\"\",リレー!AU54)","v":""}]
[{"$f":"IF(リレー!D55=\"\",\"\",リレー!V55)","v":""},{"$f":"IF(A51=\"\",\"\",申込書!$D$10)","v":""},{"$f":"IF(A51=\"\",\"\",申込書!$D$8)","v":""},5,{"$f":"IF(A51=\"\",\"\",リレー!W55)","v":""},{"$f":"IF(A51=\"\",\"\",リレー!L55)","v":""},{"$f":"IF(チーム!A51=\"\",\"\",申込書!$AB$2)","v":""},0,{"$f":"IF(A51=\"\",\"\",リレー!P55)","v":""},{"$f":"IF(A51=\"\",\"\",リレー!Q55)","v":""},{"$f":"IF(B51=\"\",\"\",リレー!AR55)","v":""},{"$f":"IF(C51=\"\",\"\",リレー!AS55)","v":""},{"$f":"IF(D51=\"\",\"\",リレー!AT55)","v":""},{"$f":"IF(E51=\"\",\"\",リレー!AU55)","v":""}]
[{"$f":"IF(リレー!D56=\"\",\"\",リレー!V56)","v":""},{"$f":"IF(A52=\"\",\"\",申込書!$D$10)","v":""},{"$f":"IF(A52=\"\",\"\",申込書!$D$8)","v":""},5,{"$f":"IF(A52=\"\",\"\",リレー!W56)","v":""},{"$f":"IF(A52=\"\",\"\",リレー!L56)","v":""},{"$f":"IF(チーム!A52=\"\",\"\",申込書!$AB$2)","v":""},0,{"$f":"IF(A52=\"\",\"\",リレー!P56)","v":""},{"$f":"IF(A52=\"\",\"\",リレー!Q56)","v":""},{"$f":"IF(B52=\"\",\"\",リレー!AR56)","v":""},{"$f":"IF(C52=\"\",\"\",リレー!AS56)","v":""},{"$f":"IF(D52=\"\",\"\",リレー!AT56)","v":""},{"$f":"IF(E52=\"\",\"\",リレー!AU56)","v":""}]
[{"$f":"IF(リレー!D57=\"\",\"\",リレー!V57)","v":""},{"$f":"IF(A53=\"\",\"\",申込書!$D$10)","v":""},{"$f":"IF(A53=\"\",\"\",申込書!$D$8)","v":""},5,{"$f":"IF(A53=\"\",\"\",リレー!W57)","v":""},{"$f":"IF(A53=\"\",\"\",リレー!L57)","v":""},{"$f":"IF(チーム!A53=\"\",\"\",申込書!$AB$2)","v":""},0,{"$f":"IF(A53=\"\",\"\",リレー!P57)","v":""},{"$f":"IF(A53=\"\",\"\",リレー!Q57)","v":""},{"$f":"IF(B53=\"\",\"\",リレー!AR57)","v":""},{"$f":"IF(C53=\"\",\"\",リレー!AS57)","v":""},{"$f":"IF(D53=\"\",\"\",リレー!AT57)","v":""},{"$f":"IF(E53=\"\",\"\",リレー!AU57)","v":""}]
[{"$f":"IF(リレー!D58=\"\",\"\",リレー!V58)","v":""},{"$f":"IF(A54=\"\",\"\",申込書!$D$10)","v":""},{"$f":"IF(A54=\"\",\"\",申込書!$D$8)","v":""},5,{"$f":"IF(A54=\"\",\"\",リレー!W58)","v":""},{"$f":"IF(A54=\"\",\"\",リレー!L58)","v":""},{"$f":"IF(チーム!A54=\"\",\"\",申込書!$AB$2)","v":""},0,{"$f":"IF(A54=\"\",\"\",リレー!P58)","v":""},{"$f":"IF(A54=\"\",\"\",リレー!Q58)","v":""},{"$f":"IF(B54=\"\",\"\",リレー!AR58)","v":""},{"$f":"IF(C54=\"\",\"\",リレー!AS58)","v":""},{"$f":"IF(D54=\"\",\"\",リレー!AT58)","v":""},{"$f":"IF(E54=\"\",\"\",リレー!AU58)","v":""}]
[{"$f":"IF(リレー!D59=\"\",\"\",リレー!V59)","v":""},{"$f":"IF(A55=\"\",\"\",申込書!$D$10)","v":""},{"$f":"IF(A55=\"\",\"\",申込書!$D$8)","v":""},5,{"$f":"IF(A55=\"\",\"\",リレー!W59)","v":""},{"$f":"IF(A55=\"\",\"\",リレー!L59)","v":""},{"$f":"IF(チーム!A55=\"\",\"\",申込書!$AB$2)","v":""},0,{"$f":"IF(A55=\"\",\"\",リレー!P59)","v":""},{"$f":"IF(A55=\"\",\"\",リレー!Q59)","v":""},{"$f":"IF(B55=\"\",\"\",リレー!AR59)","v":""},{"$f":"IF(C55=\"\",\"\",リレー!AS59)","v":""},{"$f":"IF(D55=\"\",\"\",リレー!AT59)","v":""},{"$f":"IF(E55=\"\",\"\",リレー!AU59)","v":""}]
[{"$f":"IF(リレー!D60=\"\",\"\",リレー!V60)","v":""},{"$f":"IF(A56=\"\",\"\",申込書!$D$10)","v":""},{"$f":"IF(A56=\"\",\"\",申込書!$D$8)","v":""},5,{"$f":"IF(A56=\"\",\"\",リレー!W60)","v":""},{"$f":"IF(A56=\"\",\"\",リレー!L60)","v":""},{"$f":"IF(チーム!A56=\"\",\"\",申込書!$AB$2)","v":""},0,{"$f":"IF(A56=\"\",\"\",リレー!P60)","v":""},{"$f":"IF(A56=\"\",\"\",リレー!Q60)","v":""},{"$f":"IF(B56=\"\",\"\",リレー!AR60)","v":""},{"$f":"IF(C56=\"\",\"\",リレー!AS60)","v":""},{"$f":"IF(D56=\"\",\"\",リレー!AT60)","v":""},{"$f":"IF(E56=\"\",\"\",リレー!AU60)","v":""}]
[{"$f":"IF(リレー!D61=\"\",\"\",リレー!V61)","v":""},{"$f":"IF(A57=\"\",\"\",申込書!$D$10)","v":""},{"$f":"IF(A57=\"\",\"\",申込書!$D$8)","v":""},5,{"$f":"IF(A57=\"\",\"\",リレー!W61)","v":""},{"$f":"IF(A57=\"\",\"\",リレー!L61)","v":""},{"$f":"IF(チーム!A57=\"\",\"\",申込書!$AB$2)","v":""},0,{"$f":"IF(A57=\"\",\"\",リレー!P61)","v":""},{"$f":"IF(A57=\"\",\"\",リレー!Q61)","v":""},{"$f":"IF(B57=\"\",\"\",リレー!AR61)","v":""},{"$f":"IF(C57=\"\",\"\",リレー!AS61)","v":""},{"$f":"IF(D57=\"\",\"\",リレー!AT61)","v":""},{"$f":"IF(E57=\"\",\"\",リレー!AU61)","v":""}]
[{"$f":"IF(リレー!D62=\"\",\"\",リレー!V62)","v":""},{"$f":"IF(A58=\"\",\"\",申込書!$D$10)","v":""},{"$f":"IF(A58=\"\",\"\",申込書!$D$8)","v":""},5,{"$f":"IF(A58=\"\",\"\",リレー!W62)","v":""},{"$f":"IF(A58=\"\",\"\",リレー!L62)","v":""},{"$f":"IF(チーム!A58=\"\",\"\",申込書!$AB$2)","v":""},0,{"$f":"IF(A58=\"\",\"\",リレー!P62)","v":""},{"$f":"IF(A58=\"\",\"\",リレー!Q62)","v":""},{"$f":"IF(B58=\"\",\"\",リレー!AR62)","v":""},{"$f":"IF(C58=\"\",\"\",リレー!AS62)","v":""},{"$f":"IF(D58=\"\",\"\",リレー!AT62)","v":""},{"$f":"IF(E58=\"\",\"\",リレー!AU62)","v":""}]
[{"$f":"IF(リレー!D63=\"\",\"\",リレー!V63)","v":""},{"$f":"IF(A59=\"\",\"\",申込書!$D$10)","v":""},{"$f":"IF(A59=\"\",\"\",申込書!$D$8)","v":""},5,{"$f":"IF(A59=\"\",\"\",リレー!W63)","v":""},{"$f":"IF(A59=\"\",\"\",リレー!L63)","v":""},{"$f":"IF(チーム!A59=\"\",\"\",申込書!$AB$2)","v":""},0,{"$f":"IF(A59=\"\",\"\",リレー!P63)","v":""},{"$f":"IF(A59=\"\",\"\",リレー!Q63)","v":""},{"$f":"IF(B59=\"\",\"\",リレー!AR63)","v":""},{"$f":"IF(C59=\"\",\"\",リレー!AS63)","v":""},{"$f":"IF(D59=\"\",\"\",リレー!AT63)","v":""},{"$f":"IF(E59=\"\",\"\",リレー!AU63)","v":""}]
[{"$f":"IF(リレー!D64=\"\",\"\",リレー!V64)","v":""},{"$f":"IF(A60=\"\",\"\",申込書!$D$10)","v":""},{"$f":"IF(A60=\"\",\"\",申込書!$D$8)","v":""},5,{"$f":"IF(A60=\"\",\"\",リレー!W64)","v":""},{"$f":"IF(A60=\"\",\"\",リレー!L64)","v":""},{"$f":"IF(チーム!A60=\"\",\"\",申込書!$AB$2)","v":""},0,{"$f":"IF(A60=\"\",\"\",リレー!P64)","v":""},{"$f":"IF(A60=\"\",\"\",リレー!Q64)","v":""},{"$f":"IF(B60=\"\",\"\",リレー!AR64)","v":""},{"$f":"IF(C60=\"\",\"\",リレー!AS64)","v":""},{"$f":"IF(D60=\"\",\"\",リレー!AT64)","v":""},{"$f":"IF(E60=\"\",\"\",リレー!AU64)","v":""}]
[{"$f":"IF(リレー!D65=\"\",\"\",リレー!V65)","v":""},{"$f":"IF(A61=\"\",\"\",申込書!$D$10)","v":""},{"$f":"IF(A61=\"\",\"\",申込書!$D$8)","v":""},5,{"$f":"IF(A61=\"\",\"\",リレー!W65)","v":""},{"$f":"IF(A61=\"\",\"\",リレー!L65)","v":""},{"$f":"IF(チーム!A61=\"\",\"\",申込書!$AB$2)","v":""},0,{"$f":"IF(A61=\"\",\"\",リレー!P65)","v":""},{"$f":"IF(A61=\"\",\"\",リレー!Q65)","v":""},{"$f":"IF(B61=\"\",\"\",リレー!AR65)","v":""},{"$f":"IF(C61=\"\",\"\",リレー!AS65)","v":""},{"$f":"IF(D61=\"\",\"\",リレー!AT65)","v":""},{"$f":"IF(E61=\"\",\"\",リレー!AU65)","v":""}]
[{"$nulls":13},{"$f":"IF(E62=\"\",\"\",リレー!AU66)","v":""}]
[{"$nulls":13},{"$f":"IF(E63=\"\",\"\",リレー!AU67)","v":""}]
[{"$nulls":13},{"$f":"IF(E64=\"\",\"\",リレー!AU68)","v":""}]
[{"$nulls":13},{"$f":"IF(E65=\"\",\"\",リレー!AU69)","v":""}]
[{"$nulls":13},{"$f":"IF(E66=\"\",\"\",リレー!AU70)","v":""}]
[{"$nulls":13},{"$f":"IF(E67=\"\",\"\",リレー!AU71)","v":""}]
[{"$nulls":13},{"$f":"IF(E68=\"\",\"\",リレー!AU72)","v":""}]
[{"$nulls":13},{"$f":"IF(E69=\"\",\"\",リレー!AU73)","v":""}]
[{"$nulls":13},{"$f":"IF(E70=\"\",\"\",リレー!AU74)","v":""}]
[{"$nulls":13},{"$f":"IF(E71=\"\",\"\",リレー!AU75)","v":""}]
[{"$nulls":13},{"$f":"IF(E72=\"\",\"\",リレー!AU76)","v":""}]
[{"$nulls":13},{"$f":"IF(E73=\"\",\"\",リレー!AU77)","v":""}]
[{"$nulls":13},{"$f":"IF(E74=\"\",\"\",リレー!AU78)","v":""}]
[{"$nulls":13},{"$f":"IF(E75=\"\",\"\",リレー!AU79)","v":""}]
[{"$nulls":13},{"$f":"IF(E76=\"\",\"\",リレー!AU80)","v":""}]
[{"$nulls":13},{"$f":"IF(E77=\"\",\"\",リレー!AU81)","v":""}]
[{"$nulls":13},{"$f":"IF(E78=\"\",\"\",リレー!AU82)","v":""}]
[{"$nulls":13},{"$f":"IF(E79=\"\",\"\",リレー!AU83)","v":""}]
[{"$nulls":13},{"$f":"IF(E80=\"\",\"\",リレー!AU84)","v":""}]
[{"$nulls":13},{"$f":"IF(E81=\"\",\"\",リレー!AU85)","v":""}]
[{"$nulls":13},{"$f":"IF(E82=\"\",\"\",リレー!AU86)","v":""}]
[{"$nulls":13},{"$f":"IF(E83=\"\",\"\",リレー!AU87)","v":""}]
[{"$nulls":13},{"$f":"IF(E84=\"\",\"\",リレー!AU88)","v":""}]
[{"$nulls":13},{"$f":"IF(E85=\"\",\"\",リレー!AU89)","v":""}]
[{"$nulls":13},{"$f":"IF(E86=\"\",\"\",リレー!AU90)","v":""}]
[{"$nulls":13},{"$f":"IF(E87=\"\",\"\",リレー!AU91)","v":""}]
[{"$nulls":13},{"$f":"IF(E88=\"\",\"\",リレー!AU92)","v":""}]
[{"$nulls":13},{"$f":"IF(E89=\"\",\"\",リレー!AU93)","v":""}]
[{"$nulls":13},{"$f":"IF(E90=\"\",\"\",リレー!AU94)","v":""}]
{"$rows_empty":178}
[{"$f":"IF(リレー!D273=\"\",\"\",リレー!V273)","v":""}]
[{"$f":"IF(リレー!D274=\"\",\"\",リレー!V274)","v":""}]
[{"$f":"IF(リレー!D275=\"\",\"\",リレー!V275)","v":""}]
[{"$f":"IF(リレー!D276=\"\",\"\",リレー!V276)","v":""}]
[{"$f":"IF(リレー!D277=\"\",\"\",リレー!V277)","v":""}]
[{"$f":"IF(リレー!D278=\"\",\"\",リレー!V278)","v":""}]
[{"$f":"IF(リレー!D279=\"\",\"\",リレー!V279)","v":""}]
[{"$f":"IF(リレー!D280=\"\",\"\",リレー!V280)","v":""}]
[{"$f":"IF(リレー!D281=\"\",\"\",リレー!V281)","v":""}]
[{"$f":"IF(リレー!D282=\"\",\"\",リレー!V282)","v":""}]
[{"$f":"IF(リレー!D283=\"\",\"\",リレー!V283)","v":""}]
[{"$f":"IF(リレー!D284=\"\",\"\",リレー!V284)","v":""}]
[{"$f":"IF(リレー!D285=\"\",\"\",リレー!V285)","v":""}]
[{"$f":"IF(リレー!D286=\"\",\"\",リレー!V286)","v":""}]
[{"$f":"IF(リレー!D287=\"\",\"\",リレー!V287)","v":""}]
[{"$f":"IF(リレー!D288=\"\",\"\",リレー!V288)","v":""}]
[{"$f":"IF(リレー!D289=\"\",\"\",リレー!V289)","v":""}]
[{"$f":"IF(リレー!D290=\"\",\"\",リレー!V290)","v":""}]
[{"$f":"IF(リレー!D291=\"\",\"\",リレー!V291)","v":""}]
[{"$f":"IF(リレー!D292=\"\",\"\",リレー!V292)","v":""}]
[{"$f":"IF(リレー!D293=\"\",\"\",リレー!V293)","v":""}]
[{"$f":"IF(リレー!D294=\"\",\"\",リレー!V294)","v":""}]
[{"$f":"IF(リレー!D295=\"\",\"\",リレー!V295)","v":""}]
[{"$f":"IF(リレー!D296=\"\",\"\",リレー!V296)","v":""}]
[{"$f":"IF(リレー!D297=\"\",\"\",リレー!V297)","v":""}]
[{"$f":"IF(リレー!D298=\"\",\"\",リレー!V298)","v":""}]
[{"$f":"IF(リレー!D299=\"\",\"\",リレー!V299)","v":""}]
[{"$f":"IF(リレー!D300=\"\",\"\",リレー!V300)","v":""}]
[{"$f":"IF(リレー!D301=\"\",\"\",リレー!V301)","v":""}]
[{"$f":"IF(リレー!D302=\"\",\"\",リレー!V302)","v":""}]
[{"$f":"IF(リレー!D303=\"\",\"\",リレー!V303)","v":""}]
[{"$f":"IF(リレー!D304=\"\",\"\",リレー!V304)","v":""}]
[{"$f":"IF(リレー!D305=\"\",\"\",リレー!V305)","v":""}]
[{"$f":"IF(リレー!D306=\"\",\"\",リレー!V306)","v":""}]
[{"$f":"IF(リレー!D307=\"\",\"\",リレー!V307)","v":""}]
[{"$f":"IF(リレー!D308=\"\",\"\",リレー!V308)","v":""}]
[{"$f":"IF(リレー!D309=\"\",\"\",リレー!V309)","v":""}]
[{"$f":"IF(リレー!D310=\"\",\"\",リレー!V310)","v":""}]
[{"$f":"IF(リレー!D311=\"\",\"\",リレー!V311)","v":""}]
[{"$f":"IF(リレー!D312=\"\",\"\",リレー!V312)","v":""}]
[{"$f":"IF(リレー!D313=\"\",\"\",リレー!V313)","v":""}]
[{"$f":"IF(リレー!D314=\"\",\"\",リレー!V314)","v":""}]
[{"$f":"IF(リレー!D315=\"\",\"\",リレー!V315)","v":""}]
[{"$f":"IF(リレー!D316=\"\",\"\",リレー!V316)","v":""}]
[{"$f":"IF(リレー!D317=\"\",\"\",リレー!V317)","v":""}]
[{"$f":"IF(リレー!D318=\"\",\"\",リレー!V318)","v":""}]
[{"$f":"IF(リレー!D319=\"\",\"\",リレー!V319)","v":""}]
[{"$f":"IF(リレー!D320=\"\",\"\",リレー!V320)","v":""}]
[{"$f":"IF(リレー!D321=\"\",\"\",リレー!V321)","v":""}]
[{"$f":"IF(リレー!D322=\"\",\"\",リレー!V322)","v":""}]
[{"$f":"IF(リレー!D323=\"\",\"\",リレー!V323)","v":""}]
[{"$f":"IF(リレー!D324=\"\",\"\",リレー!V324)","v":""}]
[{"$f":"IF(リレー!D325=\"\",\"\",リレー!V325)","v":""}]
[{"$f":"IF(リレー!D326=\"\",\"\",リレー!V326)","v":""}]
[{"$f":"IF(リレー!D327=\"\",\"\",リレー!V327)","v":""}]
[{"$f":"IF(リレー!D328=\"\",\"\",リレー!V328)","v":""}]
[{"$f":"IF(リレー!D329=\"\",\"\",リレー!V329)","v":""}]
[{"$f":"IF(リレー!D330=\"\",\"\",リレー!V330)","v":""}]
[{"$f":"IF(リレー!D331=\"\",\"\",リレー!V331)","v":""}]
[{"$f":"IF(リレー!D332=\"\",\"\",リレー!V332)","v":""}]
[{"$f":"IF(リレー!D333=\"\",\"\",リレー!V333)","v":""}]
[{"$f":"IF(リレー!D334=\"\",\"\",リレー!V334)","v":""}]
[{"$f":"IF(リレー!D335=\"\",\"\",リレー!V335)","v":""}]
[{"$f":"IF(リレー!D336=\"\",\"\",リレー!V336)","v":""}]
[{"$f":"IF(リレー!D337=\"\",\"\",リレー!V337)","v":""}]
[{"$f":"IF(リレー!D338=\"\",\"\",リレー!V338)","v":""}]
[{"$f":"IF(リレー!D339=\"\",\"\",リレー!V339)","v":""}]
[{"$f":"IF(リレー!D340=\"\",\"\",リレー!V340)","v":""}]
[{"$f":"IF(リレー!D341=\"\",\"\",リレー!V341)","v":""}]
[{"$f":"IF(リレー!D342=\"\",\"\",リレー!V342)","v":""}]
[{"$f":"IF(リレー!D343=\"\",\"\",リレー!V343)","v":""}]
[{"$f":"IF(リレー!D344=\"\",\"\",リレー!V344)","v":""}]
[{"$f":"IF(リレー!D345=\"\",\"\",リレー!V345)","v":""}]
[{"$f":"IF(リレー!D346=\"\",\"\",リレー!V346)","v":""}]
[{"$f":"IF(リレー!D347=\"\",\"\",リレー!V347)","v":""}]
[{"$f":"IF(リレー!D348=\"\",\"\",リレー!V348)","v":""}]
[{"$f":"IF(リレー!D349=\"\",\"\",リレー!V349)","v":""}]
[{"$f":"IF(リレー!D350=\"\",\"\",リレー!V350)","v":""}]
[{"$f":"IF(リレー!D351=\"\",\"\",リレー!V351)","v":""}]
[{"$f":"IF(リレー!D352=\"\",\"\",リレー!V352)","v":""}]
[{"$f":"IF(リレー!D353=\"\",\"\",リレー!V353)","v":""}]
[{"$f":"IF(リレー!D354=\"\",\"\",リレー!V354)","v":""}]
[{"$f":"IF(リレー!D355=\"\",\"\",リレー!V355)","v":""}]
[{"$f":"IF(リレー!D356=\"\",\"\",リレー!V356)","v":""}]
[{"$f":"IF(リレー!D357=\"\",\"\",リレー!V357)","v":""}]
[{"$f":"IF(リレー!D358=\"\",\"\",リレー!V358)","v":""}]
[{"$f":"IF(リレー!D359=\"\",\"\",リレー!V359)","v":""}]
[{"$f":"IF(リレー!D360=\"\",\"\",リレー!V360)","v":""}]
[{"$f":"IF(リレー!D361=\"\",\"\",リレー!V361)","v":""}]
[{"$f":"IF(リレー!D362=\"\",\"\",リレー!V362)","v":""}]
[{"$f":"IF(リレー!D363=\"\",\"\",リレー!V363)","v":""}]
[{"$f":"IF(リレー!D364=\"\",\"\",リレー!V364)","v":""}]
[{"$f":"IF(リレー!D365=\"\",\"\",リレー!V365)","v":""}]
[{"$f":"IF(リレー!D366=\"\",\"\",リレー!V366)","v":""}]
[{"$f":"IF(リレー!D367=\"\",\"\",リレー!V367)","v":""}]
[{"$f":"IF(リレー!D368=\"\",\"\",リレー!V368)","v":""}]
[{"$f":"IF(リレー!D369=\"\",\"\",リレー!V369)","v":""}]
[{"$f":"IF(リレー!D370=\"\",\"\",リレー!V370)","v":""}]
[{"$f":"IF(リレー!D371=\"\",\"\",リレー!V371)","v":""}]
[{"$f":"IF(リレー!D372=\"\",\"\",リレー!V372)","v":""}]
[{"$f":"IF(リレー!D373=\"\",\"\",リレー!V373)","v":""}]
[{"$f":"IF(リレー!D374=\"\",\"\",リレー!V374)","v":""}]
[{"$f":"IF(リレー!D375=\"\",\"\",リレー!V375)","v":""}]
[{"$f":"IF(リレー!D376=\"\",\"\",リレー!V376)","v":""}]
[{"$f":"IF(リレー!D377=\"\",\"\",リレー!V377)","v":""}]